{"text_format":"1","workbook":"xlsx","n_sheets":38,"sheets":["国語表紙","①国語の平均正答数②国語の平均正答率","③国語の正答数別分布","④国語の問題別正答率","⑤国語の問題別誤答率","⑥国語の問題別無解答率","⑦国語の平均点⑧国語の得点別分布","国語","国語得点","社会表紙","①社会の平均正答数②社会の平均正答率","③社会の正答数別分布","④社会の問題別正答率","⑤社会の問題別誤答率","⑥社会の問題別無解答率","⑦社会の平均点⑧社会の得点別分布","社会","社会得点","算数表紙","①算数の平均正答数②算数の平均正答率","③算数の正答数別分布","④算数の問題別正答率","⑤算数の問題別誤答率","⑥算数の問題別無解答率","⑦算数の平均点⑧算数の得点別分布","算数","算数得点","理科表紙","①理科の平均正答数②理科の平均正答率","③理科の正答数別分布","④理科の問題別正答率","⑤理科の問題別誤答率","⑥理科の問題別無解答率","⑦理科の平均点⑧理科の得点別分布","理科","理科得点","⑨個人データ出力","Sheet1"],"not_rendered":{"charts":20,"images":0,"macros":1,"external_links":1,"defined_names":26,"comments":0,"pivot_tables":0},"unopened":[],"bounds":{"document_bytes":16777216,"sheet_cells":100000,"rows_first":2000,"rows_last":500,"rows_between":2000,"halvings":0,"cell_chars":16384,"cell_head_chars":4096},"cells_cut":0,"cells_raw":0,"read":"whole","date_system":"1900"}

{"sheet":"国語表紙","index":0,"n_rows":6,"n_cols":2,"rows_kept":6,"cut":false,"hidden":false,"merged":[]}
[]
["国語の結果の分析"]
[]
[null,"最初にデータコピーをクリックして、国語のデータを入力したファイルを選択してください。"]
[]
[null,"選択ボタン一覧（色で囲んであるところをクリックしてください。）"]

{"sheet":"①国語の平均正答数②国語の平均正答率","index":1,"n_rows":27,"n_cols":15,"rows_kept":27,"cut":false,"hidden":false,"merged":[[4,0,4,1],[10,0,10,2],[19,1,19,3],[24,1,24,3],[19,15,19,21],[11,0,11,2],[12,0,12,2],[13,0,13,2],[16,0,16,2],[14,0,14,2],[15,0,15,2]]}
["①国語の平均正答数②国語の平均正答率"]
[]
[]
["集計対象"]
["児童数"]
[{"$f":"国語!AB1","v":45},"人"]
[]
["観点別集計結果"]
[null,null,null,null,null,null,null,null,null,null,null,null,null,null,"1900-01-01"]
["国語",null,null,null,null,null,null,null,null,null,null,null,null,null,"1900-01-01"]
["観点",null,null,"対象設問数\n（問）","富山県\n平均正答率\n（％）","自校\n平均正答率\n（％）","自校\n平均正答数\n（問）",null,null,"自校\n平均正答率\n（％）",null,null,"自校\n平均正答数\n（問）"]
[{"$f":"国語!BG35","v":"知識・技能"},null,null,{"$f":"国語得点!BA64","v":12},{"$f":"IF(ISERR(国語!F76)*100,0,(国語!F76)*100)","v":77.150000000000006},{"$f":"IF(ISERR(国語!F71)*100,0,(国語!F71)*100)","v":21.481481481481481},{"$f":"IF(ISERR(D12*F12)/100,\"\",(D12*F12)/100)","v":2.5777777777777775},null,60,50,null,null,{"$f":"IF(J12=\"\",\"\",D12*J12/100)","v":6}]
[{"$f":"国語!BG36","v":"思考・判断・表現"},null,null,{"$f":"国語得点!BA65","v":13},{"$f":"IF(ISERR(国語!K76)*100,0,(国語!K76)*100)","v":64.469230769230762},{"$f":"IF(ISERR(国語!K71)*100,0,(国語!K71)*100)","v":73.162393162393158},{"$f":"IF(ISERR(D13*F13)/100,\"\",(D13*F13)/100)","v":9.5111111111111111},null,60,50,null,null,{"$f":"IF(J13=\"\",\"\",D13*J13/100)","v":6.5}]
[{"$f":"国語!BG37","v":"-"},null,null,{"$f":"国語得点!BA66","v":0},{"$f":"IF(ISERR(国語!P76)*100,0,(国語!P76)*100)","v":0},{"$f":"IF(ISERR(国語!P71)*100,0,(国語!P71)*100)","v":0},{"$f":"IF(ISERR(D14*F14)/100,\"\",(D14*F14)/100)","v":0},null,60,50,null,null,{"$f":"IF(J14=\"\",\"\",D14*J14/100)","v":0}]
[{"$f":"国語!BG38","v":"-"},null,null,{"$f":"国語得点!BA67","v":0},{"$f":"IF(ISERR(国語!U76)*100,0,(国語!U76)*100)","v":0},{"$f":"IF(ISERR(国語!U71)*100,0,(国語!U71)*100)","v":0},{"$f":"IF(ISERR(D15*F15)/100,\"\",(D15*F15)/100)","v":0}]
[{"$f":"国語!BG39","v":"-"},null,null,{"$f":"国語得点!BA68","v":0},{"$f":"IF(ISERR(国語!Z76)*100,0,(国語!Z76)*100)","v":0},{"$f":"IF(ISERR(国語!Z71)*100,0,(国語!Z71)*100)","v":0},{"$f":"IF(ISERR(D16*F16)/100,\"\",(D16*F16)/100)","v":0}]
["設問数・平均正答率・平均正答数",null,null,{"$f":"SUM(D12:D16)","v":25},{"$f":"SUM(E12:E16)/国語!BG41","v":70.809615384615384},{"$f":"SUM(F12:F16)/国語!BG41","v":47.32193732193732},{"$f":"D17*F17/100","v":11.83048433048433},null,0,0,"観点数",null,{"$f":"IF(J17=\"\",\"\",#REF!*J17/100)","v":{"$error":"#REF!"}},{"$f":"国語!BG41","v":2}]
[]
["◆国語"]
[null,"　　　　平均正答数"]
[null,"富山県（ア）","自校(イ)","県との差（イーア）"]
[{"$f":"\"国語　\"&国語!AX1&\"問\"","v":"国語　25問"},{"$f":"D17*E17/100","v":17.702403846153846},{"$f":"G17","v":11.83048433048433},{"$f":"C22-B22","v":-5.8719195156695161}]
[]
[]
[null," 平均正答率"]
[null,"富山県(ア)","自校（イ）"," 県との差(イーア)"]
[{"$f":"\"国語　\"&国語!AX1&\"問\"","v":"国語　25問"},{"$f":"E17","v":70.809615384615384},{"$f":"F17","v":47.32193732193732},{"$f":"C27-B27","v":-23.487678062678064}]

{"sheet":"③国語の正答数別分布","index":2,"n_rows":59,"n_cols":7,"rows_kept":59,"cut":false,"hidden":false,"merged":[[6,0,6,1]]}
["③国語の正答数別分布"]
[]
["問題数",{"$f":"国語!AX1","v":25}]
[]
[]
["◆国語",null,null,"◆国語"]
["正答数別の児童数(人)",null,null,"正答数","富山県％（ア）","自校％(イ)"," 県との差(イーア)"]
["0問",{"$f":"国語得点!BD3","v":0},null,"0問",{"$f":"国語得点!BG3","v":0},{"$f":"IF(B8=\"\",\"\",B8/B$59*100)","v":0},{"$f":"IF($F8=\"\",\"\",$F8-$E8)","v":0}]
["1問",{"$f":"国語得点!BD4","v":2},null,"1問",{"$f":"国語得点!BG4","v":95.5},{"$f":"IF(B9=\"\",\"\",B9/B$59*100)","v":4.4444444444444446},-91.055555555555557]
["2問",{"$f":"国語得点!BD5","v":3},null,"2問",{"$f":"国語得点!BG5","v":96.2},6.666666666666667,-89.533333333333331]
["3問",{"$f":"国語得点!BD6","v":4},null,"3問",{"$f":"国語得点!BG6","v":52.6},8.8888888888888893,-43.711111111111109]
["4問",{"$f":"国語得点!BD7","v":5},null,"4問",{"$f":"国語得点!BG7","v":96.399999999999991},11.111111111111111,-85.288888888888877]
["5問",{"$f":"国語得点!BD8","v":7},null,"5問",{"$f":"国語得点!BG8","v":81.3},15.555555555555555,-65.74444444444444]
["6問",{"$f":"国語得点!BD9","v":9},null,"6問",{"$f":"国語得点!BG9","v":56.699999999999996},20,-36.699999999999996]
["7問",{"$f":"国語得点!BD10","v":11},null,"7問",{"$f":"国語得点!BG10","v":81.599999999999994},24.444444444444443,-57.155555555555551]
["8問",{"$f":"国語得点!BD11","v":11},null,"8問",{"$f":"国語得点!BG11","v":53.800000000000004},24.444444444444443,-29.355555555555561]
["9問",{"$f":"国語得点!BD12","v":13},null,"9問",{"$f":"国語得点!BG12","v":56.000000000000007},28.888888888888886,-27.111111111111121]
["10問",{"$f":"国語得点!BD13","v":15},null,"10問",{"$f":"国語得点!BG13","v":62.1},33.333333333333329,-28.766666666666673]
["11問",{"$f":"国語得点!BD14","v":17},null,"11問",{"$f":"国語得点!BG14","v":96.1},37.777777777777779,-58.322222222222216]
["12問",{"$f":"国語得点!BD15","v":19},null,"12問",{"$f":"国語得点!BG15","v":97.5},42.222222222222221,-55.277777777777779]
["13問",{"$f":"国語得点!BD16","v":21},null,"13問",{"$f":"国語得点!BG16","v":83.8},46.666666666666664,-37.133333333333333]
["14問",{"$f":"国語得点!BD17","v":23},null,"14問",{"$f":"国語得点!BG17","v":84.1},51.111111111111107,-32.988888888888887]
["15問",{"$f":"国語得点!BD18","v":25},null,"15問",{"$f":"国語得点!BG18","v":88.8},55.555555555555557,-33.24444444444444]
["16問",{"$f":"国語得点!BD19","v":27},null,"16問",{"$f":"国語得点!BG19","v":82.8},60,-22.799999999999997]
["17問",{"$f":"国語得点!BD20","v":29},null,"17問",{"$f":"国語得点!BG20","v":46.7},64.444444444444443,17.74444444444444]
["18問",{"$f":"国語得点!BD21","v":31},null,"18問",{"$f":"国語得点!BG21","v":58.3},68.888888888888886,10.588888888888889]
["19問",{"$f":"国語得点!BD22","v":33},null,"19問",{"$f":"国語得点!BG22","v":69.8},73.333333333333329,3.5333333333333314]
["20問",{"$f":"国語得点!BD23","v":35},null,"20問",{"$f":"国語得点!BG23","v":83.1},77.777777777777786,-5.3222222222222086]
["21問",{"$f":"国語得点!BD24","v":37},null,"21問",{"$f":"国語得点!BG24","v":74},82.222222222222214,8.2222222222222143]
["22問",{"$f":"国語得点!BD25","v":39},null,"22問",{"$f":"国語得点!BG25","v":42},86.666666666666671,44.666666666666671]
["23問",{"$f":"国語得点!BD26","v":41},null,"23問",{"$f":"国語得点!BG26","v":28.4},91.111111111111114,62.711111111111116]
["24問",{"$f":"国語得点!BD27","v":43},null,"24問",{"$f":"国語得点!BG27","v":39.6},95.555555555555557,55.955555555555556]
["25問",{"$f":"国語得点!BD28","v":44},null,"25問",{"$f":"国語得点!BG28","v":56.699999999999996},97.777777777777771,41.077777777777776]
["26問",{"$f":"国語得点!BD29","v":0},null,"26問",{"$f":"国語得点!BG29","v":0},0,0]
["27問",{"$f":"国語得点!BD30","v":0},null,"27問",{"$f":"国語得点!BG30","v":0},0,0]
["28問",{"$f":"国語得点!BD31","v":0},null,"28問",{"$f":"国語得点!BG31","v":0},0,0]
["29問",{"$f":"国語得点!BD32","v":0},null,"29問",{"$f":"国語得点!BG32","v":0},0,0]
["30問",{"$f":"国語得点!BD33","v":0},null,"30問",{"$f":"国語得点!BG33","v":0},0,0]
["31問",{"$f":"国語得点!BD34","v":0},null,"31問",{"$f":"国語得点!BG34","v":0},0,0]
["32問",{"$f":"国語得点!BD35","v":0},null,"32問",{"$f":"国語得点!BG35","v":0},0,0]
["33問",{"$f":"国語得点!BD36","v":0},null,"33問",{"$f":"国語得点!BG36","v":0},0,0]
["34問",{"$f":"国語得点!BD37","v":0},null,"34問",{"$f":"国語得点!BG37","v":0},0,0]
["35問",{"$f":"国語得点!BD38","v":0},null,"35問",{"$f":"国語得点!BG38","v":0},0,0]
["36問",{"$f":"国語得点!BD39","v":0},null,"36問",{"$f":"国語得点!BG39","v":0},0,0]
["37問",{"$f":"国語得点!BD40","v":0},null,"37問",{"$f":"国語得点!BG40","v":0},{"$f":"IF(B45=\"\",\"\",B45/B$59*100)","v":0},0]
["38問",{"$f":"国語得点!BD41","v":0},null,"38問",{"$f":"国語得点!BG41","v":0},0,0]
["39問",{"$f":"国語得点!BD42","v":0},null,"39問",{"$f":"国語得点!BG42","v":0},0,0]
["40問",{"$f":"国語得点!BD43","v":0},null,"40問",{"$f":"国語得点!BG43","v":0},0,0]
["41問",{"$f":"国語得点!BD44","v":0},null,"41問",{"$f":"国語得点!BG44","v":0},0,0]
["42問",{"$f":"国語得点!BD45","v":0},null,"42問",{"$f":"国語得点!BG45","v":0},0,0]
["43問",{"$f":"国語得点!BD46","v":0},null,"43問",{"$f":"国語得点!BG46","v":0},0,0]
["44問",{"$f":"国語得点!BD47","v":0},null,"44問",{"$f":"国語得点!BG47","v":0},0,0]
["45問",{"$f":"国語得点!BD48","v":0},null,"45問",{"$f":"国語得点!BG48","v":0},0,0]
["46問",{"$f":"国語得点!BD49","v":0},null,"46問",{"$f":"国語得点!BG49","v":0},0,0]
["47問",{"$f":"国語得点!BD50","v":0},null,"47問",{"$f":"国語得点!BG50","v":0},0,0]
["48問",{"$f":"国語得点!BD51","v":0},null,"48問",{"$f":"国語得点!BG51","v":0},0,0]
["49問",{"$f":"国語得点!BD52","v":0},null,"49問",{"$f":"国語得点!BG52","v":0},0,0]
["50問",{"$f":"国語得点!BD53","v":0},null,"50問",{"$f":"国語得点!BG53","v":0},0,0]
["児童数合計",{"$f":"国語得点!BD54","v":45},null,"合計",{"$f":"国語得点!BG54","v":1763.8999999999996},{"$f":"SUM(F8:F58)","v":1208.8888888888889}]

{"sheet":"④国語の問題別正答率","index":3,"n_rows":57,"n_cols":19,"rows_kept":57,"cut":false,"hidden":false,"merged":[[4,13,4,15],[4,3,5,3],[4,16,4,18],[4,0,5,0],[4,2,5,2],[4,4,4,7],[4,8,4,12],[4,1,5,1]]}
["④国語の問題別正答率"]
[]
[null,null,"問題数",{"$f":"国語!AX1","v":25}]
["◆国語"]
["問題通し番号","問題\n番号","小問題","問題の領域","学習指導要領の領域等",null,null,null,"観点",null,null,null,null,"問題形式",null,null,"正答率"]
[null,null,null,null,null,null,null,null,{"$f":"国語!BG35","v":"知識・技能"},{"$f":"国語!BG36","v":"思考・判断・表現"},{"$f":"国語!BG37","v":"-"},{"$f":"国語!BG38","v":"-"},{"$f":"国語!BG39","v":"-"},"選択式","短答式","記述式","富山県（ア）","自校（イ）","富山県との差（イ-ア)"]
[1,{"$f":"国語得点!BJ4","v":1},{"$f":"国語得点!BK4","v":"一（1）"},{"$f":"国語得点!BL4","v":"知識及び技能"},null,null,null,null,{"$f":"IF(国語!$E$9=国語!$BF$35,\"○\",\"\")","v":"○"},{"$f":"IF(国語!$E$9=国語!$BF$36,\"○\",\"\")","v":""},{"$f":"IF(国語!$E$9=国語!$BF$37,\"○\",\"\")","v":""},{"$f":"IF(国語!$E$9=国語!$BF$38,\"○\",\"\")","v":""},{"$f":"IF(国語!$E$9=国語!$BF$39,\"○\",\"\")","v":""},null,null,null,{"$f":"国語得点!B$58*100","v":95.5},{"$f":"国語!E$64*100","v":4.4444444444444446},{"$f":"IF($R7=\"\",\"\",$R7-$Q7)","v":-91.055555555555557}]
[2,{"$f":"国語得点!BJ5","v":1},{"$f":"国語得点!BK5","v":"一（2）"},{"$f":"国語得点!BL5","v":"知識及び技能"},null,null,null,null,{"$f":"IF(国語!$F$9=国語!$BF$35,\"○\",\"\")","v":"○"},{"$f":"IF(国語!$F$9=国語!$BF$36,\"○\",\"\")","v":""},{"$f":"IF(国語!$F$9=国語!$BF$37,\"○\",\"\")","v":""},{"$f":"IF(国語!$F$9=国語!$BF$38,\"○\",\"\")","v":""},{"$f":"IF(国語!$F$9=国語!$BF$39,\"○\",\"\")","v":""},null,null,null,{"$f":"国語得点!C$58*100","v":96.2},{"$f":"国語!F$64*100","v":6.666666666666667},{"$f":"IF($R8=\"\",\"\",$R8-$Q8)","v":-89.533333333333331}]
[3,{"$f":"国語得点!BJ6","v":1},{"$f":"国語得点!BK6","v":"一（3）"},{"$f":"国語得点!BL6","v":"知識及び技能"},null,null,null,null,{"$f":"IF(国語!$G$9=国語!$BF$35,\"○\",\"\")","v":"○"},{"$f":"IF(国語!$G$9=国語!$BF$36,\"○\",\"\")","v":""},{"$f":"IF(国語!$G$9=国語!$BF$37,\"○\",\"\")","v":""},{"$f":"IF(国語!$G$9=国語!$BF$38,\"○\",\"\")","v":""},{"$f":"IF(国語!$G$9=国語!$BF$39,\"○\",\"\")","v":""},null,null,null,{"$f":"国語得点!D$58*100","v":52.6},{"$f":"国語!G$64*100","v":8.8888888888888893},{"$f":"IF($R9=\"\",\"\",$R9-$Q9)","v":-43.711111111111109}]
[4,{"$f":"国語得点!BJ7","v":1},{"$f":"国語得点!BK7","v":"一（4）"},{"$f":"国語得点!BL7","v":"知識及び技能"},null,null,null,null,{"$f":"IF(国語!$H$9=国語!$BF$35,\"○\",\"\")","v":"○"},{"$f":"IF(国語!$H$9=国語!$BF$36,\"○\",\"\")","v":""},{"$f":"IF(国語!$H$9=国語!$BF$37,\"○\",\"\")","v":""},{"$f":"IF(国語!$H$9=国語!$BF$38,\"○\",\"\")","v":""},{"$f":"IF(国語!$H$9=国語!$BF$39,\"○\",\"\")","v":""},null,null,null,{"$f":"国語得点!E$58*100","v":96.399999999999991},{"$f":"国語!H$64*100","v":11.111111111111111},{"$f":"IF($R10=\"\",\"\",$R10-$Q10)","v":-85.288888888888877}]
[5,{"$f":"国語得点!BJ8","v":1},{"$f":"国語得点!BK8","v":"二（1）"},{"$f":"国語得点!BL8","v":"知識及び技能"},null,null,null,null,{"$f":"IF(国語!$I$9=国語!$BF$35,\"○\",\"\")","v":"○"},{"$f":"IF(国語!$I$9=国語!$BF$36,\"○\",\"\")","v":""},{"$f":"IF(国語!$I$9=国語!$BF$37,\"○\",\"\")","v":""},{"$f":"IF(国語!$I$9=国語!$BF$38,\"○\",\"\")","v":""},{"$f":"IF(国語!$I$9=国語!$BF$39,\"○\",\"\")","v":""},null,null,null,{"$f":"国語得点!F$58*100","v":81.3},{"$f":"国語!I$64*100","v":15.555555555555555},{"$f":"IF($R11=\"\",\"\",$R11-$Q11)","v":-65.74444444444444}]
[6,{"$f":"国語得点!BJ9","v":1},{"$f":"国語得点!BK9","v":"二（2）"},{"$f":"国語得点!BL9","v":"知識及び技能"},null,null,null,null,{"$f":"IF(国語!$J$9=国語!$BF$35,\"○\",\"\")","v":"○"},{"$f":"IF(国語!$J$9=国語!$BF$36,\"○\",\"\")","v":""},{"$f":"IF(国語!$J$9=国語!$BF$37,\"○\",\"\")","v":""},{"$f":"IF(国語!$J$9=国語!$BF$38,\"○\",\"\")","v":""},{"$f":"IF(国語!$J$9=国語!$BF$39,\"○\",\"\")","v":""},null,null,null,{"$f":"国語得点!G$58*100","v":56.699999999999996},{"$f":"国語!J$64*100","v":20},{"$f":"IF($R12=\"\",\"\",$R12-$Q12)","v":-36.699999999999996}]
[7,{"$f":"国語得点!BJ10","v":1},{"$f":"国語得点!BK10","v":"二（3）"},{"$f":"国語得点!BL10","v":"知識及び技能"},null,null,null,null,{"$f":"IF(国語!$K$9=国語!$BF$35,\"○\",\"\")","v":"○"},{"$f":"IF(国語!$K$9=国語!$BF$36,\"○\",\"\")","v":""},{"$f":"IF(国語!$K$9=国語!$BF$37,\"○\",\"\")","v":""},{"$f":"IF(国語!$K$9=国語!$BF$38,\"○\",\"\")","v":""},{"$f":"IF(国語!$K$9=国語!$BF$39,\"○\",\"\")","v":""},null,null,null,{"$f":"国語得点!H$58*100","v":81.599999999999994},{"$f":"国語!K$64*100","v":24.444444444444443},{"$f":"IF($R13=\"\",\"\",$R13-$Q13)","v":-57.155555555555551}]
[8,{"$f":"国語得点!BJ11","v":1},{"$f":"国語得点!BK11","v":"二（4）"},{"$f":"国語得点!BL11","v":"知識及び技能"},null,null,null,null,{"$f":"IF(国語!$L$9=国語!$BF$35,\"○\",\"\")","v":"○"},{"$f":"IF(国語!$L$9=国語!$BF$36,\"○\",\"\")","v":""},{"$f":"IF(国語!$L$9=国語!$BF$37,\"○\",\"\")","v":""},{"$f":"IF(国語!$L$9=国語!$BF$38,\"○\",\"\")","v":""},{"$f":"IF(国語!$L$9=国語!$BF$39,\"○\",\"\")","v":""},null,null,null,{"$f":"国語得点!I$58*100","v":53.800000000000004},{"$f":"国語!L$64*100","v":24.444444444444443},{"$f":"IF($R14=\"\",\"\",$R14-$Q14)","v":-29.355555555555561}]
[9,{"$f":"国語得点!BJ12","v":2},{"$f":"国語得点!BK12","v":"一"},{"$f":"国語得点!BL12","v":"知識及び技能"},null,null,null,null,{"$f":"IF(国語!$M$9=国語!$BF$35,\"○\",\"\")","v":"○"},{"$f":"IF(国語!$M$9=国語!$BF$36,\"○\",\"\")","v":""},{"$f":"IF(国語!$M$9=国語!$BF$37,\"○\",\"\")","v":""},{"$f":"IF(国語!$M$9=国語!$BF$38,\"○\",\"\")","v":""},{"$f":"IF(国語!$M$9=国語!$BF$39,\"○\",\"\")","v":""},null,null,null,{"$f":"国語得点!J$58*100","v":56.000000000000007},{"$f":"国語!M$64*100","v":28.888888888888886},{"$f":"IF($R15=\"\",\"\",$R15-$Q15)","v":-27.111111111111121}]
[10,{"$f":"国語得点!BJ13","v":2},{"$f":"国語得点!BK13","v":"二"},{"$f":"国語得点!BL13","v":"知識及び技能"},null,null,null,null,{"$f":"IF(国語!$N$9=国語!$BF$35,\"○\",\"\")","v":"○"},{"$f":"IF(国語!$N$9=国語!$BF$36,\"○\",\"\")","v":""},{"$f":"IF(国語!$N$9=国語!$BF$37,\"○\",\"\")","v":""},{"$f":"IF(国語!$N$9=国語!$BF$38,\"○\",\"\")","v":""},{"$f":"IF(国語!$N$9=国語!$BF$39,\"○\",\"\")","v":""},null,null,null,{"$f":"国語得点!K$58*100","v":62.1},{"$f":"国語!N$64*100","v":33.333333333333329},{"$f":"IF($R16=\"\",\"\",$R16-$Q16)","v":-28.766666666666673}]
[11,{"$f":"国語得点!BJ14","v":3},{"$f":"国語得点!BK14","v":"一"},{"$f":"国語得点!BL14","v":"知識及び技能"},null,null,null,null,{"$f":"IF(国語!$O$9=国語!$BF$35,\"○\",\"\")","v":"○"},{"$f":"IF(国語!$O$9=国語!$BF$36,\"○\",\"\")","v":""},{"$f":"IF(国語!$O$9=国語!$BF$37,\"○\",\"\")","v":""},{"$f":"IF(国語!$O$9=国語!$BF$38,\"○\",\"\")","v":""},{"$f":"IF(国語!$O$9=国語!$BF$39,\"○\",\"\")","v":""},null,null,null,{"$f":"国語得点!L$58*100","v":96.1},{"$f":"国語!O$64*100","v":37.777777777777779},{"$f":"IF($R17=\"\",\"\",$R17-$Q17)","v":-58.322222222222216}]
[12,{"$f":"国語得点!BJ15","v":3},{"$f":"国語得点!BK15","v":"二"},{"$f":"国語得点!BL15","v":"知識及び技能"},null,null,null,null,{"$f":"IF(国語!$P$9=国語!$BF$35,\"○\",\"\")","v":"○"},{"$f":"IF(国語!$P$9=国語!$BF$36,\"○\",\"\")","v":""},{"$f":"IF(国語!$P$9=国語!$BF$37,\"○\",\"\")","v":""},{"$f":"IF(国語!$P$9=国語!$BF$38,\"○\",\"\")","v":""},{"$f":"IF(国語!$P$9=国語!$BF$39,\"○\",\"\")","v":""},null,null,null,{"$f":"国語得点!M$58*100","v":97.5},{"$f":"国語!P$64*100","v":42.222222222222221},{"$f":"IF($R18=\"\",\"\",$R18-$Q18)","v":-55.277777777777779}]
[13,{"$f":"国語得点!BJ16","v":4},{"$f":"国語得点!BK16","v":"一"},{"$f":"国語得点!BL16","v":"読むこと"},null,null,null,null,{"$f":"IF(国語!$Q$9=国語!$BF$35,\"○\",\"\")","v":""},{"$f":"IF(国語!$Q$9=国語!$BF$36,\"○\",\"\")","v":"○"},{"$f":"IF(国語!$Q$9=国語!$BF$37,\"○\",\"\")","v":""},{"$f":"IF(国語!$Q$9=国語!$BF$38,\"○\",\"\")","v":""},{"$f":"IF(国語!$Q$9=国語!$BF$39,\"○\",\"\")","v":""},null,null,null,{"$f":"国語得点!N$58*100","v":83.8},{"$f":"国語!Q$64*100","v":46.666666666666664},{"$f":"IF($R19=\"\",\"\",$R19-$Q19)","v":-37.133333333333333}]
[14,{"$f":"国語得点!BJ17","v":4},{"$f":"国語得点!BK17","v":"二Ａ"},{"$f":"国語得点!BL17","v":"読むこと"},null,null,null,null,{"$f":"IF(国語!$R$9=国語!$BF$35,\"○\",\"\")","v":""},{"$f":"IF(国語!$R$9=国語!$BF$36,\"○\",\"\")","v":"○"},{"$f":"IF(国語!$R$9=国語!$BF$37,\"○\",\"\")","v":""},{"$f":"IF(国語!$R$9=国語!$BF$38,\"○\",\"\")","v":""},{"$f":"IF(国語!$R$9=国語!$BF$39,\"○\",\"\")","v":""},null,null,null,{"$f":"国語得点!O$58*100","v":84.1},{"$f":"国語!R$64*100","v":51.111111111111107},{"$f":"IF($R20=\"\",\"\",$R20-$Q20)","v":-32.988888888888887}]
[15,{"$f":"国語得点!BJ18","v":4},{"$f":"国語得点!BK18","v":"二B"},{"$f":"国語得点!BL18","v":"読むこと"},null,null,null,null,{"$f":"IF(国語!$S$9=国語!$BF$35,\"○\",\"\")","v":""},{"$f":"IF(国語!$S$9=国語!$BF$36,\"○\",\"\")","v":"○"},{"$f":"IF(国語!$S$9=国語!$BF$37,\"○\",\"\")","v":""},{"$f":"IF(国語!$S$9=国語!$BF$38,\"○\",\"\")","v":""},{"$f":"IF(国語!$S$9=国語!$BF$39,\"○\",\"\")","v":""},null,null,null,{"$f":"国語得点!P$58*100","v":88.8},{"$f":"国語!S$64*100","v":55.555555555555557},{"$f":"IF($R21=\"\",\"\",$R21-$Q21)","v":-33.24444444444444}]
[16,{"$f":"国語得点!BJ19","v":4},{"$f":"国語得点!BK19","v":"三①"},{"$f":"国語得点!BL19","v":"読むこと"},null,null,null,null,{"$f":"IF(国語!$T$9=国語!$BF$35,\"○\",\"\")","v":""},{"$f":"IF(国語!$T$9=国語!$BF$36,\"○\",\"\")","v":"○"},{"$f":"IF(国語!$T$9=国語!$BF$37,\"○\",\"\")","v":""},{"$f":"IF(国語!$T$9=国語!$BF$38,\"○\",\"\")","v":""},{"$f":"IF(国語!$T$9=国語!$BF$39,\"○\",\"\")","v":""},null,null,null,{"$f":"国語得点!Q$58*100","v":82.8},{"$f":"国語!T$64*100","v":60},{"$f":"IF($R22=\"\",\"\",$R22-$Q22)","v":-22.799999999999997}]
[17,{"$f":"国語得点!BJ20","v":4},{"$f":"国語得点!BK20","v":"三②"},{"$f":"国語得点!BL20","v":"読むこと"},null,null,null,null,{"$f":"IF(国語!$U$9=国語!$BF$35,\"○\",\"\")","v":""},{"$f":"IF(国語!$U$9=国語!$BF$36,\"○\",\"\")","v":"○"},{"$f":"IF(国語!$U$9=国語!$BF$37,\"○\",\"\")","v":""},{"$f":"IF(国語!$U$9=国語!$BF$38,\"○\",\"\")","v":""},{"$f":"IF(国語!$U$9=国語!$BF$39,\"○\",\"\")","v":""},null,null,null,{"$f":"国語得点!R$58*100","v":46.7},{"$f":"国語!U$64*100","v":64.444444444444443},{"$f":"IF($R23=\"\",\"\",$R23-$Q23)","v":17.74444444444444}]
[18,{"$f":"国語得点!BJ21","v":4},{"$f":"国語得点!BK21","v":"四"},{"$f":"国語得点!BL21","v":"読むこと"},null,null,null,null,{"$f":"IF(国語!$V$9=国語!$BF$35,\"○\",\"\")","v":""},{"$f":"IF(国語!$V$9=国語!$BF$36,\"○\",\"\")","v":"○"},{"$f":"IF(国語!$V$9=国語!$BF$37,\"○\",\"\")","v":""},{"$f":"IF(国語!$V$9=国語!$BF$38,\"○\",\"\")","v":""},{"$f":"IF(国語!$V$9=国語!$BF$39,\"○\",\"\")","v":""},null,null,null,{"$f":"国語得点!S$58*100","v":58.3},{"$f":"国語!V$64*100","v":68.888888888888886},{"$f":"IF($R24=\"\",\"\",$R24-$Q24)","v":10.588888888888889}]
[19,{"$f":"国語得点!BJ22","v":4},{"$f":"国語得点!BK22","v":"五①"},{"$f":"国語得点!BL22","v":"読むこと"},null,null,null,null,{"$f":"IF(国語!$W$9=国語!$BF$35,\"○\",\"\")","v":""},{"$f":"IF(国語!$W$9=国語!$BF$36,\"○\",\"\")","v":"○"},{"$f":"IF(国語!$W$9=国語!$BF$37,\"○\",\"\")","v":""},{"$f":"IF(国語!$W$9=国語!$BF$38,\"○\",\"\")","v":""},{"$f":"IF(国語!$W$9=国語!$BF$39,\"○\",\"\")","v":""},null,null,null,{"$f":"国語得点!T$58*100","v":69.8},{"$f":"国語!W$64*100","v":73.333333333333329},{"$f":"IF($R25=\"\",\"\",$R25-$Q25)","v":3.5333333333333314}]
[20,{"$f":"国語得点!BJ23","v":4},{"$f":"国語得点!BK23","v":"五②"},{"$f":"国語得点!BL23","v":"読むこと"},null,null,null,null,{"$f":"IF(国語!$X$9=国語!$BF$35,\"○\",\"\")","v":""},{"$f":"IF(国語!$X$9=国語!$BF$36,\"○\",\"\")","v":"○"},{"$f":"IF(国語!$X$9=国語!$BF$37,\"○\",\"\")","v":""},{"$f":"IF(国語!$X$9=国語!$BF$38,\"○\",\"\")","v":""},{"$f":"IF(国語!$X$9=国語!$BF$39,\"○\",\"\")","v":""},null,null,null,{"$f":"国語得点!U$58*100","v":83.1},{"$f":"国語!X$64*100","v":77.777777777777786},{"$f":"IF($R26=\"\",\"\",$R26-$Q26)","v":-5.3222222222222086}]
[21,{"$f":"国語得点!BJ24","v":5},{"$f":"国語得点!BK24","v":"一"},{"$f":"国語得点!BL24","v":"書くこと"},null,null,null,null,{"$f":"IF(国語!$Y$9=国語!$BF$35,\"○\",\"\")","v":""},{"$f":"IF(国語!$Y$9=国語!$BF$36,\"○\",\"\")","v":"○"},{"$f":"IF(国語!$Y$9=国語!$BF$37,\"○\",\"\")","v":""},{"$f":"IF(国語!$Y$9=国語!$BF$38,\"○\",\"\")","v":""},{"$f":"IF(国語!$Y$9=国語!$BF$39,\"○\",\"\")","v":""},null,null,null,{"$f":"国語得点!V$58*100","v":74},{"$f":"国語!Y$64*100","v":82.222222222222214},{"$f":"IF($R27=\"\",\"\",$R27-$Q27)","v":8.2222222222222143}]
[22,{"$f":"国語得点!BJ25","v":5},{"$f":"国語得点!BK25","v":"二"},{"$f":"国語得点!BL25","v":"書くこと"},null,null,null,null,{"$f":"IF(国語!$Z$9=国語!$BF$35,\"○\",\"\")","v":""},{"$f":"IF(国語!$Z$9=国語!$BF$36,\"○\",\"\")","v":"○"},{"$f":"IF(国語!$Z$9=国語!$BF$37,\"○\",\"\")","v":""},{"$f":"IF(国語!$Z$9=国語!$BF38,\"○\",\"\")","v":""},{"$f":"IF(国語!$Z$9=国語!$BF$39,\"○\",\"\")","v":""},null,null,null,{"$f":"国語得点!W$58*100","v":42},{"$f":"国語!Z$64*100","v":86.666666666666671},{"$f":"IF($R28=\"\",\"\",$R28-$Q28)","v":44.666666666666671}]
[23,{"$f":"国語得点!BJ26","v":5},{"$f":"国語得点!BK26","v":"三　一文目"},{"$f":"国語得点!BL26","v":"書くこと"},null,null,null,null,{"$f":"IF(国語!$AA$9=国語!$BF$35,\"○\",\"\")","v":""},{"$f":"IF(国語!$AA$9=国語!$BF$36,\"○\",\"\")","v":"○"},{"$f":"IF(国語!$AA$9=国語!$BF$37,\"○\",\"\")","v":""},{"$f":"IF(国語!$AA$9=国語!$BF$38,\"○\",\"\")","v":""},{"$f":"IF(国語!$AA$9=国語!$BF$39,\"○\",\"\")","v":""},null,null,null,{"$f":"国語得点!X$58*100","v":28.4},{"$f":"国語!AA$64*100","v":91.111111111111114},{"$f":"IF($R29=\"\",\"\",$R29-$Q29)","v":62.711111111111116}]
[24,{"$f":"国語得点!BJ27","v":5},{"$f":"国語得点!BK27","v":"三　二文目"},{"$f":"国語得点!BL27","v":"書くこと"},null,null,null,null,{"$f":"IF(国語!$AB$9=国語!$BF$35,\"○\",\"\")","v":""},{"$f":"IF(国語!$AB$9=国語!$BF$36,\"○\",\"\")","v":"○"},{"$f":"IF(国語!$AB$9=国語!$BF$37,\"○\",\"\")","v":""},{"$f":"IF(国語!$AB$9=国語!$BF$38,\"○\",\"\")","v":""},{"$f":"IF(国語!$AB$9=国語!$BF$39,\"○\",\"\")","v":""},null,null,null,{"$f":"国語得点!Y$58*100","v":39.6},{"$f":"国語!AB$64*100","v":95.555555555555557},{"$f":"IF($R30=\"\",\"\",$R30-$Q30)","v":55.955555555555556}]
[25,{"$f":"国語得点!BJ28","v":5},{"$f":"国語得点!BK28","v":"四"},{"$f":"国語得点!BL28","v":"書くこと"},null,null,null,null,{"$f":"IF(国語!$AC$9=国語!$BF$35,\"○\",\"\")","v":""},{"$f":"IF(国語!$AC$9=国語!$BF$36,\"○\",\"\")","v":"○"},{"$f":"IF(国語!$AC$9=国語!$BF$37,\"○\",\"\")","v":""},{"$f":"IF(国語!$AC$9=国語!$BF$38,\"○\",\"\")","v":""},{"$f":"IF(国語!$AC$9=国語!$BF$39,\"○\",\"\")","v":""},null,null,null,{"$f":"国語得点!Z$58*100","v":56.699999999999996},{"$f":"国語!AC$64*100","v":97.777777777777771},{"$f":"IF($R31=\"\",\"\",$R31-$Q31)","v":41.077777777777776}]
[26,{"$f":"国語得点!BJ29","v":0},{"$f":"国語得点!BK29","v":0},{"$f":"国語得点!BL29","v":0},null,null,null,null,{"$f":"IF(国語!$AD$9=国語!$BF$35,\"○\",\"\")","v":""},{"$f":"IF(国語!$AD$9=国語!$BF$36,\"○\",\"\")","v":""},{"$f":"IF(国語!$AD$9=国語!$BF$37,\"○\",\"\")","v":""},{"$f":"IF(国語!$AD$9=国語!$BF$38,\"○\",\"\")","v":""},{"$f":"IF(国語!$AD$9=国語!$BF$39,\"○\",\"\")","v":""},null,null,null,{"$f":"国語得点!AA$58*100","v":0},{"$f":"国語!AD$64*100","v":{"$error":"#DIV/0!"}},{"$f":"IF($R32=\"\",\"\",$R32-$Q32)","v":{"$error":"#DIV/0!"}}]
[27,{"$f":"国語得点!BJ30","v":0},{"$f":"国語得点!BK30","v":0},{"$f":"国語得点!BL30","v":0},null,null,null,null,{"$f":"IF(国語!$AE$9=国語!$BF$35,\"○\",\"\")","v":""},{"$f":"IF(国語!$AE$9=国語!$BF$36,\"○\",\"\")","v":""},{"$f":"IF(国語!$AE$9=国語!$BF$37,\"○\",\"\")","v":""},{"$f":"IF(国語!$AE$9=国語!$BF$38,\"○\",\"\")","v":""},{"$f":"IF(国語!$AE$9=国語!$BF$39,\"○\",\"\")","v":""},null,null,null,{"$f":"国語得点!AB$58*100","v":0},{"$f":"国語!AE$64*100","v":{"$error":"#DIV/0!"}},{"$f":"IF($R33=\"\",\"\",$R33-$Q33)","v":{"$error":"#DIV/0!"}}]
[28,{"$f":"国語得点!BJ31","v":0},{"$f":"国語得点!BK31","v":0},{"$f":"国語得点!BL31","v":0},null,null,null,null,{"$f":"IF(国語!$AF$9=国語!$BF$35,\"○\",\"\")","v":""},{"$f":"IF(国語!$AF$9=国語!$BF$36,\"○\",\"\")","v":""},{"$f":"IF(国語!$AF$9=国語!$BF$37,\"○\",\"\")","v":""},{"$f":"IF(国語!$AF$9=国語!$BF$38,\"○\",\"\")","v":""},{"$f":"IF(国語!$AF$9=国語!$BF$39,\"○\",\"\")","v":""},null,null,null,{"$f":"国語得点!AC$58*100","v":0},{"$f":"国語!AF$64*100","v":{"$error":"#DIV/0!"}},{"$error":"#DIV/0!"}]
[29,{"$f":"国語得点!BJ32","v":0},{"$f":"国語得点!BK32","v":0},{"$f":"国語得点!BL32","v":0},null,null,null,null,{"$f":"IF(国語!$AG$9=国語!$BF$35,\"○\",\"\")","v":""},{"$f":"IF(国語!$AG$9=国語!$BF$36,\"○\",\"\")","v":""},{"$f":"IF(国語!$AG$9=国語!$BF$37,\"○\",\"\")","v":""},{"$f":"IF(国語!$AG$9=国語!$BF$38,\"○\",\"\")","v":""},{"$f":"IF(国語!$AG$9=国語!$BF$39,\"○\",\"\")","v":""},null,null,null,{"$f":"国語得点!AD$58*100","v":0},{"$f":"国語!AG$64*100","v":{"$error":"#DIV/0!"}},{"$error":"#DIV/0!"}]
[30,{"$f":"国語得点!BJ33","v":0},{"$f":"国語得点!BK33","v":0},{"$f":"国語得点!BL33","v":0},null,null,null,null,{"$f":"IF(国語!$AH$9=国語!$BF$35,\"○\",\"\")","v":""},{"$f":"IF(国語!$AH$9=国語!$BF$36,\"○\",\"\")","v":""},{"$f":"IF(国語!$AH$9=国語!$BF$37,\"○\",\"\")","v":""},{"$f":"IF(国語!$AH$9=国語!$BF$38,\"○\",\"\")","v":""},{"$f":"IF(国語!$AH$9=国語!$BF$39,\"○\",\"\")","v":""},null,null,null,{"$f":"国語得点!AE$58*100","v":0},{"$f":"国語!AH$64*100","v":{"$error":"#DIV/0!"}},{"$error":"#DIV/0!"}]
[31,{"$f":"国語得点!BJ34","v":0},{"$f":"国語得点!BK34","v":0},{"$f":"国語得点!BL34","v":0},null,null,null,null,{"$f":"IF(国語!$AI$9=国語!$BF$35,\"○\",\"\")","v":""},{"$f":"IF(国語!$AI$9=国語!$BF$36,\"○\",\"\")","v":""},{"$f":"IF(国語!$AI$9=国語!$BF$37,\"○\",\"\")","v":""},{"$f":"IF(国語!$AI$9=国語!$BF$38,\"○\",\"\")","v":""},{"$f":"IF(国語!$AI$9=国語!$BF$39,\"○\",\"\")","v":""},null,null,null,{"$f":"国語得点!AF$58*100","v":0},{"$f":"国語!AI$64*100","v":{"$error":"#DIV/0!"}},{"$error":"#DIV/0!"}]
[32,{"$f":"国語得点!BJ35","v":0},{"$f":"国語得点!BK35","v":0},{"$f":"国語得点!BL35","v":0},null,null,null,null,{"$f":"IF(国語!$AJ$9=国語!$BF$35,\"○\",\"\")","v":""},{"$f":"IF(国語!$AJ$9=国語!$BF$36,\"○\",\"\")","v":""},{"$f":"IF(国語!$AJ$9=国語!$BF$37,\"○\",\"\")","v":""},{"$f":"IF(国語!$AJ$9=国語!$BF$38,\"○\",\"\")","v":""},{"$f":"IF(国語!$AJ$9=国語!$BF$39,\"○\",\"\")","v":""},null,null,null,{"$f":"国語得点!AG$58*100","v":0},{"$f":"国語!AJ$64*100","v":{"$error":"#DIV/0!"}},{"$error":"#DIV/0!"}]
[33,{"$f":"国語得点!BJ36","v":0},{"$f":"国語得点!BK36","v":0},{"$f":"国語得点!BL36","v":0},null,null,null,null,{"$f":"IF(国語!$AK$9=国語!$BF$35,\"○\",\"\")","v":""},{"$f":"IF(国語!$AK$9=国語!$BF$36,\"○\",\"\")","v":""},{"$f":"IF(国語!$AK$9=国語!$BF$37,\"○\",\"\")","v":""},{"$f":"IF(国語!$AK$9=国語!$BF$38,\"○\",\"\")","v":""},{"$f":"IF(国語!$AK$9=国語!$BF$39,\"○\",\"\")","v":""},null,null,null,{"$f":"国語得点!AH$58*100","v":0},{"$f":"国語!AK$64*100","v":{"$error":"#DIV/0!"}},{"$error":"#DIV/0!"}]
[34,{"$f":"国語得点!BJ37","v":0},{"$f":"国語得点!BK37","v":0},{"$f":"国語得点!BL37","v":0},null,null,null,null,{"$f":"IF(国語!$AL$9=国語!$BF$35,\"○\",\"\")","v":""},{"$f":"IF(国語!$AL$9=国語!$BF$36,\"○\",\"\")","v":""},{"$f":"IF(国語!$AL$9=国語!$BF$37,\"○\",\"\")","v":""},{"$f":"IF(国語!$AL$9=国語!$BF$38,\"○\",\"\")","v":""},{"$f":"IF(国語!$AL$9=国語!$BF$39,\"○\",\"\")","v":""},null,null,null,{"$f":"国語得点!AI$58*100","v":0},{"$f":"国語!AL$64*100","v":{"$error":"#DIV/0!"}},{"$error":"#DIV/0!"}]
[35,{"$f":"国語得点!BJ38","v":0},{"$f":"国語得点!BK38","v":0},{"$f":"国語得点!BL38","v":0},null,null,null,null,{"$f":"IF(国語!$AM$9=国語!$BF$35,\"○\",\"\")","v":""},{"$f":"IF(国語!$AM$9=国語!$BF$36,\"○\",\"\")","v":""},{"$f":"IF(国語!$AM$9=国語!$BF$37,\"○\",\"\")","v":""},{"$f":"IF(国語!$AM$9=国語!$BF$38,\"○\",\"\")","v":""},{"$f":"IF(国語!$AM$9=国語!$BF$39,\"○\",\"\")","v":""},null,null,null,{"$f":"国語得点!AJ$58*100","v":0},{"$f":"国語!AM$64*100","v":{"$error":"#DIV/0!"}},{"$error":"#DIV/0!"}]
[36,{"$f":"国語得点!BJ39","v":0},{"$f":"国語得点!BK39","v":0},{"$f":"国語得点!BL39","v":0},null,null,null,null,{"$f":"IF(国語!$AN$9=国語!$BF$35,\"○\",\"\")","v":""},{"$f":"IF(国語!$AN$9=国語!$BF$36,\"○\",\"\")","v":""},{"$f":"IF(国語!$AN$9=国語!$BF$37,\"○\",\"\")","v":""},{"$f":"IF(国語!$AN$9=国語!$BF$38,\"○\",\"\")","v":""},{"$f":"IF(国語!$AN$9=国語!$BF$39,\"○\",\"\")","v":""},null,null,null,{"$f":"国語得点!AK$58*100","v":0},{"$f":"国語!AN$64*100","v":{"$error":"#DIV/0!"}},{"$f":"IF($R42=\"\",\"\",$R42-$Q42)","v":{"$error":"#DIV/0!"}}]
[37,{"$f":"国語得点!BJ40","v":0},{"$f":"国語得点!BK40","v":0},{"$f":"国語得点!BL40","v":0},null,null,null,null,{"$f":"IF(国語!$AO$9=国語!$BF$35,\"○\",\"\")","v":""},{"$f":"IF(国語!$AO$9=国語!$BF$36,\"○\",\"\")","v":""},{"$f":"IF(国語!$AO$9=国語!$BF$37,\"○\",\"\")","v":""},{"$f":"IF(国語!$AO$9=国語!$BF$38,\"○\",\"\")","v":""},{"$f":"IF(国語!$AO$9=国語!$BF$39,\"○\",\"\")","v":""},null,null,null,{"$f":"国語得点!AL$58*100","v":0},{"$f":"国語!AO$64*100","v":{"$error":"#DIV/0!"}},{"$error":"#DIV/0!"}]
[38,{"$f":"国語得点!BJ41","v":0},{"$f":"国語得点!BK41","v":0},{"$f":"国語得点!BL41","v":0},null,null,null,null,{"$f":"IF(国語!$AP$9=国語!$BF$35,\"○\",\"\")","v":""},{"$f":"IF(国語!$AP$9=国語!$BF$36,\"○\",\"\")","v":""},{"$f":"IF(国語!$AP$9=国語!$BF$37,\"○\",\"\")","v":""},{"$f":"IF(国語!$AP$9=国語!$BF$38,\"○\",\"\")","v":""},{"$f":"IF(国語!$AP$9=国語!$BF$39,\"○\",\"\")","v":""},null,null,null,{"$f":"国語得点!AM$58*100","v":0},{"$f":"国語!AP$64*100","v":{"$error":"#DIV/0!"}},{"$error":"#DIV/0!"}]
[39,{"$f":"国語得点!BJ42","v":0},{"$f":"国語得点!BK42","v":0},{"$f":"国語得点!BL42","v":0},null,null,null,null,{"$f":"IF(国語!$AQ$9=国語!$BF$35,\"○\",\"\")","v":""},{"$f":"IF(国語!$AQ$9=国語!$BF$36,\"○\",\"\")","v":""},{"$f":"IF(国語!$AQ$9=国語!$BF$37,\"○\",\"\")","v":""},{"$f":"IF(国語!$AQ$9=国語!$BF$38,\"○\",\"\")","v":""},{"$f":"IF(国語!$AQ$9=国語!$BF$39,\"○\",\"\")","v":""},null,null,null,{"$f":"国語得点!AN$58*100","v":0},{"$f":"国語!AQ$64*100","v":{"$error":"#DIV/0!"}},{"$error":"#DIV/0!"}]
[40,{"$f":"国語得点!BJ43","v":0},{"$f":"国語得点!BK43","v":0},{"$f":"国語得点!BL43","v":0},null,null,null,null,{"$f":"IF(国語!$AR$9=国語!$BF$35,\"○\",\"\")","v":""},{"$f":"IF(国語!$AR$9=国語!$BF$36,\"○\",\"\")","v":""},{"$f":"IF(国語!$AR$9=国語!$BF$37,\"○\",\"\")","v":""},{"$f":"IF(国語!$AR$9=国語!$BF$38,\"○\",\"\")","v":""},{"$f":"IF(国語!$AR$9=国語!$BF$39,\"○\",\"\")","v":""},null,null,null,{"$f":"国語得点!AO$58*100","v":0},{"$f":"国語!AR$64*100","v":{"$error":"#DIV/0!"}},{"$error":"#DIV/0!"}]
[41,{"$f":"国語得点!BJ44","v":0},{"$f":"国語得点!BK44","v":0},{"$f":"国語得点!BL44","v":0},null,null,null,null,{"$f":"IF(国語!$AS$9=国語!$BF$35,\"○\",\"\")","v":""},{"$f":"IF(国語!$AS$9=国語!$BF$36,\"○\",\"\")","v":""},{"$f":"IF(国語!$AS$9=国語!$BF$37,\"○\",\"\")","v":""},{"$f":"IF(国語!$AS$9=国語!$BF$38,\"○\",\"\")","v":""},{"$f":"IF(国語!$AS$9=国語!$BF$39,\"○\",\"\")","v":""},null,null,null,{"$f":"国語得点!AP$58100","v":0},{"$f":"国語!AS$64*100","v":{"$error":"#DIV/0!"}},{"$error":"#DIV/0!"}]
[42,{"$f":"国語得点!BJ45","v":0},{"$f":"国語得点!BK45","v":0},{"$f":"国語得点!BL45","v":0},null,null,null,null,{"$f":"IF(国語!$AT$9=国語!$BF$35,\"○\",\"\")","v":""},{"$f":"IF(国語!$AT$9=国語!$BF$36,\"○\",\"\")","v":""},{"$f":"IF(国語!$AT$9=国語!$BF$37,\"○\",\"\")","v":""},{"$f":"IF(国語!$AT$9=国語!$BF$38,\"○\",\"\")","v":""},{"$f":"IF(国語!$AT$9=国語!$BF$39,\"○\",\"\")","v":""},null,null,null,{"$f":"国語得点!AQ$58*100","v":0},{"$f":"国語!AT$64*100","v":{"$error":"#DIV/0!"}},{"$error":"#DIV/0!"}]
[43,{"$f":"国語得点!BJ46","v":0},{"$f":"国語得点!BK46","v":0},{"$f":"国語得点!BL46","v":0},null,null,null,null,{"$f":"IF(国語!$AU$9=国語!$BF$35,\"○\",\"\")","v":""},{"$f":"IF(国語!$AU$9=国語!$BF$36,\"○\",\"\")","v":""},{"$f":"IF(国語!$AU$9=国語!$BF$37,\"○\",\"\")","v":""},{"$f":"IF(国語!$AU$9=国語!$BF$38,\"○\",\"\")","v":""},{"$f":"IF(国語!$AU$9=国語!$BF$39,\"○\",\"\")","v":""},null,null,null,{"$f":"国語得点!AR$58*100","v":0},{"$f":"国語!AU$64*100","v":{"$error":"#DIV/0!"}},{"$error":"#DIV/0!"}]
[44,{"$f":"国語得点!BJ47","v":0},{"$f":"国語得点!BK47","v":0},{"$f":"国語得点!BL47","v":0},null,null,null,null,{"$f":"IF(国語!$AV$9=国語!$BF$35,\"○\",\"\")","v":""},{"$f":"IF(国語!$AV$9=国語!$BF$36,\"○\",\"\")","v":""},{"$f":"IF(国語!$AV$9=国語!$BF$37,\"○\",\"\")","v":""},{"$f":"IF(国語!$AV$9=国語!$BF$38,\"○\",\"\")","v":""},{"$f":"IF(国語!$AV$9=国語!$BF$39,\"○\",\"\")","v":""},null,null,null,{"$f":"国語得点!AS$58*100","v":0},{"$f":"国語!AV$64*100","v":{"$error":"#DIV/0!"}},{"$error":"#DIV/0!"}]
[45,{"$f":"国語得点!BJ48","v":0},{"$f":"国語得点!BK48","v":0},{"$f":"国語得点!BL48","v":0},null,null,null,null,{"$f":"IF(国語!$AW$9=国語!$BF$35,\"○\",\"\")","v":""},{"$f":"IF(国語!$AW$9=国語!$BF$36,\"○\",\"\")","v":""},{"$f":"IF(国語!$AW$9=国語!$BF$37,\"○\",\"\")","v":""},{"$f":"IF(国語!$AW$9=国語!$BF$38,\"○\",\"\")","v":""},{"$f":"IF(国語!$AW$9=国語!$BF$39,\"○\",\"\")","v":""},null,null,null,{"$f":"国語得点!AT$58*100","v":0},{"$f":"国語!AW$64*100","v":{"$error":"#DIV/0!"}},{"$error":"#DIV/0!"}]
[46,{"$f":"国語得点!BJ49","v":0},{"$f":"国語得点!BK49","v":0},{"$f":"国語得点!BL49","v":0},null,null,null,null,{"$f":"IF(国語!$AX$9=国語!$BF$35,\"○\",\"\")","v":""},{"$f":"IF(国語!$AX$9=国語!$BF$36,\"○\",\"\")","v":""},{"$f":"IF(国語!$AX$9=国語!$BF$37,\"○\",\"\")","v":""},{"$f":"IF(国語!$AX$9=国語!$BF$38,\"○\",\"\")","v":""},{"$f":"IF(国語!$AX$9=国語!$BF$39,\"○\",\"\")","v":""},null,null,null,{"$f":"国語得点!AU$58*100","v":0},{"$f":"国語!AX$64*100","v":{"$error":"#DIV/0!"}},{"$error":"#DIV/0!"}]
[47,{"$f":"国語得点!BJ50","v":0},{"$f":"国語得点!BK50","v":0},{"$f":"国語得点!BL50","v":0},null,null,null,null,{"$f":"IF(国語!$AY$9=国語!$BF$35,\"○\",\"\")","v":""},{"$f":"IF(国語!$AY$9=国語!$BF$36,\"○\",\"\")","v":""},{"$f":"IF(国語!$AY$9=国語!$BF$37,\"○\",\"\")","v":""},{"$f":"IF(国語!$AY$9=国語!$BF$38,\"○\",\"\")","v":""},{"$f":"IF(国語!$AY$9=国語!$BF$39,\"○\",\"\")","v":""},null,null,null,{"$f":"国語得点!AV$58*100","v":0},{"$f":"国語!AY$64*100","v":{"$error":"#DIV/0!"}},{"$error":"#DIV/0!"}]
[48,{"$f":"国語得点!BJ51","v":0},{"$f":"国語得点!BK51","v":0},{"$f":"国語得点!BL51","v":0},null,null,null,null,{"$f":"IF(国語!$AZ$9=国語!$BF$35,\"○\",\"\")","v":""},{"$f":"IF(国語!$AZ$9=国語!$BF$36,\"○\",\"\")","v":""},{"$f":"IF(国語!$AZ$9=国語!$BF$37,\"○\",\"\")","v":""},{"$f":"IF(国語!$AZ$9=国語!$BF$38,\"○\",\"\")","v":""},{"$f":"IF(国語!$AZ$9=国語!$BF$39,\"○\",\"\")","v":""},null,null,null,{"$f":"国語得点!AW$58*100","v":0},{"$f":"国語!AZ$64*100","v":{"$error":"#DIV/0!"}},{"$error":"#DIV/0!"}]
[49,{"$f":"国語得点!BJ52","v":0},{"$f":"国語得点!BK52","v":0},{"$f":"国語得点!BL52","v":0},null,null,null,null,{"$f":"IF(国語!$BA$9=国語!$BF$35,\"○\",\"\")","v":""},{"$f":"IF(国語!$BA$9=国語!$BF$36,\"○\",\"\")","v":""},{"$f":"IF(国語!$BA$9=国語!$BF$37,\"○\",\"\")","v":""},{"$f":"IF(国語!$BA$9=国語!$BF$38,\"○\",\"\")","v":""},{"$f":"IF(国語!$BA$9=国語!$BF$39,\"○\",\"\")","v":""},null,null,null,{"$f":"国語得点!AX$58*100","v":0},{"$f":"国語!BA$64*100","v":{"$error":"#DIV/0!"}},{"$error":"#DIV/0!"}]
[50,{"$f":"国語得点!BJ53","v":0},{"$f":"国語得点!BK53","v":0},{"$f":"国語得点!BL53","v":0},null,null,null,null,{"$f":"IF(国語!$BB$9=国語!$BF$35,\"○\",\"\")","v":""},{"$f":"IF(国語!$BB$9=国語!$BF$36,\"○\",\"\")","v":""},{"$f":"IF(国語!$BB$9=国語!$BF$37,\"○\",\"\")","v":""},{"$f":"IF(国語!$BB$9=国語!$BF$38,\"○\",\"\")","v":""},{"$f":"IF(国語!$BB$9=国語!$BF$39,\"○\",\"\")","v":""},null,null,null,{"$f":"国語得点!AY$58*100","v":0},{"$f":"国語!BB$64*100","v":{"$error":"#DIV/0!"}},{"$error":"#DIV/0!"}]
["平均",null,null,null,null,null,null,null,null,null,null,null,null,null,null,null,{"$f":"①国語の平均正答数②国語の平均正答率!B27","v":70.809615384615384},{"$f":"①国語の平均正答数②国語の平均正答率!C27","v":47.32193732193732},{"$f":"①国語の平均正答数②国語の平均正答率!D27","v":-23.487678062678064}]

{"sheet":"⑤国語の問題別誤答率","index":4,"n_rows":57,"n_cols":19,"rows_kept":57,"cut":false,"hidden":false,"merged":[[4,13,4,15],[4,3,5,3],[4,16,4,18],[4,0,5,0],[4,2,5,2],[4,4,4,7],[4,8,4,12],[4,1,5,1]]}
["⑤国語の問題別誤答率"]
[]
[null,null,"問題数",{"$f":"国語!AX1","v":25}]
["◆国語"]
["問題通し番号","問題\n番号","小問題","問題の領域","学習指導要領の領域等",null,null,null,"観点",null,null,null,null,"問題形式",null,null,"誤答率"]
[null,null,null,null,null,null,null,null,{"$f":"国語!BG35","v":"知識・技能"},{"$f":"国語!BG36","v":"思考・判断・表現"},{"$f":"国語!BG37","v":"-"},{"$f":"国語!BG38","v":"-"},{"$f":"国語!BG39","v":"-"},"選択式","短答式","記述式","富山県（ア）","自校（イ）","富山県との差（イ-ア)"]
[1,{"$f":"国語得点!BJ4","v":1},{"$f":"国語得点!BK4","v":"一（1）"},{"$f":"国語得点!BL4","v":"知識及び技能"},null,null,null,null,{"$f":"IF(国語!$E$9=国語!$BF$35,\"○\",\"\")","v":"○"},{"$f":"IF(国語!$E$9=国語!$BF$36,\"○\",\"\")","v":""},{"$f":"IF(国語!$E$9=国語!$BF$37,\"○\",\"\")","v":""},{"$f":"IF(国語!$E$9=国語!$BF$38,\"○\",\"\")","v":""},{"$f":"IF(国語!$E$9=国語!$BF$39,\"○\",\"\")","v":""},null,null,null,{"$f":"国語得点!B$59*100","v":3.6999999999999997},{"$f":"国語!E$65*100","v":46.666666666666664},{"$f":"IF($R7=\"\",\"\",$R7-$Q7)","v":42.966666666666661}]
[2,{"$f":"国語得点!BJ5","v":1},{"$f":"国語得点!BK5","v":"一（2）"},{"$f":"国語得点!BL5","v":"知識及び技能"},null,null,null,null,{"$f":"IF(国語!$F$9=国語!$BF$35,\"○\",\"\")","v":"○"},{"$f":"IF(国語!$F$9=国語!$BF$36,\"○\",\"\")","v":""},{"$f":"IF(国語!$F$9=国語!$BF$37,\"○\",\"\")","v":""},{"$f":"IF(国語!$F$9=国語!$BF$38,\"○\",\"\")","v":""},{"$f":"IF(国語!$F$9=国語!$BF$39,\"○\",\"\")","v":""},null,null,null,{"$f":"国語得点!C$59*100","v":3.6999999999999997},{"$f":"国語!F$65*100","v":48.888888888888886},{"$f":"IF($R8=\"\",\"\",$R8-$Q8)","v":45.188888888888883}]
[3,{"$f":"国語得点!BJ6","v":1},{"$f":"国語得点!BK6","v":"一（3）"},{"$f":"国語得点!BL6","v":"知識及び技能"},null,null,null,null,{"$f":"IF(国語!$G$9=国語!$BF$35,\"○\",\"\")","v":"○"},{"$f":"IF(国語!$G$9=国語!$BF$36,\"○\",\"\")","v":""},{"$f":"IF(国語!$G$9=国語!$BF$37,\"○\",\"\")","v":""},{"$f":"IF(国語!$G$9=国語!$BF$38,\"○\",\"\")","v":""},{"$f":"IF(国語!$G$9=国語!$BF$39,\"○\",\"\")","v":""},null,null,null,{"$f":"国語得点!D$59*100","v":45.300000000000004},{"$f":"国語!G$65*100","v":44.444444444444443},{"$f":"IF($R9=\"\",\"\",$R9-$Q9)","v":-0.8555555555555614}]
[4,{"$f":"国語得点!BJ7","v":1},{"$f":"国語得点!BK7","v":"一（4）"},{"$f":"国語得点!BL7","v":"知識及び技能"},null,null,null,null,{"$f":"IF(国語!$H$9=国語!$BF$35,\"○\",\"\")","v":"○"},{"$f":"IF(国語!$H$9=国語!$BF$36,\"○\",\"\")","v":""},{"$f":"IF(国語!$H$9=国語!$BF$37,\"○\",\"\")","v":""},{"$f":"IF(国語!$H$9=国語!$BF$38,\"○\",\"\")","v":""},{"$f":"IF(国語!$H$9=国語!$BF$39,\"○\",\"\")","v":""},null,null,null,{"$f":"国語得点!E$59*100","v":2.8000000000000003},{"$f":"国語!H$65*100","v":44.444444444444443},{"$f":"IF($R10=\"\",\"\",$R10-$Q10)","v":41.644444444444446}]
[5,{"$f":"国語得点!BJ8","v":1},{"$f":"国語得点!BK8","v":"二（1）"},{"$f":"国語得点!BL8","v":"知識及び技能"},null,null,null,null,{"$f":"IF(国語!$I$9=国語!$BF$35,\"○\",\"\")","v":"○"},{"$f":"IF(国語!$I$9=国語!$BF$36,\"○\",\"\")","v":""},{"$f":"IF(国語!$I$9=国語!$BF$37,\"○\",\"\")","v":""},{"$f":"IF(国語!$I$9=国語!$BF$38,\"○\",\"\")","v":""},{"$f":"IF(国語!$I$9=国語!$BF$39,\"○\",\"\")","v":""},null,null,null,{"$f":"国語得点!F$59*100","v":12.2},{"$f":"国語!I$65*100","v":42.222222222222221},{"$f":"IF($R11=\"\",\"\",$R11-$Q11)","v":30.022222222222222}]
[6,{"$f":"国語得点!BJ9","v":1},{"$f":"国語得点!BK9","v":"二（2）"},{"$f":"国語得点!BL9","v":"知識及び技能"},null,null,null,null,{"$f":"IF(国語!$J$9=国語!$BF$35,\"○\",\"\")","v":"○"},{"$f":"IF(国語!$J$9=国語!$BF$36,\"○\",\"\")","v":""},{"$f":"IF(国語!$J$9=国語!$BF$37,\"○\",\"\")","v":""},{"$f":"IF(国語!$J$9=国語!$BF$38,\"○\",\"\")","v":""},{"$f":"IF(国語!$J$9=国語!$BF$39,\"○\",\"\")","v":""},null,null,null,{"$f":"国語得点!G$59*100","v":29.9},{"$f":"国語!J$65*100","v":40},{"$f":"IF($R12=\"\",\"\",$R12-$Q12)","v":10.100000000000001}]
[7,{"$f":"国語得点!BJ10","v":1},{"$f":"国語得点!BK10","v":"二（3）"},{"$f":"国語得点!BL10","v":"知識及び技能"},null,null,null,null,{"$f":"IF(国語!$K$9=国語!$BF$35,\"○\",\"\")","v":"○"},{"$f":"IF(国語!$K$9=国語!$BF$36,\"○\",\"\")","v":""},{"$f":"IF(国語!$K$9=国語!$BF$37,\"○\",\"\")","v":""},{"$f":"IF(国語!$K$9=国語!$BF$38,\"○\",\"\")","v":""},{"$f":"IF(国語!$K$9=国語!$BF$39,\"○\",\"\")","v":""},null,null,null,{"$f":"国語得点!H$59*100","v":11.200000000000001},{"$f":"国語!K$65*100","v":37.777777777777779},{"$f":"IF($R13=\"\",\"\",$R13-$Q13)","v":26.577777777777776}]
[8,{"$f":"国語得点!BJ11","v":1},{"$f":"国語得点!BK11","v":"二（4）"},{"$f":"国語得点!BL11","v":"知識及び技能"},null,null,null,null,{"$f":"IF(国語!$L$9=国語!$BF$35,\"○\",\"\")","v":"○"},{"$f":"IF(国語!$L$9=国語!$BF$36,\"○\",\"\")","v":""},{"$f":"IF(国語!$L$9=国語!$BF$37,\"○\",\"\")","v":""},{"$f":"IF(国語!$L$9=国語!$BF$38,\"○\",\"\")","v":""},{"$f":"IF(国語!$L$9=国語!$BF$39,\"○\",\"\")","v":""},null,null,null,{"$f":"国語得点!I$59*100","v":37},{"$f":"国語!L$65*100","v":40},{"$f":"IF($R14=\"\",\"\",$R14-$Q14)","v":3}]
[9,{"$f":"国語得点!BJ12","v":2},{"$f":"国語得点!BK12","v":"一"},{"$f":"国語得点!BL12","v":"知識及び技能"},null,null,null,null,{"$f":"IF(国語!$M$9=国語!$BF$35,\"○\",\"\")","v":"○"},{"$f":"IF(国語!$M$9=国語!$BF$36,\"○\",\"\")","v":""},{"$f":"IF(国語!$M$9=国語!$BF$37,\"○\",\"\")","v":""},{"$f":"IF(国語!$M$9=国語!$BF$38,\"○\",\"\")","v":""},{"$f":"IF(国語!$M$9=国語!$BF$39,\"○\",\"\")","v":""},null,null,null,{"$f":"国語得点!J$59*100","v":42.9},{"$f":"国語!M$65*100","v":35.555555555555557},{"$f":"IF($R15=\"\",\"\",$R15-$Q15)","v":-7.3444444444444414}]
[10,{"$f":"国語得点!BJ13","v":2},{"$f":"国語得点!BK13","v":"二"},{"$f":"国語得点!BL13","v":"知識及び技能"},null,null,null,null,{"$f":"IF(国語!$N$9=国語!$BF$35,\"○\",\"\")","v":"○"},{"$f":"IF(国語!$N$9=国語!$BF$36,\"○\",\"\")","v":""},{"$f":"IF(国語!$N$9=国語!$BF$37,\"○\",\"\")","v":""},{"$f":"IF(国語!$N$9=国語!$BF$38,\"○\",\"\")","v":""},{"$f":"IF(国語!$N$9=国語!$BF$39,\"○\",\"\")","v":""},null,null,null,{"$f":"国語得点!K$59*100","v":36.299999999999997},{"$f":"国語!N$65*100","v":33.333333333333329},{"$f":"IF($R16=\"\",\"\",$R16-$Q16)","v":-2.9666666666666686}]
[11,{"$f":"国語得点!BJ14","v":3},{"$f":"国語得点!BK14","v":"一"},{"$f":"国語得点!BL14","v":"知識及び技能"},null,null,null,null,{"$f":"IF(国語!$O$9=国語!$BF$35,\"○\",\"\")","v":"○"},{"$f":"IF(国語!$O$9=国語!$BF$36,\"○\",\"\")","v":""},{"$f":"IF(国語!$O$9=国語!$BF$37,\"○\",\"\")","v":""},{"$f":"IF(国語!$O$9=国語!$BF$38,\"○\",\"\")","v":""},{"$f":"IF(国語!$O$9=国語!$BF$39,\"○\",\"\")","v":""},null,null,null,{"$f":"国語得点!L$59*100","v":3.6999999999999997},{"$f":"国語!O$65*100","v":31.111111111111111},{"$f":"IF($R17=\"\",\"\",$R17-$Q17)","v":27.411111111111111}]
[12,{"$f":"国語得点!BJ15","v":3},{"$f":"国語得点!BK15","v":"二"},{"$f":"国語得点!BL15","v":"知識及び技能"},null,null,null,null,{"$f":"IF(国語!$P$9=国語!$BF$35,\"○\",\"\")","v":"○"},{"$f":"IF(国語!$P$9=国語!$BF$36,\"○\",\"\")","v":""},{"$f":"IF(国語!$P$9=国語!$BF$37,\"○\",\"\")","v":""},{"$f":"IF(国語!$P$9=国語!$BF$38,\"○\",\"\")","v":""},{"$f":"IF(国語!$P$9=国語!$BF$39,\"○\",\"\")","v":""},null,null,null,{"$f":"国語得点!M$59*100","v":2.1999999999999997},{"$f":"国語!P$65*100","v":33.333333333333329},{"$f":"IF($R18=\"\",\"\",$R18-$Q18)","v":31.133333333333329}]
[13,{"$f":"国語得点!BJ16","v":4},{"$f":"国語得点!BK16","v":"一"},{"$f":"国語得点!BL16","v":"読むこと"},null,null,null,null,{"$f":"IF(国語!$Q$9=国語!$BF$35,\"○\",\"\")","v":""},{"$f":"IF(国語!$Q$9=国語!$BF$36,\"○\",\"\")","v":"○"},{"$f":"IF(国語!$Q$9=国語!$BF$37,\"○\",\"\")","v":""},{"$f":"IF(国語!$Q$9=国語!$BF$38,\"○\",\"\")","v":""},{"$f":"IF(国語!$Q$9=国語!$BF$39,\"○\",\"\")","v":""},null,null,null,{"$f":"国語得点!N$59*100","v":15.9},{"$f":"国語!Q$65*100","v":28.888888888888886},{"$f":"IF($R19=\"\",\"\",$R19-$Q19)","v":12.988888888888885}]
[14,{"$f":"国語得点!BJ17","v":4},{"$f":"国語得点!BK17","v":"二Ａ"},{"$f":"国語得点!BL17","v":"読むこと"},null,null,null,null,{"$f":"IF(国語!$R$9=国語!$BF$35,\"○\",\"\")","v":""},{"$f":"IF(国語!$R$9=国語!$BF$36,\"○\",\"\")","v":"○"},{"$f":"IF(国語!$R$9=国語!$BF$37,\"○\",\"\")","v":""},{"$f":"IF(国語!$R$9=国語!$BF$38,\"○\",\"\")","v":""},{"$f":"IF(国語!$R$9=国語!$BF$39,\"○\",\"\")","v":""},null,null,null,{"$f":"国語得点!O$59*100","v":15.5},{"$f":"国語!R$65*100","v":26.666666666666668},{"$f":"IF($R20=\"\",\"\",$R20-$Q20)","v":11.166666666666668}]
[15,{"$f":"国語得点!BJ18","v":4},{"$f":"国語得点!BK18","v":"二B"},{"$f":"国語得点!BL18","v":"読むこと"},null,null,null,null,{"$f":"IF(国語!$S$9=国語!$BF$35,\"○\",\"\")","v":""},{"$f":"IF(国語!$S$9=国語!$BF$36,\"○\",\"\")","v":"○"},{"$f":"IF(国語!$S$9=国語!$BF$37,\"○\",\"\")","v":""},{"$f":"IF(国語!$S$9=国語!$BF$38,\"○\",\"\")","v":""},{"$f":"IF(国語!$S$9=国語!$BF$39,\"○\",\"\")","v":""},null,null,null,{"$f":"国語得点!P$59*100","v":10.5},{"$f":"国語!S$65*100","v":24.444444444444443},{"$f":"IF($R21=\"\",\"\",$R21-$Q21)","v":13.944444444444443}]
[16,{"$f":"国語得点!BJ19","v":4},{"$f":"国語得点!BK19","v":"三①"},{"$f":"国語得点!BL19","v":"読むこと"},null,null,null,null,{"$f":"IF(国語!$T$9=国語!$BF$35,\"○\",\"\")","v":""},{"$f":"IF(国語!$T$9=国語!$BF$36,\"○\",\"\")","v":"○"},{"$f":"IF(国語!$T$9=国語!$BF$37,\"○\",\"\")","v":""},{"$f":"IF(国語!$T$9=国語!$BF$38,\"○\",\"\")","v":""},{"$f":"IF(国語!$T$9=国語!$BF$39,\"○\",\"\")","v":""},null,null,null,{"$f":"国語得点!Q$59*100","v":14.799999999999999},{"$f":"国語!T$65*100","v":20},{"$f":"IF($R22=\"\",\"\",$R22-$Q22)","v":5.2000000000000011}]
[17,{"$f":"国語得点!BJ20","v":4},{"$f":"国語得点!BK20","v":"三②"},{"$f":"国語得点!BL20","v":"読むこと"},null,null,null,null,{"$f":"IF(国語!$U$9=国語!$BF$35,\"○\",\"\")","v":""},{"$f":"IF(国語!$U$9=国語!$BF$36,\"○\",\"\")","v":"○"},{"$f":"IF(国語!$U$9=国語!$BF$37,\"○\",\"\")","v":""},{"$f":"IF(国語!$U$9=国語!$BF$38,\"○\",\"\")","v":""},{"$f":"IF(国語!$U$9=国語!$BF$39,\"○\",\"\")","v":""},null,null,null,{"$f":"国語得点!R$59*100","v":50.3},{"$f":"国語!U$65*100","v":20},{"$f":"IF($R23=\"\",\"\",$R23-$Q23)","v":-30.299999999999997}]
[18,{"$f":"国語得点!BJ21","v":4},{"$f":"国語得点!BK21","v":"四"},{"$f":"国語得点!BL21","v":"読むこと"},null,null,null,null,{"$f":"IF(国語!$V$9=国語!$BF$35,\"○\",\"\")","v":""},{"$f":"IF(国語!$V$9=国語!$BF$36,\"○\",\"\")","v":"○"},{"$f":"IF(国語!$V$9=国語!$BF$37,\"○\",\"\")","v":""},{"$f":"IF(国語!$V$9=国語!$BF$38,\"○\",\"\")","v":""},{"$f":"IF(国語!$V$9=国語!$BF$39,\"○\",\"\")","v":""},null,null,null,{"$f":"国語得点!S$59*100","v":39.800000000000004},{"$f":"国語!V$65*100","v":17.777777777777779},{"$f":"IF($R24=\"\",\"\",$R24-$Q24)","v":-22.022222222222226}]
[19,{"$f":"国語得点!BJ22","v":4},{"$f":"国語得点!BK22","v":"五①"},{"$f":"国語得点!BL22","v":"読むこと"},null,null,null,null,{"$f":"IF(国語!$W$9=国語!$BF$35,\"○\",\"\")","v":""},{"$f":"IF(国語!$W$9=国語!$BF$36,\"○\",\"\")","v":"○"},{"$f":"IF(国語!$W$9=国語!$BF$37,\"○\",\"\")","v":""},{"$f":"IF(国語!$W$9=国語!$BF$38,\"○\",\"\")","v":""},{"$f":"IF(国語!$W$9=国語!$BF$39,\"○\",\"\")","v":""},null,null,null,{"$f":"国語得点!T$59*100","v":28.799999999999997},{"$f":"国語!W$65*100","v":13.333333333333334},{"$f":"IF($R25=\"\",\"\",$R25-$Q25)","v":-15.466666666666663}]
[20,{"$f":"国語得点!BJ23","v":4},{"$f":"国語得点!BK23","v":"五②"},{"$f":"国語得点!BL23","v":"読むこと"},null,null,null,null,{"$f":"IF(国語!$X$9=国語!$BF$35,\"○\",\"\")","v":""},{"$f":"IF(国語!$X$9=国語!$BF$36,\"○\",\"\")","v":"○"},{"$f":"IF(国語!$X$9=国語!$BF$37,\"○\",\"\")","v":""},{"$f":"IF(国語!$X$9=国語!$BF$38,\"○\",\"\")","v":""},{"$f":"IF(国語!$X$9=国語!$BF$39,\"○\",\"\")","v":""},null,null,null,{"$f":"国語得点!U$59*100","v":15.6},{"$f":"国語!X$65*100","v":11.111111111111111},{"$f":"IF($R26=\"\",\"\",$R26-$Q26)","v":-4.4888888888888889}]
[21,{"$f":"国語得点!BJ24","v":5},{"$f":"国語得点!BK24","v":"一"},{"$f":"国語得点!BL24","v":"書くこと"},null,null,null,null,{"$f":"IF(国語!$Y$9=国語!$BF$35,\"○\",\"\")","v":""},{"$f":"IF(国語!$Y$9=国語!$BF$36,\"○\",\"\")","v":"○"},{"$f":"IF(国語!$Y$9=国語!$BF$37,\"○\",\"\")","v":""},{"$f":"IF(国語!$Y$9=国語!$BF$38,\"○\",\"\")","v":""},{"$f":"IF(国語!$Y$9=国語!$BF$39,\"○\",\"\")","v":""},null,null,null,{"$f":"国語得点!V$59*100","v":25.2},{"$f":"国語!Y$65*100","v":8.8888888888888893},{"$f":"IF($R27=\"\",\"\",$R27-$Q27)","v":-16.31111111111111}]
[22,{"$f":"国語得点!BJ25","v":5},{"$f":"国語得点!BK25","v":"二"},{"$f":"国語得点!BL25","v":"書くこと"},null,null,null,null,{"$f":"IF(国語!$Z$9=国語!$BF$35,\"○\",\"\")","v":""},{"$f":"IF(国語!$Z$9=国語!$BF$36,\"○\",\"\")","v":"○"},{"$f":"IF(国語!$Z$9=国語!$BF$37,\"○\",\"\")","v":""},{"$f":"IF(国語!$Z$9=国語!$BF38,\"○\",\"\")","v":""},{"$f":"IF(国語!$Z$9=国語!$BF$39,\"○\",\"\")","v":""},null,null,null,{"$f":"国語得点!W$59*100","v":50.6},{"$f":"国語!Z$65*100","v":6.666666666666667},{"$f":"IF($R28=\"\",\"\",$R28-$Q28)","v":-43.933333333333337}]
[23,{"$f":"国語得点!BJ26","v":5},{"$f":"国語得点!BK26","v":"三　一文目"},{"$f":"国語得点!BL26","v":"書くこと"},null,null,null,null,{"$f":"IF(国語!$AA$9=国語!$BF$35,\"○\",\"\")","v":""},{"$f":"IF(国語!$AA$9=国語!$BF$36,\"○\",\"\")","v":"○"},{"$f":"IF(国語!$AA$9=国語!$BF$37,\"○\",\"\")","v":""},{"$f":"IF(国語!$AA$9=国語!$BF$38,\"○\",\"\")","v":""},{"$f":"IF(国語!$AA$9=国語!$BF$39,\"○\",\"\")","v":""},null,null,null,{"$f":"国語得点!X$59*100","v":63},{"$f":"国語!AA$65*100","v":4.4444444444444446},{"$f":"IF($R29=\"\",\"\",$R29-$Q29)","v":-58.555555555555557}]
[24,{"$f":"国語得点!BJ27","v":5},{"$f":"国語得点!BK27","v":"三　二文目"},{"$f":"国語得点!BL27","v":"書くこと"},null,null,null,null,{"$f":"IF(国語!$AB$9=国語!$BF$35,\"○\",\"\")","v":""},{"$f":"IF(国語!$AB$9=国語!$BF$36,\"○\",\"\")","v":"○"},{"$f":"IF(国語!$AB$9=国語!$BF$37,\"○\",\"\")","v":""},{"$f":"IF(国語!$AB$9=国語!$BF$38,\"○\",\"\")","v":""},{"$f":"IF(国語!$AB$9=国語!$BF$39,\"○\",\"\")","v":""},null,null,null,{"$f":"国語得点!Y$59*100","v":49.1},{"$f":"国語!AB$65*100","v":2.2222222222222223},{"$f":"IF($R30=\"\",\"\",$R30-$Q30)","v":-46.87777777777778}]
[25,{"$f":"国語得点!BJ28","v":5},{"$f":"国語得点!BK28","v":"四"},{"$f":"国語得点!BL28","v":"書くこと"},null,null,null,null,{"$f":"IF(国語!$AC$9=国語!$BF$35,\"○\",\"\")","v":""},{"$f":"IF(国語!$AC$9=国語!$BF$36,\"○\",\"\")","v":"○"},{"$f":"IF(国語!$AC$9=国語!$BF$37,\"○\",\"\")","v":""},{"$f":"IF(国語!$AC$9=国語!$BF$38,\"○\",\"\")","v":""},{"$f":"IF(国語!$AC$9=国語!$BF$39,\"○\",\"\")","v":""},null,null,null,{"$f":"国語得点!Z$59*100","v":41.6},{"$f":"国語!AC$65*100","v":2.2222222222222223},{"$f":"IF($R31=\"\",\"\",$R31-$Q31)","v":-39.37777777777778}]
[26,{"$f":"国語得点!BJ29","v":0},{"$f":"国語得点!BK29","v":0},{"$f":"国語得点!BL29","v":0},null,null,null,null,{"$f":"IF(国語!$AD$9=国語!$BF$35,\"○\",\"\")","v":""},{"$f":"IF(国語!$AD$9=国語!$BF$36,\"○\",\"\")","v":""},{"$f":"IF(国語!$AD$9=国語!$BF$37,\"○\",\"\")","v":""},{"$f":"IF(国語!$AD$9=国語!$BF$38,\"○\",\"\")","v":""},{"$f":"IF(国語!$AD$9=国語!$BF$39,\"○\",\"\")","v":""},null,null,null,{"$f":"国語得点!AA$59*100","v":0},{"$f":"国語!AD$65*100","v":{"$error":"#DIV/0!"}},{"$f":"IF($R32=\"\",\"\",$R32-$Q32)","v":{"$error":"#DIV/0!"}}]
[27,{"$f":"国語得点!BJ30","v":0},{"$f":"国語得点!BK30","v":0},{"$f":"国語得点!BL30","v":0},null,null,null,null,{"$f":"IF(国語!$AE$9=国語!$BF$35,\"○\",\"\")","v":""},{"$f":"IF(国語!$AE$9=国語!$BF$36,\"○\",\"\")","v":""},{"$f":"IF(国語!$AE$9=国語!$BF$37,\"○\",\"\")","v":""},{"$f":"IF(国語!$AE$9=国語!$BF$38,\"○\",\"\")","v":""},{"$f":"IF(国語!$AE$9=国語!$BF$39,\"○\",\"\")","v":""},null,null,null,{"$f":"国語得点!AB$59*100","v":0},{"$f":"国語!AE$65*100","v":{"$error":"#DIV/0!"}},{"$f":"IF($R33=\"\",\"\",$R33-$Q33)","v":{"$error":"#DIV/0!"}}]
[28,{"$f":"国語得点!BJ31","v":0},{"$f":"国語得点!BK31","v":0},{"$f":"国語得点!BL31","v":0},null,null,null,null,{"$f":"IF(国語!$AF$9=国語!$BF$35,\"○\",\"\")","v":""},{"$f":"IF(国語!$AF$9=国語!$BF$36,\"○\",\"\")","v":""},{"$f":"IF(国語!$AF$9=国語!$BF$37,\"○\",\"\")","v":""},{"$f":"IF(国語!$AF$9=国語!$BF$38,\"○\",\"\")","v":""},{"$f":"IF(国語!$AF$9=国語!$BF$39,\"○\",\"\")","v":""},null,null,null,{"$f":"国語得点!AC$59*100","v":0},{"$f":"国語!AF$65*100","v":{"$error":"#DIV/0!"}},{"$error":"#DIV/0!"}]
[29,{"$f":"国語得点!BJ32","v":0},{"$f":"国語得点!BK32","v":0},{"$f":"国語得点!BL32","v":0},null,null,null,null,{"$f":"IF(国語!$AG$9=国語!$BF$35,\"○\",\"\")","v":""},{"$f":"IF(国語!$AG$9=国語!$BF$36,\"○\",\"\")","v":""},{"$f":"IF(国語!$AG$9=国語!$BF$37,\"○\",\"\")","v":""},{"$f":"IF(国語!$AG$9=国語!$BF$38,\"○\",\"\")","v":""},{"$f":"IF(国語!$AG$9=国語!$BF$39,\"○\",\"\")","v":""},null,null,null,{"$f":"国語得点!AD$59*100","v":0},{"$f":"国語!AG$65*100","v":{"$error":"#DIV/0!"}},{"$error":"#DIV/0!"}]
[30,{"$f":"国語得点!BJ33","v":0},{"$f":"国語得点!BK33","v":0},{"$f":"国語得点!BL33","v":0},null,null,null,null,{"$f":"IF(国語!$AH$9=国語!$BF$35,\"○\",\"\")","v":""},{"$f":"IF(国語!$AH$9=国語!$BF$36,\"○\",\"\")","v":""},{"$f":"IF(国語!$AH$9=国語!$BF$37,\"○\",\"\")","v":""},{"$f":"IF(国語!$AH$9=国語!$BF$38,\"○\",\"\")","v":""},{"$f":"IF(国語!$AH$9=国語!$BF$39,\"○\",\"\")","v":""},null,null,null,{"$f":"国語得点!AE$59*100","v":0},{"$f":"国語!AH$65*100","v":{"$error":"#DIV/0!"}},{"$error":"#DIV/0!"}]
[31,{"$f":"国語得点!BJ34","v":0},{"$f":"国語得点!BK34","v":0},{"$f":"国語得点!BL34","v":0},null,null,null,null,{"$f":"IF(国語!$AI$9=国語!$BF$35,\"○\",\"\")","v":""},{"$f":"IF(国語!$AI$9=国語!$BF$36,\"○\",\"\")","v":""},{"$f":"IF(国語!$AI$9=国語!$BF$37,\"○\",\"\")","v":""},{"$f":"IF(国語!$AI$9=国語!$BF$38,\"○\",\"\")","v":""},{"$f":"IF(国語!$AI$9=国語!$BF$39,\"○\",\"\")","v":""},null,null,null,{"$f":"国語得点!AF$59*100","v":0},{"$f":"国語!AI$65*100","v":{"$error":"#DIV/0!"}},{"$error":"#DIV/0!"}]
[32,{"$f":"国語得点!BJ35","v":0},{"$f":"国語得点!BK35","v":0},{"$f":"国語得点!BL35","v":0},null,null,null,null,{"$f":"IF(国語!$AJ$9=国語!$BF$35,\"○\",\"\")","v":""},{"$f":"IF(国語!$AJ$9=国語!$BF$36,\"○\",\"\")","v":""},{"$f":"IF(国語!$AJ$9=国語!$BF$37,\"○\",\"\")","v":""},{"$f":"IF(国語!$AJ$9=国語!$BF$38,\"○\",\"\")","v":""},{"$f":"IF(国語!$AJ$9=国語!$BF$39,\"○\",\"\")","v":""},null,null,null,{"$f":"国語得点!AG$59*100","v":0},{"$f":"国語!AJ$65*100","v":{"$error":"#DIV/0!"}},{"$error":"#DIV/0!"}]
[33,{"$f":"国語得点!BJ36","v":0},{"$f":"国語得点!BK36","v":0},{"$f":"国語得点!BL36","v":0},null,null,null,null,{"$f":"IF(国語!$AK$9=国語!$BF$35,\"○\",\"\")","v":""},{"$f":"IF(国語!$AK$9=国語!$BF$36,\"○\",\"\")","v":""},{"$f":"IF(国語!$AK$9=国語!$BF$37,\"○\",\"\")","v":""},{"$f":"IF(国語!$AK$9=国語!$BF$38,\"○\",\"\")","v":""},{"$f":"IF(国語!$AK$9=国語!$BF$39,\"○\",\"\")","v":""},null,null,null,{"$f":"国語得点!AH$59*100","v":0},{"$f":"国語!AK$65*100","v":{"$error":"#DIV/0!"}},{"$f":"IF($R39=\"\",\"\",$R39-$Q39)","v":{"$error":"#DIV/0!"}}]
[34,{"$f":"国語得点!BJ37","v":0},{"$f":"国語得点!BK37","v":0},{"$f":"国語得点!BL37","v":0},null,null,null,null,{"$f":"IF(国語!$AL$9=国語!$BF$35,\"○\",\"\")","v":""},{"$f":"IF(国語!$AL$9=国語!$BF$36,\"○\",\"\")","v":""},{"$f":"IF(国語!$AL$9=国語!$BF$37,\"○\",\"\")","v":""},{"$f":"IF(国語!$AL$9=国語!$BF$38,\"○\",\"\")","v":""},{"$f":"IF(国語!$AL$9=国語!$BF$39,\"○\",\"\")","v":""},null,null,null,{"$f":"国語得点!AI$59*100","v":0},{"$f":"国語!AL$65*100","v":{"$error":"#DIV/0!"}},{"$error":"#DIV/0!"}]
[35,{"$f":"国語得点!BJ38","v":0},{"$f":"国語得点!BK38","v":0},{"$f":"国語得点!BL38","v":0},null,null,null,null,{"$f":"IF(国語!$AM$9=国語!$BF$35,\"○\",\"\")","v":""},{"$f":"IF(国語!$AM$9=国語!$BF$36,\"○\",\"\")","v":""},{"$f":"IF(国語!$AM$9=国語!$BF$37,\"○\",\"\")","v":""},{"$f":"IF(国語!$AM$9=国語!$BF$38,\"○\",\"\")","v":""},{"$f":"IF(国語!$AM$9=国語!$BF$39,\"○\",\"\")","v":""},null,null,null,{"$f":"国語得点!AJ$59*100","v":0},{"$f":"国語!AM$65*100","v":{"$error":"#DIV/0!"}},{"$error":"#DIV/0!"}]
[36,{"$f":"国語得点!BJ39","v":0},{"$f":"国語得点!BK39","v":0},{"$f":"国語得点!BL39","v":0},null,null,null,null,{"$f":"IF(国語!$AN$9=国語!$BF$35,\"○\",\"\")","v":""},{"$f":"IF(国語!$AN$9=国語!$BF$36,\"○\",\"\")","v":""},{"$f":"IF(国語!$AN$9=国語!$BF$37,\"○\",\"\")","v":""},{"$f":"IF(国語!$AN$9=国語!$BF$38,\"○\",\"\")","v":""},{"$f":"IF(国語!$AN$9=国語!$BF$39,\"○\",\"\")","v":""},null,null,null,{"$f":"国語得点!AK$59*100","v":0},{"$f":"国語!AN$65*100","v":{"$error":"#DIV/0!"}},{"$error":"#DIV/0!"}]
[37,{"$f":"国語得点!BJ40","v":0},{"$f":"国語得点!BK40","v":0},{"$f":"国語得点!BL40","v":0},null,null,null,null,{"$f":"IF(国語!$AO$9=国語!$BF$35,\"○\",\"\")","v":""},{"$f":"IF(国語!$AO$9=国語!$BF$36,\"○\",\"\")","v":""},{"$f":"IF(国語!$AO$9=国語!$BF$37,\"○\",\"\")","v":""},{"$f":"IF(国語!$AO$9=国語!$BF$38,\"○\",\"\")","v":""},{"$f":"IF(国語!$AO$9=国語!$BF$39,\"○\",\"\")","v":""},null,null,null,{"$f":"国語得点!AL$59*100","v":0},{"$f":"国語!AO$65*100","v":{"$error":"#DIV/0!"}},{"$error":"#DIV/0!"}]
[38,{"$f":"国語得点!BJ41","v":0},{"$f":"国語得点!BK41","v":0},{"$f":"国語得点!BL41","v":0},null,null,null,null,{"$f":"IF(国語!$AP$9=国語!$BF$35,\"○\",\"\")","v":""},{"$f":"IF(国語!$AP$9=国語!$BF$36,\"○\",\"\")","v":""},{"$f":"IF(国語!$AP$9=国語!$BF$37,\"○\",\"\")","v":""},{"$f":"IF(国語!$AP$9=国語!$BF$38,\"○\",\"\")","v":""},{"$f":"IF(国語!$AP$9=国語!$BF$39,\"○\",\"\")","v":""},null,null,null,{"$f":"国語得点!AM$59*100","v":0},{"$f":"国語!AP$65*100","v":{"$error":"#DIV/0!"}},{"$error":"#DIV/0!"}]
[39,{"$f":"国語得点!BJ42","v":0},{"$f":"国語得点!BK42","v":0},{"$f":"国語得点!BL42","v":0},null,null,null,null,{"$f":"IF(国語!$AQ$9=国語!$BF$35,\"○\",\"\")","v":""},{"$f":"IF(国語!$AQ$9=国語!$BF$36,\"○\",\"\")","v":""},{"$f":"IF(国語!$AQ$9=国語!$BF$37,\"○\",\"\")","v":""},{"$f":"IF(国語!$AQ$9=国語!$BF$38,\"○\",\"\")","v":""},{"$f":"IF(国語!$AQ$9=国語!$BF$39,\"○\",\"\")","v":""},null,null,null,{"$f":"国語得点!AN$59*100","v":0},{"$f":"国語!AQ$65*100","v":{"$error":"#DIV/0!"}},{"$error":"#DIV/0!"}]
[40,{"$f":"国語得点!BJ43","v":0},{"$f":"国語得点!BK43","v":0},{"$f":"国語得点!BL43","v":0},null,null,null,null,{"$f":"IF(国語!$AR$9=国語!$BF$35,\"○\",\"\")","v":""},{"$f":"IF(国語!$AR$9=国語!$BF$36,\"○\",\"\")","v":""},{"$f":"IF(国語!$AR$9=国語!$BF$37,\"○\",\"\")","v":""},{"$f":"IF(国語!$AR$9=国語!$BF$38,\"○\",\"\")","v":""},{"$f":"IF(国語!$AR$9=国語!$BF$39,\"○\",\"\")","v":""},null,null,null,{"$f":"国語得点!AO$59*100","v":0},{"$f":"国語!AR$65*100","v":{"$error":"#DIV/0!"}},{"$error":"#DIV/0!"}]
[41,{"$f":"国語得点!BJ44","v":0},{"$f":"国語得点!BK44","v":0},{"$f":"国語得点!BL44","v":0},null,null,null,null,{"$f":"IF(国語!$AS$9=国語!$BF$35,\"○\",\"\")","v":""},{"$f":"IF(国語!$AS$9=国語!$BF$36,\"○\",\"\")","v":""},{"$f":"IF(国語!$AS$9=国語!$BF$37,\"○\",\"\")","v":""},{"$f":"IF(国語!$AS$9=国語!$BF$38,\"○\",\"\")","v":""},{"$f":"IF(国語!$AS$9=国語!$BF$39,\"○\",\"\")","v":""},null,null,null,{"$f":"国語得点!AP$59*100","v":0},{"$f":"国語!AS$65*100","v":{"$error":"#DIV/0!"}},{"$error":"#DIV/0!"}]
[42,{"$f":"国語得点!BJ45","v":0},{"$f":"国語得点!BK45","v":0},{"$f":"国語得点!BL45","v":0},null,null,null,null,{"$f":"IF(国語!$AT$9=国語!$BF$35,\"○\",\"\")","v":""},{"$f":"IF(国語!$AT$9=国語!$BF$36,\"○\",\"\")","v":""},{"$f":"IF(国語!$AT$9=国語!$BF$37,\"○\",\"\")","v":""},{"$f":"IF(国語!$AT$9=国語!$BF$38,\"○\",\"\")","v":""},{"$f":"IF(国語!$AT$9=国語!$BF$39,\"○\",\"\")","v":""},null,null,null,{"$f":"国語得点!AQ$59*100","v":0},{"$f":"国語!AT$65*100","v":{"$error":"#DIV/0!"}},{"$error":"#DIV/0!"}]
[43,{"$f":"国語得点!BJ46","v":0},{"$f":"国語得点!BK46","v":0},{"$f":"国語得点!BL46","v":0},null,null,null,null,{"$f":"IF(国語!$AU$9=国語!$BF$35,\"○\",\"\")","v":""},{"$f":"IF(国語!$AU$9=国語!$BF$36,\"○\",\"\")","v":""},{"$f":"IF(国語!$AU$9=国語!$BF$37,\"○\",\"\")","v":""},{"$f":"IF(国語!$AU$9=国語!$BF$38,\"○\",\"\")","v":""},{"$f":"IF(国語!$AU$9=国語!$BF$39,\"○\",\"\")","v":""},null,null,null,{"$f":"国語得点!AR$59*100","v":0},{"$f":"国語!AU$65*100","v":{"$error":"#DIV/0!"}},{"$error":"#DIV/0!"}]
[44,{"$f":"国語得点!BJ47","v":0},{"$f":"国語得点!BK47","v":0},{"$f":"国語得点!BL47","v":0},null,null,null,null,{"$f":"IF(国語!$AV$9=国語!$BF$35,\"○\",\"\")","v":""},{"$f":"IF(国語!$AV$9=国語!$BF$36,\"○\",\"\")","v":""},{"$f":"IF(国語!$AV$9=国語!$BF$37,\"○\",\"\")","v":""},{"$f":"IF(国語!$AV$9=国語!$BF$38,\"○\",\"\")","v":""},{"$f":"IF(国語!$AV$9=国語!$BF$39,\"○\",\"\")","v":""},null,null,null,{"$f":"国語得点!AS$59*100","v":0},{"$f":"国語!AV$65*100","v":{"$error":"#DIV/0!"}},{"$error":"#DIV/0!"}]
[45,{"$f":"国語得点!BJ48","v":0},{"$f":"国語得点!BK48","v":0},{"$f":"国語得点!BL48","v":0},null,null,null,null,{"$f":"IF(国語!$AW$9=国語!$BF$35,\"○\",\"\")","v":""},{"$f":"IF(国語!$AW$9=国語!$BF$36,\"○\",\"\")","v":""},{"$f":"IF(国語!$AW$9=国語!$BF$37,\"○\",\"\")","v":""},{"$f":"IF(国語!$AW$9=国語!$BF$38,\"○\",\"\")","v":""},{"$f":"IF(国語!$AW$9=国語!$BF$39,\"○\",\"\")","v":""},null,null,null,{"$f":"国語得点!AT$59*100","v":0},{"$f":"国語!AW$65*100","v":{"$error":"#DIV/0!"}},{"$error":"#DIV/0!"}]
[46,{"$f":"国語得点!BJ49","v":0},{"$f":"国語得点!BK49","v":0},{"$f":"国語得点!BL49","v":0},null,null,null,null,{"$f":"IF(国語!$AX$9=国語!$BF$35,\"○\",\"\")","v":""},{"$f":"IF(国語!$AX$9=国語!$BF$36,\"○\",\"\")","v":""},{"$f":"IF(国語!$AX$9=国語!$BF$37,\"○\",\"\")","v":""},{"$f":"IF(国語!$AX$9=国語!$BF$38,\"○\",\"\")","v":""},{"$f":"IF(国語!$AX$9=国語!$BF$39,\"○\",\"\")","v":""},null,null,null,{"$f":"国語得点!AU$59*100","v":0},{"$f":"国語!AX$65*100","v":{"$error":"#DIV/0!"}},{"$error":"#DIV/0!"}]
[47,{"$f":"国語得点!BJ50","v":0},{"$f":"国語得点!BK50","v":0},{"$f":"国語得点!BL50","v":0},null,null,null,null,{"$f":"IF(国語!$AY$9=国語!$BF$35,\"○\",\"\")","v":""},{"$f":"IF(国語!$AY$9=国語!$BF$36,\"○\",\"\")","v":""},{"$f":"IF(国語!$AY$9=国語!$BF$37,\"○\",\"\")","v":""},{"$f":"IF(国語!$AY$9=国語!$BF$38,\"○\",\"\")","v":""},{"$f":"IF(国語!$AY$9=国語!$BF$39,\"○\",\"\")","v":""},null,null,null,{"$f":"国語得点!AV$59*100","v":0},{"$f":"国語!AY$65*100","v":{"$error":"#DIV/0!"}},{"$error":"#DIV/0!"}]
[48,{"$f":"国語得点!BJ51","v":0},{"$f":"国語得点!BK51","v":0},{"$f":"国語得点!BL51","v":0},null,null,null,null,{"$f":"IF(国語!$AZ$9=国語!$BF$35,\"○\",\"\")","v":""},{"$f":"IF(国語!$AZ$9=国語!$BF$36,\"○\",\"\")","v":""},{"$f":"IF(国語!$AZ$9=国語!$BF$37,\"○\",\"\")","v":""},{"$f":"IF(国語!$AZ$9=国語!$BF$38,\"○\",\"\")","v":""},{"$f":"IF(国語!$AZ$9=国語!$BF$39,\"○\",\"\")","v":""},null,null,null,{"$f":"国語得点!AW$59*100","v":0},{"$f":"国語!AZ$65*100","v":{"$error":"#DIV/0!"}},{"$error":"#DIV/0!"}]
[49,{"$f":"国語得点!BJ52","v":0},{"$f":"国語得点!BK52","v":0},{"$f":"国語得点!BL52","v":0},null,null,null,null,{"$f":"IF(国語!$BA$9=国語!$BF$35,\"○\",\"\")","v":""},{"$f":"IF(国語!$BA$9=国語!$BF$36,\"○\",\"\")","v":""},{"$f":"IF(国語!$BA$9=国語!$BF$37,\"○\",\"\")","v":""},{"$f":"IF(国語!$BA$9=国語!$BF$38,\"○\",\"\")","v":""},{"$f":"IF(国語!$BA$9=国語!$BF$39,\"○\",\"\")","v":""},null,null,null,{"$f":"国語得点!AX$59*100","v":0},{"$f":"国語!BA$65*100","v":{"$error":"#DIV/0!"}},{"$error":"#DIV/0!"}]
[50,{"$f":"国語得点!BJ53","v":0},{"$f":"国語得点!BK53","v":0},{"$f":"国語得点!BL53","v":0},null,null,null,null,{"$f":"IF(国語!$BB$9=国語!$BF$35,\"○\",\"\")","v":""},{"$f":"IF(国語!$BB$9=国語!$BF$36,\"○\",\"\")","v":""},{"$f":"IF(国語!$BB$9=国語!$BF$37,\"○\",\"\")","v":""},{"$f":"IF(国語!$BB$9=国語!$BF$38,\"○\",\"\")","v":""},{"$f":"IF(国語!$BB$9=国語!$BF$39,\"○\",\"\")","v":""},null,null,null,{"$f":"国語得点!AY$59*100","v":0},{"$f":"国語!BB$65*100","v":{"$error":"#DIV/0!"}},{"$error":"#DIV/0!"}]
["平均"]

{"sheet":"⑥国語の問題別無解答率","index":5,"n_rows":57,"n_cols":19,"rows_kept":57,"cut":false,"hidden":false,"merged":[[4,13,4,15],[4,3,5,3],[4,16,4,18],[4,0,5,0],[4,2,5,2],[4,4,4,7],[4,8,4,12],[4,1,5,1]]}
["⑥国語の問題別無解答率"]
[]
[null,null,"問題数",{"$f":"国語!AX1","v":25}]
["◆国語"]
["問題通し番号","問題\n番号","小問題","問題の領域","学習指導要領の領域等",null,null,null,"観点",null,null,null,null,"問題形式",null,null,"無解答率"]
[null,null,null,null,null,null,null,null,{"$f":"国語!BG35","v":"知識・技能"},{"$f":"国語!BG36","v":"思考・判断・表現"},{"$f":"国語!BG37","v":"-"},{"$f":"国語!BG38","v":"-"},{"$f":"国語!BG39","v":"-"},"選択式","短答式","記述式","富山県（ア）","自校（イ）","富山県との差（イ-ア)"]
[1,{"$f":"国語得点!BJ4","v":1},{"$f":"国語得点!BK4","v":"一（1）"},{"$f":"国語得点!BL4","v":"知識及び技能"},null,null,null,null,{"$f":"IF(国語!$E$9=国語!$BF$35,\"○\",\"\")","v":"○"},{"$f":"IF(国語!$E$9=国語!$BF$36,\"○\",\"\")","v":""},{"$f":"IF(国語!$E$9=国語!$BF$37,\"○\",\"\")","v":""},{"$f":"IF(国語!$E$9=国語!$BF$38,\"○\",\"\")","v":""},{"$f":"IF(国語!$E$9=国語!$BF$39,\"○\",\"\")","v":""},null,null,null,{"$f":"国語得点!B$60*100","v":0.80000000000000071},{"$f":"国語!E$66*100","v":48.888888888888886},{"$f":"IF($R7=\"\",\"\",$R7-$Q7)","v":48.088888888888889}]
[2,{"$f":"国語得点!BJ5","v":1},{"$f":"国語得点!BK5","v":"一（2）"},{"$f":"国語得点!BL5","v":"知識及び技能"},null,null,null,null,{"$f":"IF(国語!$F$9=国語!$BF$35,\"○\",\"\")","v":"○"},{"$f":"IF(国語!$F$9=国語!$BF$36,\"○\",\"\")","v":""},{"$f":"IF(国語!$F$9=国語!$BF$37,\"○\",\"\")","v":""},{"$f":"IF(国語!$F$9=国語!$BF$38,\"○\",\"\")","v":""},{"$f":"IF(国語!$F$9=国語!$BF$39,\"○\",\"\")","v":""},null,null,null,{"$f":"国語得点!C$60*100","v":0.10000000000000009},{"$f":"国語!F$66*100","v":44.444444444444443},{"$f":"IF($R8=\"\",\"\",$R8-$Q8)","v":44.344444444444441}]
[3,{"$f":"国語得点!BJ6","v":1},{"$f":"国語得点!BK6","v":"一（3）"},{"$f":"国語得点!BL6","v":"知識及び技能"},null,null,null,null,{"$f":"IF(国語!$G$9=国語!$BF$35,\"○\",\"\")","v":"○"},{"$f":"IF(国語!$G$9=国語!$BF$36,\"○\",\"\")","v":""},{"$f":"IF(国語!$G$9=国語!$BF$37,\"○\",\"\")","v":""},{"$f":"IF(国語!$G$9=国語!$BF$38,\"○\",\"\")","v":""},{"$f":"IF(国語!$G$9=国語!$BF$39,\"○\",\"\")","v":""},null,null,null,{"$f":"国語得点!D$60*100","v":2.0999999999999908},{"$f":"国語!G$66*100","v":46.666666666666664},{"$f":"IF($R9=\"\",\"\",$R9-$Q9)","v":44.566666666666677}]
[4,{"$f":"国語得点!BJ7","v":1},{"$f":"国語得点!BK7","v":"一（4）"},{"$f":"国語得点!BL7","v":"知識及び技能"},null,null,null,null,{"$f":"IF(国語!$H$9=国語!$BF$35,\"○\",\"\")","v":"○"},{"$f":"IF(国語!$H$9=国語!$BF$36,\"○\",\"\")","v":""},{"$f":"IF(国語!$H$9=国語!$BF$37,\"○\",\"\")","v":""},{"$f":"IF(国語!$H$9=国語!$BF$38,\"○\",\"\")","v":""},{"$f":"IF(国語!$H$9=国語!$BF$39,\"○\",\"\")","v":""},null,null,null,{"$f":"国語得点!E$60*100","v":0.80000000000000071},{"$f":"国語!H$66*100","v":44.444444444444443},{"$f":"IF($R10=\"\",\"\",$R10-$Q10)","v":43.644444444444446}]
[5,{"$f":"国語得点!BJ8","v":1},{"$f":"国語得点!BK8","v":"二（1）"},{"$f":"国語得点!BL8","v":"知識及び技能"},null,null,null,null,{"$f":"IF(国語!$I$9=国語!$BF$35,\"○\",\"\")","v":"○"},{"$f":"IF(国語!$I$9=国語!$BF$36,\"○\",\"\")","v":""},{"$f":"IF(国語!$I$9=国語!$BF$37,\"○\",\"\")","v":""},{"$f":"IF(国語!$I$9=国語!$BF$38,\"○\",\"\")","v":""},{"$f":"IF(国語!$I$9=国語!$BF$39,\"○\",\"\")","v":""},null,null,null,{"$f":"国語得点!F$60*100","v":6.5000000000000053},{"$f":"国語!I$66*100","v":42.222222222222221},{"$f":"IF($R11=\"\",\"\",$R11-$Q11)","v":35.722222222222214}]
[6,{"$f":"国語得点!BJ9","v":1},{"$f":"国語得点!BK9","v":"二（2）"},{"$f":"国語得点!BL9","v":"知識及び技能"},null,null,null,null,{"$f":"IF(国語!$J$9=国語!$BF$35,\"○\",\"\")","v":"○"},{"$f":"IF(国語!$J$9=国語!$BF$36,\"○\",\"\")","v":""},{"$f":"IF(国語!$J$9=国語!$BF$37,\"○\",\"\")","v":""},{"$f":"IF(国語!$J$9=国語!$BF$38,\"○\",\"\")","v":""},{"$f":"IF(国語!$J$9=国語!$BF$39,\"○\",\"\")","v":""},null,null,null,{"$f":"国語得点!G$60*100","v":13.400000000000013},{"$f":"国語!J$66*100","v":40},{"$f":"IF($R12=\"\",\"\",$R12-$Q12)","v":26.599999999999987}]
[7,{"$f":"国語得点!BJ10","v":1},{"$f":"国語得点!BK10","v":"二（3）"},{"$f":"国語得点!BL10","v":"知識及び技能"},null,null,null,null,{"$f":"IF(国語!$K$9=国語!$BF$35,\"○\",\"\")","v":"○"},{"$f":"IF(国語!$K$9=国語!$BF$36,\"○\",\"\")","v":""},{"$f":"IF(国語!$K$9=国語!$BF$37,\"○\",\"\")","v":""},{"$f":"IF(国語!$K$9=国語!$BF$38,\"○\",\"\")","v":""},{"$f":"IF(国語!$K$9=国語!$BF$39,\"○\",\"\")","v":""},null,null,null,{"$f":"国語得点!H$60*100","v":7.2000000000000064},{"$f":"国語!K$66*100","v":37.777777777777779},{"$f":"IF($R13=\"\",\"\",$R13-$Q13)","v":30.577777777777772}]
[8,{"$f":"国語得点!BJ11","v":1},{"$f":"国語得点!BK11","v":"二（4）"},{"$f":"国語得点!BL11","v":"知識及び技能"},null,null,null,null,{"$f":"IF(国語!$L$9=国語!$BF$35,\"○\",\"\")","v":"○"},{"$f":"IF(国語!$L$9=国語!$BF$36,\"○\",\"\")","v":""},{"$f":"IF(国語!$L$9=国語!$BF$37,\"○\",\"\")","v":""},{"$f":"IF(国語!$L$9=国語!$BF$38,\"○\",\"\")","v":""},{"$f":"IF(国語!$L$9=国語!$BF$39,\"○\",\"\")","v":""},null,null,null,{"$f":"国語得点!I$60*100","v":9.1999999999999975},{"$f":"国語!L$66*100","v":35.555555555555557},{"$f":"IF($R14=\"\",\"\",$R14-$Q14)","v":26.355555555555561}]
[9,{"$f":"国語得点!BJ12","v":2},{"$f":"国語得点!BK12","v":"一"},{"$f":"国語得点!BL12","v":"知識及び技能"},null,null,null,null,{"$f":"IF(国語!$M$9=国語!$BF$35,\"○\",\"\")","v":"○"},{"$f":"IF(国語!$M$9=国語!$BF$36,\"○\",\"\")","v":""},{"$f":"IF(国語!$M$9=国語!$BF$37,\"○\",\"\")","v":""},{"$f":"IF(国語!$M$9=国語!$BF$38,\"○\",\"\")","v":""},{"$f":"IF(国語!$M$9=国語!$BF$39,\"○\",\"\")","v":""},null,null,null,{"$f":"国語得点!J$60*100","v":1.0999999999999899},{"$f":"国語!M$66*100","v":35.555555555555557},{"$f":"IF($R15=\"\",\"\",$R15-$Q15)","v":34.45555555555557}]
[10,{"$f":"国語得点!BJ13","v":2},{"$f":"国語得点!BK13","v":"二"},{"$f":"国語得点!BL13","v":"知識及び技能"},null,null,null,null,{"$f":"IF(国語!$N$9=国語!$BF$35,\"○\",\"\")","v":"○"},{"$f":"IF(国語!$N$9=国語!$BF$36,\"○\",\"\")","v":""},{"$f":"IF(国語!$N$9=国語!$BF$37,\"○\",\"\")","v":""},{"$f":"IF(国語!$N$9=国語!$BF$38,\"○\",\"\")","v":""},{"$f":"IF(国語!$N$9=国語!$BF$39,\"○\",\"\")","v":""},null,null,null,{"$f":"国語得点!K$60*100","v":1.6000000000000014},{"$f":"国語!N$66*100","v":33.333333333333329},{"$f":"IF($R16=\"\",\"\",$R16-$Q16)","v":31.733333333333327}]
[11,{"$f":"国語得点!BJ14","v":3},{"$f":"国語得点!BK14","v":"一"},{"$f":"国語得点!BL14","v":"知識及び技能"},null,null,null,null,{"$f":"IF(国語!$O$9=国語!$BF$35,\"○\",\"\")","v":"○"},{"$f":"IF(国語!$O$9=国語!$BF$36,\"○\",\"\")","v":""},{"$f":"IF(国語!$O$9=国語!$BF$37,\"○\",\"\")","v":""},{"$f":"IF(国語!$O$9=国語!$BF$38,\"○\",\"\")","v":""},{"$f":"IF(国語!$O$9=国語!$BF$39,\"○\",\"\")","v":""},null,null,null,{"$f":"国語得点!L$60*100","v":0.20000000000000018},{"$f":"国語!O$66*100","v":31.111111111111111},{"$f":"IF($R17=\"\",\"\",$R17-$Q17)","v":30.911111111111111}]
[12,{"$f":"国語得点!BJ15","v":3},{"$f":"国語得点!BK15","v":"二"},{"$f":"国語得点!BL15","v":"知識及び技能"},null,null,null,null,{"$f":"IF(国語!$P$9=国語!$BF$35,\"○\",\"\")","v":"○"},{"$f":"IF(国語!$P$9=国語!$BF$36,\"○\",\"\")","v":""},{"$f":"IF(国語!$P$9=国語!$BF$37,\"○\",\"\")","v":""},{"$f":"IF(国語!$P$9=国語!$BF$38,\"○\",\"\")","v":""},{"$f":"IF(国語!$P$9=国語!$BF$39,\"○\",\"\")","v":""},null,null,null,{"$f":"国語得点!M$60*100","v":0.30000000000000027},{"$f":"国語!P$66*100","v":24.444444444444443},{"$f":"IF($R18=\"\",\"\",$R18-$Q18)","v":24.144444444444442}]
[13,{"$f":"国語得点!BJ16","v":4},{"$f":"国語得点!BK16","v":"一"},{"$f":"国語得点!BL16","v":"読むこと"},null,null,null,null,{"$f":"IF(国語!$Q$9=国語!$BF$35,\"○\",\"\")","v":""},{"$f":"IF(国語!$Q$9=国語!$BF$36,\"○\",\"\")","v":"○"},{"$f":"IF(国語!$Q$9=国語!$BF$37,\"○\",\"\")","v":""},{"$f":"IF(国語!$Q$9=国語!$BF$38,\"○\",\"\")","v":""},{"$f":"IF(国語!$Q$9=国語!$BF$39,\"○\",\"\")","v":""},null,null,null,{"$f":"国語得点!N$60*100","v":0.30000000000000027},{"$f":"国語!Q$66*100","v":24.444444444444443},{"$f":"IF($R19=\"\",\"\",$R19-$Q19)","v":24.144444444444442}]
[14,{"$f":"国語得点!BJ17","v":4},{"$f":"国語得点!BK17","v":"二Ａ"},{"$f":"国語得点!BL17","v":"読むこと"},null,null,null,null,{"$f":"IF(国語!$R$9=国語!$BF$35,\"○\",\"\")","v":""},{"$f":"IF(国語!$R$9=国語!$BF$36,\"○\",\"\")","v":"○"},{"$f":"IF(国語!$R$9=国語!$BF$37,\"○\",\"\")","v":""},{"$f":"IF(国語!$R$9=国語!$BF$38,\"○\",\"\")","v":""},{"$f":"IF(国語!$R$9=国語!$BF$39,\"○\",\"\")","v":""},null,null,null,{"$f":"国語得点!O$60*100","v":0.40000000000000036},{"$f":"国語!R$66*100","v":22.222222222222221},{"$f":"IF($R20=\"\",\"\",$R20-$Q20)","v":21.822222222222223}]
[15,{"$f":"国語得点!BJ18","v":4},{"$f":"国語得点!BK18","v":"二B"},{"$f":"国語得点!BL18","v":"読むこと"},null,null,null,null,{"$f":"IF(国語!$S$9=国語!$BF$35,\"○\",\"\")","v":""},{"$f":"IF(国語!$S$9=国語!$BF$36,\"○\",\"\")","v":"○"},{"$f":"IF(国語!$S$9=国語!$BF$37,\"○\",\"\")","v":""},{"$f":"IF(国語!$S$9=国語!$BF$38,\"○\",\"\")","v":""},{"$f":"IF(国語!$S$9=国語!$BF$39,\"○\",\"\")","v":""},null,null,null,{"$f":"国語得点!P$60*100","v":0.70000000000000062},{"$f":"国語!S$66*100","v":20},{"$f":"IF($R21=\"\",\"\",$R21-$Q21)","v":19.3}]
[16,{"$f":"国語得点!BJ19","v":4},{"$f":"国語得点!BK19","v":"三①"},{"$f":"国語得点!BL19","v":"読むこと"},null,null,null,null,{"$f":"IF(国語!$T$9=国語!$BF$35,\"○\",\"\")","v":""},{"$f":"IF(国語!$T$9=国語!$BF$36,\"○\",\"\")","v":"○"},{"$f":"IF(国語!$T$9=国語!$BF$37,\"○\",\"\")","v":""},{"$f":"IF(国語!$T$9=国語!$BF$38,\"○\",\"\")","v":""},{"$f":"IF(国語!$T$9=国語!$BF$39,\"○\",\"\")","v":""},null,null,null,{"$f":"国語得点!Q$60*100","v":2.4000000000000021},{"$f":"国語!T$66*100","v":20},{"$f":"IF($R22=\"\",\"\",$R22-$Q22)","v":17.599999999999998}]
[17,{"$f":"国語得点!BJ20","v":4},{"$f":"国語得点!BK20","v":"三②"},{"$f":"国語得点!BL20","v":"読むこと"},null,null,null,null,{"$f":"IF(国語!$U$9=国語!$BF$35,\"○\",\"\")","v":""},{"$f":"IF(国語!$U$9=国語!$BF$36,\"○\",\"\")","v":"○"},{"$f":"IF(国語!$U$9=国語!$BF$37,\"○\",\"\")","v":""},{"$f":"IF(国語!$U$9=国語!$BF$38,\"○\",\"\")","v":""},{"$f":"IF(国語!$U$9=国語!$BF$39,\"○\",\"\")","v":""},null,null,null,{"$f":"国語得点!R$60*100","v":3.0000000000000027},{"$f":"国語!U$66*100","v":15.555555555555555},{"$f":"IF($R23=\"\",\"\",$R23-$Q23)","v":12.555555555555554}]
[18,{"$f":"国語得点!BJ21","v":4},{"$f":"国語得点!BK21","v":"四"},{"$f":"国語得点!BL21","v":"読むこと"},null,null,null,null,{"$f":"IF(国語!$V$9=国語!$BF$35,\"○\",\"\")","v":""},{"$f":"IF(国語!$V$9=国語!$BF$36,\"○\",\"\")","v":"○"},{"$f":"IF(国語!$V$9=国語!$BF$37,\"○\",\"\")","v":""},{"$f":"IF(国語!$V$9=国語!$BF$38,\"○\",\"\")","v":""},{"$f":"IF(国語!$V$9=国語!$BF$39,\"○\",\"\")","v":""},null,null,null,{"$f":"国語得点!S$60*100","v":1.9000000000000017},{"$f":"国語!V$66*100","v":13.333333333333334},{"$f":"IF($R24=\"\",\"\",$R24-$Q24)","v":11.433333333333332}]
[19,{"$f":"国語得点!BJ22","v":4},{"$f":"国語得点!BK22","v":"五①"},{"$f":"国語得点!BL22","v":"読むこと"},null,null,null,null,{"$f":"IF(国語!$W$9=国語!$BF$35,\"○\",\"\")","v":""},{"$f":"IF(国語!$W$9=国語!$BF$36,\"○\",\"\")","v":"○"},{"$f":"IF(国語!$W$9=国語!$BF$37,\"○\",\"\")","v":""},{"$f":"IF(国語!$W$9=国語!$BF$38,\"○\",\"\")","v":""},{"$f":"IF(国語!$W$9=国語!$BF$39,\"○\",\"\")","v":""},null,null,null,{"$f":"国語得点!T$60*100","v":1.4000000000000012},{"$f":"国語!W$66*100","v":13.333333333333334},{"$f":"IF($R25=\"\",\"\",$R25-$Q25)","v":11.933333333333334}]
[20,{"$f":"国語得点!BJ23","v":4},{"$f":"国語得点!BK23","v":"五②"},{"$f":"国語得点!BL23","v":"読むこと"},null,null,null,null,{"$f":"IF(国語!$X$9=国語!$BF$35,\"○\",\"\")","v":""},{"$f":"IF(国語!$X$9=国語!$BF$36,\"○\",\"\")","v":"○"},{"$f":"IF(国語!$X$9=国語!$BF$37,\"○\",\"\")","v":""},{"$f":"IF(国語!$X$9=国語!$BF$38,\"○\",\"\")","v":""},{"$f":"IF(国語!$X$9=国語!$BF$39,\"○\",\"\")","v":""},null,null,null,{"$f":"国語得点!U$60*100","v":1.3000000000000012},{"$f":"国語!X$66*100","v":11.111111111111111},{"$f":"IF($R26=\"\",\"\",$R26-$Q26)","v":9.81111111111111}]
[21,{"$f":"国語得点!BJ24","v":5},{"$f":"国語得点!BK24","v":"一"},{"$f":"国語得点!BL24","v":"書くこと"},null,null,null,null,{"$f":"IF(国語!$Y$9=国語!$BF$35,\"○\",\"\")","v":""},{"$f":"IF(国語!$Y$9=国語!$BF$36,\"○\",\"\")","v":"○"},{"$f":"IF(国語!$Y$9=国語!$BF$37,\"○\",\"\")","v":""},{"$f":"IF(国語!$Y$9=国語!$BF$38,\"○\",\"\")","v":""},{"$f":"IF(国語!$Y$9=国語!$BF$39,\"○\",\"\")","v":""},null,null,null,{"$f":"国語得点!V$60*100","v":0.80000000000000071},{"$f":"国語!Y$66*100","v":8.8888888888888893},{"$f":"IF($R27=\"\",\"\",$R27-$Q27)","v":8.0888888888888886}]
[22,{"$f":"国語得点!BJ25","v":5},{"$f":"国語得点!BK25","v":"二"},{"$f":"国語得点!BL25","v":"書くこと"},null,null,null,null,{"$f":"IF(国語!$Z$9=国語!$BF$35,\"○\",\"\")","v":""},{"$f":"IF(国語!$Z$9=国語!$BF$36,\"○\",\"\")","v":"○"},{"$f":"IF(国語!$Z$9=国語!$BF$37,\"○\",\"\")","v":""},{"$f":"IF(国語!$Z$9=国語!$BF38,\"○\",\"\")","v":""},{"$f":"IF(国語!$Z$9=国語!$BF$39,\"○\",\"\")","v":""},null,null,null,{"$f":"国語得点!W$60*100","v":7.4000000000000066},{"$f":"国語!Z$66*100","v":6.666666666666667},{"$f":"IF($R28=\"\",\"\",$R28-$Q28)","v":-0.73333333333333961}]
[23,{"$f":"国語得点!BJ26","v":5},{"$f":"国語得点!BK26","v":"三　一文目"},{"$f":"国語得点!BL26","v":"書くこと"},null,null,null,null,{"$f":"IF(国語!$AA$9=国語!$BF$35,\"○\",\"\")","v":""},{"$f":"IF(国語!$AA$9=国語!$BF$36,\"○\",\"\")","v":"○"},{"$f":"IF(国語!$AA$9=国語!$BF$37,\"○\",\"\")","v":""},{"$f":"IF(国語!$AA$9=国語!$BF$38,\"○\",\"\")","v":""},{"$f":"IF(国語!$AA$9=国語!$BF$39,\"○\",\"\")","v":""},null,null,null,{"$f":"国語得点!X$60*100","v":8.6000000000000085},{"$f":"国語!AA$66*100","v":4.4444444444444446},{"$f":"IF($R29=\"\",\"\",$R29-$Q29)","v":-4.1555555555555639}]
[24,{"$f":"国語得点!BJ27","v":5},{"$f":"国語得点!BK27","v":"三　二文目"},{"$f":"国語得点!BL27","v":"書くこと"},null,null,null,null,{"$f":"IF(国語!$AB$9=国語!$BF$35,\"○\",\"\")","v":""},{"$f":"IF(国語!$AB$9=国語!$BF$36,\"○\",\"\")","v":"○"},{"$f":"IF(国語!$AB$9=国語!$BF$37,\"○\",\"\")","v":""},{"$f":"IF(国語!$AB$9=国語!$BF$38,\"○\",\"\")","v":""},{"$f":"IF(国語!$AB$9=国語!$BF$39,\"○\",\"\")","v":""},null,null,null,{"$f":"国語得点!Y$60*100","v":11.299999999999999},{"$f":"国語!AB$66*100","v":2.2222222222222223},{"$f":"IF($R30=\"\",\"\",$R30-$Q30)","v":-9.0777777777777757}]
[25,{"$f":"国語得点!BJ28","v":5},{"$f":"国語得点!BK28","v":"四"},{"$f":"国語得点!BL28","v":"書くこと"},null,null,null,null,{"$f":"IF(国語!$AC$9=国語!$BF$35,\"○\",\"\")","v":""},{"$f":"IF(国語!$AC$9=国語!$BF$36,\"○\",\"\")","v":"○"},{"$f":"IF(国語!$AC$9=国語!$BF$37,\"○\",\"\")","v":""},{"$f":"IF(国語!$AC$9=国語!$BF$38,\"○\",\"\")","v":""},{"$f":"IF(国語!$AC$9=国語!$BF$39,\"○\",\"\")","v":""},null,null,null,{"$f":"国語得点!Z$60*100","v":1.7000000000000126},{"$f":"国語!AC$66*100","v":0},{"$f":"IF($R31=\"\",\"\",$R31-$Q31)","v":-1.7000000000000126}]
[26,{"$f":"国語得点!BJ29","v":0},{"$f":"国語得点!BK29","v":0},{"$f":"国語得点!BL29","v":0},null,null,null,null,{"$f":"IF(国語!$AD$9=国語!$BF$35,\"○\",\"\")","v":""},{"$f":"IF(国語!$AD$9=国語!$BF$36,\"○\",\"\")","v":""},{"$f":"IF(国語!$AD$9=国語!$BF$37,\"○\",\"\")","v":""},{"$f":"IF(国語!$AD$9=国語!$BF$38,\"○\",\"\")","v":""},{"$f":"IF(国語!$AD$9=国語!$BF$39,\"○\",\"\")","v":""},null,null,null,{"$f":"国語得点!AA$60*100","v":0},{"$f":"国語!AD$66*100","v":{"$error":"#DIV/0!"}},{"$f":"IF($R32=\"\",\"\",$R32-$Q32)","v":{"$error":"#DIV/0!"}}]
[27,{"$f":"国語得点!BJ30","v":0},{"$f":"国語得点!BK30","v":0},{"$f":"国語得点!BL30","v":0},null,null,null,null,{"$f":"IF(国語!$AE$9=国語!$BF$35,\"○\",\"\")","v":""},{"$f":"IF(国語!$AE$9=国語!$BF$36,\"○\",\"\")","v":""},{"$f":"IF(国語!$AE$9=国語!$BF$37,\"○\",\"\")","v":""},{"$f":"IF(国語!$AE$9=国語!$BF$38,\"○\",\"\")","v":""},{"$f":"IF(国語!$AE$9=国語!$BF$39,\"○\",\"\")","v":""},null,null,null,{"$f":"国語得点!AB$60*100","v":0},{"$f":"国語!AE$66*100","v":{"$error":"#DIV/0!"}},{"$error":"#DIV/0!"}]
[28,{"$f":"国語得点!BJ31","v":0},{"$f":"国語得点!BK31","v":0},{"$f":"国語得点!BL31","v":0},null,null,null,null,{"$f":"IF(国語!$AF$9=国語!$BF$35,\"○\",\"\")","v":""},{"$f":"IF(国語!$AF$9=国語!$BF$36,\"○\",\"\")","v":""},{"$f":"IF(国語!$AF$9=国語!$BF$37,\"○\",\"\")","v":""},{"$f":"IF(国語!$AF$9=国語!$BF$38,\"○\",\"\")","v":""},{"$f":"IF(国語!$AF$9=国語!$BF$39,\"○\",\"\")","v":""},null,null,null,{"$f":"国語得点!AC$60*100","v":0},{"$f":"国語!AF$66*100","v":{"$error":"#DIV/0!"}},{"$error":"#DIV/0!"}]
[29,{"$f":"国語得点!BJ32","v":0},{"$f":"国語得点!BK32","v":0},{"$f":"国語得点!BL32","v":0},null,null,null,null,{"$f":"IF(国語!$AG$9=国語!$BF$35,\"○\",\"\")","v":""},{"$f":"IF(国語!$AG$9=国語!$BF$36,\"○\",\"\")","v":""},{"$f":"IF(国語!$AG$9=国語!$BF$37,\"○\",\"\")","v":""},{"$f":"IF(国語!$AG$9=国語!$BF$38,\"○\",\"\")","v":""},{"$f":"IF(国語!$AG$9=国語!$BF$39,\"○\",\"\")","v":""},null,null,null,{"$f":"国語得点!AD$60*100","v":0},{"$f":"国語!AG$66*100","v":{"$error":"#DIV/0!"}},{"$error":"#DIV/0!"}]
[30,{"$f":"国語得点!BJ33","v":0},{"$f":"国語得点!BK33","v":0},{"$f":"国語得点!BL33","v":0},null,null,null,null,{"$f":"IF(国語!$AH$9=国語!$BF$35,\"○\",\"\")","v":""},{"$f":"IF(国語!$AH$9=国語!$BF$36,\"○\",\"\")","v":""},{"$f":"IF(国語!$AH$9=国語!$BF$37,\"○\",\"\")","v":""},{"$f":"IF(国語!$AH$9=国語!$BF$38,\"○\",\"\")","v":""},{"$f":"IF(国語!$AH$9=国語!$BF$39,\"○\",\"\")","v":""},null,null,null,{"$f":"国語得点!AE$60*100","v":0},{"$f":"国語!AH$66*100","v":{"$error":"#DIV/0!"}},{"$error":"#DIV/0!"}]
[31,{"$f":"国語得点!BJ34","v":0},{"$f":"国語得点!BK34","v":0},{"$f":"国語得点!BL34","v":0},null,null,null,null,{"$f":"IF(国語!$AI$9=国語!$BF$35,\"○\",\"\")","v":""},{"$f":"IF(国語!$AI$9=国語!$BF$36,\"○\",\"\")","v":""},{"$f":"IF(国語!$AI$9=国語!$BF$37,\"○\",\"\")","v":""},{"$f":"IF(国語!$AI$9=国語!$BF$38,\"○\",\"\")","v":""},{"$f":"IF(国語!$AI$9=国語!$BF$39,\"○\",\"\")","v":""},null,null,null,{"$f":"国語得点!AF$60*100","v":0},{"$f":"国語!AI$66*100","v":{"$error":"#DIV/0!"}},{"$error":"#DIV/0!"}]
[32,{"$f":"国語得点!BJ35","v":0},{"$f":"国語得点!BK35","v":0},{"$f":"国語得点!BL35","v":0},null,null,null,null,{"$f":"IF(国語!$AJ$9=国語!$BF$35,\"○\",\"\")","v":""},{"$f":"IF(国語!$AJ$9=国語!$BF$36,\"○\",\"\")","v":""},{"$f":"IF(国語!$AJ$9=国語!$BF$37,\"○\",\"\")","v":""},{"$f":"IF(国語!$AJ$9=国語!$BF$38,\"○\",\"\")","v":""},{"$f":"IF(国語!$AJ$9=国語!$BF$39,\"○\",\"\")","v":""},null,null,null,{"$f":"国語得点!AG$60*100","v":0},{"$f":"国語!AJ$66*100","v":{"$error":"#DIV/0!"}},{"$error":"#DIV/0!"}]
[33,{"$f":"国語得点!BJ36","v":0},{"$f":"国語得点!BK36","v":0},{"$f":"国語得点!BL36","v":0},null,null,null,null,{"$f":"IF(国語!$AK$9=国語!$BF$35,\"○\",\"\")","v":""},{"$f":"IF(国語!$AK$9=国語!$BF$36,\"○\",\"\")","v":""},{"$f":"IF(国語!$AK$9=国語!$BF$37,\"○\",\"\")","v":""},{"$f":"IF(国語!$AK$9=国語!$BF$38,\"○\",\"\")","v":""},{"$f":"IF(国語!$AK$9=国語!$BF$39,\"○\",\"\")","v":""},null,null,null,{"$f":"国語得点!AH$60*100","v":0},{"$f":"国語!AK$66*100","v":{"$error":"#DIV/0!"}},{"$error":"#DIV/0!"}]
[34,{"$f":"国語得点!BJ37","v":0},{"$f":"国語得点!BK37","v":0},{"$f":"国語得点!BL37","v":0},null,null,null,null,{"$f":"IF(国語!$AL$9=国語!$BF$35,\"○\",\"\")","v":""},{"$f":"IF(国語!$AL$9=国語!$BF$36,\"○\",\"\")","v":""},{"$f":"IF(国語!$AL$9=国語!$BF$37,\"○\",\"\")","v":""},{"$f":"IF(国語!$AL$9=国語!$BF$38,\"○\",\"\")","v":""},{"$f":"IF(国語!$AL$9=国語!$BF$39,\"○\",\"\")","v":""},null,null,null,{"$f":"国語得点!AI$60*100","v":0},{"$f":"国語!AL$66*100","v":{"$error":"#DIV/0!"}},{"$error":"#DIV/0!"}]
[35,{"$f":"国語得点!BJ38","v":0},{"$f":"国語得点!BK38","v":0},{"$f":"国語得点!BL38","v":0},null,null,null,null,{"$f":"IF(国語!$AM$9=国語!$BF$35,\"○\",\"\")","v":""},{"$f":"IF(国語!$AM$9=国語!$BF$36,\"○\",\"\")","v":""},{"$f":"IF(国語!$AM$9=国語!$BF$37,\"○\",\"\")","v":""},{"$f":"IF(国語!$AM$9=国語!$BF$38,\"○\",\"\")","v":""},{"$f":"IF(国語!$AM$9=国語!$BF$39,\"○\",\"\")","v":""},null,null,null,{"$f":"国語得点!AJ$60*100","v":0},{"$f":"国語!AM$66*100","v":{"$error":"#DIV/0!"}},{"$error":"#DIV/0!"}]
[36,{"$f":"国語得点!BJ39","v":0},{"$f":"国語得点!BK39","v":0},{"$f":"国語得点!BL39","v":0},null,null,null,null,{"$f":"IF(国語!$AN$9=国語!$BF$35,\"○\",\"\")","v":""},{"$f":"IF(国語!$AN$9=国語!$BF$36,\"○\",\"\")","v":""},{"$f":"IF(国語!$AN$9=国語!$BF$37,\"○\",\"\")","v":""},{"$f":"IF(国語!$AN$9=国語!$BF$38,\"○\",\"\")","v":""},{"$f":"IF(国語!$AN$9=国語!$BF$39,\"○\",\"\")","v":""},null,null,null,{"$f":"国語得点!AK$60*100","v":0},{"$f":"国語!AN$66*100","v":{"$error":"#DIV/0!"}},{"$f":"IF($R42=\"\",\"\",$R42-$Q42)","v":{"$error":"#DIV/0!"}}]
[37,{"$f":"国語得点!BJ40","v":0},{"$f":"国語得点!BK40","v":0},{"$f":"国語得点!BL40","v":0},null,null,null,null,{"$f":"IF(国語!$AO$9=国語!$BF$35,\"○\",\"\")","v":""},{"$f":"IF(国語!$AO$9=国語!$BF$36,\"○\",\"\")","v":""},{"$f":"IF(国語!$AO$9=国語!$BF$37,\"○\",\"\")","v":""},{"$f":"IF(国語!$AO$9=国語!$BF$38,\"○\",\"\")","v":""},{"$f":"IF(国語!$AO$9=国語!$BF$39,\"○\",\"\")","v":""},null,null,null,{"$f":"国語得点!AL$60*100","v":0},{"$f":"国語!AO$66*100","v":{"$error":"#DIV/0!"}},{"$error":"#DIV/0!"}]
[38,{"$f":"国語得点!BJ41","v":0},{"$f":"国語得点!BK41","v":0},{"$f":"国語得点!BL41","v":0},null,null,null,null,{"$f":"IF(国語!$AP$9=国語!$BF$35,\"○\",\"\")","v":""},{"$f":"IF(国語!$AP$9=国語!$BF$36,\"○\",\"\")","v":""},{"$f":"IF(国語!$AP$9=国語!$BF$37,\"○\",\"\")","v":""},{"$f":"IF(国語!$AP$9=国語!$BF$38,\"○\",\"\")","v":""},{"$f":"IF(国語!$AP$9=国語!$BF$39,\"○\",\"\")","v":""},null,null,null,{"$f":"国語得点!AM$60*100","v":0},{"$f":"国語!AP$66*100","v":{"$error":"#DIV/0!"}},{"$error":"#DIV/0!"}]
[39,{"$f":"国語得点!BJ42","v":0},{"$f":"国語得点!BK42","v":0},{"$f":"国語得点!BL42","v":0},null,null,null,null,{"$f":"IF(国語!$AQ$9=国語!$BF$35,\"○\",\"\")","v":""},{"$f":"IF(国語!$AQ$9=国語!$BF$36,\"○\",\"\")","v":""},{"$f":"IF(国語!$AQ$9=国語!$BF$37,\"○\",\"\")","v":""},{"$f":"IF(国語!$AQ$9=国語!$BF$38,\"○\",\"\")","v":""},{"$f":"IF(国語!$AQ$9=国語!$BF$39,\"○\",\"\")","v":""},null,null,null,{"$f":"国語得点!AN$60*100","v":0},{"$f":"国語!AQ$66*100","v":{"$error":"#DIV/0!"}},{"$error":"#DIV/0!"}]
[40,{"$f":"国語得点!BJ43","v":0},{"$f":"国語得点!BK43","v":0},{"$f":"国語得点!BL43","v":0},null,null,null,null,{"$f":"IF(国語!$AR$9=国語!$BF$35,\"○\",\"\")","v":""},{"$f":"IF(国語!$AR$9=国語!$BF$36,\"○\",\"\")","v":""},{"$f":"IF(国語!$AR$9=国語!$BF$37,\"○\",\"\")","v":""},{"$f":"IF(国語!$AR$9=国語!$BF$38,\"○\",\"\")","v":""},{"$f":"IF(国語!$AR$9=国語!$BF$39,\"○\",\"\")","v":""},null,null,null,{"$f":"国語得点!AO$60*100","v":0},{"$f":"国語!AR$66*100","v":{"$error":"#DIV/0!"}},{"$error":"#DIV/0!"}]
[41,{"$f":"国語得点!BJ44","v":0},{"$f":"国語得点!BK44","v":0},{"$f":"国語得点!BL44","v":0},null,null,null,null,{"$f":"IF(国語!$AS$9=国語!$BF$35,\"○\",\"\")","v":""},{"$f":"IF(国語!$AS$9=国語!$BF$36,\"○\",\"\")","v":""},{"$f":"IF(国語!$AS$9=国語!$BF$37,\"○\",\"\")","v":""},{"$f":"IF(国語!$AS$9=国語!$BF$38,\"○\",\"\")","v":""},{"$f":"IF(国語!$AS$9=国語!$BF$39,\"○\",\"\")","v":""},null,null,null,{"$f":"国語得点!AP$60*100","v":0},{"$f":"国語!AS$66*100","v":{"$error":"#DIV/0!"}},{"$error":"#DIV/0!"}]
[42,{"$f":"国語得点!BJ45","v":0},{"$f":"国語得点!BK45","v":0},{"$f":"国語得点!BL45","v":0},null,null,null,null,{"$f":"IF(国語!$AT$9=国語!$BF$35,\"○\",\"\")","v":""},{"$f":"IF(国語!$AT$9=国語!$BF$36,\"○\",\"\")","v":""},{"$f":"IF(国語!$AT$9=国語!$BF$37,\"○\",\"\")","v":""},{"$f":"IF(国語!$AT$9=国語!$BF$38,\"○\",\"\")","v":""},{"$f":"IF(国語!$AT$9=国語!$BF$39,\"○\",\"\")","v":""},null,null,null,{"$f":"国語得点!AQ$60*100","v":0},{"$f":"国語!AT$66*100","v":{"$error":"#DIV/0!"}},{"$error":"#DIV/0!"}]
[43,{"$f":"国語得点!BJ46","v":0},{"$f":"国語得点!BK46","v":0},{"$f":"国語得点!BL46","v":0},null,null,null,null,{"$f":"IF(国語!$AU$9=国語!$BF$35,\"○\",\"\")","v":""},{"$f":"IF(国語!$AU$9=国語!$BF$36,\"○\",\"\")","v":""},{"$f":"IF(国語!$AU$9=国語!$BF$37,\"○\",\"\")","v":""},{"$f":"IF(国語!$AU$9=国語!$BF$38,\"○\",\"\")","v":""},{"$f":"IF(国語!$AU$9=国語!$BF$39,\"○\",\"\")","v":""},null,null,null,{"$f":"国語得点!AR$60*100","v":0},{"$f":"国語!AU$66*100","v":{"$error":"#DIV/0!"}},{"$error":"#DIV/0!"}]
[44,{"$f":"国語得点!BJ47","v":0},{"$f":"国語得点!BK47","v":0},{"$f":"国語得点!BL47","v":0},null,null,null,null,{"$f":"IF(国語!$AV$9=国語!$BF$35,\"○\",\"\")","v":""},{"$f":"IF(国語!$AV$9=国語!$BF$36,\"○\",\"\")","v":""},{"$f":"IF(国語!$AV$9=国語!$BF$37,\"○\",\"\")","v":""},{"$f":"IF(国語!$AV$9=国語!$BF$38,\"○\",\"\")","v":""},{"$f":"IF(国語!$AV$9=国語!$BF$39,\"○\",\"\")","v":""},null,null,null,{"$f":"国語得点!AS$60*100","v":0},{"$f":"国語!AV$66*100","v":{"$error":"#DIV/0!"}},{"$error":"#DIV/0!"}]
[45,{"$f":"国語得点!BJ48","v":0},{"$f":"国語得点!BK48","v":0},{"$f":"国語得点!BL48","v":0},null,null,null,null,{"$f":"IF(国語!$AW$9=国語!$BF$35,\"○\",\"\")","v":""},{"$f":"IF(国語!$AW$9=国語!$BF$36,\"○\",\"\")","v":""},{"$f":"IF(国語!$AW$9=国語!$BF$37,\"○\",\"\")","v":""},{"$f":"IF(国語!$AW$9=国語!$BF$38,\"○\",\"\")","v":""},{"$f":"IF(国語!$AW$9=国語!$BF$39,\"○\",\"\")","v":""},null,null,null,{"$f":"国語得点!AT$60*100","v":0},{"$f":"国語!AW$66*100","v":{"$error":"#DIV/0!"}},{"$error":"#DIV/0!"}]
[46,{"$f":"国語得点!BJ49","v":0},{"$f":"国語得点!BK49","v":0},{"$f":"国語得点!BL49","v":0},null,null,null,null,{"$f":"IF(国語!$AX$9=国語!$BF$35,\"○\",\"\")","v":""},{"$f":"IF(国語!$AX$9=国語!$BF$36,\"○\",\"\")","v":""},{"$f":"IF(国語!$AX$9=国語!$BF$37,\"○\",\"\")","v":""},{"$f":"IF(国語!$AX$9=国語!$BF$38,\"○\",\"\")","v":""},{"$f":"IF(国語!$AX$9=国語!$BF$39,\"○\",\"\")","v":""},null,null,null,{"$f":"国語得点!AU$60*100","v":0},{"$f":"国語!AX$66*100","v":{"$error":"#DIV/0!"}},{"$error":"#DIV/0!"}]
[47,{"$f":"国語得点!BJ50","v":0},{"$f":"国語得点!BK50","v":0},{"$f":"国語得点!BL50","v":0},null,null,null,null,{"$f":"IF(国語!$AY$9=国語!$BF$35,\"○\",\"\")","v":""},{"$f":"IF(国語!$AY$9=国語!$BF$36,\"○\",\"\")","v":""},{"$f":"IF(国語!$AY$9=国語!$BF$37,\"○\",\"\")","v":""},{"$f":"IF(国語!$AY$9=国語!$BF$38,\"○\",\"\")","v":""},{"$f":"IF(国語!$AY$9=国語!$BF$39,\"○\",\"\")","v":""},null,null,null,{"$f":"国語得点!AV$60*100","v":0},{"$f":"国語!AY$66*100","v":{"$error":"#DIV/0!"}},{"$error":"#DIV/0!"}]
[48,{"$f":"国語得点!BJ51","v":0},{"$f":"国語得点!BK51","v":0},{"$f":"国語得点!BL51","v":0},null,null,null,null,{"$f":"IF(国語!$AZ$9=国語!$BF$35,\"○\",\"\")","v":""},{"$f":"IF(国語!$AZ$9=国語!$BF$36,\"○\",\"\")","v":""},{"$f":"IF(国語!$AZ$9=国語!$BF$37,\"○\",\"\")","v":""},{"$f":"IF(国語!$AZ$9=国語!$BF$38,\"○\",\"\")","v":""},{"$f":"IF(国語!$AZ$9=国語!$BF$39,\"○\",\"\")","v":""},null,null,null,{"$f":"国語得点!AW$60*100","v":0},{"$f":"国語!AZ$66*100","v":{"$error":"#DIV/0!"}},{"$error":"#DIV/0!"}]
[49,{"$f":"国語得点!BJ52","v":0},{"$f":"国語得点!BK52","v":0},{"$f":"国語得点!BL52","v":0},null,null,null,null,{"$f":"IF(国語!$BA$9=国語!$BF$35,\"○\",\"\")","v":""},{"$f":"IF(国語!$BA$9=国語!$BF$36,\"○\",\"\")","v":""},{"$f":"IF(国語!$BA$9=国語!$BF$37,\"○\",\"\")","v":""},{"$f":"IF(国語!$BA$9=国語!$BF$38,\"○\",\"\")","v":""},{"$f":"IF(国語!$BA$9=国語!$BF$39,\"○\",\"\")","v":""},null,null,null,{"$f":"国語得点!AX$60*100","v":0},{"$f":"国語!BA$66*100","v":{"$error":"#DIV/0!"}},{"$error":"#DIV/0!"}]
[50,{"$f":"国語得点!BJ53","v":0},{"$f":"国語得点!BK53","v":0},{"$f":"国語得点!BL53","v":0},null,null,null,null,{"$f":"IF(国語!$BB$9=国語!$BF$35,\"○\",\"\")","v":""},{"$f":"IF(国語!$BB$9=国語!$BF$36,\"○\",\"\")","v":""},{"$f":"IF(国語!$BB$9=国語!$BF$37,\"○\",\"\")","v":""},{"$f":"IF(国語!$BB$9=国語!$BF$38,\"○\",\"\")","v":""},{"$f":"IF(国語!$BB$9=国語!$BF$39,\"○\",\"\")","v":""},null,null,null,{"$f":"国語得点!AY$60*100","v":0},{"$f":"国語!BB$66*100","v":{"$error":"#DIV/0!"}},{"$error":"#DIV/0!"}]
["平均"]

{"sheet":"⑦国語の平均点⑧国語の得点別分布","index":6,"n_rows":25,"n_cols":4,"rows_kept":25,"cut":false,"hidden":false,"merged":[[5,1,5,3]]}
["⑦国語の平均点⑧国語の得点別分布"]
[]
[]
[]
["◆国語"]
[null,"　　　　平均点"]
[null,"富山県（ア）","自校(イ)","県との差（イーア）"]
["国語",{"$f":"国語!BJ23","v":70.599999999999994},{"$f":"国語!BG23","v":48.355555555555554},{"$f":"C8-B8","v":-22.24444444444444}]
[]
[]
[]
["◆国語"]
["得点分布","富山県％（ア）","自校％(イ)"," 県との差(イーア)"]
["0点",{"$f":"国語!BJ20","v":0},{"$f":"国語!BH20*100","v":2.2222222222222223},{"$f":"IF($C14=\"\",\"\",$C14-$B14)","v":2.2222222222222223}]
["１～９点",{"$f":"国語!BJ19","v":0.3},{"$f":"国語!BH19*100","v":6.666666666666667},{"$f":"IF($C15=\"\",\"\",$C15-$B15)","v":6.3666666666666671}]
["１０～１９点",{"$f":"国語!BJ18","v":0.5},{"$f":"国語!BH18*100","v":8.8888888888888893},8.3888888888888893]
["２０～２９点",{"$f":"国語!BJ17","v":1.8},{"$f":"国語!BH17*100","v":13.333333333333334},11.533333333333333]
["３０～３９点",{"$f":"国語!BJ16","v":2.2000000000000002},{"$f":"国語!BH16*100","v":8.8888888888888893},6.6888888888888891]
["４０～４９点",{"$f":"国語!BJ15","v":7},{"$f":"国語!BH15*100","v":13.333333333333334},6.3333333333333339]
["５０～５９点",{"$f":"国語!BJ14","v":8.1999999999999993},{"$f":"国語!BH14*100","v":8.8888888888888893},0.68888888888888999]
["６０～６９点",{"$f":"国語!BJ13","v":23.5},{"$f":"国語!BH13*100","v":13.333333333333334},-10.166666666666666]
["７０～７９点",{"$f":"国語!BJ12","v":19.7},{"$f":"国語!BH12*100","v":2.2222222222222223},-17.477777777777778]
["８０～８９点",{"$f":"国語!BJ11","v":26.9},{"$f":"国語!BH11*100","v":15.555555555555555},-11.344444444444443]
["９０～９９点",{"$f":"国語!BJ10","v":8.8000000000000007},{"$f":"国語!BH10*100","v":4.4444444444444446},-4.3555555555555561]
["100点",{"$f":"国語!BJ9","v":1.2},{"$f":"国語!BH9*100","v":2.2222222222222223},1.0222222222222224]

{"sheet":"国語","index":7,"n_rows":76,"n_cols":62,"rows_kept":76,"cut":false,"hidden":false,"merged":[[6,61,7,61],[21,60,22,60],[8,55,9,55],[10,0,10,1],[14,0,14,1],[11,0,11,1],[12,0,12,1],[13,0,13,1],[8,0,9,1],[8,54,9,54],[15,0,15,1],[16,0,16,1],[17,0,17,1],[18,0,18,1],[22,0,22,1],[19,0,19,1],[0,49,0,53],[3,0,7,1],[3,2,3,3],[4,2,5,3],[6,2,6,3],[7,2,7,3],[0,11,0,17],[0,22,0,26],[0,27,0,31],[0,33,0,37],[0,38,0,42],[0,44,0,48],[20,0,20,1],[21,0,21,1],[23,0,23,1],[24,0,24,1],[25,0,25,1],[26,0,26,1],[27,0,27,1],[28,0,28,1],[29,0,29,1],[42,0,42,1],[31,0,31,1],[32,0,32,1],[33,0,33,1],[34,0,34,1],[35,0,35,1],[36,0,36,1],[37,0,37,1],[38,0,38,1],[39,0,39,1],[40,0,40,1],[41,0,41,1],[30,0,30,1],[75,5,75,7],[75,10,75,12],[75,15,75,17],[75,20,75,22],[72,5,72,7],[72,10,72,12],[72,15,72,17],[72,20,72,22],[54,0,54,1],[43,0,43,1],[44,0,44,1],[45,0,45,1],[46,0,46,1],[47,0,47,1],[48,0,48,1],[75,25,75,27],[73,5,73,7],[73,10,73,12],[73,15,73,17],[73,20,73,22],[73,25,73,27],[72,25,72,27],[70,5,70,7],[70,10,70,12],[70,15,70,17],[70,20,70,22],[70,25,70,27],[71,5,71,7],[71,10,71,12],[71,15,71,17],[71,20,71,22],[71,25,71,27],[49,0,49,1],[50,0,50,1],[51,0,51,1],[52,0,52,1],[53,0,53,1],[69,5,69,7],[69,10,69,12],[69,15,69,17],[69,20,69,22],[69,25,69,27]]}
["６年国語（正誤）",null,null,null,null,null,null,null,"クラス名",null,null,null,null,null,null,null,null,null,null,null,null,null,"受検者数",null,null,null,null,{"$f":"BG30","v":45},null,null,null,null,null,"配点合計",null,null,null,null,{"$f":"SUM(E10:BB10)","v":100},null,null,null,null,null,"問題数",null,null,null,null,{"$f":"COUNT(E10:BB10)","v":25}]
["※『男女』の欄には、男子「0」及び女子「1」を入力してください。"]
["※正答を「1」、誤答を「2」、無答を「3」で入力してください。"]
[null,null,"問題№",null,1,1,1,1,1,1,"1","1",2,2,"3","3",4,4,4,4,4,4,"4","4",5,5,5,5,5]
[null,null,"小問№",null,"一","一","一","一","二","二","二","二","一","二","一","二","一","二","二","三","三","四","五","五","一","二","三","三","四"]
[null,null,null,null,"⑴","⑵","⑶","⑷","⑴","⑵","⑶","⑷",null,null,null,null,null,"Ａ","Ｂ","①","②",null,"①","②",null,null,"一文目","二文目"]
[null,null,"◎…活用する力をみる問題\n★…経年比較問題\n※…複数学年共通問題",null,null,null,"★",null,null,"※",null,null,"★",null,null,null,null,null,null,null,null,null,null,null,"◎",null,"◎","◎","◎",null,null,null,null,null,null,null,null,null,null,null,null,null,null,null,null,null,null,null,null,null,null,null,null,null,null,null,null,null,null,null,null,"富山県の\n分布率％"]
[null,null,"通し番号",null,1,2,3,4,5,6,7,8,9,10,11,12,13,14,15,16,17,18,19,20,21,22,23,24,25,26,27,28,29,30,31,32,33,34,35,36,37,38,39,40,41,42,43,44,45,46,47,48,49,50,null,null,null,"得点分布","分布人数","分布率"]
["№",null,"男　  名","観点","知・技","知・技","知・技","知・技","知・技","知・技","知・技","知・技","知・技","知・技","知・技","知・技","思判表","思判表","思判表","思判表","思判表","思判表","思判表","思判表","思判表","思判表","思判表","思判表","思判表",null,null,null,null,null,null,null,null,null,null,null,null,null,null,null,null,null,null,null,null,null,null,null,null,null,"計算結果","正答数",null,100,{"$f":"COUNTIF(BC11:BC55,100)","v":1},{"$f":"BG9/BG$21","v":2.2222222222222223E-2},null,1.2]
[null,null,"女　  前","配点",4,4,4,4,4,4,4,4,4,4,4,4,4,4,4,4,4,4,4,4,4,4,4,4,4,null,null,null,null,null,null,null,null,null,null,null,null,null,null,null,null,null,null,null,null,null,null,null,null,null,null,null,null,"90～99",{"$f":"COUNTIF(BC11:BC55,99)+COUNTIF(BC11:BC55,98)+COUNTIF(BC11:BC55,97)+COUNTIF(BC11:BC55,96)+COUNTIF(BC11:BC55,95)+COUNTIF(BC11:BC55,94)+COUNTIF(BC11:BC55,93)+COUNTIF(BC11:BC55,92)+COUNTIF(BC11:BC55,91)+COUNTIF(BC11:BC55,90)","v":2},{"$f":"BG10/BG$21","v":4.4444444444444446E-2},null,8.8000000000000007]
[1,null,0,"01あ",1,1,1,1,1,1,1,1,1,1,1,1,1,1,1,1,1,1,1,1,1,1,1,1,1,null,null,null,null,null,null,null,null,null,null,null,null,null,null,null,null,null,null,null,null,null,null,null,null,null,{"$f":"[1]国語得点!AZ4","v":100},{"$f":"COUNTIF(E11:BB11,1)","v":25},null,"80～89",{"$f":"COUNTIF(BC11:BC55,89)+COUNTIF(BC11:BC55,88)+COUNTIF(BC11:BC55,87)+COUNTIF(BC11:BC55,86)+COUNTIF(BC11:BC55,85)+COUNTIF(BC11:BC55,84)+COUNTIF(BC11:BC55,83)+COUNTIF(BC11:BC55,82)+COUNTIF(BC11:BC55,81)+COUNTIF(BC11:BC55,80)","v":7},0.15555555555555556,null,26.9]
[2,null,1,"2あ",2,1,1,1,1,1,1,1,1,1,1,1,1,1,1,1,1,1,1,1,1,1,1,1,1,null,null,null,null,null,null,null,null,null,null,null,null,null,null,null,null,null,null,null,null,null,null,null,null,null,{"$f":"[1]国語得点!AZ5","v":96},{"$f":"COUNTIF(E12:BB12,1)","v":24},null,"70～79",{"$f":"COUNTIF(BC11:BC55,79)+COUNTIF(BC11:BC55,78)+COUNTIF(BC11:BC55,77)+COUNTIF(BC11:BC55,76)+COUNTIF(BC11:BC55,75)+COUNTIF(BC11:BC55,74)+COUNTIF(BC11:BC55,73)+COUNTIF(BC11:BC55,72)+COUNTIF(BC11:BC55,71)+COUNTIF(BC11:BC55,70)","v":1},2.2222222222222223E-2,null,19.7]
[3,null,0,"3あ",3,2,1,1,1,1,1,1,1,1,1,1,1,1,1,1,1,1,1,1,1,1,1,1,1,null,null,null,null,null,null,null,null,null,null,null,null,null,null,null,null,null,null,null,null,null,null,null,null,null,{"$f":"[1]国語得点!AZ6","v":92},23,null,"60～69",{"$f":"COUNTIF(BC11:BC55,69)+COUNTIF(BC11:BC55,68)+COUNTIF(BC11:BC55,67)+COUNTIF(BC11:BC55,66)+COUNTIF(BC11:BC55,65)+COUNTIF(BC11:BC55,64)+COUNTIF(BC11:BC55,63)+COUNTIF(BC11:BC55,62)+COUNTIF(BC11:BC55,61)+COUNTIF(BC11:BC55,60)","v":6},0.13333333333333333,null,23.5]
[4,null,1,"4あ",2,2,2,1,1,1,1,1,1,1,1,1,1,1,1,1,1,1,1,1,1,1,1,1,1,null,null,null,null,null,null,null,null,null,null,null,null,null,null,null,null,null,null,null,null,null,null,null,null,null,{"$f":"[1]国語得点!AZ7","v":88},22,null,"50～59",{"$f":"COUNTIF(BC11:BC55,59)+COUNTIF(BC11:BC55,58)+COUNTIF(BC11:BC55,57)+COUNTIF(BC11:BC55,56)+COUNTIF(BC11:BC55,55)+COUNTIF(BC11:BC55,54)+COUNTIF(BC11:BC55,53)+COUNTIF(BC11:BC55,52)+COUNTIF(BC11:BC55,51)+COUNTIF(BC11:BC55,50)","v":4},8.8888888888888892E-2,null,8.1999999999999993]
[5,null,0,"5あ",3,2,3,2,1,1,1,1,1,1,1,1,1,1,1,1,1,1,1,1,1,1,1,1,1,null,null,null,null,null,null,null,null,null,null,null,null,null,null,null,null,null,null,null,null,null,null,null,null,null,{"$f":"[1]国語得点!AZ8","v":84},21,null,"40～49",{"$f":"COUNTIF(BC11:BC55,49)+COUNTIF(BC11:BC55,48)+COUNTIF(BC11:BC55,47)+COUNTIF(BC11:BC55,46)+COUNTIF(BC11:BC55,45)+COUNTIF(BC11:BC55,44)+COUNTIF(BC11:BC55,43)+COUNTIF(BC11:BC55,42)+COUNTIF(BC11:BC55,41)+COUNTIF(BC11:BC55,40)","v":6},0.13333333333333333,null,7]
[6,null,1,"6あ",2,3,2,3,2,1,1,1,1,1,1,1,1,1,1,1,1,1,1,1,1,1,1,1,1,null,null,null,null,null,null,null,null,null,null,null,null,null,null,null,null,null,null,null,null,null,null,null,null,null,{"$f":"[1]国語得点!AZ9","v":80},20,null,"30～39",{"$f":"COUNTIF(BC11:BC55,39)+COUNTIF(BC11:BC55,38)+COUNTIF(BC11:BC55,37)+COUNTIF(BC11:BC55,36)+COUNTIF(BC11:BC55,35)+COUNTIF(BC11:BC55,34)+COUNTIF(BC11:BC55,33)+COUNTIF(BC11:BC55,32)+COUNTIF(BC11:BC55,31)+COUNTIF(BC11:BC55,30)","v":4},8.8888888888888892E-2,null,2.2000000000000002]
[7,null,0,"7あ",3,2,3,2,3,2,1,1,1,1,1,1,1,1,1,1,1,1,1,1,1,1,1,1,1,null,null,null,null,null,null,null,null,null,null,null,null,null,null,null,null,null,null,null,null,null,null,null,null,null,{"$f":"[1]国語得点!AZ10","v":76},19,null,"20～29",{"$f":"COUNTIF(BC11:BC55,29)+COUNTIF(BC11:BC66,28)+COUNTIF(BC11:BC55,27)+COUNTIF(BC11:BC55,26)+COUNTIF(BC11:BC55,25)+COUNTIF(BC11:BC55,24)+COUNTIF(BC11:BC55,23)+COUNTIF(BC11:BC55,22)+COUNTIF(BC11:BC55,21)+COUNTIF(BC11:BC55,20)","v":6},0.13333333333333333,null,1.8]
[8,null,1,"8あ",2,3,2,3,2,3,2,2,2,1,1,1,1,1,1,1,1,1,1,1,1,1,1,1,1,null,null,null,null,null,null,null,null,null,null,null,null,null,null,null,null,null,null,null,null,null,null,null,null,null,{"$f":"[1]国語得点!AZ11","v":64},16,null,"10～19",{"$f":"COUNTIF(BC11:BC55,19)+COUNTIF(BC11:BC55,18)+COUNTIF(BC11:BC55,17)+COUNTIF(BC11:BC55,16)+COUNTIF(BC11:BC55,15)+COUNTIF(BC11:BC55,14)+COUNTIF(BC11:BC55,13)+COUNTIF(BC11:BC55,12)+COUNTIF(BC11:BC55,11)+COUNTIF(BC11:BC55,10)","v":4},8.8888888888888892E-2,null,0.5]
[9,null,0,"9あ",3,2,3,2,3,2,3,2,3,2,1,1,1,1,1,1,1,1,1,1,1,1,1,1,1,null,null,null,null,null,null,null,null,null,null,null,null,null,null,null,null,null,null,null,null,null,null,null,null,null,{"$f":"[1]国語得点!AZ12","v":60},15,null,"1 ～ 9",{"$f":"COUNTIF(BC11:BC55,9)+COUNTIF(BC11:BC55,8)+COUNTIF(BC11:BC55,7)+COUNTIF(BC11:BC55,6)+COUNTIF(BC11:BC55,5)+COUNTIF(BC11:BC55,4)+COUNTIF(BC11:BC55,3)+COUNTIF(BC11:BC55,2)+COUNTIF(BC11:BC55,1)","v":3},6.6666666666666666E-2,null,0.3]
[10,null,1,"10あ",2,3,2,3,2,3,2,3,2,3,2,1,1,1,1,1,1,1,1,1,1,1,1,1,1,null,null,null,null,null,null,null,null,null,null,null,null,null,null,null,null,null,null,null,null,null,null,null,null,null,{"$f":"[1]国語得点!AZ13","v":56},14,null,0,{"$f":"BG30-SUM(BG9:BG19)","v":1},2.2222222222222223E-2,null,0]
[11,null,0,"11あ",3,2,3,2,3,2,3,2,3,2,3,2,1,1,1,1,1,1,1,1,1,1,1,1,1,null,null,null,null,null,null,null,null,null,null,null,null,null,null,null,null,null,null,null,null,null,null,null,null,null,{"$f":"[1]国語得点!AZ14","v":52},13,null,"集計人数計",{"$f":"SUM(BG9:BG20)","v":45}]
[12,null,1,"12あ",2,3,2,3,2,3,2,3,2,3,2,3,2,1,1,1,1,1,1,1,1,1,1,1,1,null,null,null,null,null,null,null,null,null,null,null,null,null,null,null,null,null,null,null,null,null,null,null,null,null,{"$f":"[1]国語得点!AZ15","v":48},12,null,"得点合計",{"$f":"SUM(BC11:BC55)","v":2176},null,"富山県の\n平均点"]
[13,null,0,"13あ",3,2,3,2,3,2,3,2,3,2,3,2,3,2,1,1,1,1,1,1,1,1,1,1,1,null,null,null,null,null,null,null,null,null,null,null,null,null,null,null,null,null,null,null,null,null,null,null,null,null,{"$f":"[1]国語得点!AZ16","v":44},11,null,"平均点",{"$f":"BG22/BG21","v":48.355555555555554},null,null,70.599999999999994]
[14,null,1,"14あ",2,3,2,3,2,3,2,3,2,3,2,3,2,3,2,1,1,1,1,1,1,1,1,1,1,null,null,null,null,null,null,null,null,null,null,null,null,null,null,null,null,null,null,null,null,null,null,null,null,null,{"$f":"[1]国語得点!AZ17","v":40},10]
[15,null,0,"15あ",3,2,3,2,3,2,3,2,3,2,3,2,3,2,3,2,1,1,1,1,1,1,1,1,1,null,null,null,null,null,null,null,null,null,null,null,null,null,null,null,null,null,null,null,null,null,null,null,null,null,{"$f":"[1]国語得点!AZ18","v":36},9]
[16,null,1,"16あ",2,3,2,3,2,3,2,3,2,3,2,3,2,3,2,3,2,1,1,1,1,1,1,1,1,null,null,null,null,null,null,null,null,null,null,null,null,null,null,null,null,null,null,null,null,null,null,null,null,null,{"$f":"[1]国語得点!AZ19","v":32},8]
[17,null,0,"17あ",3,2,3,2,3,2,3,2,3,2,3,2,3,2,3,2,3,2,1,1,1,1,1,1,1,null,null,null,null,null,null,null,null,null,null,null,null,null,null,null,null,null,null,null,null,null,null,null,null,null,{"$f":"[1]国語得点!AZ20","v":28},7,null,"男女別人数"]
[18,null,1,"18あ",2,3,2,3,2,3,2,3,2,3,2,3,2,3,2,3,2,3,2,1,1,1,1,1,1,null,null,null,null,null,null,null,null,null,null,null,null,null,null,null,null,null,null,null,null,null,null,null,null,null,{"$f":"[1]国語得点!AZ21","v":24},6,null,"男　　子",{"$f":"COUNTIF(C11:C55,0)","v":23}]
[19,null,0,"19あ",3,2,3,2,3,2,3,2,3,2,3,2,3,2,3,2,3,2,3,2,1,1,1,1,1,null,null,null,null,null,null,null,null,null,null,null,null,null,null,null,null,null,null,null,null,null,null,null,null,null,{"$f":"[1]国語得点!AZ22","v":20},5,null,"女　　子",{"$f":"COUNTIF(C11:C55,1)","v":22}]
[20,null,1,"20あ",2,3,2,3,2,3,2,3,2,3,2,3,2,3,2,3,2,3,2,3,3,1,1,1,1,null,null,null,null,null,null,null,null,null,null,null,null,null,null,null,null,null,null,null,null,null,null,null,null,null,{"$f":"[1]国語得点!AZ23","v":16},4,null,"計",{"$f":"SUM(BG28:BG29)","v":45}]
[21,null,0,"21あ",3,2,3,2,3,2,3,2,3,2,3,2,3,2,2,2,3,2,3,2,2,3,1,1,1,null,null,null,null,null,null,null,null,null,null,null,null,null,null,null,null,null,null,null,null,null,null,null,null,null,{"$f":"[1]国語得点!AZ24","v":12},3]
[22,null,1,"22あ",2,3,2,3,2,3,2,3,2,3,2,3,2,3,3,3,2,2,2,3,3,2,3,1,1,null,null,null,null,null,null,null,null,null,null,null,null,null,null,null,null,null,null,null,null,null,null,null,null,null,{"$f":"[1]国語得点!AZ25","v":8},2]
[23,null,0,"23あ",3,2,3,2,3,2,3,2,3,2,3,2,3,2,2,2,3,3,3,2,2,3,2,3,2,null,null,null,null,null,null,null,null,null,null,null,null,null,null,null,null,null,null,null,null,null,null,null,null,null,{"$f":"[1]国語得点!AZ26","v":0},0]
[24,null,1,"24あ",2,3,2,3,2,3,2,3,2,3,2,3,2,3,3,3,2,2,2,3,3,2,3,2,1,null,null,null,null,null,null,null,null,null,null,null,null,null,null,null,null,null,null,null,null,null,null,null,null,null,{"$f":"[1]国語得点!AZ27","v":4},1,null,"観点別記号"]
[25,null,0,"25あ",3,2,3,2,3,2,3,2,3,2,3,2,3,2,2,2,3,2,3,2,2,3,2,1,1,null,null,null,null,null,null,null,null,null,null,null,null,null,null,null,null,null,null,null,null,null,null,null,null,null,{"$f":"[1]国語得点!AZ28","v":8},2,null,"知・技","知識・技能"]
[26,null,1,"26あ",2,3,2,3,2,3,2,3,2,3,2,2,2,3,3,3,2,2,2,3,3,2,1,1,1,null,null,null,null,null,null,null,null,null,null,null,null,null,null,null,null,null,null,null,null,null,null,null,null,null,{"$f":"[1]国語得点!AZ29","v":12},3,null,"思判表","思考・判断・表現"]
[27,null,0,"27あ",3,2,3,2,3,2,3,2,3,2,3,3,3,2,2,2,3,3,3,2,2,1,1,1,1,null,null,null,null,null,null,null,null,null,null,null,null,null,null,null,null,null,null,null,null,null,null,null,null,null,{"$f":"[1]国語得点!AZ30","v":16},4,null,"-","-"]
[28,null,1,"28あ",2,3,2,3,2,3,2,3,2,3,2,2,2,3,3,3,2,2,2,3,1,1,1,1,1,null,null,null,null,null,null,null,null,null,null,null,null,null,null,null,null,null,null,null,null,null,null,null,null,null,{"$f":"[1]国語得点!AZ31","v":20},5,null,"-","-"]
[29,null,0,"29あ",3,2,3,2,3,2,3,2,3,2,3,2,3,2,2,2,3,3,3,1,1,1,1,1,1,null,null,null,null,null,null,null,null,null,null,null,null,null,null,null,null,null,null,null,null,null,null,null,null,null,{"$f":"[1]国語得点!AZ32","v":24},6,null,"-","-"]
[30,null,1,"30あ",2,3,2,3,2,3,2,3,2,3,2,2,2,2,3,3,2,3,1,1,1,1,1,1,1,null,null,null,null,null,null,null,null,null,null,null,null,null,null,null,null,null,null,null,null,null,null,null,null,null,{"$f":"[1]国語得点!AZ33","v":28},7]
[31,null,0,"31あ",3,2,3,2,3,2,3,2,3,2,3,3,3,3,2,2,2,1,1,1,1,1,1,1,1,null,null,null,null,null,null,null,null,null,null,null,null,null,null,null,null,null,null,null,null,null,null,null,null,null,{"$f":"[1]国語得点!AZ34","v":32},8,null,"観点数",{"$f":"SUMPRODUCT((BF35:BF39<>\"\")*1)-COUNTIF(BF35:BF39,\"-\")","v":2}]
[32,null,1,"32あ",2,3,2,3,2,3,2,3,2,3,2,2,2,2,3,3,1,1,1,1,1,1,1,1,1,null,null,null,null,null,null,null,null,null,null,null,null,null,null,null,null,null,null,null,null,null,null,null,null,null,{"$f":"[1]国語得点!AZ35","v":36},9]
[33,null,0,"33あ",3,2,3,2,3,2,3,2,3,2,3,3,2,3,2,1,1,1,1,1,1,1,1,1,1,null,null,null,null,null,null,null,null,null,null,null,null,null,null,null,null,null,null,null,null,null,null,null,null,null,{"$f":"[1]国語得点!AZ36","v":40},10]
[34,null,1,"34あ",2,3,2,3,2,3,2,3,2,3,2,2,3,2,1,1,1,1,1,1,1,1,1,1,1,null,null,null,null,null,null,null,null,null,null,null,null,null,null,null,null,null,null,null,null,null,null,null,null,null,{"$f":"[1]国語得点!AZ37","v":44},11]
[35,null,0,"35あ",3,2,3,2,3,2,3,2,3,2,3,3,2,1,1,1,1,1,1,1,1,1,1,1,1,null,null,null,null,null,null,null,null,null,null,null,null,null,null,null,null,null,null,null,null,null,null,null,null,null,{"$f":"[1]国語得点!AZ38","v":48},12]
[36,null,1,"36あ",2,3,2,3,2,3,2,3,2,3,2,2,1,1,1,1,1,1,1,1,1,1,1,1,1,null,null,null,null,null,null,null,null,null,null,null,null,null,null,null,null,null,null,null,null,null,null,null,null,null,{"$f":"[1]国語得点!AZ39","v":52},13]
[37,null,0,"37あ",3,2,3,2,3,2,3,2,3,2,3,1,1,1,1,1,1,1,1,1,1,1,1,1,1,null,null,null,null,null,null,null,null,null,null,null,null,null,null,null,null,null,null,null,null,null,null,null,null,null,{"$f":"[1]国語得点!AZ40","v":56},14]
[38,null,1,"38あ",2,3,2,3,2,3,2,3,2,3,1,1,1,1,1,1,1,1,1,1,1,1,1,1,1,null,null,null,null,null,null,null,null,null,null,null,null,null,null,null,null,null,null,null,null,null,null,null,null,null,{"$f":"[1]国語得点!AZ41","v":60},15]
[39,null,0,"39あ",3,2,3,2,3,2,3,2,3,1,1,1,1,1,1,1,1,1,1,1,1,1,1,1,1,null,null,null,null,null,null,null,null,null,null,null,null,null,null,null,null,null,null,null,null,null,null,null,null,null,{"$f":"[1]国語得点!AZ42","v":64},16]
[40,null,1,"40あ",2,3,2,3,2,3,2,3,1,1,1,1,1,1,1,1,1,1,1,1,1,1,1,1,1,null,null,null,null,null,null,null,null,null,null,null,null,null,null,null,null,null,null,null,null,null,null,null,null,null,{"$f":"[1]国語得点!AZ43","v":68},17]
[41,null,0,"41あ",3,2,3,2,3,2,3,2,1,1,1,1,1,1,1,1,1,1,1,1,1,1,1,1,1,null,null,null,null,null,null,null,null,null,null,null,null,null,null,null,null,null,null,null,null,null,null,null,null,null,{"$f":"[1]国語得点!AZ44","v":68},17]
[42,null,1,"42あ",1,3,2,3,2,3,1,1,1,1,1,1,1,1,1,1,1,1,1,1,1,1,1,1,1,null,null,null,null,null,null,null,null,null,null,null,null,null,null,null,null,null,null,null,null,null,null,null,null,null,{"$f":"[1]国語得点!AZ45","v":80},20]
[43,null,0,"43あ",3,1,3,2,3,1,1,1,1,1,1,1,1,1,1,1,1,1,1,1,1,1,1,1,1,null,null,null,null,null,null,null,null,null,null,null,null,null,null,null,null,null,null,null,null,null,null,null,null,null,{"$f":"[1]国語得点!AZ46","v":84},21]
[44,null,1,"44あ",2,3,1,3,1,1,1,1,1,1,1,1,1,1,1,1,1,1,1,1,1,1,1,1,1,null,null,null,null,null,null,null,null,null,null,null,null,null,null,null,null,null,null,null,null,null,null,null,null,null,{"$f":"[1]国語得点!AZ47","v":88},22]
[45,null,0,"45あ",3,2,3,1,1,1,1,1,1,1,1,1,1,1,1,1,1,1,1,1,1,1,1,1,1,null,null,null,null,null,null,null,null,null,null,null,null,null,null,null,null,null,null,null,null,null,null,null,null,null,{"$f":"[1]国語得点!AZ48","v":88},22]
[]
[null,null,"数",null,1,2,3,4,5,6,7,8,9,10,11,12,13,14,15,16,17,18,19,20,21,22,23,24,25,26,27,28,29,30,31,32,33,34,35,36,37,38,39,40,41,42,43,44,45,46,47,48,49,50]
[null,null,"正答",null,{"$f":"COUNTIF(E11:E55,1)","v":2},{"$f":"COUNTIF(F11:F55,1)","v":3},4,5,7,9,11,11,13,15,17,19,21,23,25,27,29,31,33,35,37,39,41,43,44,0,0,0,0,0,0,0,0,0,0,0,0,0,0,0,0,0,0,0,0,0,0,0,0,0]
[null,null,"誤答",null,{"$f":"COUNTIF(E11:E55,2)","v":21},{"$f":"COUNTIF(F11:F55,2)","v":22},20,20,19,18,17,18,16,15,14,15,13,12,11,9,9,8,6,5,4,3,2,1,1,0,0,0,0,0,0,0,0,0,0,0,0,0,0,0,0,0,0,0,0,0,0,0,0,0]
[null,null,"無答",null,{"$f":"COUNTIF(E11:E55,3)","v":22},{"$f":"COUNTIF(F11:F55,3)","v":20},21,20,19,18,17,16,16,15,14,11,11,10,9,9,7,6,6,5,4,3,2,1,0,0,0,0,0,0,0,0,0,0,0,0,0,0,0,0,0,0,0,0,0,0,0,0,0,0]
[null,null,"合計",null,{"$f":"SUM(E58:E60)","v":45},{"$f":"SUM(F58:F60)","v":45},45,45,45,45,45,45,45,45,45,45,45,45,45,45,45,45,45,45,45,45,45,45,45,0,0,0,0,0,0,0,0,0,0,0,0,0,0,0,0,0,0,0,0,0,0,0,0,0]
[]
[null,null,"割合",null,{"$f":"E57","v":1},2,3,4,5,6,7,8,9,10,11,12,13,14,15,16,17,18,19,20,21,22,23,24,25,26,27,28,29,30,31,32,33,34,35,36,37,38,39,40,41,42,43,44,45,46,47,48,49,50]
[null,null,{"$f":"C58","v":"正答"},null,{"$f":"E58/E61","v":4.4444444444444446E-2},6.6666666666666666E-2,8.8888888888888892E-2,0.1111111111111111,0.15555555555555556,0.2,0.24444444444444444,0.24444444444444444,0.28888888888888886,0.33333333333333331,0.37777777777777777,0.42222222222222222,0.46666666666666667,0.51111111111111107,0.55555555555555558,0.6,0.64444444444444449,0.68888888888888888,0.73333333333333328,0.77777777777777779,0.82222222222222219,0.8666666666666667,0.91111111111111109,0.9555555555555556,0.97777777777777775,{"$error":"#DIV/0!"},{"$error":"#DIV/0!"},{"$error":"#DIV/0!"},{"$error":"#DIV/0!"},{"$error":"#DIV/0!"},{"$error":"#DIV/0!"},{"$error":"#DIV/0!"},{"$error":"#DIV/0!"},{"$error":"#DIV/0!"},{"$error":"#DIV/0!"},{"$error":"#DIV/0!"},{"$error":"#DIV/0!"},{"$f":"AP58/AP61","v":{"$error":"#DIV/0!"}},{"$error":"#DIV/0!"},{"$error":"#DIV/0!"},{"$error":"#DIV/0!"},{"$error":"#DIV/0!"},{"$error":"#DIV/0!"},{"$error":"#DIV/0!"},{"$error":"#DIV/0!"},{"$error":"#DIV/0!"},{"$error":"#DIV/0!"},{"$error":"#DIV/0!"},{"$error":"#DIV/0!"},{"$error":"#DIV/0!"}]
[null,null,{"$f":"C59","v":"誤答"},null,{"$f":"E59/E61","v":0.46666666666666667},0.48888888888888887,0.44444444444444442,0.44444444444444442,0.42222222222222222,0.4,0.37777777777777777,0.4,0.35555555555555557,0.33333333333333331,0.31111111111111112,0.33333333333333331,0.28888888888888886,0.26666666666666666,0.24444444444444444,0.2,0.2,0.17777777777777778,0.13333333333333333,0.1111111111111111,8.8888888888888892E-2,6.6666666666666666E-2,4.4444444444444446E-2,2.2222222222222223E-2,2.2222222222222223E-2,{"$error":"#DIV/0!"},{"$error":"#DIV/0!"},{"$error":"#DIV/0!"},{"$error":"#DIV/0!"},{"$error":"#DIV/0!"},{"$error":"#DIV/0!"},{"$error":"#DIV/0!"},{"$error":"#DIV/0!"},{"$error":"#DIV/0!"},{"$error":"#DIV/0!"},{"$error":"#DIV/0!"},{"$error":"#DIV/0!"},{"$error":"#DIV/0!"},{"$error":"#DIV/0!"},{"$error":"#DIV/0!"},{"$error":"#DIV/0!"},{"$error":"#DIV/0!"},{"$error":"#DIV/0!"},{"$error":"#DIV/0!"},{"$error":"#DIV/0!"},{"$error":"#DIV/0!"},{"$error":"#DIV/0!"},{"$error":"#DIV/0!"},{"$error":"#DIV/0!"},{"$error":"#DIV/0!"}]
[null,null,{"$f":"C60","v":"無答"},null,{"$f":"E60/E61","v":0.48888888888888887},0.44444444444444442,0.46666666666666667,0.44444444444444442,0.42222222222222222,0.4,0.37777777777777777,0.35555555555555557,0.35555555555555557,0.33333333333333331,0.31111111111111112,0.24444444444444444,0.24444444444444444,0.22222222222222221,0.2,0.2,0.15555555555555556,0.13333333333333333,0.13333333333333333,0.1111111111111111,8.8888888888888892E-2,6.6666666666666666E-2,4.4444444444444446E-2,2.2222222222222223E-2,0,{"$error":"#DIV/0!"},{"$error":"#DIV/0!"},{"$error":"#DIV/0!"},{"$error":"#DIV/0!"},{"$error":"#DIV/0!"},{"$error":"#DIV/0!"},{"$error":"#DIV/0!"},{"$error":"#DIV/0!"},{"$error":"#DIV/0!"},{"$error":"#DIV/0!"},{"$error":"#DIV/0!"},{"$error":"#DIV/0!"},{"$error":"#DIV/0!"},{"$error":"#DIV/0!"},{"$error":"#DIV/0!"},{"$error":"#DIV/0!"},{"$error":"#DIV/0!"},{"$error":"#DIV/0!"},{"$error":"#DIV/0!"},{"$error":"#DIV/0!"},{"$error":"#DIV/0!"},{"$error":"#DIV/0!"},{"$error":"#DIV/0!"},{"$error":"#DIV/0!"},{"$error":"#DIV/0!"}]
[null,null,{"$f":"C61","v":"合計"},null,{"$f":"SUM(E64:E66)","v":1},1,1,1,1,1,1,1,1,1,1,1,1,0.99999999999999989,1,1,1,1,0.99999999999999989,1,1,1,0.99999999999999989,1,1,{"$error":"#DIV/0!"},{"$error":"#DIV/0!"},{"$error":"#DIV/0!"},{"$error":"#DIV/0!"},{"$error":"#DIV/0!"},{"$error":"#DIV/0!"},{"$error":"#DIV/0!"},{"$error":"#DIV/0!"},{"$error":"#DIV/0!"},{"$error":"#DIV/0!"},{"$error":"#DIV/0!"},{"$error":"#DIV/0!"},{"$error":"#DIV/0!"},{"$error":"#DIV/0!"},{"$error":"#DIV/0!"},{"$error":"#DIV/0!"},{"$error":"#DIV/0!"},{"$error":"#DIV/0!"},{"$error":"#DIV/0!"},{"$error":"#DIV/0!"},{"$error":"#DIV/0!"},{"$error":"#DIV/0!"},{"$error":"#DIV/0!"},{"$error":"#DIV/0!"},{"$error":"#DIV/0!"}]
[]
[null,null,"観点別集計"]
[null,null,null,null,null,{"$f":"BF35","v":"知・技"},null,null,null,null,{"$f":"BF36","v":"思判表"},null,null,null,null,{"$f":"BF37","v":"-"},null,null,null,null,{"$f":"BF38","v":"-"},null,null,null,null,{"$f":"BF39","v":"-"}]
[null,null,"正答",null,null,{"$f":"[1]国語得点!BB64","v":0.21481481481481479},null,null,null,null,{"$f":"[1]国語得点!BB65","v":0.73162393162393158},null,null,null,null,{"$f":"[1]国語得点!BB66","v":{"$error":"#DIV/0!"}},null,null,null,null,{"$f":"[1]国語得点!BB67","v":{"$error":"#DIV/0!"}},null,null,null,null,{"$f":"[1]国語得点!BB68","v":{"$error":"#DIV/0!"}}]
[null,null,"誤答",null,null,{"$f":"[1]国語得点!BB71","v":0.3981481481481482},null,null,null,null,{"$f":"[1]国語得点!BB72","v":0.14358974358974358},null,null,null,null,{"$f":"[1]国語得点!BB73","v":{"$error":"#DIV/0!"}},null,null,null,null,{"$f":"[1]国語得点!BB74","v":{"$error":"#DIV/0!"}},null,null,null,null,{"$f":"[1]国語得点!BB75","v":{"$error":"#DIV/0!"}}]
[null,null,"無答",null,null,{"$f":"[1]国語得点!BB78","v":0.38703703703703707},null,null,null,null,{"$f":"[1]国語得点!BB79","v":0.12478632478632477},null,null,null,null,{"$f":"[1]国語得点!BB80","v":{"$error":"#DIV/0!"}},null,null,null,null,{"$f":"[1]国語得点!BB81","v":{"$error":"#DIV/0!"}},null,null,null,null,{"$f":"[1]国語得点!BB82","v":{"$error":"#DIV/0!"}}]
[null,null,"合計",null,null,{"$f":"SUM(F71:H73)","v":1},null,null,null,null,{"$f":"SUM(K71:M73)","v":1},null,null,null,null,{"$f":"SUM(P71:R73)","v":{"$error":"#DIV/0!"}},null,null,null,null,{"$f":"SUM(U71:W73)","v":{"$error":"#DIV/0!"}},null,null,null,null,{"$f":"SUM(Z71:AB73)","v":{"$error":"#DIV/0!"}}]
[]
[null,null,"富山県平均正答率％",null,null,{"$f":"[1]国語得点!BB85","v":0.77150000000000007},null,null,null,null,{"$f":"[1]国語得点!BB86","v":0.64469230769230756},null,null,null,null,{"$f":"[1]国語得点!BB87","v":{"$error":"#DIV/0!"}},null,null,null,null,{"$f":"[1]国語得点!AY88","v":0},null,null,null,null,{"$f":"[1]国語得点!AY89","v":0}]

{"sheet":"国語得点","index":8,"n_rows":82,"n_cols":64,"rows_kept":82,"cut":false,"hidden":false,"merged":[[1,62,2,62],[1,63,2,63],[0,6,0,10],[0,11,0,13],[1,54,1,55],[1,57,1,58],[1,60,2,60],[1,61,2,61]]}
["国語（得点）",null,null,null,null,null,"受検者数",null,null,null,null,{"$f":"[1]国語!$AB$1","v":45}]
["№",1,2,3,4,5,6,7,8,9,10,11,12,13,14,15,16,17,18,19,20,21,22,23,24,25,26,27,28,29,30,31,32,33,34,35,36,37,38,39,40,41,42,43,44,45,46,47,48,49,50,"得点",null,null,"正答数別の児童数(人)",null,null,"富山県正答数％",null,null,"通し\n番号","問題\n番号","小問\n番号","問題の領域"]
["観点",{"$f":"[1]国語!E9","v":"知・技"},{"$f":"[1]国語!F9","v":"知・技"},{"$f":"[1]国語!G9","v":"知・技"},{"$f":"[1]国語!H9","v":"知・技"},{"$f":"[1]国語!I9","v":"知・技"},{"$f":"[1]国語!J9","v":"知・技"},{"$f":"[1]国語!K9","v":"知・技"},{"$f":"[1]国語!L9","v":"知・技"},{"$f":"[1]国語!M9","v":"知・技"},{"$f":"[1]国語!N9","v":"知・技"},{"$f":"[1]国語!O9","v":"知・技"},{"$f":"[1]国語!P9","v":"知・技"},{"$f":"[1]国語!Q9","v":"思判表"},{"$f":"[1]国語!R9","v":"思判表"},{"$f":"[1]国語!S9","v":"思判表"},{"$f":"[1]国語!T9","v":"思判表"},{"$f":"[1]国語!U9","v":"思判表"},{"$f":"[1]国語!V9","v":"思判表"},{"$f":"[1]国語!W9","v":"思判表"},{"$f":"[1]国語!X9","v":"思判表"},{"$f":"[1]国語!Y9","v":"思判表"},{"$f":"[1]国語!Z9","v":"思判表"},{"$f":"[1]国語!AA9","v":"思判表"},{"$f":"[1]国語!AB9","v":"思判表"},{"$f":"[1]国語!AC9","v":"思判表"},{"$f":"[1]国語!AD9","v":0},{"$f":"[1]国語!AE9","v":0},{"$f":"[1]国語!AF9","v":0},{"$f":"[1]国語!AG9","v":0},{"$f":"[1]国語!AH9","v":0},{"$f":"[1]国語!AI9","v":0},{"$f":"[1]国語!AJ9","v":0},{"$f":"[1]国語!AK9","v":0},{"$f":"[1]国語!AL9","v":0},{"$f":"[1]国語!AM9","v":0},{"$f":"[1]国語!AN9","v":0},{"$f":"[1]国語!AO9","v":0},{"$f":"[1]国語!AP9","v":0},{"$f":"[1]国語!AQ9","v":0},{"$f":"[1]国語!AR9","v":0},{"$f":"[1]国語!AS9","v":0},{"$f":"[1]国語!AT9","v":0},{"$f":"[1]国語!AU9","v":0},{"$f":"[1]国語!AV9","v":0},{"$f":"[1]国語!AW9","v":0},{"$f":"[1]国語!AX9","v":0},{"$f":"[1]国語!AY9","v":0},{"$f":"[1]国語!AZ9","v":0},{"$f":"[1]国語!BA9","v":0},{"$f":"[1]国語!BB9","v":0},null,null,null,"0問",null,null,"0問"]
[1,{"$f":"COUNTIF([1]国語!E11,1)*[1]国語!$E$10","v":4},{"$f":"COUNTIF([1]国語!F11,1)*[1]国語!$F$10","v":4},{"$f":"COUNTIF([1]国語!G11,1)*[1]国語!$G$10","v":4},{"$f":"COUNTIF([1]国語!H11,1)*[1]国語!$H$10","v":4},{"$f":"COUNTIF([1]国語!I11,1)*[1]国語!$I$10","v":4},{"$f":"COUNTIF([1]国語!J11,1)*[1]国語!$J$10","v":4},{"$f":"COUNTIF([1]国語!K11,1)*[1]国語!$F$10","v":4},{"$f":"COUNTIF([1]国語!L11,1)*[1]国語!$F$10","v":4},{"$f":"COUNTIF([1]国語!M11,1)*[1]国語!$M$10","v":4},{"$f":"COUNTIF([1]国語!N11,1)*[1]国語!$N$10","v":4},{"$f":"COUNTIF([1]国語!O11,1)*[1]国語!$O$10","v":4},{"$f":"COUNTIF([1]国語!P11,1)*[1]国語!$P$10","v":4},{"$f":"COUNTIF([1]国語!Q11,1)*[1]国語!$Q$10","v":4},{"$f":"COUNTIF([1]国語!R11,1)*[1]国語!$R$10","v":4},{"$f":"COUNTIF([1]国語!S11,1)*[1]国語!$S$10","v":4},{"$f":"COUNTIF([1]国語!T11,1)*[1]国語!$T$10","v":4},{"$f":"COUNTIF([1]国語!U11,1)*[1]国語!$U$10","v":4},{"$f":"COUNTIF([1]国語!V11,1)*[1]国語!$V$10","v":4},{"$f":"COUNTIF([1]国語!W11,1)*[1]国語!$W$10","v":4},{"$f":"COUNTIF([1]国語!X11,1)*[1]国語!$X$10","v":4},{"$f":"COUNTIF([1]国語!Y11,1)*[1]国語!$Y$10","v":4},{"$f":"COUNTIF([1]国語!Z11,1)*[1]国語!$Z$10","v":4},{"$f":"COUNTIF([1]国語!AA11,1)*[1]国語!$AA$10","v":4},{"$f":"COUNTIF([1]国語!AB11,1)*[1]国語!$AB$10","v":4},{"$f":"COUNTIF([1]国語!AC11,1)*[1]国語!$AC$10","v":4},{"$f":"COUNTIF([1]国語!AD11,1)*[1]国語!$AD$10","v":0},{"$f":"COUNTIF([1]国語!AE11,1)*[1]国語!$AE$10","v":0},{"$f":"COUNTIF([1]国語!AF11,1)*[1]国語!$AF$10","v":0},{"$f":"COUNTIF([1]国語!AG11,1)*[1]国語!$AG$10","v":0},{"$f":"COUNTIF([1]国語!AH11,1)*[1]国語!$AH$10","v":0},{"$f":"COUNTIF([1]国語!AI11,1)*[1]国語!$AI$10","v":0},{"$f":"COUNTIF([1]国語!AJ11,1)*[1]国語!$AJ$10","v":0},{"$f":"COUNTIF([1]国語!AK11,1)*[1]国語!$AK$10","v":0},{"$f":"COUNTIF([1]国語!AL11,1)*[1]国語!$AL$10","v":0},{"$f":"COUNTIF([1]国語!AM11,1)*[1]国語!$AM$10","v":0},{"$f":"COUNTIF([1]国語!AN11,1)*[1]国語!$AN$10","v":0},{"$f":"COUNTIF([1]国語!AO11,1)*[1]国語!$AO$10","v":0},{"$f":"COUNTIF([1]国語!AP11,1)*[1]国語!$AP$10","v":0},{"$f":"COUNTIF([1]国語!AQ11,1)*[1]国語!$AQ$10","v":0},{"$f":"COUNTIF([1]国語!AR11,1)*[1]国語!$AR$10","v":0},{"$f":"COUNTIF([1]国語!AS11,1)*[1]国語!$AS$10","v":0},{"$f":"COUNTIF([1]国語!AT11,1)*[1]国語!$AT$10","v":0},{"$f":"COUNTIF([1]国語!AU11,1)*[1]国語!$AU$10","v":0},{"$f":"COUNTIF([1]国語!AV11,1)*[1]国語!$AV$10","v":0},{"$f":"COUNTIF([1]国語!AW11,1)*[1]国語!$AW$10","v":0},{"$f":"COUNTIF([1]国語!AX11,1)*[1]国語!$AX$10","v":0},{"$f":"COUNTIF([1]国語!AY11,1)*[1]国語!$AY$10","v":0},{"$f":"COUNTIF([1]国語!AZ11,1)*[1]国語!$AZ$10","v":0},{"$f":"COUNTIF([1]国語!BA11,1)*[1]国語!$BA$10","v":0},{"$f":"COUNTIF([1]国語!BB11,1)*[1]国語!$BB$10","v":0},{"$f":"SUM(B4:AY4)","v":100},null,null,"1問",{"$f":"[1]国語!E58","v":2},null,"1問",95.5,null,1,1,"一（1）","知識及び技能"]
[2,{"$f":"COUNTIF([1]国語!E12,1)*[1]国語!$E$10","v":0},{"$f":"COUNTIF([1]国語!F12,1)*[1]国語!$F$10","v":4},{"$f":"COUNTIF([1]国語!G12,1)*[1]国語!$G$10","v":4},{"$f":"COUNTIF([1]国語!H12,1)*[1]国語!$H$10","v":4},{"$f":"COUNTIF([1]国語!I12,1)*[1]国語!$I$10","v":4},{"$f":"COUNTIF([1]国語!J12,1)*[1]国語!$J$10","v":4},{"$f":"COUNTIF([1]国語!K12,1)*[1]国語!$F$10","v":4},{"$f":"COUNTIF([1]国語!L12,1)*[1]国語!$F$10","v":4},{"$f":"COUNTIF([1]国語!M12,1)*[1]国語!$M$10","v":4},{"$f":"COUNTIF([1]国語!N12,1)*[1]国語!$N$10","v":4},{"$f":"COUNTIF([1]国語!O12,1)*[1]国語!$O$10","v":4},{"$f":"COUNTIF([1]国語!P12,1)*[1]国語!$P$10","v":4},{"$f":"COUNTIF([1]国語!Q12,1)*[1]国語!$Q$10","v":4},{"$f":"COUNTIF([1]国語!R12,1)*[1]国語!$R$10","v":4},{"$f":"COUNTIF([1]国語!S12,1)*[1]国語!$S$10","v":4},{"$f":"COUNTIF([1]国語!T12,1)*[1]国語!$T$10","v":4},{"$f":"COUNTIF([1]国語!U12,1)*[1]国語!$U$10","v":4},{"$f":"COUNTIF([1]国語!V12,1)*[1]国語!$V$10","v":4},{"$f":"COUNTIF([1]国語!W12,1)*[1]国語!$W$10","v":4},{"$f":"COUNTIF([1]国語!X12,1)*[1]国語!$X$10","v":4},{"$f":"COUNTIF([1]国語!Y12,1)*[1]国語!$Y$10","v":4},{"$f":"COUNTIF([1]国語!Z12,1)*[1]国語!$Z$10","v":4},{"$f":"COUNTIF([1]国語!AA12,1)*[1]国語!$AA$10","v":4},{"$f":"COUNTIF([1]国語!AB12,1)*[1]国語!$AB$10","v":4},{"$f":"COUNTIF([1]国語!AC12,1)*[1]国語!$AC$10","v":4},{"$f":"COUNTIF([1]国語!AD12,1)*[1]国語!$AD$10","v":0},{"$f":"COUNTIF([1]国語!AE12,1)*[1]国語!$AE$10","v":0},{"$f":"COUNTIF([1]国語!AF12,1)*[1]国語!$AF$10","v":0},{"$f":"COUNTIF([1]国語!AG12,1)*[1]国語!$AG$10","v":0},{"$f":"COUNTIF([1]国語!AH12,1)*[1]国語!$AH$10","v":0},{"$f":"COUNTIF([1]国語!AI12,1)*[1]国語!$AI$10","v":0},{"$f":"COUNTIF([1]国語!AJ12,1)*[1]国語!$AJ$10","v":0},{"$f":"COUNTIF([1]国語!AK12,1)*[1]国語!$AK$10","v":0},{"$f":"COUNTIF([1]国語!AL12,1)*[1]国語!$AL$10","v":0},{"$f":"COUNTIF([1]国語!AM12,1)*[1]国語!$AM$10","v":0},{"$f":"COUNTIF([1]国語!AN12,1)*[1]国語!$AN$10","v":0},{"$f":"COUNTIF([1]国語!AO12,1)*[1]国語!$AO$10","v":0},{"$f":"COUNTIF([1]国語!AP12,1)*[1]国語!$AP$10","v":0},{"$f":"COUNTIF([1]国語!AQ12,1)*[1]国語!$AQ$10","v":0},{"$f":"COUNTIF([1]国語!AR12,1)*[1]国語!$AR$10","v":0},{"$f":"COUNTIF([1]国語!AS12,1)*[1]国語!$AS$10","v":0},{"$f":"COUNTIF([1]国語!AT12,1)*[1]国語!$AT$10","v":0},{"$f":"COUNTIF([1]国語!AU12,1)*[1]国語!$AU$10","v":0},{"$f":"COUNTIF([1]国語!AV12,1)*[1]国語!$AV$10","v":0},{"$f":"COUNTIF([1]国語!AW12,1)*[1]国語!$AW$10","v":0},{"$f":"COUNTIF([1]国語!AX12,1)*[1]国語!$AX$10","v":0},{"$f":"COUNTIF([1]国語!AY12,1)*[1]国語!$AY$10","v":0},{"$f":"COUNTIF([1]国語!AZ12,1)*[1]国語!$AZ$10","v":0},{"$f":"COUNTIF([1]国語!BA12,1)*[1]国語!$BA$10","v":0},{"$f":"COUNTIF([1]国語!BB12,1)*[1]国語!$BB$10","v":0},{"$f":"SUM(B5:AY5)","v":96},null,null,"2問",{"$f":"[1]国語!F58","v":3},null,"2問",96.2,null,2,1,"一（2）","知識及び技能"]
[3,{"$f":"COUNTIF([1]国語!E13,1)*[1]国語!$E$10","v":0},{"$f":"COUNTIF([1]国語!F13,1)*[1]国語!$F$10","v":0},{"$f":"COUNTIF([1]国語!G13,1)*[1]国語!$G$10","v":4},{"$f":"COUNTIF([1]国語!H13,1)*[1]国語!$H$10","v":4},{"$f":"COUNTIF([1]国語!I13,1)*[1]国語!$I$10","v":4},{"$f":"COUNTIF([1]国語!J13,1)*[1]国語!$J$10","v":4},{"$f":"COUNTIF([1]国語!K13,1)*[1]国語!$F$10","v":4},{"$f":"COUNTIF([1]国語!L13,1)*[1]国語!$F$10","v":4},{"$f":"COUNTIF([1]国語!M13,1)*[1]国語!$M$10","v":4},{"$f":"COUNTIF([1]国語!N13,1)*[1]国語!$N$10","v":4},{"$f":"COUNTIF([1]国語!O13,1)*[1]国語!$O$10","v":4},{"$f":"COUNTIF([1]国語!P13,1)*[1]国語!$P$10","v":4},{"$f":"COUNTIF([1]国語!Q13,1)*[1]国語!$Q$10","v":4},{"$f":"COUNTIF([1]国語!R13,1)*[1]国語!$R$10","v":4},{"$f":"COUNTIF([1]国語!S13,1)*[1]国語!$S$10","v":4},{"$f":"COUNTIF([1]国語!T13,1)*[1]国語!$T$10","v":4},{"$f":"COUNTIF([1]国語!U13,1)*[1]国語!$U$10","v":4},{"$f":"COUNTIF([1]国語!V13,1)*[1]国語!$V$10","v":4},{"$f":"COUNTIF([1]国語!W13,1)*[1]国語!$W$10","v":4},{"$f":"COUNTIF([1]国語!X13,1)*[1]国語!$X$10","v":4},{"$f":"COUNTIF([1]国語!Y13,1)*[1]国語!$Y$10","v":4},{"$f":"COUNTIF([1]国語!Z13,1)*[1]国語!$Z$10","v":4},{"$f":"COUNTIF([1]国語!AA13,1)*[1]国語!$AA$10","v":4},{"$f":"COUNTIF([1]国語!AB13,1)*[1]国語!$AB$10","v":4},{"$f":"COUNTIF([1]国語!AC13,1)*[1]国語!$AC$10","v":4},{"$f":"COUNTIF([1]国語!AD13,1)*[1]国語!$AD$10","v":0},{"$f":"COUNTIF([1]国語!AE13,1)*[1]国語!$AE$10","v":0},{"$f":"COUNTIF([1]国語!AF13,1)*[1]国語!$AF$10","v":0},{"$f":"COUNTIF([1]国語!AG13,1)*[1]国語!$AG$10","v":0},{"$f":"COUNTIF([1]国語!AH13,1)*[1]国語!$AH$10","v":0},{"$f":"COUNTIF([1]国語!AI13,1)*[1]国語!$AI$10","v":0},{"$f":"COUNTIF([1]国語!AJ13,1)*[1]国語!$AJ$10","v":0},{"$f":"COUNTIF([1]国語!AK13,1)*[1]国語!$AK$10","v":0},{"$f":"COUNTIF([1]国語!AL13,1)*[1]国語!$AL$10","v":0},{"$f":"COUNTIF([1]国語!AM13,1)*[1]国語!$AM$10","v":0},{"$f":"COUNTIF([1]国語!AN13,1)*[1]国語!$AN$10","v":0},{"$f":"COUNTIF([1]国語!AO13,1)*[1]国語!$AO$10","v":0},{"$f":"COUNTIF([1]国語!AP13,1)*[1]国語!$AP$10","v":0},{"$f":"COUNTIF([1]国語!AQ13,1)*[1]国語!$AQ$10","v":0},{"$f":"COUNTIF([1]国語!AR13,1)*[1]国語!$AR$10","v":0},{"$f":"COUNTIF([1]国語!AS13,1)*[1]国語!$AS$10","v":0},{"$f":"COUNTIF([1]国語!AT13,1)*[1]国語!$AT$10","v":0},{"$f":"COUNTIF([1]国語!AU13,1)*[1]国語!$AU$10","v":0},{"$f":"COUNTIF([1]国語!AV13,1)*[1]国語!$AV$10","v":0},{"$f":"COUNTIF([1]国語!AW13,1)*[1]国語!$AW$10","v":0},{"$f":"COUNTIF([1]国語!AX13,1)*[1]国語!$AX$10","v":0},{"$f":"COUNTIF([1]国語!AY13,1)*[1]国語!$AY$10","v":0},{"$f":"COUNTIF([1]国語!AZ13,1)*[1]国語!$AZ$10","v":0},{"$f":"COUNTIF([1]国語!BA13,1)*[1]国語!$BA$10","v":0},{"$f":"COUNTIF([1]国語!BB13,1)*[1]国語!$BB$10","v":0},92,null,null,"3問",{"$f":"[1]国語!G58","v":4},null,"3問",52.6,null,3,1,"一（3）","知識及び技能"]
[4,{"$f":"COUNTIF([1]国語!E14,1)*[1]国語!$E$10","v":0},{"$f":"COUNTIF([1]国語!F14,1)*[1]国語!$F$10","v":0},{"$f":"COUNTIF([1]国語!G14,1)*[1]国語!$G$10","v":0},{"$f":"COUNTIF([1]国語!H14,1)*[1]国語!$H$10","v":4},{"$f":"COUNTIF([1]国語!I14,1)*[1]国語!$I$10","v":4},{"$f":"COUNTIF([1]国語!J14,1)*[1]国語!$J$10","v":4},{"$f":"COUNTIF([1]国語!K14,1)*[1]国語!$F$10","v":4},{"$f":"COUNTIF([1]国語!L14,1)*[1]国語!$F$10","v":4},{"$f":"COUNTIF([1]国語!M14,1)*[1]国語!$M$10","v":4},{"$f":"COUNTIF([1]国語!N14,1)*[1]国語!$N$10","v":4},{"$f":"COUNTIF([1]国語!O14,1)*[1]国語!$O$10","v":4},{"$f":"COUNTIF([1]国語!P14,1)*[1]国語!$P$10","v":4},{"$f":"COUNTIF([1]国語!Q14,1)*[1]国語!$Q$10","v":4},{"$f":"COUNTIF([1]国語!R14,1)*[1]国語!$R$10","v":4},{"$f":"COUNTIF([1]国語!S14,1)*[1]国語!$S$10","v":4},{"$f":"COUNTIF([1]国語!T14,1)*[1]国語!$T$10","v":4},{"$f":"COUNTIF([1]国語!U14,1)*[1]国語!$U$10","v":4},{"$f":"COUNTIF([1]国語!V14,1)*[1]国語!$V$10","v":4},{"$f":"COUNTIF([1]国語!W14,1)*[1]国語!$W$10","v":4},{"$f":"COUNTIF([1]国語!X14,1)*[1]国語!$X$10","v":4},{"$f":"COUNTIF([1]国語!Y14,1)*[1]国語!$Y$10","v":4},{"$f":"COUNTIF([1]国語!Z14,1)*[1]国語!$Z$10","v":4},{"$f":"COUNTIF([1]国語!AA14,1)*[1]国語!$AA$10","v":4},{"$f":"COUNTIF([1]国語!AB14,1)*[1]国語!$AB$10","v":4},{"$f":"COUNTIF([1]国語!AC14,1)*[1]国語!$AC$10","v":4},{"$f":"COUNTIF([1]国語!AD14,1)*[1]国語!$AD$10","v":0},{"$f":"COUNTIF([1]国語!AE14,1)*[1]国語!$AE$10","v":0},{"$f":"COUNTIF([1]国語!AF14,1)*[1]国語!$AF$10","v":0},{"$f":"COUNTIF([1]国語!AG14,1)*[1]国語!$AG$10","v":0},{"$f":"COUNTIF([1]国語!AH14,1)*[1]国語!$AH$10","v":0},{"$f":"COUNTIF([1]国語!AI14,1)*[1]国語!$AI$10","v":0},{"$f":"COUNTIF([1]国語!AJ14,1)*[1]国語!$AJ$10","v":0},{"$f":"COUNTIF([1]国語!AK14,1)*[1]国語!$AK$10","v":0},{"$f":"COUNTIF([1]国語!AL14,1)*[1]国語!$AL$10","v":0},{"$f":"COUNTIF([1]国語!AM14,1)*[1]国語!$AM$10","v":0},{"$f":"COUNTIF([1]国語!AN14,1)*[1]国語!$AN$10","v":0},{"$f":"COUNTIF([1]国語!AO14,1)*[1]国語!$AO$10","v":0},{"$f":"COUNTIF([1]国語!AP14,1)*[1]国語!$AP$10","v":0},{"$f":"COUNTIF([1]国語!AQ14,1)*[1]国語!$AQ$10","v":0},{"$f":"COUNTIF([1]国語!AR14,1)*[1]国語!$AR$10","v":0},{"$f":"COUNTIF([1]国語!AS14,1)*[1]国語!$AS$10","v":0},{"$f":"COUNTIF([1]国語!AT14,1)*[1]国語!$AT$10","v":0},{"$f":"COUNTIF([1]国語!AU14,1)*[1]国語!$AU$10","v":0},{"$f":"COUNTIF([1]国語!AV14,1)*[1]国語!$AV$10","v":0},{"$f":"COUNTIF([1]国語!AW14,1)*[1]国語!$AW$10","v":0},{"$f":"COUNTIF([1]国語!AX14,1)*[1]国語!$AX$10","v":0},{"$f":"COUNTIF([1]国語!AY14,1)*[1]国語!$AY$10","v":0},{"$f":"COUNTIF([1]国語!AZ14,1)*[1]国語!$AZ$10","v":0},{"$f":"COUNTIF([1]国語!BA14,1)*[1]国語!$BA$10","v":0},{"$f":"COUNTIF([1]国語!BB14,1)*[1]国語!$BB$10","v":0},88,null,null,"4問",{"$f":"[1]国語!H58","v":5},null,"4問",96.399999999999991,null,4,1,"一（4）","知識及び技能"]
[5,{"$f":"COUNTIF([1]国語!E15,1)*[1]国語!$E$10","v":0},{"$f":"COUNTIF([1]国語!F15,1)*[1]国語!$F$10","v":0},{"$f":"COUNTIF([1]国語!G15,1)*[1]国語!$G$10","v":0},{"$f":"COUNTIF([1]国語!H15,1)*[1]国語!$H$10","v":0},{"$f":"COUNTIF([1]国語!I15,1)*[1]国語!$I$10","v":4},{"$f":"COUNTIF([1]国語!J15,1)*[1]国語!$J$10","v":4},{"$f":"COUNTIF([1]国語!K15,1)*[1]国語!$F$10","v":4},{"$f":"COUNTIF([1]国語!L15,1)*[1]国語!$F$10","v":4},{"$f":"COUNTIF([1]国語!M15,1)*[1]国語!$M$10","v":4},{"$f":"COUNTIF([1]国語!N15,1)*[1]国語!$N$10","v":4},{"$f":"COUNTIF([1]国語!O15,1)*[1]国語!$O$10","v":4},{"$f":"COUNTIF([1]国語!P15,1)*[1]国語!$P$10","v":4},{"$f":"COUNTIF([1]国語!Q15,1)*[1]国語!$Q$10","v":4},{"$f":"COUNTIF([1]国語!R15,1)*[1]国語!$R$10","v":4},{"$f":"COUNTIF([1]国語!S15,1)*[1]国語!$S$10","v":4},{"$f":"COUNTIF([1]国語!T15,1)*[1]国語!$T$10","v":4},{"$f":"COUNTIF([1]国語!U15,1)*[1]国語!$U$10","v":4},{"$f":"COUNTIF([1]国語!V15,1)*[1]国語!$V$10","v":4},{"$f":"COUNTIF([1]国語!W15,1)*[1]国語!$W$10","v":4},{"$f":"COUNTIF([1]国語!X15,1)*[1]国語!$X$10","v":4},{"$f":"COUNTIF([1]国語!Y15,1)*[1]国語!$Y$10","v":4},{"$f":"COUNTIF([1]国語!Z15,1)*[1]国語!$Z$10","v":4},{"$f":"COUNTIF([1]国語!AA15,1)*[1]国語!$AA$10","v":4},{"$f":"COUNTIF([1]国語!AB15,1)*[1]国語!$AB$10","v":4},{"$f":"COUNTIF([1]国語!AC15,1)*[1]国語!$AC$10","v":4},{"$f":"COUNTIF([1]国語!AD15,1)*[1]国語!$AD$10","v":0},{"$f":"COUNTIF([1]国語!AE15,1)*[1]国語!$AE$10","v":0},{"$f":"COUNTIF([1]国語!AF15,1)*[1]国語!$AF$10","v":0},{"$f":"COUNTIF([1]国語!AG15,1)*[1]国語!$AG$10","v":0},{"$f":"COUNTIF([1]国語!AH15,1)*[1]国語!$AH$10","v":0},{"$f":"COUNTIF([1]国語!AI15,1)*[1]国語!$AI$10","v":0},{"$f":"COUNTIF([1]国語!AJ15,1)*[1]国語!$AJ$10","v":0},{"$f":"COUNTIF([1]国語!AK15,1)*[1]国語!$AK$10","v":0},{"$f":"COUNTIF([1]国語!AL15,1)*[1]国語!$AL$10","v":0},{"$f":"COUNTIF([1]国語!AM15,1)*[1]国語!$AM$10","v":0},{"$f":"COUNTIF([1]国語!AN15,1)*[1]国語!$AN$10","v":0},{"$f":"COUNTIF([1]国語!AO15,1)*[1]国語!$AO$10","v":0},{"$f":"COUNTIF([1]国語!AP15,1)*[1]国語!$AP$10","v":0},{"$f":"COUNTIF([1]国語!AQ15,1)*[1]国語!$AQ$10","v":0},{"$f":"COUNTIF([1]国語!AR15,1)*[1]国語!$AR$10","v":0},{"$f":"COUNTIF([1]国語!AS15,1)*[1]国語!$AS$10","v":0},{"$f":"COUNTIF([1]国語!AT15,1)*[1]国語!$AT$10","v":0},{"$f":"COUNTIF([1]国語!AU15,1)*[1]国語!$AU$10","v":0},{"$f":"COUNTIF([1]国語!AV15,1)*[1]国語!$AV$10","v":0},{"$f":"COUNTIF([1]国語!AW15,1)*[1]国語!$AW$10","v":0},{"$f":"COUNTIF([1]国語!AX15,1)*[1]国語!$AX$10","v":0},{"$f":"COUNTIF([1]国語!AY15,1)*[1]国語!$AY$10","v":0},{"$f":"COUNTIF([1]国語!AZ15,1)*[1]国語!$AZ$10","v":0},{"$f":"COUNTIF([1]国語!BA15,1)*[1]国語!$BA$10","v":0},{"$f":"COUNTIF([1]国語!BB15,1)*[1]国語!$BB$10","v":0},84,null,null,"5問",{"$f":"[1]国語!I58","v":7},null,"5問",81.3,null,5,1,"二（1）","知識及び技能"]
[6,{"$f":"COUNTIF([1]国語!E16,1)*[1]国語!$E$10","v":0},{"$f":"COUNTIF([1]国語!F16,1)*[1]国語!$F$10","v":0},{"$f":"COUNTIF([1]国語!G16,1)*[1]国語!$G$10","v":0},{"$f":"COUNTIF([1]国語!H16,1)*[1]国語!$H$10","v":0},{"$f":"COUNTIF([1]国語!I16,1)*[1]国語!$I$10","v":0},{"$f":"COUNTIF([1]国語!J16,1)*[1]国語!$J$10","v":4},{"$f":"COUNTIF([1]国語!K16,1)*[1]国語!$F$10","v":4},{"$f":"COUNTIF([1]国語!L16,1)*[1]国語!$F$10","v":4},{"$f":"COUNTIF([1]国語!M16,1)*[1]国語!$M$10","v":4},{"$f":"COUNTIF([1]国語!N16,1)*[1]国語!$N$10","v":4},{"$f":"COUNTIF([1]国語!O16,1)*[1]国語!$O$10","v":4},{"$f":"COUNTIF([1]国語!P16,1)*[1]国語!$P$10","v":4},{"$f":"COUNTIF([1]国語!Q16,1)*[1]国語!$Q$10","v":4},{"$f":"COUNTIF([1]国語!R16,1)*[1]国語!$R$10","v":4},{"$f":"COUNTIF([1]国語!S16,1)*[1]国語!$S$10","v":4},{"$f":"COUNTIF([1]国語!T16,1)*[1]国語!$T$10","v":4},{"$f":"COUNTIF([1]国語!U16,1)*[1]国語!$U$10","v":4},{"$f":"COUNTIF([1]国語!V16,1)*[1]国語!$V$10","v":4},{"$f":"COUNTIF([1]国語!W16,1)*[1]国語!$W$10","v":4},{"$f":"COUNTIF([1]国語!X16,1)*[1]国語!$X$10","v":4},{"$f":"COUNTIF([1]国語!Y16,1)*[1]国語!$Y$10","v":4},{"$f":"COUNTIF([1]国語!Z16,1)*[1]国語!$Z$10","v":4},{"$f":"COUNTIF([1]国語!AA16,1)*[1]国語!$AA$10","v":4},{"$f":"COUNTIF([1]国語!AB16,1)*[1]国語!$AB$10","v":4},{"$f":"COUNTIF([1]国語!AC16,1)*[1]国語!$AC$10","v":4},{"$f":"COUNTIF([1]国語!AD16,1)*[1]国語!$AD$10","v":0},{"$f":"COUNTIF([1]国語!AE16,1)*[1]国語!$AE$10","v":0},{"$f":"COUNTIF([1]国語!AF16,1)*[1]国語!$AF$10","v":0},{"$f":"COUNTIF([1]国語!AG16,1)*[1]国語!$AG$10","v":0},{"$f":"COUNTIF([1]国語!AH16,1)*[1]国語!$AH$10","v":0},{"$f":"COUNTIF([1]国語!AI16,1)*[1]国語!$AI$10","v":0},{"$f":"COUNTIF([1]国語!AJ16,1)*[1]国語!$AJ$10","v":0},{"$f":"COUNTIF([1]国語!AK16,1)*[1]国語!$AK$10","v":0},{"$f":"COUNTIF([1]国語!AL16,1)*[1]国語!$AL$10","v":0},{"$f":"COUNTIF([1]国語!AM16,1)*[1]国語!$AM$10","v":0},{"$f":"COUNTIF([1]国語!AN16,1)*[1]国語!$AN$10","v":0},{"$f":"COUNTIF([1]国語!AO16,1)*[1]国語!$AO$10","v":0},{"$f":"COUNTIF([1]国語!AP16,1)*[1]国語!$AP$10","v":0},{"$f":"COUNTIF([1]国語!AQ16,1)*[1]国語!$AQ$10","v":0},{"$f":"COUNTIF([1]国語!AR16,1)*[1]国語!$AR$10","v":0},{"$f":"COUNTIF([1]国語!AS16,1)*[1]国語!$AS$10","v":0},{"$f":"COUNTIF([1]国語!AT16,1)*[1]国語!$AT$10","v":0},{"$f":"COUNTIF([1]国語!AU16,1)*[1]国語!$AU$10","v":0},{"$f":"COUNTIF([1]国語!AV16,1)*[1]国語!$AV$10","v":0},{"$f":"COUNTIF([1]国語!AW16,1)*[1]国語!$AW$10","v":0},{"$f":"COUNTIF([1]国語!AX16,1)*[1]国語!$AX$10","v":0},{"$f":"COUNTIF([1]国語!AY16,1)*[1]国語!$AY$10","v":0},{"$f":"COUNTIF([1]国語!AZ16,1)*[1]国語!$AZ$10","v":0},{"$f":"COUNTIF([1]国語!BA16,1)*[1]国語!$BA$10","v":0},{"$f":"COUNTIF([1]国語!BB16,1)*[1]国語!$BB$10","v":0},80,null,null,"6問",{"$f":"[1]国語!J58","v":9},null,"6問",56.699999999999996,null,6,1,"二（2）","知識及び技能"]
[7,{"$f":"COUNTIF([1]国語!E17,1)*[1]国語!$E$10","v":0},{"$f":"COUNTIF([1]国語!F17,1)*[1]国語!$F$10","v":0},{"$f":"COUNTIF([1]国語!G17,1)*[1]国語!$G$10","v":0},{"$f":"COUNTIF([1]国語!H17,1)*[1]国語!$H$10","v":0},{"$f":"COUNTIF([1]国語!I17,1)*[1]国語!$I$10","v":0},{"$f":"COUNTIF([1]国語!J17,1)*[1]国語!$J$10","v":0},{"$f":"COUNTIF([1]国語!K17,1)*[1]国語!$F$10","v":4},{"$f":"COUNTIF([1]国語!L17,1)*[1]国語!$F$10","v":4},{"$f":"COUNTIF([1]国語!M17,1)*[1]国語!$M$10","v":4},{"$f":"COUNTIF([1]国語!N17,1)*[1]国語!$N$10","v":4},{"$f":"COUNTIF([1]国語!O17,1)*[1]国語!$O$10","v":4},{"$f":"COUNTIF([1]国語!P17,1)*[1]国語!$P$10","v":4},{"$f":"COUNTIF([1]国語!Q17,1)*[1]国語!$Q$10","v":4},{"$f":"COUNTIF([1]国語!R17,1)*[1]国語!$R$10","v":4},{"$f":"COUNTIF([1]国語!S17,1)*[1]国語!$S$10","v":4},{"$f":"COUNTIF([1]国語!T17,1)*[1]国語!$T$10","v":4},{"$f":"COUNTIF([1]国語!U17,1)*[1]国語!$U$10","v":4},{"$f":"COUNTIF([1]国語!V17,1)*[1]国語!$V$10","v":4},{"$f":"COUNTIF([1]国語!W17,1)*[1]国語!$W$10","v":4},{"$f":"COUNTIF([1]国語!X17,1)*[1]国語!$X$10","v":4},{"$f":"COUNTIF([1]国語!Y17,1)*[1]国語!$Y$10","v":4},{"$f":"COUNTIF([1]国語!Z17,1)*[1]国語!$Z$10","v":4},{"$f":"COUNTIF([1]国語!AA17,1)*[1]国語!$AA$10","v":4},{"$f":"COUNTIF([1]国語!AB17,1)*[1]国語!$AB$10","v":4},{"$f":"COUNTIF([1]国語!AC17,1)*[1]国語!$AC$10","v":4},{"$f":"COUNTIF([1]国語!AD17,1)*[1]国語!$AD$10","v":0},{"$f":"COUNTIF([1]国語!AE17,1)*[1]国語!$AE$10","v":0},{"$f":"COUNTIF([1]国語!AF17,1)*[1]国語!$AF$10","v":0},{"$f":"COUNTIF([1]国語!AG17,1)*[1]国語!$AG$10","v":0},{"$f":"COUNTIF([1]国語!AH17,1)*[1]国語!$AH$10","v":0},{"$f":"COUNTIF([1]国語!AI17,1)*[1]国語!$AI$10","v":0},{"$f":"COUNTIF([1]国語!AJ17,1)*[1]国語!$AJ$10","v":0},{"$f":"COUNTIF([1]国語!AK17,1)*[1]国語!$AK$10","v":0},{"$f":"COUNTIF([1]国語!AL17,1)*[1]国語!$AL$10","v":0},{"$f":"COUNTIF([1]国語!AM17,1)*[1]国語!$AM$10","v":0},{"$f":"COUNTIF([1]国語!AN17,1)*[1]国語!$AN$10","v":0},{"$f":"COUNTIF([1]国語!AO17,1)*[1]国語!$AO$10","v":0},{"$f":"COUNTIF([1]国語!AP17,1)*[1]国語!$AP$10","v":0},{"$f":"COUNTIF([1]国語!AQ17,1)*[1]国語!$AQ$10","v":0},{"$f":"COUNTIF([1]国語!AR17,1)*[1]国語!$AR$10","v":0},{"$f":"COUNTIF([1]国語!AS17,1)*[1]国語!$AS$10","v":0},{"$f":"COUNTIF([1]国語!AT17,1)*[1]国語!$AT$10","v":0},{"$f":"COUNTIF([1]国語!AU17,1)*[1]国語!$AU$10","v":0},{"$f":"COUNTIF([1]国語!AV17,1)*[1]国語!$AV$10","v":0},{"$f":"COUNTIF([1]国語!AW17,1)*[1]国語!$AW$10","v":0},{"$f":"COUNTIF([1]国語!AX17,1)*[1]国語!$AX$10","v":0},{"$f":"COUNTIF([1]国語!AY17,1)*[1]国語!$AY$10","v":0},{"$f":"COUNTIF([1]国語!AZ17,1)*[1]国語!$AZ$10","v":0},{"$f":"COUNTIF([1]国語!BA17,1)*[1]国語!$BA$10","v":0},{"$f":"COUNTIF([1]国語!BB17,1)*[1]国語!$BB$10","v":0},76,null,null,"7問",{"$f":"[1]国語!K58","v":11},null,"7問",81.599999999999994,null,7,1,"二（3）","知識及び技能"]
[8,{"$f":"COUNTIF([1]国語!E18,1)*[1]国語!$E$10","v":0},{"$f":"COUNTIF([1]国語!F18,1)*[1]国語!$F$10","v":0},{"$f":"COUNTIF([1]国語!G18,1)*[1]国語!$G$10","v":0},{"$f":"COUNTIF([1]国語!H18,1)*[1]国語!$H$10","v":0},{"$f":"COUNTIF([1]国語!I18,1)*[1]国語!$I$10","v":0},{"$f":"COUNTIF([1]国語!J18,1)*[1]国語!$J$10","v":0},{"$f":"COUNTIF([1]国語!K18,1)*[1]国語!$F$10","v":0},{"$f":"COUNTIF([1]国語!L18,1)*[1]国語!$F$10","v":0},{"$f":"COUNTIF([1]国語!M18,1)*[1]国語!$M$10","v":0},{"$f":"COUNTIF([1]国語!N18,1)*[1]国語!$N$10","v":4},{"$f":"COUNTIF([1]国語!O18,1)*[1]国語!$O$10","v":4},{"$f":"COUNTIF([1]国語!P18,1)*[1]国語!$P$10","v":4},{"$f":"COUNTIF([1]国語!Q18,1)*[1]国語!$Q$10","v":4},{"$f":"COUNTIF([1]国語!R18,1)*[1]国語!$R$10","v":4},{"$f":"COUNTIF([1]国語!S18,1)*[1]国語!$S$10","v":4},{"$f":"COUNTIF([1]国語!T18,1)*[1]国語!$T$10","v":4},{"$f":"COUNTIF([1]国語!U18,1)*[1]国語!$U$10","v":4},{"$f":"COUNTIF([1]国語!V18,1)*[1]国語!$V$10","v":4},{"$f":"COUNTIF([1]国語!W18,1)*[1]国語!$W$10","v":4},{"$f":"COUNTIF([1]国語!X18,1)*[1]国語!$X$10","v":4},{"$f":"COUNTIF([1]国語!Y18,1)*[1]国語!$Y$10","v":4},{"$f":"COUNTIF([1]国語!Z18,1)*[1]国語!$Z$10","v":4},{"$f":"COUNTIF([1]国語!AA18,1)*[1]国語!$AA$10","v":4},{"$f":"COUNTIF([1]国語!AB18,1)*[1]国語!$AB$10","v":4},{"$f":"COUNTIF([1]国語!AC18,1)*[1]国語!$AC$10","v":4},{"$f":"COUNTIF([1]国語!AD18,1)*[1]国語!$AD$10","v":0},{"$f":"COUNTIF([1]国語!AE18,1)*[1]国語!$AE$10","v":0},{"$f":"COUNTIF([1]国語!AF18,1)*[1]国語!$AF$10","v":0},{"$f":"COUNTIF([1]国語!AG18,1)*[1]国語!$AG$10","v":0},{"$f":"COUNTIF([1]国語!AH18,1)*[1]国語!$AH$10","v":0},{"$f":"COUNTIF([1]国語!AI18,1)*[1]国語!$AI$10","v":0},{"$f":"COUNTIF([1]国語!AJ18,1)*[1]国語!$AJ$10","v":0},{"$f":"COUNTIF([1]国語!AK18,1)*[1]国語!$AK$10","v":0},{"$f":"COUNTIF([1]国語!AL18,1)*[1]国語!$AL$10","v":0},{"$f":"COUNTIF([1]国語!AM18,1)*[1]国語!$AM$10","v":0},{"$f":"COUNTIF([1]国語!AN18,1)*[1]国語!$AN$10","v":0},{"$f":"COUNTIF([1]国語!AO18,1)*[1]国語!$AO$10","v":0},{"$f":"COUNTIF([1]国語!AP18,1)*[1]国語!$AP$10","v":0},{"$f":"COUNTIF([1]国語!AQ18,1)*[1]国語!$AQ$10","v":0},{"$f":"COUNTIF([1]国語!AR18,1)*[1]国語!$AR$10","v":0},{"$f":"COUNTIF([1]国語!AS18,1)*[1]国語!$AS$10","v":0},{"$f":"COUNTIF([1]国語!AT18,1)*[1]国語!$AT$10","v":0},{"$f":"COUNTIF([1]国語!AU18,1)*[1]国語!$AU$10","v":0},{"$f":"COUNTIF([1]国語!AV18,1)*[1]国語!$AV$10","v":0},{"$f":"COUNTIF([1]国語!AW18,1)*[1]国語!$AW$10","v":0},{"$f":"COUNTIF([1]国語!AX18,1)*[1]国語!$AX$10","v":0},{"$f":"COUNTIF([1]国語!AY18,1)*[1]国語!$AY$10","v":0},{"$f":"COUNTIF([1]国語!AZ18,1)*[1]国語!$AZ$10","v":0},{"$f":"COUNTIF([1]国語!BA18,1)*[1]国語!$BA$10","v":0},{"$f":"COUNTIF([1]国語!BB18,1)*[1]国語!$BB$10","v":0},64,null,null,"8問",{"$f":"[1]国語!L58","v":11},null,"8問",53.800000000000004,null,8,1,"二（4）","知識及び技能"]
[9,{"$f":"COUNTIF([1]国語!E19,1)*[1]国語!$E$10","v":0},{"$f":"COUNTIF([1]国語!F19,1)*[1]国語!$F$10","v":0},{"$f":"COUNTIF([1]国語!G19,1)*[1]国語!$G$10","v":0},{"$f":"COUNTIF([1]国語!H19,1)*[1]国語!$H$10","v":0},{"$f":"COUNTIF([1]国語!I19,1)*[1]国語!$I$10","v":0},{"$f":"COUNTIF([1]国語!J19,1)*[1]国語!$J$10","v":0},{"$f":"COUNTIF([1]国語!K19,1)*[1]国語!$F$10","v":0},{"$f":"COUNTIF([1]国語!L19,1)*[1]国語!$F$10","v":0},{"$f":"COUNTIF([1]国語!M19,1)*[1]国語!$M$10","v":0},{"$f":"COUNTIF([1]国語!N19,1)*[1]国語!$N$10","v":0},{"$f":"COUNTIF([1]国語!O19,1)*[1]国語!$O$10","v":4},{"$f":"COUNTIF([1]国語!P19,1)*[1]国語!$P$10","v":4},{"$f":"COUNTIF([1]国語!Q19,1)*[1]国語!$Q$10","v":4},{"$f":"COUNTIF([1]国語!R19,1)*[1]国語!$R$10","v":4},{"$f":"COUNTIF([1]国語!S19,1)*[1]国語!$S$10","v":4},{"$f":"COUNTIF([1]国語!T19,1)*[1]国語!$T$10","v":4},{"$f":"COUNTIF([1]国語!U19,1)*[1]国語!$U$10","v":4},{"$f":"COUNTIF([1]国語!V19,1)*[1]国語!$V$10","v":4},{"$f":"COUNTIF([1]国語!W19,1)*[1]国語!$W$10","v":4},{"$f":"COUNTIF([1]国語!X19,1)*[1]国語!$X$10","v":4},{"$f":"COUNTIF([1]国語!Y19,1)*[1]国語!$Y$10","v":4},{"$f":"COUNTIF([1]国語!Z19,1)*[1]国語!$Z$10","v":4},{"$f":"COUNTIF([1]国語!AA19,1)*[1]国語!$AA$10","v":4},{"$f":"COUNTIF([1]国語!AB19,1)*[1]国語!$AB$10","v":4},{"$f":"COUNTIF([1]国語!AC19,1)*[1]国語!$AC$10","v":4},{"$f":"COUNTIF([1]国語!AD19,1)*[1]国語!$AD$10","v":0},{"$f":"COUNTIF([1]国語!AE19,1)*[1]国語!$AE$10","v":0},{"$f":"COUNTIF([1]国語!AF19,1)*[1]国語!$AF$10","v":0},{"$f":"COUNTIF([1]国語!AG19,1)*[1]国語!$AG$10","v":0},{"$f":"COUNTIF([1]国語!AH19,1)*[1]国語!$AH$10","v":0},{"$f":"COUNTIF([1]国語!AI19,1)*[1]国語!$AI$10","v":0},{"$f":"COUNTIF([1]国語!AJ19,1)*[1]国語!$AJ$10","v":0},{"$f":"COUNTIF([1]国語!AK19,1)*[1]国語!$AK$10","v":0},{"$f":"COUNTIF([1]国語!AL19,1)*[1]国語!$AL$10","v":0},{"$f":"COUNTIF([1]国語!AM19,1)*[1]国語!$AM$10","v":0},{"$f":"COUNTIF([1]国語!AN19,1)*[1]国語!$AN$10","v":0},{"$f":"COUNTIF([1]国語!AO19,1)*[1]国語!$AO$10","v":0},{"$f":"COUNTIF([1]国語!AP19,1)*[1]国語!$AP$10","v":0},{"$f":"COUNTIF([1]国語!AQ19,1)*[1]国語!$AQ$10","v":0},{"$f":"COUNTIF([1]国語!AR19,1)*[1]国語!$AR$10","v":0},{"$f":"COUNTIF([1]国語!AS19,1)*[1]国語!$AS$10","v":0},{"$f":"COUNTIF([1]国語!AT19,1)*[1]国語!$AT$10","v":0},{"$f":"COUNTIF([1]国語!AU19,1)*[1]国語!$AU$10","v":0},{"$f":"COUNTIF([1]国語!AV19,1)*[1]国語!$AV$10","v":0},{"$f":"COUNTIF([1]国語!AW19,1)*[1]国語!$AW$10","v":0},{"$f":"COUNTIF([1]国語!AX19,1)*[1]国語!$AX$10","v":0},{"$f":"COUNTIF([1]国語!AY19,1)*[1]国語!$AY$10","v":0},{"$f":"COUNTIF([1]国語!AZ19,1)*[1]国語!$AZ$10","v":0},{"$f":"COUNTIF([1]国語!BA19,1)*[1]国語!$BA$10","v":0},{"$f":"COUNTIF([1]国語!BB19,1)*[1]国語!$BB$10","v":0},60,null,null,"9問",{"$f":"[1]国語!M58","v":13},null,"9問",56.000000000000007,null,9,2,"一","知識及び技能"]
[10,{"$f":"COUNTIF([1]国語!E20,1)*[1]国語!$E$10","v":0},{"$f":"COUNTIF([1]国語!F20,1)*[1]国語!$F$10","v":0},{"$f":"COUNTIF([1]国語!G20,1)*[1]国語!$G$10","v":0},{"$f":"COUNTIF([1]国語!H20,1)*[1]国語!$H$10","v":0},{"$f":"COUNTIF([1]国語!I20,1)*[1]国語!$I$10","v":0},{"$f":"COUNTIF([1]国語!J20,1)*[1]国語!$J$10","v":0},{"$f":"COUNTIF([1]国語!K20,1)*[1]国語!$F$10","v":0},{"$f":"COUNTIF([1]国語!L20,1)*[1]国語!$F$10","v":0},{"$f":"COUNTIF([1]国語!M20,1)*[1]国語!$M$10","v":0},{"$f":"COUNTIF([1]国語!N20,1)*[1]国語!$N$10","v":0},{"$f":"COUNTIF([1]国語!O20,1)*[1]国語!$O$10","v":0},{"$f":"COUNTIF([1]国語!P20,1)*[1]国語!$P$10","v":4},{"$f":"COUNTIF([1]国語!Q20,1)*[1]国語!$Q$10","v":4},{"$f":"COUNTIF([1]国語!R20,1)*[1]国語!$R$10","v":4},{"$f":"COUNTIF([1]国語!S20,1)*[1]国語!$S$10","v":4},{"$f":"COUNTIF([1]国語!T20,1)*[1]国語!$T$10","v":4},{"$f":"COUNTIF([1]国語!U20,1)*[1]国語!$U$10","v":4},{"$f":"COUNTIF([1]国語!V20,1)*[1]国語!$V$10","v":4},{"$f":"COUNTIF([1]国語!W20,1)*[1]国語!$W$10","v":4},{"$f":"COUNTIF([1]国語!X20,1)*[1]国語!$X$10","v":4},{"$f":"COUNTIF([1]国語!Y20,1)*[1]国語!$Y$10","v":4},{"$f":"COUNTIF([1]国語!Z20,1)*[1]国語!$Z$10","v":4},{"$f":"COUNTIF([1]国語!AA20,1)*[1]国語!$AA$10","v":4},{"$f":"COUNTIF([1]国語!AB20,1)*[1]国語!$AB$10","v":4},{"$f":"COUNTIF([1]国語!AC20,1)*[1]国語!$AC$10","v":4},{"$f":"COUNTIF([1]国語!AD20,1)*[1]国語!$AD$10","v":0},{"$f":"COUNTIF([1]国語!AE20,1)*[1]国語!$AE$10","v":0},{"$f":"COUNTIF([1]国語!AF20,1)*[1]国語!$AF$10","v":0},{"$f":"COUNTIF([1]国語!AG20,1)*[1]国語!$AG$10","v":0},{"$f":"COUNTIF([1]国語!AH20,1)*[1]国語!$AH$10","v":0},{"$f":"COUNTIF([1]国語!AI20,1)*[1]国語!$AI$10","v":0},{"$f":"COUNTIF([1]国語!AJ20,1)*[1]国語!$AJ$10","v":0},{"$f":"COUNTIF([1]国語!AK20,1)*[1]国語!$AK$10","v":0},{"$f":"COUNTIF([1]国語!AL20,1)*[1]国語!$AL$10","v":0},{"$f":"COUNTIF([1]国語!AM20,1)*[1]国語!$AM$10","v":0},{"$f":"COUNTIF([1]国語!AN20,1)*[1]国語!$AN$10","v":0},{"$f":"COUNTIF([1]国語!AO20,1)*[1]国語!$AO$10","v":0},{"$f":"COUNTIF([1]国語!AP20,1)*[1]国語!$AP$10","v":0},{"$f":"COUNTIF([1]国語!AQ20,1)*[1]国語!$AQ$10","v":0},{"$f":"COUNTIF([1]国語!AR20,1)*[1]国語!$AR$10","v":0},{"$f":"COUNTIF([1]国語!AS20,1)*[1]国語!$AS$10","v":0},{"$f":"COUNTIF([1]国語!AT20,1)*[1]国語!$AT$10","v":0},{"$f":"COUNTIF([1]国語!AU20,1)*[1]国語!$AU$10","v":0},{"$f":"COUNTIF([1]国語!AV20,1)*[1]国語!$AV$10","v":0},{"$f":"COUNTIF([1]国語!AW20,1)*[1]国語!$AW$10","v":0},{"$f":"COUNTIF([1]国語!AX20,1)*[1]国語!$AX$10","v":0},{"$f":"COUNTIF([1]国語!AY20,1)*[1]国語!$AY$10","v":0},{"$f":"COUNTIF([1]国語!AZ20,1)*[1]国語!$AZ$10","v":0},{"$f":"COUNTIF([1]国語!BA20,1)*[1]国語!$BA$10","v":0},{"$f":"COUNTIF([1]国語!BB20,1)*[1]国語!$BB$10","v":0},56,null,null,"10問",{"$f":"[1]国語!N58","v":15},null,"10問",62.1,null,10,2,"二","知識及び技能"]
[11,{"$f":"COUNTIF([1]国語!E21,1)*[1]国語!$E$10","v":0},{"$f":"COUNTIF([1]国語!F21,1)*[1]国語!$F$10","v":0},{"$f":"COUNTIF([1]国語!G21,1)*[1]国語!$G$10","v":0},{"$f":"COUNTIF([1]国語!H21,1)*[1]国語!$H$10","v":0},{"$f":"COUNTIF([1]国語!I21,1)*[1]国語!$I$10","v":0},{"$f":"COUNTIF([1]国語!J21,1)*[1]国語!$J$10","v":0},{"$f":"COUNTIF([1]国語!K21,1)*[1]国語!$F$10","v":0},{"$f":"COUNTIF([1]国語!L21,1)*[1]国語!$F$10","v":0},{"$f":"COUNTIF([1]国語!M21,1)*[1]国語!$M$10","v":0},{"$f":"COUNTIF([1]国語!N21,1)*[1]国語!$N$10","v":0},{"$f":"COUNTIF([1]国語!O21,1)*[1]国語!$O$10","v":0},{"$f":"COUNTIF([1]国語!P21,1)*[1]国語!$P$10","v":0},{"$f":"COUNTIF([1]国語!Q21,1)*[1]国語!$Q$10","v":4},{"$f":"COUNTIF([1]国語!R21,1)*[1]国語!$R$10","v":4},{"$f":"COUNTIF([1]国語!S21,1)*[1]国語!$S$10","v":4},{"$f":"COUNTIF([1]国語!T21,1)*[1]国語!$T$10","v":4},{"$f":"COUNTIF([1]国語!U21,1)*[1]国語!$U$10","v":4},{"$f":"COUNTIF([1]国語!V21,1)*[1]国語!$V$10","v":4},{"$f":"COUNTIF([1]国語!W21,1)*[1]国語!$W$10","v":4},{"$f":"COUNTIF([1]国語!X21,1)*[1]国語!$X$10","v":4},{"$f":"COUNTIF([1]国語!Y21,1)*[1]国語!$Y$10","v":4},{"$f":"COUNTIF([1]国語!Z21,1)*[1]国語!$Z$10","v":4},{"$f":"COUNTIF([1]国語!AA21,1)*[1]国語!$AA$10","v":4},{"$f":"COUNTIF([1]国語!AB21,1)*[1]国語!$AB$10","v":4},{"$f":"COUNTIF([1]国語!AC21,1)*[1]国語!$AC$10","v":4},{"$f":"COUNTIF([1]国語!AD21,1)*[1]国語!$AD$10","v":0},{"$f":"COUNTIF([1]国語!AE21,1)*[1]国語!$AE$10","v":0},{"$f":"COUNTIF([1]国語!AF21,1)*[1]国語!$AF$10","v":0},{"$f":"COUNTIF([1]国語!AG21,1)*[1]国語!$AG$10","v":0},{"$f":"COUNTIF([1]国語!AH21,1)*[1]国語!$AH$10","v":0},{"$f":"COUNTIF([1]国語!AI21,1)*[1]国語!$AI$10","v":0},{"$f":"COUNTIF([1]国語!AJ21,1)*[1]国語!$AJ$10","v":0},{"$f":"COUNTIF([1]国語!AK21,1)*[1]国語!$AK$10","v":0},{"$f":"COUNTIF([1]国語!AL21,1)*[1]国語!$AL$10","v":0},{"$f":"COUNTIF([1]国語!AM21,1)*[1]国語!$AM$10","v":0},{"$f":"COUNTIF([1]国語!AN21,1)*[1]国語!$AN$10","v":0},{"$f":"COUNTIF([1]国語!AO21,1)*[1]国語!$AO$10","v":0},{"$f":"COUNTIF([1]国語!AP21,1)*[1]国語!$AP$10","v":0},{"$f":"COUNTIF([1]国語!AQ21,1)*[1]国語!$AQ$10","v":0},{"$f":"COUNTIF([1]国語!AR21,1)*[1]国語!$AR$10","v":0},{"$f":"COUNTIF([1]国語!AS21,1)*[1]国語!$AS$10","v":0},{"$f":"COUNTIF([1]国語!AT21,1)*[1]国語!$AT$10","v":0},{"$f":"COUNTIF([1]国語!AU21,1)*[1]国語!$AU$10","v":0},{"$f":"COUNTIF([1]国語!AV21,1)*[1]国語!$AV$10","v":0},{"$f":"COUNTIF([1]国語!AW21,1)*[1]国語!$AW$10","v":0},{"$f":"COUNTIF([1]国語!AX21,1)*[1]国語!$AX$10","v":0},{"$f":"COUNTIF([1]国語!AY21,1)*[1]国語!$AY$10","v":0},{"$f":"COUNTIF([1]国語!AZ21,1)*[1]国語!$AZ$10","v":0},{"$f":"COUNTIF([1]国語!BA21,1)*[1]国語!$BA$10","v":0},{"$f":"COUNTIF([1]国語!BB21,1)*[1]国語!$BB$10","v":0},52,null,null,"11問",{"$f":"[1]国語!O58","v":17},null,"11問",96.1,null,11,3,"一","知識及び技能"]
[12,{"$f":"COUNTIF([1]国語!E22,1)*[1]国語!$E$10","v":0},{"$f":"COUNTIF([1]国語!F22,1)*[1]国語!$F$10","v":0},{"$f":"COUNTIF([1]国語!G22,1)*[1]国語!$G$10","v":0},{"$f":"COUNTIF([1]国語!H22,1)*[1]国語!$H$10","v":0},{"$f":"COUNTIF([1]国語!I22,1)*[1]国語!$I$10","v":0},{"$f":"COUNTIF([1]国語!J22,1)*[1]国語!$J$10","v":0},{"$f":"COUNTIF([1]国語!K22,1)*[1]国語!$F$10","v":0},{"$f":"COUNTIF([1]国語!L22,1)*[1]国語!$F$10","v":0},{"$f":"COUNTIF([1]国語!M22,1)*[1]国語!$M$10","v":0},{"$f":"COUNTIF([1]国語!N22,1)*[1]国語!$N$10","v":0},{"$f":"COUNTIF([1]国語!O22,1)*[1]国語!$O$10","v":0},{"$f":"COUNTIF([1]国語!P22,1)*[1]国語!$P$10","v":0},{"$f":"COUNTIF([1]国語!Q22,1)*[1]国語!$Q$10","v":0},{"$f":"COUNTIF([1]国語!R22,1)*[1]国語!$R$10","v":4},{"$f":"COUNTIF([1]国語!S22,1)*[1]国語!$S$10","v":4},{"$f":"COUNTIF([1]国語!T22,1)*[1]国語!$T$10","v":4},{"$f":"COUNTIF([1]国語!U22,1)*[1]国語!$U$10","v":4},{"$f":"COUNTIF([1]国語!V22,1)*[1]国語!$V$10","v":4},{"$f":"COUNTIF([1]国語!W22,1)*[1]国語!$W$10","v":4},{"$f":"COUNTIF([1]国語!X22,1)*[1]国語!$X$10","v":4},{"$f":"COUNTIF([1]国語!Y22,1)*[1]国語!$Y$10","v":4},{"$f":"COUNTIF([1]国語!Z22,1)*[1]国語!$Z$10","v":4},{"$f":"COUNTIF([1]国語!AA22,1)*[1]国語!$AA$10","v":4},{"$f":"COUNTIF([1]国語!AB22,1)*[1]国語!$AB$10","v":4},{"$f":"COUNTIF([1]国語!AC22,1)*[1]国語!$AC$10","v":4},{"$f":"COUNTIF([1]国語!AD22,1)*[1]国語!$AD$10","v":0},{"$f":"COUNTIF([1]国語!AE22,1)*[1]国語!$AE$10","v":0},{"$f":"COUNTIF([1]国語!AF22,1)*[1]国語!$AF$10","v":0},{"$f":"COUNTIF([1]国語!AG22,1)*[1]国語!$AG$10","v":0},{"$f":"COUNTIF([1]国語!AH22,1)*[1]国語!$AH$10","v":0},{"$f":"COUNTIF([1]国語!AI22,1)*[1]国語!$AI$10","v":0},{"$f":"COUNTIF([1]国語!AJ22,1)*[1]国語!$AJ$10","v":0},{"$f":"COUNTIF([1]国語!AK22,1)*[1]国語!$AK$10","v":0},{"$f":"COUNTIF([1]国語!AL22,1)*[1]国語!$AL$10","v":0},{"$f":"COUNTIF([1]国語!AM22,1)*[1]国語!$AM$10","v":0},{"$f":"COUNTIF([1]国語!AN22,1)*[1]国語!$AN$10","v":0},{"$f":"COUNTIF([1]国語!AO22,1)*[1]国語!$AO$10","v":0},{"$f":"COUNTIF([1]国語!AP22,1)*[1]国語!$AP$10","v":0},{"$f":"COUNTIF([1]国語!AQ22,1)*[1]国語!$AQ$10","v":0},{"$f":"COUNTIF([1]国語!AR22,1)*[1]国語!$AR$10","v":0},{"$f":"COUNTIF([1]国語!AS22,1)*[1]国語!$AS$10","v":0},{"$f":"COUNTIF([1]国語!AT22,1)*[1]国語!$AT$10","v":0},{"$f":"COUNTIF([1]国語!AU22,1)*[1]国語!$AU$10","v":0},{"$f":"COUNTIF([1]国語!AV22,1)*[1]国語!$AV$10","v":0},{"$f":"COUNTIF([1]国語!AW22,1)*[1]国語!$AW$10","v":0},{"$f":"COUNTIF([1]国語!AX22,1)*[1]国語!$AX$10","v":0},{"$f":"COUNTIF([1]国語!AY22,1)*[1]国語!$AY$10","v":0},{"$f":"COUNTIF([1]国語!AZ22,1)*[1]国語!$AZ$10","v":0},{"$f":"COUNTIF([1]国語!BA22,1)*[1]国語!$BA$10","v":0},{"$f":"COUNTIF([1]国語!BB22,1)*[1]国語!$BB$10","v":0},48,null,null,"12問",{"$f":"[1]国語!P58","v":19},null,"12問",97.5,null,12,3,"二","知識及び技能"]
[13,{"$f":"COUNTIF([1]国語!E23,1)*[1]国語!$E$10","v":0},{"$f":"COUNTIF([1]国語!F23,1)*[1]国語!$F$10","v":0},{"$f":"COUNTIF([1]国語!G23,1)*[1]国語!$G$10","v":0},{"$f":"COUNTIF([1]国語!H23,1)*[1]国語!$H$10","v":0},{"$f":"COUNTIF([1]国語!I23,1)*[1]国語!$I$10","v":0},{"$f":"COUNTIF([1]国語!J23,1)*[1]国語!$J$10","v":0},{"$f":"COUNTIF([1]国語!K23,1)*[1]国語!$F$10","v":0},{"$f":"COUNTIF([1]国語!L23,1)*[1]国語!$F$10","v":0},{"$f":"COUNTIF([1]国語!M23,1)*[1]国語!$M$10","v":0},{"$f":"COUNTIF([1]国語!N23,1)*[1]国語!$N$10","v":0},{"$f":"COUNTIF([1]国語!O23,1)*[1]国語!$O$10","v":0},{"$f":"COUNTIF([1]国語!P23,1)*[1]国語!$P$10","v":0},{"$f":"COUNTIF([1]国語!Q23,1)*[1]国語!$Q$10","v":0},{"$f":"COUNTIF([1]国語!R23,1)*[1]国語!$R$10","v":0},{"$f":"COUNTIF([1]国語!S23,1)*[1]国語!$S$10","v":4},{"$f":"COUNTIF([1]国語!T23,1)*[1]国語!$T$10","v":4},{"$f":"COUNTIF([1]国語!U23,1)*[1]国語!$U$10","v":4},{"$f":"COUNTIF([1]国語!V23,1)*[1]国語!$V$10","v":4},{"$f":"COUNTIF([1]国語!W23,1)*[1]国語!$W$10","v":4},{"$f":"COUNTIF([1]国語!X23,1)*[1]国語!$X$10","v":4},{"$f":"COUNTIF([1]国語!Y23,1)*[1]国語!$Y$10","v":4},{"$f":"COUNTIF([1]国語!Z23,1)*[1]国語!$Z$10","v":4},{"$f":"COUNTIF([1]国語!AA23,1)*[1]国語!$AA$10","v":4},{"$f":"COUNTIF([1]国語!AB23,1)*[1]国語!$AB$10","v":4},{"$f":"COUNTIF([1]国語!AC23,1)*[1]国語!$AC$10","v":4},{"$f":"COUNTIF([1]国語!AD23,1)*[1]国語!$AD$10","v":0},{"$f":"COUNTIF([1]国語!AE23,1)*[1]国語!$AE$10","v":0},{"$f":"COUNTIF([1]国語!AF23,1)*[1]国語!$AF$10","v":0},{"$f":"COUNTIF([1]国語!AG23,1)*[1]国語!$AG$10","v":0},{"$f":"COUNTIF([1]国語!AH23,1)*[1]国語!$AH$10","v":0},{"$f":"COUNTIF([1]国語!AI23,1)*[1]国語!$AI$10","v":0},{"$f":"COUNTIF([1]国語!AJ23,1)*[1]国語!$AJ$10","v":0},{"$f":"COUNTIF([1]国語!AK23,1)*[1]国語!$AK$10","v":0},{"$f":"COUNTIF([1]国語!AL23,1)*[1]国語!$AL$10","v":0},{"$f":"COUNTIF([1]国語!AM23,1)*[1]国語!$AM$10","v":0},{"$f":"COUNTIF([1]国語!AN23,1)*[1]国語!$AN$10","v":0},{"$f":"COUNTIF([1]国語!AO23,1)*[1]国語!$AO$10","v":0},{"$f":"COUNTIF([1]国語!AP23,1)*[1]国語!$AP$10","v":0},{"$f":"COUNTIF([1]国語!AQ23,1)*[1]国語!$AQ$10","v":0},{"$f":"COUNTIF([1]国語!AR23,1)*[1]国語!$AR$10","v":0},{"$f":"COUNTIF([1]国語!AS23,1)*[1]国語!$AS$10","v":0},{"$f":"COUNTIF([1]国語!AT23,1)*[1]国語!$AT$10","v":0},{"$f":"COUNTIF([1]国語!AU23,1)*[1]国語!$AU$10","v":0},{"$f":"COUNTIF([1]国語!AV23,1)*[1]国語!$AV$10","v":0},{"$f":"COUNTIF([1]国語!AW23,1)*[1]国語!$AW$10","v":0},{"$f":"COUNTIF([1]国語!AX23,1)*[1]国語!$AX$10","v":0},{"$f":"COUNTIF([1]国語!AY23,1)*[1]国語!$AY$10","v":0},{"$f":"COUNTIF([1]国語!AZ23,1)*[1]国語!$AZ$10","v":0},{"$f":"COUNTIF([1]国語!BA23,1)*[1]国語!$BA$10","v":0},{"$f":"COUNTIF([1]国語!BB23,1)*[1]国語!$BB$10","v":0},44,null,null,"13問",{"$f":"[1]国語!Q58","v":21},null,"13問",83.8,null,13,4,"一","読むこと"]
[14,{"$f":"COUNTIF([1]国語!E24,1)*[1]国語!$E$10","v":0},{"$f":"COUNTIF([1]国語!F24,1)*[1]国語!$F$10","v":0},{"$f":"COUNTIF([1]国語!G24,1)*[1]国語!$G$10","v":0},{"$f":"COUNTIF([1]国語!H24,1)*[1]国語!$H$10","v":0},{"$f":"COUNTIF([1]国語!I24,1)*[1]国語!$I$10","v":0},{"$f":"COUNTIF([1]国語!J24,1)*[1]国語!$J$10","v":0},{"$f":"COUNTIF([1]国語!K24,1)*[1]国語!$F$10","v":0},{"$f":"COUNTIF([1]国語!L24,1)*[1]国語!$F$10","v":0},{"$f":"COUNTIF([1]国語!M24,1)*[1]国語!$M$10","v":0},{"$f":"COUNTIF([1]国語!N24,1)*[1]国語!$N$10","v":0},{"$f":"COUNTIF([1]国語!O24,1)*[1]国語!$O$10","v":0},{"$f":"COUNTIF([1]国語!P24,1)*[1]国語!$P$10","v":0},{"$f":"COUNTIF([1]国語!Q24,1)*[1]国語!$Q$10","v":0},{"$f":"COUNTIF([1]国語!R24,1)*[1]国語!$R$10","v":0},{"$f":"COUNTIF([1]国語!S24,1)*[1]国語!$S$10","v":0},{"$f":"COUNTIF([1]国語!T24,1)*[1]国語!$T$10","v":4},{"$f":"COUNTIF([1]国語!U24,1)*[1]国語!$U$10","v":4},{"$f":"COUNTIF([1]国語!V24,1)*[1]国語!$V$10","v":4},{"$f":"COUNTIF([1]国語!W24,1)*[1]国語!$W$10","v":4},{"$f":"COUNTIF([1]国語!X24,1)*[1]国語!$X$10","v":4},{"$f":"COUNTIF([1]国語!Y24,1)*[1]国語!$Y$10","v":4},{"$f":"COUNTIF([1]国語!Z24,1)*[1]国語!$Z$10","v":4},{"$f":"COUNTIF([1]国語!AA24,1)*[1]国語!$AA$10","v":4},{"$f":"COUNTIF([1]国語!AB24,1)*[1]国語!$AB$10","v":4},{"$f":"COUNTIF([1]国語!AC24,1)*[1]国語!$AC$10","v":4},{"$f":"COUNTIF([1]国語!AD24,1)*[1]国語!$AD$10","v":0},{"$f":"COUNTIF([1]国語!AE24,1)*[1]国語!$AE$10","v":0},{"$f":"COUNTIF([1]国語!AF24,1)*[1]国語!$AF$10","v":0},{"$f":"COUNTIF([1]国語!AG24,1)*[1]国語!$AG$10","v":0},{"$f":"COUNTIF([1]国語!AH24,1)*[1]国語!$AH$10","v":0},{"$f":"COUNTIF([1]国語!AI24,1)*[1]国語!$AI$10","v":0},{"$f":"COUNTIF([1]国語!AJ24,1)*[1]国語!$AJ$10","v":0},{"$f":"COUNTIF([1]国語!AK24,1)*[1]国語!$AK$10","v":0},{"$f":"COUNTIF([1]国語!AL24,1)*[1]国語!$AL$10","v":0},{"$f":"COUNTIF([1]国語!AM24,1)*[1]国語!$AM$10","v":0},{"$f":"COUNTIF([1]国語!AN24,1)*[1]国語!$AN$10","v":0},{"$f":"COUNTIF([1]国語!AO24,1)*[1]国語!$AO$10","v":0},{"$f":"COUNTIF([1]国語!AP24,1)*[1]国語!$AP$10","v":0},{"$f":"COUNTIF([1]国語!AQ24,1)*[1]国語!$AQ$10","v":0},{"$f":"COUNTIF([1]国語!AR24,1)*[1]国語!$AR$10","v":0},{"$f":"COUNTIF([1]国語!AS24,1)*[1]国語!$AS$10","v":0},{"$f":"COUNTIF([1]国語!AT24,1)*[1]国語!$AT$10","v":0},{"$f":"COUNTIF([1]国語!AU24,1)*[1]国語!$AU$10","v":0},{"$f":"COUNTIF([1]国語!AV24,1)*[1]国語!$AV$10","v":0},{"$f":"COUNTIF([1]国語!AW24,1)*[1]国語!$AW$10","v":0},{"$f":"COUNTIF([1]国語!AX24,1)*[1]国語!$AX$10","v":0},{"$f":"COUNTIF([1]国語!AY24,1)*[1]国語!$AY$10","v":0},{"$f":"COUNTIF([1]国語!AZ24,1)*[1]国語!$AZ$10","v":0},{"$f":"COUNTIF([1]国語!BA24,1)*[1]国語!$BA$10","v":0},{"$f":"COUNTIF([1]国語!BB24,1)*[1]国語!$BB$10","v":0},40,null,null,"14問",{"$f":"[1]国語!R58","v":23},null,"14問",84.1,null,14,4,"二Ａ","読むこと"]
[15,{"$f":"COUNTIF([1]国語!E25,1)*[1]国語!$E$10","v":0},{"$f":"COUNTIF([1]国語!F25,1)*[1]国語!$F$10","v":0},{"$f":"COUNTIF([1]国語!G25,1)*[1]国語!$G$10","v":0},{"$f":"COUNTIF([1]国語!H25,1)*[1]国語!$H$10","v":0},{"$f":"COUNTIF([1]国語!I25,1)*[1]国語!$I$10","v":0},{"$f":"COUNTIF([1]国語!J25,1)*[1]国語!$J$10","v":0},{"$f":"COUNTIF([1]国語!K25,1)*[1]国語!$F$10","v":0},{"$f":"COUNTIF([1]国語!L25,1)*[1]国語!$F$10","v":0},{"$f":"COUNTIF([1]国語!M25,1)*[1]国語!$M$10","v":0},{"$f":"COUNTIF([1]国語!N25,1)*[1]国語!$N$10","v":0},{"$f":"COUNTIF([1]国語!O25,1)*[1]国語!$O$10","v":0},{"$f":"COUNTIF([1]国語!P25,1)*[1]国語!$P$10","v":0},{"$f":"COUNTIF([1]国語!Q25,1)*[1]国語!$Q$10","v":0},{"$f":"COUNTIF([1]国語!R25,1)*[1]国語!$R$10","v":0},{"$f":"COUNTIF([1]国語!S25,1)*[1]国語!$S$10","v":0},{"$f":"COUNTIF([1]国語!T25,1)*[1]国語!$T$10","v":0},{"$f":"COUNTIF([1]国語!U25,1)*[1]国語!$U$10","v":4},{"$f":"COUNTIF([1]国語!V25,1)*[1]国語!$V$10","v":4},{"$f":"COUNTIF([1]国語!W25,1)*[1]国語!$W$10","v":4},{"$f":"COUNTIF([1]国語!X25,1)*[1]国語!$X$10","v":4},{"$f":"COUNTIF([1]国語!Y25,1)*[1]国語!$Y$10","v":4},{"$f":"COUNTIF([1]国語!Z25,1)*[1]国語!$Z$10","v":4},{"$f":"COUNTIF([1]国語!AA25,1)*[1]国語!$AA$10","v":4},{"$f":"COUNTIF([1]国語!AB25,1)*[1]国語!$AB$10","v":4},{"$f":"COUNTIF([1]国語!AC25,1)*[1]国語!$AC$10","v":4},{"$f":"COUNTIF([1]国語!AD25,1)*[1]国語!$AD$10","v":0},{"$f":"COUNTIF([1]国語!AE25,1)*[1]国語!$AE$10","v":0},{"$f":"COUNTIF([1]国語!AF25,1)*[1]国語!$AF$10","v":0},{"$f":"COUNTIF([1]国語!AG25,1)*[1]国語!$AG$10","v":0},{"$f":"COUNTIF([1]国語!AH25,1)*[1]国語!$AH$10","v":0},{"$f":"COUNTIF([1]国語!AI25,1)*[1]国語!$AI$10","v":0},{"$f":"COUNTIF([1]国語!AJ25,1)*[1]国語!$AJ$10","v":0},{"$f":"COUNTIF([1]国語!AK25,1)*[1]国語!$AK$10","v":0},{"$f":"COUNTIF([1]国語!AL25,1)*[1]国語!$AL$10","v":0},{"$f":"COUNTIF([1]国語!AM25,1)*[1]国語!$AM$10","v":0},{"$f":"COUNTIF([1]国語!AN25,1)*[1]国語!$AN$10","v":0},{"$f":"COUNTIF([1]国語!AO25,1)*[1]国語!$AO$10","v":0},{"$f":"COUNTIF([1]国語!AP25,1)*[1]国語!$AP$10","v":0},{"$f":"COUNTIF([1]国語!AQ25,1)*[1]国語!$AQ$10","v":0},{"$f":"COUNTIF([1]国語!AR25,1)*[1]国語!$AR$10","v":0},{"$f":"COUNTIF([1]国語!AS25,1)*[1]国語!$AS$10","v":0},{"$f":"COUNTIF([1]国語!AT25,1)*[1]国語!$AT$10","v":0},{"$f":"COUNTIF([1]国語!AU25,1)*[1]国語!$AU$10","v":0},{"$f":"COUNTIF([1]国語!AV25,1)*[1]国語!$AV$10","v":0},{"$f":"COUNTIF([1]国語!AW25,1)*[1]国語!$AW$10","v":0},{"$f":"COUNTIF([1]国語!AX25,1)*[1]国語!$AX$10","v":0},{"$f":"COUNTIF([1]国語!AY25,1)*[1]国語!$AY$10","v":0},{"$f":"COUNTIF([1]国語!AZ25,1)*[1]国語!$AZ$10","v":0},{"$f":"COUNTIF([1]国語!BA25,1)*[1]国語!$BA$10","v":0},{"$f":"COUNTIF([1]国語!BB25,1)*[1]国語!$BB$10","v":0},36,null,null,"15問",{"$f":"[1]国語!S58","v":25},null,"15問",88.8,null,15,4,"二B","読むこと"]
[16,{"$f":"COUNTIF([1]国語!E26,1)*[1]国語!$E$10","v":0},{"$f":"COUNTIF([1]国語!F26,1)*[1]国語!$F$10","v":0},{"$f":"COUNTIF([1]国語!G26,1)*[1]国語!$G$10","v":0},{"$f":"COUNTIF([1]国語!H26,1)*[1]国語!$H$10","v":0},{"$f":"COUNTIF([1]国語!I26,1)*[1]国語!$I$10","v":0},{"$f":"COUNTIF([1]国語!J26,1)*[1]国語!$J$10","v":0},{"$f":"COUNTIF([1]国語!K26,1)*[1]国語!$F$10","v":0},{"$f":"COUNTIF([1]国語!L26,1)*[1]国語!$F$10","v":0},{"$f":"COUNTIF([1]国語!M26,1)*[1]国語!$M$10","v":0},{"$f":"COUNTIF([1]国語!N26,1)*[1]国語!$N$10","v":0},{"$f":"COUNTIF([1]国語!O26,1)*[1]国語!$O$10","v":0},{"$f":"COUNTIF([1]国語!P26,1)*[1]国語!$P$10","v":0},{"$f":"COUNTIF([1]国語!Q26,1)*[1]国語!$Q$10","v":0},{"$f":"COUNTIF([1]国語!R26,1)*[1]国語!$R$10","v":0},{"$f":"COUNTIF([1]国語!S26,1)*[1]国語!$S$10","v":0},{"$f":"COUNTIF([1]国語!T26,1)*[1]国語!$T$10","v":0},{"$f":"COUNTIF([1]国語!U26,1)*[1]国語!$U$10","v":0},{"$f":"COUNTIF([1]国語!V26,1)*[1]国語!$V$10","v":4},{"$f":"COUNTIF([1]国語!W26,1)*[1]国語!$W$10","v":4},{"$f":"COUNTIF([1]国語!X26,1)*[1]国語!$X$10","v":4},{"$f":"COUNTIF([1]国語!Y26,1)*[1]国語!$Y$10","v":4},{"$f":"COUNTIF([1]国語!Z26,1)*[1]国語!$Z$10","v":4},{"$f":"COUNTIF([1]国語!AA26,1)*[1]国語!$AA$10","v":4},{"$f":"COUNTIF([1]国語!AB26,1)*[1]国語!$AB$10","v":4},{"$f":"COUNTIF([1]国語!AC26,1)*[1]国語!$AC$10","v":4},{"$f":"COUNTIF([1]国語!AD26,1)*[1]国語!$AD$10","v":0},{"$f":"COUNTIF([1]国語!AE26,1)*[1]国語!$AE$10","v":0},{"$f":"COUNTIF([1]国語!AF26,1)*[1]国語!$AF$10","v":0},{"$f":"COUNTIF([1]国語!AG26,1)*[1]国語!$AG$10","v":0},{"$f":"COUNTIF([1]国語!AH26,1)*[1]国語!$AH$10","v":0},{"$f":"COUNTIF([1]国語!AI26,1)*[1]国語!$AI$10","v":0},{"$f":"COUNTIF([1]国語!AJ26,1)*[1]国語!$AJ$10","v":0},{"$f":"COUNTIF([1]国語!AK26,1)*[1]国語!$AK$10","v":0},{"$f":"COUNTIF([1]国語!AL26,1)*[1]国語!$AL$10","v":0},{"$f":"COUNTIF([1]国語!AM26,1)*[1]国語!$AM$10","v":0},{"$f":"COUNTIF([1]国語!AN26,1)*[1]国語!$AN$10","v":0},{"$f":"COUNTIF([1]国語!AO26,1)*[1]国語!$AO$10","v":0},{"$f":"COUNTIF([1]国語!AP26,1)*[1]国語!$AP$10","v":0},{"$f":"COUNTIF([1]国語!AQ26,1)*[1]国語!$AQ$10","v":0},{"$f":"COUNTIF([1]国語!AR26,1)*[1]国語!$AR$10","v":0},{"$f":"COUNTIF([1]国語!AS26,1)*[1]国語!$AS$10","v":0},{"$f":"COUNTIF([1]国語!AT26,1)*[1]国語!$AT$10","v":0},{"$f":"COUNTIF([1]国語!AU26,1)*[1]国語!$AU$10","v":0},{"$f":"COUNTIF([1]国語!AV26,1)*[1]国語!$AV$10","v":0},{"$f":"COUNTIF([1]国語!AW26,1)*[1]国語!$AW$10","v":0},{"$f":"COUNTIF([1]国語!AX26,1)*[1]国語!$AX$10","v":0},{"$f":"COUNTIF([1]国語!AY26,1)*[1]国語!$AY$10","v":0},{"$f":"COUNTIF([1]国語!AZ26,1)*[1]国語!$AZ$10","v":0},{"$f":"COUNTIF([1]国語!BA26,1)*[1]国語!$BA$10","v":0},{"$f":"COUNTIF([1]国語!BB26,1)*[1]国語!$BB$10","v":0},32,null,null,"16問",{"$f":"[1]国語!T58","v":27},null,"16問",82.8,null,16,4,"三①","読むこと"]
[17,{"$f":"COUNTIF([1]国語!E27,1)*[1]国語!$E$10","v":0},{"$f":"COUNTIF([1]国語!F27,1)*[1]国語!$F$10","v":0},{"$f":"COUNTIF([1]国語!G27,1)*[1]国語!$G$10","v":0},{"$f":"COUNTIF([1]国語!H27,1)*[1]国語!$H$10","v":0},{"$f":"COUNTIF([1]国語!I27,1)*[1]国語!$I$10","v":0},{"$f":"COUNTIF([1]国語!J27,1)*[1]国語!$J$10","v":0},{"$f":"COUNTIF([1]国語!K27,1)*[1]国語!$F$10","v":0},{"$f":"COUNTIF([1]国語!L27,1)*[1]国語!$F$10","v":0},{"$f":"COUNTIF([1]国語!M27,1)*[1]国語!$M$10","v":0},{"$f":"COUNTIF([1]国語!N27,1)*[1]国語!$N$10","v":0},{"$f":"COUNTIF([1]国語!O27,1)*[1]国語!$O$10","v":0},{"$f":"COUNTIF([1]国語!P27,1)*[1]国語!$P$10","v":0},{"$f":"COUNTIF([1]国語!Q27,1)*[1]国語!$Q$10","v":0},{"$f":"COUNTIF([1]国語!R27,1)*[1]国語!$R$10","v":0},{"$f":"COUNTIF([1]国語!S27,1)*[1]国語!$S$10","v":0},{"$f":"COUNTIF([1]国語!T27,1)*[1]国語!$T$10","v":0},{"$f":"COUNTIF([1]国語!U27,1)*[1]国語!$U$10","v":0},{"$f":"COUNTIF([1]国語!V27,1)*[1]国語!$V$10","v":0},{"$f":"COUNTIF([1]国語!W27,1)*[1]国語!$W$10","v":4},{"$f":"COUNTIF([1]国語!X27,1)*[1]国語!$X$10","v":4},{"$f":"COUNTIF([1]国語!Y27,1)*[1]国語!$Y$10","v":4},{"$f":"COUNTIF([1]国語!Z27,1)*[1]国語!$Z$10","v":4},{"$f":"COUNTIF([1]国語!AA27,1)*[1]国語!$AA$10","v":4},{"$f":"COUNTIF([1]国語!AB27,1)*[1]国語!$AB$10","v":4},{"$f":"COUNTIF([1]国語!AC27,1)*[1]国語!$AC$10","v":4},{"$f":"COUNTIF([1]国語!AD27,1)*[1]国語!$AD$10","v":0},{"$f":"COUNTIF([1]国語!AE27,1)*[1]国語!$AE$10","v":0},{"$f":"COUNTIF([1]国語!AF27,1)*[1]国語!$AF$10","v":0},{"$f":"COUNTIF([1]国語!AG27,1)*[1]国語!$AG$10","v":0},{"$f":"COUNTIF([1]国語!AH27,1)*[1]国語!$AH$10","v":0},{"$f":"COUNTIF([1]国語!AI27,1)*[1]国語!$AI$10","v":0},{"$f":"COUNTIF([1]国語!AJ27,1)*[1]国語!$AJ$10","v":0},{"$f":"COUNTIF([1]国語!AK27,1)*[1]国語!$AK$10","v":0},{"$f":"COUNTIF([1]国語!AL27,1)*[1]国語!$AL$10","v":0},{"$f":"COUNTIF([1]国語!AM27,1)*[1]国語!$AM$10","v":0},{"$f":"COUNTIF([1]国語!AN27,1)*[1]国語!$AN$10","v":0},{"$f":"COUNTIF([1]国語!AO27,1)*[1]国語!$AO$10","v":0},{"$f":"COUNTIF([1]国語!AP27,1)*[1]国語!$AP$10","v":0},{"$f":"COUNTIF([1]国語!AQ27,1)*[1]国語!$AQ$10","v":0},{"$f":"COUNTIF([1]国語!AR27,1)*[1]国語!$AR$10","v":0},{"$f":"COUNTIF([1]国語!AS27,1)*[1]国語!$AS$10","v":0},{"$f":"COUNTIF([1]国語!AT27,1)*[1]国語!$AT$10","v":0},{"$f":"COUNTIF([1]国語!AU27,1)*[1]国語!$AU$10","v":0},{"$f":"COUNTIF([1]国語!AV27,1)*[1]国語!$AV$10","v":0},{"$f":"COUNTIF([1]国語!AW27,1)*[1]国語!$AW$10","v":0},{"$f":"COUNTIF([1]国語!AX27,1)*[1]国語!$AX$10","v":0},{"$f":"COUNTIF([1]国語!AY27,1)*[1]国語!$AY$10","v":0},{"$f":"COUNTIF([1]国語!AZ27,1)*[1]国語!$AZ$10","v":0},{"$f":"COUNTIF([1]国語!BA27,1)*[1]国語!$BA$10","v":0},{"$f":"COUNTIF([1]国語!BB27,1)*[1]国語!$BB$10","v":0},28,null,null,"17問",{"$f":"[1]国語!U58","v":29},null,"17問",46.7,null,17,4,"三②","読むこと"]
[18,{"$f":"COUNTIF([1]国語!E28,1)*[1]国語!$E$10","v":0},{"$f":"COUNTIF([1]国語!F28,1)*[1]国語!$F$10","v":0},{"$f":"COUNTIF([1]国語!G28,1)*[1]国語!$G$10","v":0},{"$f":"COUNTIF([1]国語!H28,1)*[1]国語!$H$10","v":0},{"$f":"COUNTIF([1]国語!I28,1)*[1]国語!$I$10","v":0},{"$f":"COUNTIF([1]国語!J28,1)*[1]国語!$J$10","v":0},{"$f":"COUNTIF([1]国語!K28,1)*[1]国語!$F$10","v":0},{"$f":"COUNTIF([1]国語!L28,1)*[1]国語!$F$10","v":0},{"$f":"COUNTIF([1]国語!M28,1)*[1]国語!$M$10","v":0},{"$f":"COUNTIF([1]国語!N28,1)*[1]国語!$N$10","v":0},{"$f":"COUNTIF([1]国語!O28,1)*[1]国語!$O$10","v":0},{"$f":"COUNTIF([1]国語!P28,1)*[1]国語!$P$10","v":0},{"$f":"COUNTIF([1]国語!Q28,1)*[1]国語!$Q$10","v":0},{"$f":"COUNTIF([1]国語!R28,1)*[1]国語!$R$10","v":0},{"$f":"COUNTIF([1]国語!S28,1)*[1]国語!$S$10","v":0},{"$f":"COUNTIF([1]国語!T28,1)*[1]国語!$T$10","v":0},{"$f":"COUNTIF([1]国語!U28,1)*[1]国語!$U$10","v":0},{"$f":"COUNTIF([1]国語!V28,1)*[1]国語!$V$10","v":0},{"$f":"COUNTIF([1]国語!W28,1)*[1]国語!$W$10","v":0},{"$f":"COUNTIF([1]国語!X28,1)*[1]国語!$X$10","v":4},{"$f":"COUNTIF([1]国語!Y28,1)*[1]国語!$Y$10","v":4},{"$f":"COUNTIF([1]国語!Z28,1)*[1]国語!$Z$10","v":4},{"$f":"COUNTIF([1]国語!AA28,1)*[1]国語!$AA$10","v":4},{"$f":"COUNTIF([1]国語!AB28,1)*[1]国語!$AB$10","v":4},{"$f":"COUNTIF([1]国語!AC28,1)*[1]国語!$AC$10","v":4},{"$f":"COUNTIF([1]国語!AD28,1)*[1]国語!$AD$10","v":0},{"$f":"COUNTIF([1]国語!AE28,1)*[1]国語!$AE$10","v":0},{"$f":"COUNTIF([1]国語!AF28,1)*[1]国語!$AF$10","v":0},{"$f":"COUNTIF([1]国語!AG28,1)*[1]国語!$AG$10","v":0},{"$f":"COUNTIF([1]国語!AH28,1)*[1]国語!$AH$10","v":0},{"$f":"COUNTIF([1]国語!AI28,1)*[1]国語!$AI$10","v":0},{"$f":"COUNTIF([1]国語!AJ28,1)*[1]国語!$AJ$10","v":0},{"$f":"COUNTIF([1]国語!AK28,1)*[1]国語!$AK$10","v":0},{"$f":"COUNTIF([1]国語!AL28,1)*[1]国語!$AL$10","v":0},{"$f":"COUNTIF([1]国語!AM28,1)*[1]国語!$AM$10","v":0},{"$f":"COUNTIF([1]国語!AN28,1)*[1]国語!$AN$10","v":0},{"$f":"COUNTIF([1]国語!AO28,1)*[1]国語!$AO$10","v":0},{"$f":"COUNTIF([1]国語!AP28,1)*[1]国語!$AP$10","v":0},{"$f":"COUNTIF([1]国語!AQ28,1)*[1]国語!$AQ$10","v":0},{"$f":"COUNTIF([1]国語!AR28,1)*[1]国語!$AR$10","v":0},{"$f":"COUNTIF([1]国語!AS28,1)*[1]国語!$AS$10","v":0},{"$f":"COUNTIF([1]国語!AT28,1)*[1]国語!$AT$10","v":0},{"$f":"COUNTIF([1]国語!AU28,1)*[1]国語!$AU$10","v":0},{"$f":"COUNTIF([1]国語!AV28,1)*[1]国語!$AV$10","v":0},{"$f":"COUNTIF([1]国語!AW28,1)*[1]国語!$AW$10","v":0},{"$f":"COUNTIF([1]国語!AX28,1)*[1]国語!$AX$10","v":0},{"$f":"COUNTIF([1]国語!AY28,1)*[1]国語!$AY$10","v":0},{"$f":"COUNTIF([1]国語!AZ28,1)*[1]国語!$AZ$10","v":0},{"$f":"COUNTIF([1]国語!BA28,1)*[1]国語!$BA$10","v":0},{"$f":"COUNTIF([1]国語!BB28,1)*[1]国語!$BB$10","v":0},24,null,null,"18問",{"$f":"[1]国語!V58","v":31},null,"18問",58.3,null,18,4,"四","読むこと"]
[19,{"$f":"COUNTIF([1]国語!E29,1)*[1]国語!$E$10","v":0},{"$f":"COUNTIF([1]国語!F29,1)*[1]国語!$F$10","v":0},{"$f":"COUNTIF([1]国語!G29,1)*[1]国語!$G$10","v":0},{"$f":"COUNTIF([1]国語!H29,1)*[1]国語!$H$10","v":0},{"$f":"COUNTIF([1]国語!I29,1)*[1]国語!$I$10","v":0},{"$f":"COUNTIF([1]国語!J29,1)*[1]国語!$J$10","v":0},{"$f":"COUNTIF([1]国語!K29,1)*[1]国語!$F$10","v":0},{"$f":"COUNTIF([1]国語!L29,1)*[1]国語!$F$10","v":0},{"$f":"COUNTIF([1]国語!M29,1)*[1]国語!$M$10","v":0},{"$f":"COUNTIF([1]国語!N29,1)*[1]国語!$N$10","v":0},{"$f":"COUNTIF([1]国語!O29,1)*[1]国語!$O$10","v":0},{"$f":"COUNTIF([1]国語!P29,1)*[1]国語!$P$10","v":0},{"$f":"COUNTIF([1]国語!Q29,1)*[1]国語!$Q$10","v":0},{"$f":"COUNTIF([1]国語!R29,1)*[1]国語!$R$10","v":0},{"$f":"COUNTIF([1]国語!S29,1)*[1]国語!$S$10","v":0},{"$f":"COUNTIF([1]国語!T29,1)*[1]国語!$T$10","v":0},{"$f":"COUNTIF([1]国語!U29,1)*[1]国語!$U$10","v":0},{"$f":"COUNTIF([1]国語!V29,1)*[1]国語!$V$10","v":0},{"$f":"COUNTIF([1]国語!W29,1)*[1]国語!$W$10","v":0},{"$f":"COUNTIF([1]国語!X29,1)*[1]国語!$X$10","v":0},{"$f":"COUNTIF([1]国語!Y29,1)*[1]国語!$Y$10","v":4},{"$f":"COUNTIF([1]国語!Z29,1)*[1]国語!$Z$10","v":4},{"$f":"COUNTIF([1]国語!AA29,1)*[1]国語!$AA$10","v":4},{"$f":"COUNTIF([1]国語!AB29,1)*[1]国語!$AB$10","v":4},{"$f":"COUNTIF([1]国語!AC29,1)*[1]国語!$AC$10","v":4},{"$f":"COUNTIF([1]国語!AD29,1)*[1]国語!$AD$10","v":0},{"$f":"COUNTIF([1]国語!AE29,1)*[1]国語!$AE$10","v":0},{"$f":"COUNTIF([1]国語!AF29,1)*[1]国語!$AF$10","v":0},{"$f":"COUNTIF([1]国語!AG29,1)*[1]国語!$AG$10","v":0},{"$f":"COUNTIF([1]国語!AH29,1)*[1]国語!$AH$10","v":0},{"$f":"COUNTIF([1]国語!AI29,1)*[1]国語!$AI$10","v":0},{"$f":"COUNTIF([1]国語!AJ29,1)*[1]国語!$AJ$10","v":0},{"$f":"COUNTIF([1]国語!AK29,1)*[1]国語!$AK$10","v":0},{"$f":"COUNTIF([1]国語!AL29,1)*[1]国語!$AL$10","v":0},{"$f":"COUNTIF([1]国語!AM29,1)*[1]国語!$AM$10","v":0},{"$f":"COUNTIF([1]国語!AN29,1)*[1]国語!$AN$10","v":0},{"$f":"COUNTIF([1]国語!AO29,1)*[1]国語!$AO$10","v":0},{"$f":"COUNTIF([1]国語!AP29,1)*[1]国語!$AP$10","v":0},{"$f":"COUNTIF([1]国語!AQ29,1)*[1]国語!$AQ$10","v":0},{"$f":"COUNTIF([1]国語!AR29,1)*[1]国語!$AR$10","v":0},{"$f":"COUNTIF([1]国語!AS29,1)*[1]国語!$AS$10","v":0},{"$f":"COUNTIF([1]国語!AT29,1)*[1]国語!$AT$10","v":0},{"$f":"COUNTIF([1]国語!AU29,1)*[1]国語!$AU$10","v":0},{"$f":"COUNTIF([1]国語!AV29,1)*[1]国語!$AV$10","v":0},{"$f":"COUNTIF([1]国語!AW29,1)*[1]国語!$AW$10","v":0},{"$f":"COUNTIF([1]国語!AX29,1)*[1]国語!$AX$10","v":0},{"$f":"COUNTIF([1]国語!AY29,1)*[1]国語!$AY$10","v":0},{"$f":"COUNTIF([1]国語!AZ29,1)*[1]国語!$AZ$10","v":0},{"$f":"COUNTIF([1]国語!BA29,1)*[1]国語!$BA$10","v":0},{"$f":"COUNTIF([1]国語!BB29,1)*[1]国語!$BB$10","v":0},20,null,null,"19問",{"$f":"[1]国語!W58","v":33},null,"19問",69.8,null,19,4,"五①","読むこと"]
[20,{"$f":"COUNTIF([1]国語!E30,1)*[1]国語!$E$10","v":0},{"$f":"COUNTIF([1]国語!F30,1)*[1]国語!$F$10","v":0},{"$f":"COUNTIF([1]国語!G30,1)*[1]国語!$G$10","v":0},{"$f":"COUNTIF([1]国語!H30,1)*[1]国語!$H$10","v":0},{"$f":"COUNTIF([1]国語!I30,1)*[1]国語!$I$10","v":0},{"$f":"COUNTIF([1]国語!J30,1)*[1]国語!$J$10","v":0},{"$f":"COUNTIF([1]国語!K30,1)*[1]国語!$F$10","v":0},{"$f":"COUNTIF([1]国語!L30,1)*[1]国語!$F$10","v":0},{"$f":"COUNTIF([1]国語!M30,1)*[1]国語!$M$10","v":0},{"$f":"COUNTIF([1]国語!N30,1)*[1]国語!$N$10","v":0},{"$f":"COUNTIF([1]国語!O30,1)*[1]国語!$O$10","v":0},{"$f":"COUNTIF([1]国語!P30,1)*[1]国語!$P$10","v":0},{"$f":"COUNTIF([1]国語!Q30,1)*[1]国語!$Q$10","v":0},{"$f":"COUNTIF([1]国語!R30,1)*[1]国語!$R$10","v":0},{"$f":"COUNTIF([1]国語!S30,1)*[1]国語!$S$10","v":0},{"$f":"COUNTIF([1]国語!T30,1)*[1]国語!$T$10","v":0},{"$f":"COUNTIF([1]国語!U30,1)*[1]国語!$U$10","v":0},{"$f":"COUNTIF([1]国語!V30,1)*[1]国語!$V$10","v":0},{"$f":"COUNTIF([1]国語!W30,1)*[1]国語!$W$10","v":0},{"$f":"COUNTIF([1]国語!X30,1)*[1]国語!$X$10","v":0},{"$f":"COUNTIF([1]国語!Y30,1)*[1]国語!$Y$10","v":0},{"$f":"COUNTIF([1]国語!Z30,1)*[1]国語!$Z$10","v":4},{"$f":"COUNTIF([1]国語!AA30,1)*[1]国語!$AA$10","v":4},{"$f":"COUNTIF([1]国語!AB30,1)*[1]国語!$AB$10","v":4},{"$f":"COUNTIF([1]国語!AC30,1)*[1]国語!$AC$10","v":4},{"$f":"COUNTIF([1]国語!AD30,1)*[1]国語!$AD$10","v":0},{"$f":"COUNTIF([1]国語!AE30,1)*[1]国語!$AE$10","v":0},{"$f":"COUNTIF([1]国語!AF30,1)*[1]国語!$AF$10","v":0},{"$f":"COUNTIF([1]国語!AG30,1)*[1]国語!$AG$10","v":0},{"$f":"COUNTIF([1]国語!AH30,1)*[1]国語!$AH$10","v":0},{"$f":"COUNTIF([1]国語!AI30,1)*[1]国語!$AI$10","v":0},{"$f":"COUNTIF([1]国語!AJ30,1)*[1]国語!$AJ$10","v":0},{"$f":"COUNTIF([1]国語!AK30,1)*[1]国語!$AK$10","v":0},{"$f":"COUNTIF([1]国語!AL30,1)*[1]国語!$AL$10","v":0},{"$f":"COUNTIF([1]国語!AM30,1)*[1]国語!$AM$10","v":0},{"$f":"COUNTIF([1]国語!AN30,1)*[1]国語!$AN$10","v":0},{"$f":"COUNTIF([1]国語!AO30,1)*[1]国語!$AO$10","v":0},{"$f":"COUNTIF([1]国語!AP30,1)*[1]国語!$AP$10","v":0},{"$f":"COUNTIF([1]国語!AQ30,1)*[1]国語!$AQ$10","v":0},{"$f":"COUNTIF([1]国語!AR30,1)*[1]国語!$AR$10","v":0},{"$f":"COUNTIF([1]国語!AS30,1)*[1]国語!$AS$10","v":0},{"$f":"COUNTIF([1]国語!AT30,1)*[1]国語!$AT$10","v":0},{"$f":"COUNTIF([1]国語!AU30,1)*[1]国語!$AU$10","v":0},{"$f":"COUNTIF([1]国語!AV30,1)*[1]国語!$AV$10","v":0},{"$f":"COUNTIF([1]国語!AW30,1)*[1]国語!$AW$10","v":0},{"$f":"COUNTIF([1]国語!AX30,1)*[1]国語!$AX$10","v":0},{"$f":"COUNTIF([1]国語!AY30,1)*[1]国語!$AY$10","v":0},{"$f":"COUNTIF([1]国語!AZ30,1)*[1]国語!$AZ$10","v":0},{"$f":"COUNTIF([1]国語!BA30,1)*[1]国語!$BA$10","v":0},{"$f":"COUNTIF([1]国語!BB30,1)*[1]国語!$BB$10","v":0},16,null,null,"20問",{"$f":"[1]国語!X58","v":35},null,"20問",83.1,null,20,4,"五②","読むこと"]
[21,{"$f":"COUNTIF([1]国語!E31,1)*[1]国語!$E$10","v":0},{"$f":"COUNTIF([1]国語!F31,1)*[1]国語!$F$10","v":0},{"$f":"COUNTIF([1]国語!G31,1)*[1]国語!$G$10","v":0},{"$f":"COUNTIF([1]国語!H31,1)*[1]国語!$H$10","v":0},{"$f":"COUNTIF([1]国語!I31,1)*[1]国語!$I$10","v":0},{"$f":"COUNTIF([1]国語!J31,1)*[1]国語!$J$10","v":0},{"$f":"COUNTIF([1]国語!K31,1)*[1]国語!$F$10","v":0},{"$f":"COUNTIF([1]国語!L31,1)*[1]国語!$F$10","v":0},{"$f":"COUNTIF([1]国語!M31,1)*[1]国語!$M$10","v":0},{"$f":"COUNTIF([1]国語!N31,1)*[1]国語!$N$10","v":0},{"$f":"COUNTIF([1]国語!O31,1)*[1]国語!$O$10","v":0},{"$f":"COUNTIF([1]国語!P31,1)*[1]国語!$P$10","v":0},{"$f":"COUNTIF([1]国語!Q31,1)*[1]国語!$Q$10","v":0},{"$f":"COUNTIF([1]国語!R31,1)*[1]国語!$R$10","v":0},{"$f":"COUNTIF([1]国語!S31,1)*[1]国語!$S$10","v":0},{"$f":"COUNTIF([1]国語!T31,1)*[1]国語!$T$10","v":0},{"$f":"COUNTIF([1]国語!U31,1)*[1]国語!$U$10","v":0},{"$f":"COUNTIF([1]国語!V31,1)*[1]国語!$V$10","v":0},{"$f":"COUNTIF([1]国語!W31,1)*[1]国語!$W$10","v":0},{"$f":"COUNTIF([1]国語!X31,1)*[1]国語!$X$10","v":0},{"$f":"COUNTIF([1]国語!Y31,1)*[1]国語!$Y$10","v":0},{"$f":"COUNTIF([1]国語!Z31,1)*[1]国語!$Z$10","v":0},{"$f":"COUNTIF([1]国語!AA31,1)*[1]国語!$AA$10","v":4},{"$f":"COUNTIF([1]国語!AB31,1)*[1]国語!$AB$10","v":4},{"$f":"COUNTIF([1]国語!AC31,1)*[1]国語!$AC$10","v":4},{"$f":"COUNTIF([1]国語!AD31,1)*[1]国語!$AD$10","v":0},{"$f":"COUNTIF([1]国語!AE31,1)*[1]国語!$AE$10","v":0},{"$f":"COUNTIF([1]国語!AF31,1)*[1]国語!$AF$10","v":0},{"$f":"COUNTIF([1]国語!AG31,1)*[1]国語!$AG$10","v":0},{"$f":"COUNTIF([1]国語!AH31,1)*[1]国語!$AH$10","v":0},{"$f":"COUNTIF([1]国語!AI31,1)*[1]国語!$AI$10","v":0},{"$f":"COUNTIF([1]国語!AJ31,1)*[1]国語!$AJ$10","v":0},{"$f":"COUNTIF([1]国語!AK31,1)*[1]国語!$AK$10","v":0},{"$f":"COUNTIF([1]国語!AL31,1)*[1]国語!$AL$10","v":0},{"$f":"COUNTIF([1]国語!AM31,1)*[1]国語!$AM$10","v":0},{"$f":"COUNTIF([1]国語!AN31,1)*[1]国語!$AN$10","v":0},{"$f":"COUNTIF([1]国語!AO31,1)*[1]国語!$AO$10","v":0},{"$f":"COUNTIF([1]国語!AP31,1)*[1]国語!$AP$10","v":0},{"$f":"COUNTIF([1]国語!AQ31,1)*[1]国語!$AQ$10","v":0},{"$f":"COUNTIF([1]国語!AR31,1)*[1]国語!$AR$10","v":0},{"$f":"COUNTIF([1]国語!AS31,1)*[1]国語!$AS$10","v":0},{"$f":"COUNTIF([1]国語!AT31,1)*[1]国語!$AT$10","v":0},{"$f":"COUNTIF([1]国語!AU31,1)*[1]国語!$AU$10","v":0},{"$f":"COUNTIF([1]国語!AV31,1)*[1]国語!$AV$10","v":0},{"$f":"COUNTIF([1]国語!AW31,1)*[1]国語!$AW$10","v":0},{"$f":"COUNTIF([1]国語!AX31,1)*[1]国語!$AX$10","v":0},{"$f":"COUNTIF([1]国語!AY31,1)*[1]国語!$AY$10","v":0},{"$f":"COUNTIF([1]国語!AZ31,1)*[1]国語!$AZ$10","v":0},{"$f":"COUNTIF([1]国語!BA31,1)*[1]国語!$BA$10","v":0},{"$f":"COUNTIF([1]国語!BB31,1)*[1]国語!$BB$10","v":0},12,null,null,"21問",{"$f":"[1]国語!Y58","v":37},null,"21問",74,null,21,5,"一","書くこと"]
[22,{"$f":"COUNTIF([1]国語!E32,1)*[1]国語!$E$10","v":0},{"$f":"COUNTIF([1]国語!F32,1)*[1]国語!$F$10","v":0},{"$f":"COUNTIF([1]国語!G32,1)*[1]国語!$G$10","v":0},{"$f":"COUNTIF([1]国語!H32,1)*[1]国語!$H$10","v":0},{"$f":"COUNTIF([1]国語!I32,1)*[1]国語!$I$10","v":0},{"$f":"COUNTIF([1]国語!J32,1)*[1]国語!$J$10","v":0},{"$f":"COUNTIF([1]国語!K32,1)*[1]国語!$F$10","v":0},{"$f":"COUNTIF([1]国語!L32,1)*[1]国語!$F$10","v":0},{"$f":"COUNTIF([1]国語!M32,1)*[1]国語!$M$10","v":0},{"$f":"COUNTIF([1]国語!N32,1)*[1]国語!$N$10","v":0},{"$f":"COUNTIF([1]国語!O32,1)*[1]国語!$O$10","v":0},{"$f":"COUNTIF([1]国語!P32,1)*[1]国語!$P$10","v":0},{"$f":"COUNTIF([1]国語!Q32,1)*[1]国語!$Q$10","v":0},{"$f":"COUNTIF([1]国語!R32,1)*[1]国語!$R$10","v":0},{"$f":"COUNTIF([1]国語!S32,1)*[1]国語!$S$10","v":0},{"$f":"COUNTIF([1]国語!T32,1)*[1]国語!$T$10","v":0},{"$f":"COUNTIF([1]国語!U32,1)*[1]国語!$U$10","v":0},{"$f":"COUNTIF([1]国語!V32,1)*[1]国語!$V$10","v":0},{"$f":"COUNTIF([1]国語!W32,1)*[1]国語!$W$10","v":0},{"$f":"COUNTIF([1]国語!X32,1)*[1]国語!$X$10","v":0},{"$f":"COUNTIF([1]国語!Y32,1)*[1]国語!$Y$10","v":0},{"$f":"COUNTIF([1]国語!Z32,1)*[1]国語!$Z$10","v":0},{"$f":"COUNTIF([1]国語!AA32,1)*[1]国語!$AA$10","v":0},{"$f":"COUNTIF([1]国語!AB32,1)*[1]国語!$AB$10","v":4},{"$f":"COUNTIF([1]国語!AC32,1)*[1]国語!$AC$10","v":4},{"$f":"COUNTIF([1]国語!AD32,1)*[1]国語!$AD$10","v":0},{"$f":"COUNTIF([1]国語!AE32,1)*[1]国語!$AE$10","v":0},{"$f":"COUNTIF([1]国語!AF32,1)*[1]国語!$AF$10","v":0},{"$f":"COUNTIF([1]国語!AG32,1)*[1]国語!$AG$10","v":0},{"$f":"COUNTIF([1]国語!AH32,1)*[1]国語!$AH$10","v":0},{"$f":"COUNTIF([1]国語!AI32,1)*[1]国語!$AI$10","v":0},{"$f":"COUNTIF([1]国語!AJ32,1)*[1]国語!$AJ$10","v":0},{"$f":"COUNTIF([1]国語!AK32,1)*[1]国語!$AK$10","v":0},{"$f":"COUNTIF([1]国語!AL32,1)*[1]国語!$AL$10","v":0},{"$f":"COUNTIF([1]国語!AM32,1)*[1]国語!$AM$10","v":0},{"$f":"COUNTIF([1]国語!AN32,1)*[1]国語!$AN$10","v":0},{"$f":"COUNTIF([1]国語!AO32,1)*[1]国語!$AO$10","v":0},{"$f":"COUNTIF([1]国語!AP32,1)*[1]国語!$AP$10","v":0},{"$f":"COUNTIF([1]国語!AQ32,1)*[1]国語!$AQ$10","v":0},{"$f":"COUNTIF([1]国語!AR32,1)*[1]国語!$AR$10","v":0},{"$f":"COUNTIF([1]国語!AS32,1)*[1]国語!$AS$10","v":0},{"$f":"COUNTIF([1]国語!AT32,1)*[1]国語!$AT$10","v":0},{"$f":"COUNTIF([1]国語!AU32,1)*[1]国語!$AU$10","v":0},{"$f":"COUNTIF([1]国語!AV32,1)*[1]国語!$AV$10","v":0},{"$f":"COUNTIF([1]国語!AW32,1)*[1]国語!$AW$10","v":0},{"$f":"COUNTIF([1]国語!AX32,1)*[1]国語!$AX$10","v":0},{"$f":"COUNTIF([1]国語!AY32,1)*[1]国語!$AY$10","v":0},{"$f":"COUNTIF([1]国語!AZ32,1)*[1]国語!$AZ$10","v":0},{"$f":"COUNTIF([1]国語!BA32,1)*[1]国語!$BA$10","v":0},{"$f":"COUNTIF([1]国語!BB32,1)*[1]国語!$BB$10","v":0},8,null,null,"22問",{"$f":"[1]国語!Z58","v":39},null,"22問",42,null,22,5,"二","書くこと"]
[23,{"$f":"COUNTIF([1]国語!E33,1)*[1]国語!$E$10","v":0},{"$f":"COUNTIF([1]国語!F33,1)*[1]国語!$F$10","v":0},{"$f":"COUNTIF([1]国語!G33,1)*[1]国語!$G$10","v":0},{"$f":"COUNTIF([1]国語!H33,1)*[1]国語!$H$10","v":0},{"$f":"COUNTIF([1]国語!I33,1)*[1]国語!$I$10","v":0},{"$f":"COUNTIF([1]国語!J33,1)*[1]国語!$J$10","v":0},{"$f":"COUNTIF([1]国語!K33,1)*[1]国語!$F$10","v":0},{"$f":"COUNTIF([1]国語!L33,1)*[1]国語!$F$10","v":0},{"$f":"COUNTIF([1]国語!M33,1)*[1]国語!$M$10","v":0},{"$f":"COUNTIF([1]国語!N33,1)*[1]国語!$N$10","v":0},{"$f":"COUNTIF([1]国語!O33,1)*[1]国語!$O$10","v":0},{"$f":"COUNTIF([1]国語!P33,1)*[1]国語!$P$10","v":0},{"$f":"COUNTIF([1]国語!Q33,1)*[1]国語!$Q$10","v":0},{"$f":"COUNTIF([1]国語!R33,1)*[1]国語!$R$10","v":0},{"$f":"COUNTIF([1]国語!S33,1)*[1]国語!$S$10","v":0},{"$f":"COUNTIF([1]国語!T33,1)*[1]国語!$T$10","v":0},{"$f":"COUNTIF([1]国語!U33,1)*[1]国語!$U$10","v":0},{"$f":"COUNTIF([1]国語!V33,1)*[1]国語!$V$10","v":0},{"$f":"COUNTIF([1]国語!W33,1)*[1]国語!$W$10","v":0},{"$f":"COUNTIF([1]国語!X33,1)*[1]国語!$X$10","v":0},{"$f":"COUNTIF([1]国語!Y33,1)*[1]国語!$Y$10","v":0},{"$f":"COUNTIF([1]国語!Z33,1)*[1]国語!$Z$10","v":0},{"$f":"COUNTIF([1]国語!AA33,1)*[1]国語!$AA$10","v":0},{"$f":"COUNTIF([1]国語!AB33,1)*[1]国語!$AB$10","v":0},{"$f":"COUNTIF([1]国語!AC33,1)*[1]国語!$AC$10","v":0},{"$f":"COUNTIF([1]国語!AD33,1)*[1]国語!$AD$10","v":0},{"$f":"COUNTIF([1]国語!AE33,1)*[1]国語!$AE$10","v":0},{"$f":"COUNTIF([1]国語!AF33,1)*[1]国語!$AF$10","v":0},{"$f":"COUNTIF([1]国語!AG33,1)*[1]国語!$AG$10","v":0},{"$f":"COUNTIF([1]国語!AH33,1)*[1]国語!$AH$10","v":0},{"$f":"COUNTIF([1]国語!AI33,1)*[1]国語!$AI$10","v":0},{"$f":"COUNTIF([1]国語!AJ33,1)*[1]国語!$AJ$10","v":0},{"$f":"COUNTIF([1]国語!AK33,1)*[1]国語!$AK$10","v":0},{"$f":"COUNTIF([1]国語!AL33,1)*[1]国語!$AL$10","v":0},{"$f":"COUNTIF([1]国語!AM33,1)*[1]国語!$AM$10","v":0},{"$f":"COUNTIF([1]国語!AN33,1)*[1]国語!$AN$10","v":0},{"$f":"COUNTIF([1]国語!AO33,1)*[1]国語!$AO$10","v":0},{"$f":"COUNTIF([1]国語!AP33,1)*[1]国語!$AP$10","v":0},{"$f":"COUNTIF([1]国語!AQ33,1)*[1]国語!$AQ$10","v":0},{"$f":"COUNTIF([1]国語!AR33,1)*[1]国語!$AR$10","v":0},{"$f":"COUNTIF([1]国語!AS33,1)*[1]国語!$AS$10","v":0},{"$f":"COUNTIF([1]国語!AT33,1)*[1]国語!$AT$10","v":0},{"$f":"COUNTIF([1]国語!AU33,1)*[1]国語!$AU$10","v":0},{"$f":"COUNTIF([1]国語!AV33,1)*[1]国語!$AV$10","v":0},{"$f":"COUNTIF([1]国語!AW33,1)*[1]国語!$AW$10","v":0},{"$f":"COUNTIF([1]国語!AX33,1)*[1]国語!$AX$10","v":0},{"$f":"COUNTIF([1]国語!AY33,1)*[1]国語!$AY$10","v":0},{"$f":"COUNTIF([1]国語!AZ33,1)*[1]国語!$AZ$10","v":0},{"$f":"COUNTIF([1]国語!BA33,1)*[1]国語!$BA$10","v":0},{"$f":"COUNTIF([1]国語!BB33,1)*[1]国語!$BB$10","v":0},0,null,null,"23問",{"$f":"[1]国語!AA58","v":41},null,"23問",28.4,null,23,5,"三　一文目","書くこと"]
[24,{"$f":"COUNTIF([1]国語!E34,1)*[1]国語!$E$10","v":0},{"$f":"COUNTIF([1]国語!F34,1)*[1]国語!$F$10","v":0},{"$f":"COUNTIF([1]国語!G34,1)*[1]国語!$G$10","v":0},{"$f":"COUNTIF([1]国語!H34,1)*[1]国語!$H$10","v":0},{"$f":"COUNTIF([1]国語!I34,1)*[1]国語!$I$10","v":0},{"$f":"COUNTIF([1]国語!J34,1)*[1]国語!$J$10","v":0},{"$f":"COUNTIF([1]国語!K34,1)*[1]国語!$F$10","v":0},{"$f":"COUNTIF([1]国語!L34,1)*[1]国語!$F$10","v":0},{"$f":"COUNTIF([1]国語!M34,1)*[1]国語!$M$10","v":0},{"$f":"COUNTIF([1]国語!N34,1)*[1]国語!$N$10","v":0},{"$f":"COUNTIF([1]国語!O34,1)*[1]国語!$O$10","v":0},{"$f":"COUNTIF([1]国語!P34,1)*[1]国語!$P$10","v":0},{"$f":"COUNTIF([1]国語!Q34,1)*[1]国語!$Q$10","v":0},{"$f":"COUNTIF([1]国語!R34,1)*[1]国語!$R$10","v":0},{"$f":"COUNTIF([1]国語!S34,1)*[1]国語!$S$10","v":0},{"$f":"COUNTIF([1]国語!T34,1)*[1]国語!$T$10","v":0},{"$f":"COUNTIF([1]国語!U34,1)*[1]国語!$U$10","v":0},{"$f":"COUNTIF([1]国語!V34,1)*[1]国語!$V$10","v":0},{"$f":"COUNTIF([1]国語!W34,1)*[1]国語!$W$10","v":0},{"$f":"COUNTIF([1]国語!X34,1)*[1]国語!$X$10","v":0},{"$f":"COUNTIF([1]国語!Y34,1)*[1]国語!$Y$10","v":0},{"$f":"COUNTIF([1]国語!Z34,1)*[1]国語!$Z$10","v":0},{"$f":"COUNTIF([1]国語!AA34,1)*[1]国語!$AA$10","v":0},{"$f":"COUNTIF([1]国語!AB34,1)*[1]国語!$AB$10","v":0},{"$f":"COUNTIF([1]国語!AC34,1)*[1]国語!$AC$10","v":4},{"$f":"COUNTIF([1]国語!AD34,1)*[1]国語!$AD$10","v":0},{"$f":"COUNTIF([1]国語!AE34,1)*[1]国語!$AE$10","v":0},{"$f":"COUNTIF([1]国語!AF34,1)*[1]国語!$AF$10","v":0},{"$f":"COUNTIF([1]国語!AG34,1)*[1]国語!$AG$10","v":0},{"$f":"COUNTIF([1]国語!AH34,1)*[1]国語!$AH$10","v":0},{"$f":"COUNTIF([1]国語!AI34,1)*[1]国語!$AI$10","v":0},{"$f":"COUNTIF([1]国語!AJ34,1)*[1]国語!$AJ$10","v":0},{"$f":"COUNTIF([1]国語!AK34,1)*[1]国語!$AK$10","v":0},{"$f":"COUNTIF([1]国語!AL34,1)*[1]国語!$AL$10","v":0},{"$f":"COUNTIF([1]国語!AM34,1)*[1]国語!$AM$10","v":0},{"$f":"COUNTIF([1]国語!AN34,1)*[1]国語!$AN$10","v":0},{"$f":"COUNTIF([1]国語!AO34,1)*[1]国語!$AO$10","v":0},{"$f":"COUNTIF([1]国語!AP34,1)*[1]国語!$AP$10","v":0},{"$f":"COUNTIF([1]国語!AQ34,1)*[1]国語!$AQ$10","v":0},{"$f":"COUNTIF([1]国語!AR34,1)*[1]国語!$AR$10","v":0},{"$f":"COUNTIF([1]国語!AS34,1)*[1]国語!$AS$10","v":0},{"$f":"COUNTIF([1]国語!AT34,1)*[1]国語!$AT$10","v":0},{"$f":"COUNTIF([1]国語!AU34,1)*[1]国語!$AU$10","v":0},{"$f":"COUNTIF([1]国語!AV34,1)*[1]国語!$AV$10","v":0},{"$f":"COUNTIF([1]国語!AW34,1)*[1]国語!$AW$10","v":0},{"$f":"COUNTIF([1]国語!AX34,1)*[1]国語!$AX$10","v":0},{"$f":"COUNTIF([1]国語!AY34,1)*[1]国語!$AY$10","v":0},{"$f":"COUNTIF([1]国語!AZ34,1)*[1]国語!$AZ$10","v":0},{"$f":"COUNTIF([1]国語!BA34,1)*[1]国語!$BA$10","v":0},{"$f":"COUNTIF([1]国語!BB34,1)*[1]国語!$BB$10","v":0},4,null,null,"24問",{"$f":"[1]国語!AB58","v":43},null,"24問",39.6,null,24,5,"三　二文目","書くこと"]
[25,{"$f":"COUNTIF([1]国語!E35,1)*[1]国語!$E$10","v":0},{"$f":"COUNTIF([1]国語!F35,1)*[1]国語!$F$10","v":0},{"$f":"COUNTIF([1]国語!G35,1)*[1]国語!$G$10","v":0},{"$f":"COUNTIF([1]国語!H35,1)*[1]国語!$H$10","v":0},{"$f":"COUNTIF([1]国語!I35,1)*[1]国語!$I$10","v":0},{"$f":"COUNTIF([1]国語!J35,1)*[1]国語!$J$10","v":0},{"$f":"COUNTIF([1]国語!K35,1)*[1]国語!$F$10","v":0},{"$f":"COUNTIF([1]国語!L35,1)*[1]国語!$F$10","v":0},{"$f":"COUNTIF([1]国語!M35,1)*[1]国語!$M$10","v":0},{"$f":"COUNTIF([1]国語!N35,1)*[1]国語!$N$10","v":0},{"$f":"COUNTIF([1]国語!O35,1)*[1]国語!$O$10","v":0},{"$f":"COUNTIF([1]国語!P35,1)*[1]国語!$P$10","v":0},{"$f":"COUNTIF([1]国語!Q35,1)*[1]国語!$Q$10","v":0},{"$f":"COUNTIF([1]国語!R35,1)*[1]国語!$R$10","v":0},{"$f":"COUNTIF([1]国語!S35,1)*[1]国語!$S$10","v":0},{"$f":"COUNTIF([1]国語!T35,1)*[1]国語!$T$10","v":0},{"$f":"COUNTIF([1]国語!U35,1)*[1]国語!$U$10","v":0},{"$f":"COUNTIF([1]国語!V35,1)*[1]国語!$V$10","v":0},{"$f":"COUNTIF([1]国語!W35,1)*[1]国語!$W$10","v":0},{"$f":"COUNTIF([1]国語!X35,1)*[1]国語!$X$10","v":0},{"$f":"COUNTIF([1]国語!Y35,1)*[1]国語!$Y$10","v":0},{"$f":"COUNTIF([1]国語!Z35,1)*[1]国語!$Z$10","v":0},{"$f":"COUNTIF([1]国語!AA35,1)*[1]国語!$AA$10","v":0},{"$f":"COUNTIF([1]国語!AB35,1)*[1]国語!$AB$10","v":4},{"$f":"COUNTIF([1]国語!AC35,1)*[1]国語!$AC$10","v":4},{"$f":"COUNTIF([1]国語!AD35,1)*[1]国語!$AD$10","v":0},{"$f":"COUNTIF([1]国語!AE35,1)*[1]国語!$AE$10","v":0},{"$f":"COUNTIF([1]国語!AF35,1)*[1]国語!$AF$10","v":0},{"$f":"COUNTIF([1]国語!AG35,1)*[1]国語!$AG$10","v":0},{"$f":"COUNTIF([1]国語!AH35,1)*[1]国語!$AH$10","v":0},{"$f":"COUNTIF([1]国語!AI35,1)*[1]国語!$AI$10","v":0},{"$f":"COUNTIF([1]国語!AJ35,1)*[1]国語!$AJ$10","v":0},{"$f":"COUNTIF([1]国語!AK35,1)*[1]国語!$AK$10","v":0},{"$f":"COUNTIF([1]国語!AL35,1)*[1]国語!$AL$10","v":0},{"$f":"COUNTIF([1]国語!AM35,1)*[1]国語!$AM$10","v":0},{"$f":"COUNTIF([1]国語!AN35,1)*[1]国語!$AN$10","v":0},{"$f":"COUNTIF([1]国語!AO35,1)*[1]国語!$AO$10","v":0},{"$f":"COUNTIF([1]国語!AP35,1)*[1]国語!$AP$10","v":0},{"$f":"COUNTIF([1]国語!AQ35,1)*[1]国語!$AQ$10","v":0},{"$f":"COUNTIF([1]国語!AR35,1)*[1]国語!$AR$10","v":0},{"$f":"COUNTIF([1]国語!AS35,1)*[1]国語!$AS$10","v":0},{"$f":"COUNTIF([1]国語!AT35,1)*[1]国語!$AT$10","v":0},{"$f":"COUNTIF([1]国語!AU35,1)*[1]国語!$AU$10","v":0},{"$f":"COUNTIF([1]国語!AV35,1)*[1]国語!$AV$10","v":0},{"$f":"COUNTIF([1]国語!AW35,1)*[1]国語!$AW$10","v":0},{"$f":"COUNTIF([1]国語!AX35,1)*[1]国語!$AX$10","v":0},{"$f":"COUNTIF([1]国語!AY35,1)*[1]国語!$AY$10","v":0},{"$f":"COUNTIF([1]国語!AZ35,1)*[1]国語!$AZ$10","v":0},{"$f":"COUNTIF([1]国語!BA35,1)*[1]国語!$BA$10","v":0},{"$f":"COUNTIF([1]国語!BB35,1)*[1]国語!$BB$10","v":0},8,null,null,"25問",{"$f":"[1]国語!AC58","v":44},null,"25問",56.699999999999996,null,25,5,"四","書くこと"]
[26,{"$f":"COUNTIF([1]国語!E36,1)*[1]国語!$E$10","v":0},{"$f":"COUNTIF([1]国語!F36,1)*[1]国語!$F$10","v":0},{"$f":"COUNTIF([1]国語!G36,1)*[1]国語!$G$10","v":0},{"$f":"COUNTIF([1]国語!H36,1)*[1]国語!$H$10","v":0},{"$f":"COUNTIF([1]国語!I36,1)*[1]国語!$I$10","v":0},{"$f":"COUNTIF([1]国語!J36,1)*[1]国語!$J$10","v":0},{"$f":"COUNTIF([1]国語!K36,1)*[1]国語!$F$10","v":0},{"$f":"COUNTIF([1]国語!L36,1)*[1]国語!$F$10","v":0},{"$f":"COUNTIF([1]国語!M36,1)*[1]国語!$M$10","v":0},{"$f":"COUNTIF([1]国語!N36,1)*[1]国語!$N$10","v":0},{"$f":"COUNTIF([1]国語!O36,1)*[1]国語!$O$10","v":0},{"$f":"COUNTIF([1]国語!P36,1)*[1]国語!$P$10","v":0},{"$f":"COUNTIF([1]国語!Q36,1)*[1]国語!$Q$10","v":0},{"$f":"COUNTIF([1]国語!R36,1)*[1]国語!$R$10","v":0},{"$f":"COUNTIF([1]国語!S36,1)*[1]国語!$S$10","v":0},{"$f":"COUNTIF([1]国語!T36,1)*[1]国語!$T$10","v":0},{"$f":"COUNTIF([1]国語!U36,1)*[1]国語!$U$10","v":0},{"$f":"COUNTIF([1]国語!V36,1)*[1]国語!$V$10","v":0},{"$f":"COUNTIF([1]国語!W36,1)*[1]国語!$W$10","v":0},{"$f":"COUNTIF([1]国語!X36,1)*[1]国語!$X$10","v":0},{"$f":"COUNTIF([1]国語!Y36,1)*[1]国語!$Y$10","v":0},{"$f":"COUNTIF([1]国語!Z36,1)*[1]国語!$Z$10","v":0},{"$f":"COUNTIF([1]国語!AA36,1)*[1]国語!$AA$10","v":4},{"$f":"COUNTIF([1]国語!AB36,1)*[1]国語!$AB$10","v":4},{"$f":"COUNTIF([1]国語!AC36,1)*[1]国語!$AC$10","v":4},{"$f":"COUNTIF([1]国語!AD36,1)*[1]国語!$AD$10","v":0},{"$f":"COUNTIF([1]国語!AE36,1)*[1]国語!$AE$10","v":0},{"$f":"COUNTIF([1]国語!AF36,1)*[1]国語!$AF$10","v":0},{"$f":"COUNTIF([1]国語!AG36,1)*[1]国語!$AG$10","v":0},{"$f":"COUNTIF([1]国語!AH36,1)*[1]国語!$AH$10","v":0},{"$f":"COUNTIF([1]国語!AI36,1)*[1]国語!$AI$10","v":0},{"$f":"COUNTIF([1]国語!AJ36,1)*[1]国語!$AJ$10","v":0},{"$f":"COUNTIF([1]国語!AK36,1)*[1]国語!$AK$10","v":0},{"$f":"COUNTIF([1]国語!AL36,1)*[1]国語!$AL$10","v":0},{"$f":"COUNTIF([1]国語!AM36,1)*[1]国語!$AM$10","v":0},{"$f":"COUNTIF([1]国語!AN36,1)*[1]国語!$AN$10","v":0},{"$f":"COUNTIF([1]国語!AO36,1)*[1]国語!$AO$10","v":0},{"$f":"COUNTIF([1]国語!AP36,1)*[1]国語!$AP$10","v":0},{"$f":"COUNTIF([1]国語!AQ36,1)*[1]国語!$AQ$10","v":0},{"$f":"COUNTIF([1]国語!AR36,1)*[1]国語!$AR$10","v":0},{"$f":"COUNTIF([1]国語!AS36,1)*[1]国語!$AS$10","v":0},{"$f":"COUNTIF([1]国語!AT36,1)*[1]国語!$AT$10","v":0},{"$f":"COUNTIF([1]国語!AU36,1)*[1]国語!$AU$10","v":0},{"$f":"COUNTIF([1]国語!AV36,1)*[1]国語!$AV$10","v":0},{"$f":"COUNTIF([1]国語!AW36,1)*[1]国語!$AW$10","v":0},{"$f":"COUNTIF([1]国語!AX36,1)*[1]国語!$AX$10","v":0},{"$f":"COUNTIF([1]国語!AY36,1)*[1]国語!$AY$10","v":0},{"$f":"COUNTIF([1]国語!AZ36,1)*[1]国語!$AZ$10","v":0},{"$f":"COUNTIF([1]国語!BA36,1)*[1]国語!$BA$10","v":0},{"$f":"COUNTIF([1]国語!BB36,1)*[1]国語!$BB$10","v":0},12,null,null,"26問",{"$f":"[1]国語!AD58","v":0},null,"26問",null,null,26]
[27,{"$f":"COUNTIF([1]国語!E37,1)*[1]国語!$E$10","v":0},{"$f":"COUNTIF([1]国語!F37,1)*[1]国語!$F$10","v":0},{"$f":"COUNTIF([1]国語!G37,1)*[1]国語!$G$10","v":0},{"$f":"COUNTIF([1]国語!H37,1)*[1]国語!$H$10","v":0},{"$f":"COUNTIF([1]国語!I37,1)*[1]国語!$I$10","v":0},{"$f":"COUNTIF([1]国語!J37,1)*[1]国語!$J$10","v":0},{"$f":"COUNTIF([1]国語!K37,1)*[1]国語!$F$10","v":0},{"$f":"COUNTIF([1]国語!L37,1)*[1]国語!$F$10","v":0},{"$f":"COUNTIF([1]国語!M37,1)*[1]国語!$M$10","v":0},{"$f":"COUNTIF([1]国語!N37,1)*[1]国語!$N$10","v":0},{"$f":"COUNTIF([1]国語!O37,1)*[1]国語!$O$10","v":0},{"$f":"COUNTIF([1]国語!P37,1)*[1]国語!$P$10","v":0},{"$f":"COUNTIF([1]国語!Q37,1)*[1]国語!$Q$10","v":0},{"$f":"COUNTIF([1]国語!R37,1)*[1]国語!$R$10","v":0},{"$f":"COUNTIF([1]国語!S37,1)*[1]国語!$S$10","v":0},{"$f":"COUNTIF([1]国語!T37,1)*[1]国語!$T$10","v":0},{"$f":"COUNTIF([1]国語!U37,1)*[1]国語!$U$10","v":0},{"$f":"COUNTIF([1]国語!V37,1)*[1]国語!$V$10","v":0},{"$f":"COUNTIF([1]国語!W37,1)*[1]国語!$W$10","v":0},{"$f":"COUNTIF([1]国語!X37,1)*[1]国語!$X$10","v":0},{"$f":"COUNTIF([1]国語!Y37,1)*[1]国語!$Y$10","v":0},{"$f":"COUNTIF([1]国語!Z37,1)*[1]国語!$Z$10","v":4},{"$f":"COUNTIF([1]国語!AA37,1)*[1]国語!$AA$10","v":4},{"$f":"COUNTIF([1]国語!AB37,1)*[1]国語!$AB$10","v":4},{"$f":"COUNTIF([1]国語!AC37,1)*[1]国語!$AC$10","v":4},{"$f":"COUNTIF([1]国語!AD37,1)*[1]国語!$AD$10","v":0},{"$f":"COUNTIF([1]国語!AE37,1)*[1]国語!$AE$10","v":0},{"$f":"COUNTIF([1]国語!AF37,1)*[1]国語!$AF$10","v":0},{"$f":"COUNTIF([1]国語!AG37,1)*[1]国語!$AG$10","v":0},{"$f":"COUNTIF([1]国語!AH37,1)*[1]国語!$AH$10","v":0},{"$f":"COUNTIF([1]国語!AI37,1)*[1]国語!$AI$10","v":0},{"$f":"COUNTIF([1]国語!AJ37,1)*[1]国語!$AJ$10","v":0},{"$f":"COUNTIF([1]国語!AK37,1)*[1]国語!$AK$10","v":0},{"$f":"COUNTIF([1]国語!AL37,1)*[1]国語!$AL$10","v":0},{"$f":"COUNTIF([1]国語!AM37,1)*[1]国語!$AM$10","v":0},{"$f":"COUNTIF([1]国語!AN37,1)*[1]国語!$AN$10","v":0},{"$f":"COUNTIF([1]国語!AO37,1)*[1]国語!$AO$10","v":0},{"$f":"COUNTIF([1]国語!AP37,1)*[1]国語!$AP$10","v":0},{"$f":"COUNTIF([1]国語!AQ37,1)*[1]国語!$AQ$10","v":0},{"$f":"COUNTIF([1]国語!AR37,1)*[1]国語!$AR$10","v":0},{"$f":"COUNTIF([1]国語!AS37,1)*[1]国語!$AS$10","v":0},{"$f":"COUNTIF([1]国語!AT37,1)*[1]国語!$AT$10","v":0},{"$f":"COUNTIF([1]国語!AU37,1)*[1]国語!$AU$10","v":0},{"$f":"COUNTIF([1]国語!AV37,1)*[1]国語!$AV$10","v":0},{"$f":"COUNTIF([1]国語!AW37,1)*[1]国語!$AW$10","v":0},{"$f":"COUNTIF([1]国語!AX37,1)*[1]国語!$AX$10","v":0},{"$f":"COUNTIF([1]国語!AY37,1)*[1]国語!$AY$10","v":0},{"$f":"COUNTIF([1]国語!AZ37,1)*[1]国語!$AZ$10","v":0},{"$f":"COUNTIF([1]国語!BA37,1)*[1]国語!$BA$10","v":0},{"$f":"COUNTIF([1]国語!BB37,1)*[1]国語!$BB$10","v":0},16,null,null,"27問",{"$f":"[1]国語!AE58","v":0},null,"27問",null,null,27]
[28,{"$f":"COUNTIF([1]国語!E38,1)*[1]国語!$E$10","v":0},{"$f":"COUNTIF([1]国語!F38,1)*[1]国語!$F$10","v":0},{"$f":"COUNTIF([1]国語!G38,1)*[1]国語!$G$10","v":0},{"$f":"COUNTIF([1]国語!H38,1)*[1]国語!$H$10","v":0},{"$f":"COUNTIF([1]国語!I38,1)*[1]国語!$I$10","v":0},{"$f":"COUNTIF([1]国語!J38,1)*[1]国語!$J$10","v":0},{"$f":"COUNTIF([1]国語!K38,1)*[1]国語!$F$10","v":0},{"$f":"COUNTIF([1]国語!L38,1)*[1]国語!$F$10","v":0},{"$f":"COUNTIF([1]国語!M38,1)*[1]国語!$M$10","v":0},{"$f":"COUNTIF([1]国語!N38,1)*[1]国語!$N$10","v":0},{"$f":"COUNTIF([1]国語!O38,1)*[1]国語!$O$10","v":0},{"$f":"COUNTIF([1]国語!P38,1)*[1]国語!$P$10","v":0},{"$f":"COUNTIF([1]国語!Q38,1)*[1]国語!$Q$10","v":0},{"$f":"COUNTIF([1]国語!R38,1)*[1]国語!$R$10","v":0},{"$f":"COUNTIF([1]国語!S38,1)*[1]国語!$S$10","v":0},{"$f":"COUNTIF([1]国語!T38,1)*[1]国語!$T$10","v":0},{"$f":"COUNTIF([1]国語!U38,1)*[1]国語!$U$10","v":0},{"$f":"COUNTIF([1]国語!V38,1)*[1]国語!$V$10","v":0},{"$f":"COUNTIF([1]国語!W38,1)*[1]国語!$W$10","v":0},{"$f":"COUNTIF([1]国語!X38,1)*[1]国語!$X$10","v":0},{"$f":"COUNTIF([1]国語!Y38,1)*[1]国語!$Y$10","v":4},{"$f":"COUNTIF([1]国語!Z38,1)*[1]国語!$Z$10","v":4},{"$f":"COUNTIF([1]国語!AA38,1)*[1]国語!$AA$10","v":4},{"$f":"COUNTIF([1]国語!AB38,1)*[1]国語!$AB$10","v":4},{"$f":"COUNTIF([1]国語!AC38,1)*[1]国語!$AC$10","v":4},{"$f":"COUNTIF([1]国語!AD38,1)*[1]国語!$AD$10","v":0},{"$f":"COUNTIF([1]国語!AE38,1)*[1]国語!$AE$10","v":0},{"$f":"COUNTIF([1]国語!AF38,1)*[1]国語!$AF$10","v":0},{"$f":"COUNTIF([1]国語!AG38,1)*[1]国語!$AG$10","v":0},{"$f":"COUNTIF([1]国語!AH38,1)*[1]国語!$AH$10","v":0},{"$f":"COUNTIF([1]国語!AI38,1)*[1]国語!$AI$10","v":0},{"$f":"COUNTIF([1]国語!AJ38,1)*[1]国語!$AJ$10","v":0},{"$f":"COUNTIF([1]国語!AK38,1)*[1]国語!$AK$10","v":0},{"$f":"COUNTIF([1]国語!AL38,1)*[1]国語!$AL$10","v":0},{"$f":"COUNTIF([1]国語!AM38,1)*[1]国語!$AM$10","v":0},{"$f":"COUNTIF([1]国語!AN38,1)*[1]国語!$AN$10","v":0},{"$f":"COUNTIF([1]国語!AO38,1)*[1]国語!$AO$10","v":0},{"$f":"COUNTIF([1]国語!AP38,1)*[1]国語!$AP$10","v":0},{"$f":"COUNTIF([1]国語!AQ38,1)*[1]国語!$AQ$10","v":0},{"$f":"COUNTIF([1]国語!AR38,1)*[1]国語!$AR$10","v":0},{"$f":"COUNTIF([1]国語!AS38,1)*[1]国語!$AS$10","v":0},{"$f":"COUNTIF([1]国語!AT38,1)*[1]国語!$AT$10","v":0},{"$f":"COUNTIF([1]国語!AU38,1)*[1]国語!$AU$10","v":0},{"$f":"COUNTIF([1]国語!AV38,1)*[1]国語!$AV$10","v":0},{"$f":"COUNTIF([1]国語!AW38,1)*[1]国語!$AW$10","v":0},{"$f":"COUNTIF([1]国語!AX38,1)*[1]国語!$AX$10","v":0},{"$f":"COUNTIF([1]国語!AY38,1)*[1]国語!$AY$10","v":0},{"$f":"COUNTIF([1]国語!AZ38,1)*[1]国語!$AZ$10","v":0},{"$f":"COUNTIF([1]国語!BA38,1)*[1]国語!$BA$10","v":0},{"$f":"COUNTIF([1]国語!BB38,1)*[1]国語!$BB$10","v":0},20,null,null,"28問",{"$f":"[1]国語!AF58","v":0},null,"28問",null,null,28]
[29,{"$f":"COUNTIF([1]国語!E39,1)*[1]国語!$E$10","v":0},{"$f":"COUNTIF([1]国語!F39,1)*[1]国語!$F$10","v":0},{"$f":"COUNTIF([1]国語!G39,1)*[1]国語!$G$10","v":0},{"$f":"COUNTIF([1]国語!H39,1)*[1]国語!$H$10","v":0},{"$f":"COUNTIF([1]国語!I39,1)*[1]国語!$I$10","v":0},{"$f":"COUNTIF([1]国語!J39,1)*[1]国語!$J$10","v":0},{"$f":"COUNTIF([1]国語!K39,1)*[1]国語!$F$10","v":0},{"$f":"COUNTIF([1]国語!L39,1)*[1]国語!$F$10","v":0},{"$f":"COUNTIF([1]国語!M39,1)*[1]国語!$M$10","v":0},{"$f":"COUNTIF([1]国語!N39,1)*[1]国語!$N$10","v":0},{"$f":"COUNTIF([1]国語!O39,1)*[1]国語!$O$10","v":0},{"$f":"COUNTIF([1]国語!P39,1)*[1]国語!$P$10","v":0},{"$f":"COUNTIF([1]国語!Q39,1)*[1]国語!$Q$10","v":0},{"$f":"COUNTIF([1]国語!R39,1)*[1]国語!$R$10","v":0},{"$f":"COUNTIF([1]国語!S39,1)*[1]国語!$S$10","v":0},{"$f":"COUNTIF([1]国語!T39,1)*[1]国語!$T$10","v":0},{"$f":"COUNTIF([1]国語!U39,1)*[1]国語!$U$10","v":0},{"$f":"COUNTIF([1]国語!V39,1)*[1]国語!$V$10","v":0},{"$f":"COUNTIF([1]国語!W39,1)*[1]国語!$W$10","v":0},{"$f":"COUNTIF([1]国語!X39,1)*[1]国語!$X$10","v":4},{"$f":"COUNTIF([1]国語!Y39,1)*[1]国語!$Y$10","v":4},{"$f":"COUNTIF([1]国語!Z39,1)*[1]国語!$Z$10","v":4},{"$f":"COUNTIF([1]国語!AA39,1)*[1]国語!$AA$10","v":4},{"$f":"COUNTIF([1]国語!AB39,1)*[1]国語!$AB$10","v":4},{"$f":"COUNTIF([1]国語!AC39,1)*[1]国語!$AC$10","v":4},{"$f":"COUNTIF([1]国語!AD39,1)*[1]国語!$AD$10","v":0},{"$f":"COUNTIF([1]国語!AE39,1)*[1]国語!$AE$10","v":0},{"$f":"COUNTIF([1]国語!AF39,1)*[1]国語!$AF$10","v":0},{"$f":"COUNTIF([1]国語!AG39,1)*[1]国語!$AG$10","v":0},{"$f":"COUNTIF([1]国語!AH39,1)*[1]国語!$AH$10","v":0},{"$f":"COUNTIF([1]国語!AI39,1)*[1]国語!$AI$10","v":0},{"$f":"COUNTIF([1]国語!AJ39,1)*[1]国語!$AJ$10","v":0},{"$f":"COUNTIF([1]国語!AK39,1)*[1]国語!$AK$10","v":0},{"$f":"COUNTIF([1]国語!AL39,1)*[1]国語!$AL$10","v":0},{"$f":"COUNTIF([1]国語!AM39,1)*[1]国語!$AM$10","v":0},{"$f":"COUNTIF([1]国語!AN39,1)*[1]国語!$AN$10","v":0},{"$f":"COUNTIF([1]国語!AO39,1)*[1]国語!$AO$10","v":0},{"$f":"COUNTIF([1]国語!AP39,1)*[1]国語!$AP$10","v":0},{"$f":"COUNTIF([1]国語!AQ39,1)*[1]国語!$AQ$10","v":0},{"$f":"COUNTIF([1]国語!AR39,1)*[1]国語!$AR$10","v":0},{"$f":"COUNTIF([1]国語!AS39,1)*[1]国語!$AS$10","v":0},{"$f":"COUNTIF([1]国語!AT39,1)*[1]国語!$AT$10","v":0},{"$f":"COUNTIF([1]国語!AU39,1)*[1]国語!$AU$10","v":0},{"$f":"COUNTIF([1]国語!AV39,1)*[1]国語!$AV$10","v":0},{"$f":"COUNTIF([1]国語!AW39,1)*[1]国語!$AW$10","v":0},{"$f":"COUNTIF([1]国語!AX39,1)*[1]国語!$AX$10","v":0},{"$f":"COUNTIF([1]国語!AY39,1)*[1]国語!$AY$10","v":0},{"$f":"COUNTIF([1]国語!AZ39,1)*[1]国語!$AZ$10","v":0},{"$f":"COUNTIF([1]国語!BA39,1)*[1]国語!$BA$10","v":0},{"$f":"COUNTIF([1]国語!BB39,1)*[1]国語!$BB$10","v":0},24,null,null,"29問",{"$f":"[1]国語!AG58","v":0},null,"29問",null,null,29]
[30,{"$f":"COUNTIF([1]国語!E40,1)*[1]国語!$E$10","v":0},{"$f":"COUNTIF([1]国語!F40,1)*[1]国語!$F$10","v":0},{"$f":"COUNTIF([1]国語!G40,1)*[1]国語!$G$10","v":0},{"$f":"COUNTIF([1]国語!H40,1)*[1]国語!$H$10","v":0},{"$f":"COUNTIF([1]国語!I40,1)*[1]国語!$I$10","v":0},{"$f":"COUNTIF([1]国語!J40,1)*[1]国語!$J$10","v":0},{"$f":"COUNTIF([1]国語!K40,1)*[1]国語!$F$10","v":0},{"$f":"COUNTIF([1]国語!L40,1)*[1]国語!$F$10","v":0},{"$f":"COUNTIF([1]国語!M40,1)*[1]国語!$M$10","v":0},{"$f":"COUNTIF([1]国語!N40,1)*[1]国語!$N$10","v":0},{"$f":"COUNTIF([1]国語!O40,1)*[1]国語!$O$10","v":0},{"$f":"COUNTIF([1]国語!P40,1)*[1]国語!$P$10","v":0},{"$f":"COUNTIF([1]国語!Q40,1)*[1]国語!$Q$10","v":0},{"$f":"COUNTIF([1]国語!R40,1)*[1]国語!$R$10","v":0},{"$f":"COUNTIF([1]国語!S40,1)*[1]国語!$S$10","v":0},{"$f":"COUNTIF([1]国語!T40,1)*[1]国語!$T$10","v":0},{"$f":"COUNTIF([1]国語!U40,1)*[1]国語!$U$10","v":0},{"$f":"COUNTIF([1]国語!V40,1)*[1]国語!$V$10","v":0},{"$f":"COUNTIF([1]国語!W40,1)*[1]国語!$W$10","v":4},{"$f":"COUNTIF([1]国語!X40,1)*[1]国語!$X$10","v":4},{"$f":"COUNTIF([1]国語!Y40,1)*[1]国語!$Y$10","v":4},{"$f":"COUNTIF([1]国語!Z40,1)*[1]国語!$Z$10","v":4},{"$f":"COUNTIF([1]国語!AA40,1)*[1]国語!$AA$10","v":4},{"$f":"COUNTIF([1]国語!AB40,1)*[1]国語!$AB$10","v":4},{"$f":"COUNTIF([1]国語!AC40,1)*[1]国語!$AC$10","v":4},{"$f":"COUNTIF([1]国語!AD40,1)*[1]国語!$AD$10","v":0},{"$f":"COUNTIF([1]国語!AE40,1)*[1]国語!$AE$10","v":0},{"$f":"COUNTIF([1]国語!AF40,1)*[1]国語!$AF$10","v":0},{"$f":"COUNTIF([1]国語!AG40,1)*[1]国語!$AG$10","v":0},{"$f":"COUNTIF([1]国語!AH40,1)*[1]国語!$AH$10","v":0},{"$f":"COUNTIF([1]国語!AI40,1)*[1]国語!$AI$10","v":0},{"$f":"COUNTIF([1]国語!AJ40,1)*[1]国語!$AJ$10","v":0},{"$f":"COUNTIF([1]国語!AK40,1)*[1]国語!$AK$10","v":0},{"$f":"COUNTIF([1]国語!AL40,1)*[1]国語!$AL$10","v":0},{"$f":"COUNTIF([1]国語!AM40,1)*[1]国語!$AM$10","v":0},{"$f":"COUNTIF([1]国語!AN40,1)*[1]国語!$AN$10","v":0},{"$f":"COUNTIF([1]国語!AO40,1)*[1]国語!$AO$10","v":0},{"$f":"COUNTIF([1]国語!AP40,1)*[1]国語!$AP$10","v":0},{"$f":"COUNTIF([1]国語!AQ40,1)*[1]国語!$AQ$10","v":0},{"$f":"COUNTIF([1]国語!AR40,1)*[1]国語!$AR$10","v":0},{"$f":"COUNTIF([1]国語!AS40,1)*[1]国語!$AS$10","v":0},{"$f":"COUNTIF([1]国語!AT40,1)*[1]国語!$AT$10","v":0},{"$f":"COUNTIF([1]国語!AU40,1)*[1]国語!$AU$10","v":0},{"$f":"COUNTIF([1]国語!AV40,1)*[1]国語!$AV$10","v":0},{"$f":"COUNTIF([1]国語!AW40,1)*[1]国語!$AW$10","v":0},{"$f":"COUNTIF([1]国語!AX40,1)*[1]国語!$AX$10","v":0},{"$f":"COUNTIF([1]国語!AY40,1)*[1]国語!$AY$10","v":0},{"$f":"COUNTIF([1]国語!AZ40,1)*[1]国語!$AZ$10","v":0},{"$f":"COUNTIF([1]国語!BA40,1)*[1]国語!$BA$10","v":0},{"$f":"COUNTIF([1]国語!BB40,1)*[1]国語!$BB$10","v":0},28,null,null,"30問",{"$f":"[1]国語!AH58","v":0},null,"30問",null,null,30]
[31,{"$f":"COUNTIF([1]国語!E41,1)*[1]国語!$E$10","v":0},{"$f":"COUNTIF([1]国語!F41,1)*[1]国語!$F$10","v":0},{"$f":"COUNTIF([1]国語!G41,1)*[1]国語!$G$10","v":0},{"$f":"COUNTIF([1]国語!H41,1)*[1]国語!$H$10","v":0},{"$f":"COUNTIF([1]国語!I41,1)*[1]国語!$I$10","v":0},{"$f":"COUNTIF([1]国語!J41,1)*[1]国語!$J$10","v":0},{"$f":"COUNTIF([1]国語!K41,1)*[1]国語!$F$10","v":0},{"$f":"COUNTIF([1]国語!L41,1)*[1]国語!$F$10","v":0},{"$f":"COUNTIF([1]国語!M41,1)*[1]国語!$M$10","v":0},{"$f":"COUNTIF([1]国語!N41,1)*[1]国語!$N$10","v":0},{"$f":"COUNTIF([1]国語!O41,1)*[1]国語!$O$10","v":0},{"$f":"COUNTIF([1]国語!P41,1)*[1]国語!$P$10","v":0},{"$f":"COUNTIF([1]国語!Q41,1)*[1]国語!$Q$10","v":0},{"$f":"COUNTIF([1]国語!R41,1)*[1]国語!$R$10","v":0},{"$f":"COUNTIF([1]国語!S41,1)*[1]国語!$S$10","v":0},{"$f":"COUNTIF([1]国語!T41,1)*[1]国語!$T$10","v":0},{"$f":"COUNTIF([1]国語!U41,1)*[1]国語!$U$10","v":0},{"$f":"COUNTIF([1]国語!V41,1)*[1]国語!$V$10","v":4},{"$f":"COUNTIF([1]国語!W41,1)*[1]国語!$W$10","v":4},{"$f":"COUNTIF([1]国語!X41,1)*[1]国語!$X$10","v":4},{"$f":"COUNTIF([1]国語!Y41,1)*[1]国語!$Y$10","v":4},{"$f":"COUNTIF([1]国語!Z41,1)*[1]国語!$Z$10","v":4},{"$f":"COUNTIF([1]国語!AA41,1)*[1]国語!$AA$10","v":4},{"$f":"COUNTIF([1]国語!AB41,1)*[1]国語!$AB$10","v":4},{"$f":"COUNTIF([1]国語!AC41,1)*[1]国語!$AC$10","v":4},{"$f":"COUNTIF([1]国語!AD41,1)*[1]国語!$AD$10","v":0},{"$f":"COUNTIF([1]国語!AE41,1)*[1]国語!$AE$10","v":0},{"$f":"COUNTIF([1]国語!AF41,1)*[1]国語!$AF$10","v":0},{"$f":"COUNTIF([1]国語!AG41,1)*[1]国語!$AG$10","v":0},{"$f":"COUNTIF([1]国語!AH41,1)*[1]国語!$AH$10","v":0},{"$f":"COUNTIF([1]国語!AI41,1)*[1]国語!$AI$10","v":0},{"$f":"COUNTIF([1]国語!AJ41,1)*[1]国語!$AJ$10","v":0},{"$f":"COUNTIF([1]国語!AK41,1)*[1]国語!$AK$10","v":0},{"$f":"COUNTIF([1]国語!AL41,1)*[1]国語!$AL$10","v":0},{"$f":"COUNTIF([1]国語!AM41,1)*[1]国語!$AM$10","v":0},{"$f":"COUNTIF([1]国語!AN41,1)*[1]国語!$AN$10","v":0},{"$f":"COUNTIF([1]国語!AO41,1)*[1]国語!$AO$10","v":0},{"$f":"COUNTIF([1]国語!AP41,1)*[1]国語!$AP$10","v":0},{"$f":"COUNTIF([1]国語!AQ41,1)*[1]国語!$AQ$10","v":0},{"$f":"COUNTIF([1]国語!AR41,1)*[1]国語!$AR$10","v":0},{"$f":"COUNTIF([1]国語!AS41,1)*[1]国語!$AS$10","v":0},{"$f":"COUNTIF([1]国語!AT41,1)*[1]国語!$AT$10","v":0},{"$f":"COUNTIF([1]国語!AU41,1)*[1]国語!$AU$10","v":0},{"$f":"COUNTIF([1]国語!AV41,1)*[1]国語!$AV$10","v":0},{"$f":"COUNTIF([1]国語!AW41,1)*[1]国語!$AW$10","v":0},{"$f":"COUNTIF([1]国語!AX41,1)*[1]国語!$AX$10","v":0},{"$f":"COUNTIF([1]国語!AY41,1)*[1]国語!$AY$10","v":0},{"$f":"COUNTIF([1]国語!AZ41,1)*[1]国語!$AZ$10","v":0},{"$f":"COUNTIF([1]国語!BA41,1)*[1]国語!$BA$10","v":0},{"$f":"COUNTIF([1]国語!BB41,1)*[1]国語!$BB$10","v":0},32,null,null,"31問",{"$f":"[1]国語!AI58","v":0},null,"31問",null,null,31]
[32,{"$f":"COUNTIF([1]国語!E42,1)*[1]国語!$E$10","v":0},{"$f":"COUNTIF([1]国語!F42,1)*[1]国語!$F$10","v":0},{"$f":"COUNTIF([1]国語!G42,1)*[1]国語!$G$10","v":0},{"$f":"COUNTIF([1]国語!H42,1)*[1]国語!$H$10","v":0},{"$f":"COUNTIF([1]国語!I42,1)*[1]国語!$I$10","v":0},{"$f":"COUNTIF([1]国語!J42,1)*[1]国語!$J$10","v":0},{"$f":"COUNTIF([1]国語!K42,1)*[1]国語!$F$10","v":0},{"$f":"COUNTIF([1]国語!L42,1)*[1]国語!$F$10","v":0},{"$f":"COUNTIF([1]国語!M42,1)*[1]国語!$M$10","v":0},{"$f":"COUNTIF([1]国語!N42,1)*[1]国語!$N$10","v":0},{"$f":"COUNTIF([1]国語!O42,1)*[1]国語!$O$10","v":0},{"$f":"COUNTIF([1]国語!P42,1)*[1]国語!$P$10","v":0},{"$f":"COUNTIF([1]国語!Q42,1)*[1]国語!$Q$10","v":0},{"$f":"COUNTIF([1]国語!R42,1)*[1]国語!$R$10","v":0},{"$f":"COUNTIF([1]国語!S42,1)*[1]国語!$S$10","v":0},{"$f":"COUNTIF([1]国語!T42,1)*[1]国語!$T$10","v":0},{"$f":"COUNTIF([1]国語!U42,1)*[1]国語!$U$10","v":4},{"$f":"COUNTIF([1]国語!V42,1)*[1]国語!$V$10","v":4},{"$f":"COUNTIF([1]国語!W42,1)*[1]国語!$W$10","v":4},{"$f":"COUNTIF([1]国語!X42,1)*[1]国語!$X$10","v":4},{"$f":"COUNTIF([1]国語!Y42,1)*[1]国語!$Y$10","v":4},{"$f":"COUNTIF([1]国語!Z42,1)*[1]国語!$Z$10","v":4},{"$f":"COUNTIF([1]国語!AA42,1)*[1]国語!$AA$10","v":4},{"$f":"COUNTIF([1]国語!AB42,1)*[1]国語!$AB$10","v":4},{"$f":"COUNTIF([1]国語!AC42,1)*[1]国語!$AC$10","v":4},{"$f":"COUNTIF([1]国語!AD42,1)*[1]国語!$AD$10","v":0},{"$f":"COUNTIF([1]国語!AE42,1)*[1]国語!$AE$10","v":0},{"$f":"COUNTIF([1]国語!AF42,1)*[1]国語!$AF$10","v":0},{"$f":"COUNTIF([1]国語!AG42,1)*[1]国語!$AG$10","v":0},{"$f":"COUNTIF([1]国語!AH42,1)*[1]国語!$AH$10","v":0},{"$f":"COUNTIF([1]国語!AI42,1)*[1]国語!$AI$10","v":0},{"$f":"COUNTIF([1]国語!AJ42,1)*[1]国語!$AJ$10","v":0},{"$f":"COUNTIF([1]国語!AK42,1)*[1]国語!$AK$10","v":0},{"$f":"COUNTIF([1]国語!AL42,1)*[1]国語!$AL$10","v":0},{"$f":"COUNTIF([1]国語!AM42,1)*[1]国語!$AM$10","v":0},{"$f":"COUNTIF([1]国語!AN42,1)*[1]国語!$AN$10","v":0},{"$f":"COUNTIF([1]国語!AO42,1)*[1]国語!$AO$10","v":0},{"$f":"COUNTIF([1]国語!AP42,1)*[1]国語!$AP$10","v":0},{"$f":"COUNTIF([1]国語!AQ42,1)*[1]国語!$AQ$10","v":0},{"$f":"COUNTIF([1]国語!AR42,1)*[1]国語!$AR$10","v":0},{"$f":"COUNTIF([1]国語!AS42,1)*[1]国語!$AS$10","v":0},{"$f":"COUNTIF([1]国語!AT42,1)*[1]国語!$AT$10","v":0},{"$f":"COUNTIF([1]国語!AU42,1)*[1]国語!$AU$10","v":0},{"$f":"COUNTIF([1]国語!AV42,1)*[1]国語!$AV$10","v":0},{"$f":"COUNTIF([1]国語!AW42,1)*[1]国語!$AW$10","v":0},{"$f":"COUNTIF([1]国語!AX42,1)*[1]国語!$AX$10","v":0},{"$f":"COUNTIF([1]国語!AY42,1)*[1]国語!$AY$10","v":0},{"$f":"COUNTIF([1]国語!AZ42,1)*[1]国語!$AZ$10","v":0},{"$f":"COUNTIF([1]国語!BA42,1)*[1]国語!$BA$10","v":0},{"$f":"COUNTIF([1]国語!BB42,1)*[1]国語!$BB$10","v":0},36,null,null,"32問",{"$f":"[1]国語!AJ58","v":0},null,"32問",null,null,32]
[33,{"$f":"COUNTIF([1]国語!E43,1)*[1]国語!$E$10","v":0},{"$f":"COUNTIF([1]国語!F43,1)*[1]国語!$F$10","v":0},{"$f":"COUNTIF([1]国語!G43,1)*[1]国語!$G$10","v":0},{"$f":"COUNTIF([1]国語!H43,1)*[1]国語!$H$10","v":0},{"$f":"COUNTIF([1]国語!I43,1)*[1]国語!$I$10","v":0},{"$f":"COUNTIF([1]国語!J43,1)*[1]国語!$J$10","v":0},{"$f":"COUNTIF([1]国語!K43,1)*[1]国語!$F$10","v":0},{"$f":"COUNTIF([1]国語!L43,1)*[1]国語!$F$10","v":0},{"$f":"COUNTIF([1]国語!M43,1)*[1]国語!$M$10","v":0},{"$f":"COUNTIF([1]国語!N43,1)*[1]国語!$N$10","v":0},{"$f":"COUNTIF([1]国語!O43,1)*[1]国語!$O$10","v":0},{"$f":"COUNTIF([1]国語!P43,1)*[1]国語!$P$10","v":0},{"$f":"COUNTIF([1]国語!Q43,1)*[1]国語!$Q$10","v":0},{"$f":"COUNTIF([1]国語!R43,1)*[1]国語!$R$10","v":0},{"$f":"COUNTIF([1]国語!S43,1)*[1]国語!$S$10","v":0},{"$f":"COUNTIF([1]国語!T43,1)*[1]国語!$T$10","v":4},{"$f":"COUNTIF([1]国語!U43,1)*[1]国語!$U$10","v":4},{"$f":"COUNTIF([1]国語!V43,1)*[1]国語!$V$10","v":4},{"$f":"COUNTIF([1]国語!W43,1)*[1]国語!$W$10","v":4},{"$f":"COUNTIF([1]国語!X43,1)*[1]国語!$X$10","v":4},{"$f":"COUNTIF([1]国語!Y43,1)*[1]国語!$Y$10","v":4},{"$f":"COUNTIF([1]国語!Z43,1)*[1]国語!$Z$10","v":4},{"$f":"COUNTIF([1]国語!AA43,1)*[1]国語!$AA$10","v":4},{"$f":"COUNTIF([1]国語!AB43,1)*[1]国語!$AB$10","v":4},{"$f":"COUNTIF([1]国語!AC43,1)*[1]国語!$AC$10","v":4},{"$f":"COUNTIF([1]国語!AD43,1)*[1]国語!$AD$10","v":0},{"$f":"COUNTIF([1]国語!AE43,1)*[1]国語!$AE$10","v":0},{"$f":"COUNTIF([1]国語!AF43,1)*[1]国語!$AF$10","v":0},{"$f":"COUNTIF([1]国語!AG43,1)*[1]国語!$AG$10","v":0},{"$f":"COUNTIF([1]国語!AH43,1)*[1]国語!$AH$10","v":0},{"$f":"COUNTIF([1]国語!AI43,1)*[1]国語!$AI$10","v":0},{"$f":"COUNTIF([1]国語!AJ43,1)*[1]国語!$AJ$10","v":0},{"$f":"COUNTIF([1]国語!AK43,1)*[1]国語!$AK$10","v":0},{"$f":"COUNTIF([1]国語!AL43,1)*[1]国語!$AL$10","v":0},{"$f":"COUNTIF([1]国語!AM43,1)*[1]国語!$AM$10","v":0},{"$f":"COUNTIF([1]国語!AN43,1)*[1]国語!$AN$10","v":0},{"$f":"COUNTIF([1]国語!AO43,1)*[1]国語!$AO$10","v":0},{"$f":"COUNTIF([1]国語!AP43,1)*[1]国語!$AP$10","v":0},{"$f":"COUNTIF([1]国語!AQ43,1)*[1]国語!$AQ$10","v":0},{"$f":"COUNTIF([1]国語!AR43,1)*[1]国語!$AR$10","v":0},{"$f":"COUNTIF([1]国語!AS43,1)*[1]国語!$AS$10","v":0},{"$f":"COUNTIF([1]国語!AT43,1)*[1]国語!$AT$10","v":0},{"$f":"COUNTIF([1]国語!AU43,1)*[1]国語!$AU$10","v":0},{"$f":"COUNTIF([1]国語!AV43,1)*[1]国語!$AV$10","v":0},{"$f":"COUNTIF([1]国語!AW43,1)*[1]国語!$AW$10","v":0},{"$f":"COUNTIF([1]国語!AX43,1)*[1]国語!$AX$10","v":0},{"$f":"COUNTIF([1]国語!AY43,1)*[1]国語!$AY$10","v":0},{"$f":"COUNTIF([1]国語!AZ43,1)*[1]国語!$AZ$10","v":0},{"$f":"COUNTIF([1]国語!BA43,1)*[1]国語!$BA$10","v":0},{"$f":"COUNTIF([1]国語!BB43,1)*[1]国語!$BB$10","v":0},40,null,null,"33問",{"$f":"[1]国語!AK58","v":0},null,"33問",null,null,33]
[34,{"$f":"COUNTIF([1]国語!E44,1)*[1]国語!$E$10","v":0},{"$f":"COUNTIF([1]国語!F44,1)*[1]国語!$F$10","v":0},{"$f":"COUNTIF([1]国語!G44,1)*[1]国語!$G$10","v":0},{"$f":"COUNTIF([1]国語!H44,1)*[1]国語!$H$10","v":0},{"$f":"COUNTIF([1]国語!I44,1)*[1]国語!$I$10","v":0},{"$f":"COUNTIF([1]国語!J44,1)*[1]国語!$J$10","v":0},{"$f":"COUNTIF([1]国語!K44,1)*[1]国語!$F$10","v":0},{"$f":"COUNTIF([1]国語!L44,1)*[1]国語!$F$10","v":0},{"$f":"COUNTIF([1]国語!M44,1)*[1]国語!$M$10","v":0},{"$f":"COUNTIF([1]国語!N44,1)*[1]国語!$N$10","v":0},{"$f":"COUNTIF([1]国語!O44,1)*[1]国語!$O$10","v":0},{"$f":"COUNTIF([1]国語!P44,1)*[1]国語!$P$10","v":0},{"$f":"COUNTIF([1]国語!Q44,1)*[1]国語!$Q$10","v":0},{"$f":"COUNTIF([1]国語!R44,1)*[1]国語!$R$10","v":0},{"$f":"COUNTIF([1]国語!S44,1)*[1]国語!$S$10","v":4},{"$f":"COUNTIF([1]国語!T44,1)*[1]国語!$T$10","v":4},{"$f":"COUNTIF([1]国語!U44,1)*[1]国語!$U$10","v":4},{"$f":"COUNTIF([1]国語!V44,1)*[1]国語!$V$10","v":4},{"$f":"COUNTIF([1]国語!W44,1)*[1]国語!$W$10","v":4},{"$f":"COUNTIF([1]国語!X44,1)*[1]国語!$X$10","v":4},{"$f":"COUNTIF([1]国語!Y44,1)*[1]国語!$Y$10","v":4},{"$f":"COUNTIF([1]国語!Z44,1)*[1]国語!$Z$10","v":4},{"$f":"COUNTIF([1]国語!AA44,1)*[1]国語!$AA$10","v":4},{"$f":"COUNTIF([1]国語!AB44,1)*[1]国語!$AB$10","v":4},{"$f":"COUNTIF([1]国語!AC44,1)*[1]国語!$AC$10","v":4},{"$f":"COUNTIF([1]国語!AD44,1)*[1]国語!$AD$10","v":0},{"$f":"COUNTIF([1]国語!AE44,1)*[1]国語!$AE$10","v":0},{"$f":"COUNTIF([1]国語!AF44,1)*[1]国語!$AF$10","v":0},{"$f":"COUNTIF([1]国語!AG44,1)*[1]国語!$AG$10","v":0},{"$f":"COUNTIF([1]国語!AH44,1)*[1]国語!$AH$10","v":0},{"$f":"COUNTIF([1]国語!AI44,1)*[1]国語!$AI$10","v":0},{"$f":"COUNTIF([1]国語!AJ44,1)*[1]国語!$AJ$10","v":0},{"$f":"COUNTIF([1]国語!AK44,1)*[1]国語!$AK$10","v":0},{"$f":"COUNTIF([1]国語!AL44,1)*[1]国語!$AL$10","v":0},{"$f":"COUNTIF([1]国語!AM44,1)*[1]国語!$AM$10","v":0},{"$f":"COUNTIF([1]国語!AN44,1)*[1]国語!$AN$10","v":0},{"$f":"COUNTIF([1]国語!AO44,1)*[1]国語!$AO$10","v":0},{"$f":"COUNTIF([1]国語!AP44,1)*[1]国語!$AP$10","v":0},{"$f":"COUNTIF([1]国語!AQ44,1)*[1]国語!$AQ$10","v":0},{"$f":"COUNTIF([1]国語!AR44,1)*[1]国語!$AR$10","v":0},{"$f":"COUNTIF([1]国語!AS44,1)*[1]国語!$AS$10","v":0},{"$f":"COUNTIF([1]国語!AT44,1)*[1]国語!$AT$10","v":0},{"$f":"COUNTIF([1]国語!AU44,1)*[1]国語!$AU$10","v":0},{"$f":"COUNTIF([1]国語!AV44,1)*[1]国語!$AV$10","v":0},{"$f":"COUNTIF([1]国語!AW44,1)*[1]国語!$AW$10","v":0},{"$f":"COUNTIF([1]国語!AX44,1)*[1]国語!$AX$10","v":0},{"$f":"COUNTIF([1]国語!AY44,1)*[1]国語!$AY$10","v":0},{"$f":"COUNTIF([1]国語!AZ44,1)*[1]国語!$AZ$10","v":0},{"$f":"COUNTIF([1]国語!BA44,1)*[1]国語!$BA$10","v":0},{"$f":"COUNTIF([1]国語!BB44,1)*[1]国語!$BB$10","v":0},44,null,null,"34問",{"$f":"[1]国語!AL58","v":0},null,"34問",null,null,34]
[35,{"$f":"COUNTIF([1]国語!E45,1)*[1]国語!$E$10","v":0},{"$f":"COUNTIF([1]国語!F45,1)*[1]国語!$F$10","v":0},{"$f":"COUNTIF([1]国語!G45,1)*[1]国語!$G$10","v":0},{"$f":"COUNTIF([1]国語!H45,1)*[1]国語!$H$10","v":0},{"$f":"COUNTIF([1]国語!I45,1)*[1]国語!$I$10","v":0},{"$f":"COUNTIF([1]国語!J45,1)*[1]国語!$J$10","v":0},{"$f":"COUNTIF([1]国語!K45,1)*[1]国語!$F$10","v":0},{"$f":"COUNTIF([1]国語!L45,1)*[1]国語!$F$10","v":0},{"$f":"COUNTIF([1]国語!M45,1)*[1]国語!$M$10","v":0},{"$f":"COUNTIF([1]国語!N45,1)*[1]国語!$N$10","v":0},{"$f":"COUNTIF([1]国語!O45,1)*[1]国語!$O$10","v":0},{"$f":"COUNTIF([1]国語!P45,1)*[1]国語!$P$10","v":0},{"$f":"COUNTIF([1]国語!Q45,1)*[1]国語!$Q$10","v":0},{"$f":"COUNTIF([1]国語!R45,1)*[1]国語!$R$10","v":4},{"$f":"COUNTIF([1]国語!S45,1)*[1]国語!$S$10","v":4},{"$f":"COUNTIF([1]国語!T45,1)*[1]国語!$T$10","v":4},{"$f":"COUNTIF([1]国語!U45,1)*[1]国語!$U$10","v":4},{"$f":"COUNTIF([1]国語!V45,1)*[1]国語!$V$10","v":4},{"$f":"COUNTIF([1]国語!W45,1)*[1]国語!$W$10","v":4},{"$f":"COUNTIF([1]国語!X45,1)*[1]国語!$X$10","v":4},{"$f":"COUNTIF([1]国語!Y45,1)*[1]国語!$Y$10","v":4},{"$f":"COUNTIF([1]国語!Z45,1)*[1]国語!$Z$10","v":4},{"$f":"COUNTIF([1]国語!AA45,1)*[1]国語!$AA$10","v":4},{"$f":"COUNTIF([1]国語!AB45,1)*[1]国語!$AB$10","v":4},{"$f":"COUNTIF([1]国語!AC45,1)*[1]国語!$AC$10","v":4},{"$f":"COUNTIF([1]国語!AD45,1)*[1]国語!$AD$10","v":0},{"$f":"COUNTIF([1]国語!AE45,1)*[1]国語!$AE$10","v":0},{"$f":"COUNTIF([1]国語!AF45,1)*[1]国語!$AF$10","v":0},{"$f":"COUNTIF([1]国語!AG45,1)*[1]国語!$AG$10","v":0},{"$f":"COUNTIF([1]国語!AH45,1)*[1]国語!$AH$10","v":0},{"$f":"COUNTIF([1]国語!AI45,1)*[1]国語!$AI$10","v":0},{"$f":"COUNTIF([1]国語!AJ45,1)*[1]国語!$AJ$10","v":0},{"$f":"COUNTIF([1]国語!AK45,1)*[1]国語!$AK$10","v":0},{"$f":"COUNTIF([1]国語!AL45,1)*[1]国語!$AL$10","v":0},{"$f":"COUNTIF([1]国語!AM45,1)*[1]国語!$AM$10","v":0},{"$f":"COUNTIF([1]国語!AN45,1)*[1]国語!$AN$10","v":0},{"$f":"COUNTIF([1]国語!AO45,1)*[1]国語!$AO$10","v":0},{"$f":"COUNTIF([1]国語!AP45,1)*[1]国語!$AP$10","v":0},{"$f":"COUNTIF([1]国語!AQ45,1)*[1]国語!$AQ$10","v":0},{"$f":"COUNTIF([1]国語!AR45,1)*[1]国語!$AR$10","v":0},{"$f":"COUNTIF([1]国語!AS45,1)*[1]国語!$AS$10","v":0},{"$f":"COUNTIF([1]国語!AT45,1)*[1]国語!$AT$10","v":0},{"$f":"COUNTIF([1]国語!AU45,1)*[1]国語!$AU$10","v":0},{"$f":"COUNTIF([1]国語!AV45,1)*[1]国語!$AV$10","v":0},{"$f":"COUNTIF([1]国語!AW45,1)*[1]国語!$AW$10","v":0},{"$f":"COUNTIF([1]国語!AX45,1)*[1]国語!$AX$10","v":0},{"$f":"COUNTIF([1]国語!AY45,1)*[1]国語!$AY$10","v":0},{"$f":"COUNTIF([1]国語!AZ45,1)*[1]国語!$AZ$10","v":0},{"$f":"COUNTIF([1]国語!BA45,1)*[1]国語!$BA$10","v":0},{"$f":"COUNTIF([1]国語!BB45,1)*[1]国語!$BB$10","v":0},48,null,null,"35問",{"$f":"[1]国語!AM58","v":0},null,"35問",null,null,35]
[36,{"$f":"COUNTIF([1]国語!E46,1)*[1]国語!$E$10","v":0},{"$f":"COUNTIF([1]国語!F46,1)*[1]国語!$F$10","v":0},{"$f":"COUNTIF([1]国語!G46,1)*[1]国語!$G$10","v":0},{"$f":"COUNTIF([1]国語!H46,1)*[1]国語!$H$10","v":0},{"$f":"COUNTIF([1]国語!I46,1)*[1]国語!$I$10","v":0},{"$f":"COUNTIF([1]国語!J46,1)*[1]国語!$J$10","v":0},{"$f":"COUNTIF([1]国語!K46,1)*[1]国語!$F$10","v":0},{"$f":"COUNTIF([1]国語!L46,1)*[1]国語!$F$10","v":0},{"$f":"COUNTIF([1]国語!M46,1)*[1]国語!$M$10","v":0},{"$f":"COUNTIF([1]国語!N46,1)*[1]国語!$N$10","v":0},{"$f":"COUNTIF([1]国語!O46,1)*[1]国語!$O$10","v":0},{"$f":"COUNTIF([1]国語!P46,1)*[1]国語!$P$10","v":0},{"$f":"COUNTIF([1]国語!Q46,1)*[1]国語!$Q$10","v":4},{"$f":"COUNTIF([1]国語!R46,1)*[1]国語!$R$10","v":4},{"$f":"COUNTIF([1]国語!S46,1)*[1]国語!$S$10","v":4},{"$f":"COUNTIF([1]国語!T46,1)*[1]国語!$T$10","v":4},{"$f":"COUNTIF([1]国語!U46,1)*[1]国語!$U$10","v":4},{"$f":"COUNTIF([1]国語!V46,1)*[1]国語!$V$10","v":4},{"$f":"COUNTIF([1]国語!W46,1)*[1]国語!$W$10","v":4},{"$f":"COUNTIF([1]国語!X46,1)*[1]国語!$X$10","v":4},{"$f":"COUNTIF([1]国語!Y46,1)*[1]国語!$Y$10","v":4},{"$f":"COUNTIF([1]国語!Z46,1)*[1]国語!$Z$10","v":4},{"$f":"COUNTIF([1]国語!AA46,1)*[1]国語!$AA$10","v":4},{"$f":"COUNTIF([1]国語!AB46,1)*[1]国語!$AB$10","v":4},{"$f":"COUNTIF([1]国語!AC46,1)*[1]国語!$AC$10","v":4},{"$f":"COUNTIF([1]国語!AD46,1)*[1]国語!$AD$10","v":0},{"$f":"COUNTIF([1]国語!AE46,1)*[1]国語!$AE$10","v":0},{"$f":"COUNTIF([1]国語!AF46,1)*[1]国語!$AF$10","v":0},{"$f":"COUNTIF([1]国語!AG46,1)*[1]国語!$AG$10","v":0},{"$f":"COUNTIF([1]国語!AH46,1)*[1]国語!$AH$10","v":0},{"$f":"COUNTIF([1]国語!AI46,1)*[1]国語!$AI$10","v":0},{"$f":"COUNTIF([1]国語!AJ46,1)*[1]国語!$AJ$10","v":0},{"$f":"COUNTIF([1]国語!AK46,1)*[1]国語!$AK$10","v":0},{"$f":"COUNTIF([1]国語!AL46,1)*[1]国語!$AL$10","v":0},{"$f":"COUNTIF([1]国語!AM46,1)*[1]国語!$AM$10","v":0},{"$f":"COUNTIF([1]国語!AN46,1)*[1]国語!$AN$10","v":0},{"$f":"COUNTIF([1]国語!AO46,1)*[1]国語!$AO$10","v":0},{"$f":"COUNTIF([1]国語!AP46,1)*[1]国語!$AP$10","v":0},{"$f":"COUNTIF([1]国語!AQ46,1)*[1]国語!$AQ$10","v":0},{"$f":"COUNTIF([1]国語!AR46,1)*[1]国語!$AR$10","v":0},{"$f":"COUNTIF([1]国語!AS46,1)*[1]国語!$AS$10","v":0},{"$f":"COUNTIF([1]国語!AT46,1)*[1]国語!$AT$10","v":0},{"$f":"COUNTIF([1]国語!AU46,1)*[1]国語!$AU$10","v":0},{"$f":"COUNTIF([1]国語!AV46,1)*[1]国語!$AV$10","v":0},{"$f":"COUNTIF([1]国語!AW46,1)*[1]国語!$AW$10","v":0},{"$f":"COUNTIF([1]国語!AX46,1)*[1]国語!$AX$10","v":0},{"$f":"COUNTIF([1]国語!AY46,1)*[1]国語!$AY$10","v":0},{"$f":"COUNTIF([1]国語!AZ46,1)*[1]国語!$AZ$10","v":0},{"$f":"COUNTIF([1]国語!BA46,1)*[1]国語!$BA$10","v":0},{"$f":"COUNTIF([1]国語!BB46,1)*[1]国語!$BB$10","v":0},52,null,null,"36問",{"$f":"[1]国語!AN58","v":0},null,"36問",null,null,36]
[37,{"$f":"COUNTIF([1]国語!E47,1)*[1]国語!$E$10","v":0},{"$f":"COUNTIF([1]国語!F47,1)*[1]国語!$F$10","v":0},{"$f":"COUNTIF([1]国語!G47,1)*[1]国語!$G$10","v":0},{"$f":"COUNTIF([1]国語!H47,1)*[1]国語!$H$10","v":0},{"$f":"COUNTIF([1]国語!I47,1)*[1]国語!$I$10","v":0},{"$f":"COUNTIF([1]国語!J47,1)*[1]国語!$J$10","v":0},{"$f":"COUNTIF([1]国語!K47,1)*[1]国語!$F$10","v":0},{"$f":"COUNTIF([1]国語!L47,1)*[1]国語!$F$10","v":0},{"$f":"COUNTIF([1]国語!M47,1)*[1]国語!$M$10","v":0},{"$f":"COUNTIF([1]国語!N47,1)*[1]国語!$N$10","v":0},{"$f":"COUNTIF([1]国語!O47,1)*[1]国語!$O$10","v":0},{"$f":"COUNTIF([1]国語!P47,1)*[1]国語!$P$10","v":4},{"$f":"COUNTIF([1]国語!Q47,1)*[1]国語!$Q$10","v":4},{"$f":"COUNTIF([1]国語!R47,1)*[1]国語!$R$10","v":4},{"$f":"COUNTIF([1]国語!S47,1)*[1]国語!$S$10","v":4},{"$f":"COUNTIF([1]国語!T47,1)*[1]国語!$T$10","v":4},{"$f":"COUNTIF([1]国語!U47,1)*[1]国語!$U$10","v":4},{"$f":"COUNTIF([1]国語!V47,1)*[1]国語!$V$10","v":4},{"$f":"COUNTIF([1]国語!W47,1)*[1]国語!$W$10","v":4},{"$f":"COUNTIF([1]国語!X47,1)*[1]国語!$X$10","v":4},{"$f":"COUNTIF([1]国語!Y47,1)*[1]国語!$Y$10","v":4},{"$f":"COUNTIF([1]国語!Z47,1)*[1]国語!$Z$10","v":4},{"$f":"COUNTIF([1]国語!AA47,1)*[1]国語!$AA$10","v":4},{"$f":"COUNTIF([1]国語!AB47,1)*[1]国語!$AB$10","v":4},{"$f":"COUNTIF([1]国語!AC47,1)*[1]国語!$AC$10","v":4},{"$f":"COUNTIF([1]国語!AD47,1)*[1]国語!$AD$10","v":0},{"$f":"COUNTIF([1]国語!AE47,1)*[1]国語!$AE$10","v":0},{"$f":"COUNTIF([1]国語!AF47,1)*[1]国語!$AF$10","v":0},{"$f":"COUNTIF([1]国語!AG47,1)*[1]国語!$AG$10","v":0},{"$f":"COUNTIF([1]国語!AH47,1)*[1]国語!$AH$10","v":0},{"$f":"COUNTIF([1]国語!AI47,1)*[1]国語!$AI$10","v":0},{"$f":"COUNTIF([1]国語!AJ47,1)*[1]国語!$AJ$10","v":0},{"$f":"COUNTIF([1]国語!AK47,1)*[1]国語!$AK$10","v":0},{"$f":"COUNTIF([1]国語!AL47,1)*[1]国語!$AL$10","v":0},{"$f":"COUNTIF([1]国語!AM47,1)*[1]国語!$AM$10","v":0},{"$f":"COUNTIF([1]国語!AN47,1)*[1]国語!$AN$10","v":0},{"$f":"COUNTIF([1]国語!AO47,1)*[1]国語!$AO$10","v":0},{"$f":"COUNTIF([1]国語!AP47,1)*[1]国語!$AP$10","v":0},{"$f":"COUNTIF([1]国語!AQ47,1)*[1]国語!$AQ$10","v":0},{"$f":"COUNTIF([1]国語!AR47,1)*[1]国語!$AR$10","v":0},{"$f":"COUNTIF([1]国語!AS47,1)*[1]国語!$AS$10","v":0},{"$f":"COUNTIF([1]国語!AT47,1)*[1]国語!$AT$10","v":0},{"$f":"COUNTIF([1]国語!AU47,1)*[1]国語!$AU$10","v":0},{"$f":"COUNTIF([1]国語!AV47,1)*[1]国語!$AV$10","v":0},{"$f":"COUNTIF([1]国語!AW47,1)*[1]国語!$AW$10","v":0},{"$f":"COUNTIF([1]国語!AX47,1)*[1]国語!$AX$10","v":0},{"$f":"COUNTIF([1]国語!AY47,1)*[1]国語!$AY$10","v":0},{"$f":"COUNTIF([1]国語!AZ47,1)*[1]国語!$AZ$10","v":0},{"$f":"COUNTIF([1]国語!BA47,1)*[1]国語!$BA$10","v":0},{"$f":"COUNTIF([1]国語!BB47,1)*[1]国語!$BB$10","v":0},56,null,null,"37問",{"$f":"[1]国語!AO58","v":0},null,"37問",null,null,37]
[38,{"$f":"COUNTIF([1]国語!E48,1)*[1]国語!$E$10","v":0},{"$f":"COUNTIF([1]国語!F48,1)*[1]国語!$F$10","v":0},{"$f":"COUNTIF([1]国語!G48,1)*[1]国語!$G$10","v":0},{"$f":"COUNTIF([1]国語!H48,1)*[1]国語!$H$10","v":0},{"$f":"COUNTIF([1]国語!I48,1)*[1]国語!$I$10","v":0},{"$f":"COUNTIF([1]国語!J48,1)*[1]国語!$J$10","v":0},{"$f":"COUNTIF([1]国語!K48,1)*[1]国語!$F$10","v":0},{"$f":"COUNTIF([1]国語!L48,1)*[1]国語!$F$10","v":0},{"$f":"COUNTIF([1]国語!M48,1)*[1]国語!$M$10","v":0},{"$f":"COUNTIF([1]国語!N48,1)*[1]国語!$N$10","v":0},{"$f":"COUNTIF([1]国語!O48,1)*[1]国語!$O$10","v":4},{"$f":"COUNTIF([1]国語!P48,1)*[1]国語!$P$10","v":4},{"$f":"COUNTIF([1]国語!Q48,1)*[1]国語!$Q$10","v":4},{"$f":"COUNTIF([1]国語!R48,1)*[1]国語!$R$10","v":4},{"$f":"COUNTIF([1]国語!S48,1)*[1]国語!$S$10","v":4},{"$f":"COUNTIF([1]国語!T48,1)*[1]国語!$T$10","v":4},{"$f":"COUNTIF([1]国語!U48,1)*[1]国語!$U$10","v":4},{"$f":"COUNTIF([1]国語!V48,1)*[1]国語!$V$10","v":4},{"$f":"COUNTIF([1]国語!W48,1)*[1]国語!$W$10","v":4},{"$f":"COUNTIF([1]国語!X48,1)*[1]国語!$X$10","v":4},{"$f":"COUNTIF([1]国語!Y48,1)*[1]国語!$Y$10","v":4},{"$f":"COUNTIF([1]国語!Z48,1)*[1]国語!$Z$10","v":4},{"$f":"COUNTIF([1]国語!AA48,1)*[1]国語!$AA$10","v":4},{"$f":"COUNTIF([1]国語!AB48,1)*[1]国語!$AB$10","v":4},{"$f":"COUNTIF([1]国語!AC48,1)*[1]国語!$AC$10","v":4},{"$f":"COUNTIF([1]国語!AD48,1)*[1]国語!$AD$10","v":0},{"$f":"COUNTIF([1]国語!AE48,1)*[1]国語!$AE$10","v":0},{"$f":"COUNTIF([1]国語!AF48,1)*[1]国語!$AF$10","v":0},{"$f":"COUNTIF([1]国語!AG48,1)*[1]国語!$AG$10","v":0},{"$f":"COUNTIF([1]国語!AH48,1)*[1]国語!$AH$10","v":0},{"$f":"COUNTIF([1]国語!AI48,1)*[1]国語!$AI$10","v":0},{"$f":"COUNTIF([1]国語!AJ48,1)*[1]国語!$AJ$10","v":0},{"$f":"COUNTIF([1]国語!AK48,1)*[1]国語!$AK$10","v":0},{"$f":"COUNTIF([1]国語!AL48,1)*[1]国語!$AL$10","v":0},{"$f":"COUNTIF([1]国語!AM48,1)*[1]国語!$AM$10","v":0},{"$f":"COUNTIF([1]国語!AN48,1)*[1]国語!$AN$10","v":0},{"$f":"COUNTIF([1]国語!AO48,1)*[1]国語!$AO$10","v":0},{"$f":"COUNTIF([1]国語!AP48,1)*[1]国語!$AP$10","v":0},{"$f":"COUNTIF([1]国語!AQ48,1)*[1]国語!$AQ$10","v":0},{"$f":"COUNTIF([1]国語!AR48,1)*[1]国語!$AR$10","v":0},{"$f":"COUNTIF([1]国語!AS48,1)*[1]国語!$AS$10","v":0},{"$f":"COUNTIF([1]国語!AT48,1)*[1]国語!$AT$10","v":0},{"$f":"COUNTIF([1]国語!AU48,1)*[1]国語!$AU$10","v":0},{"$f":"COUNTIF([1]国語!AV48,1)*[1]国語!$AV$10","v":0},{"$f":"COUNTIF([1]国語!AW48,1)*[1]国語!$AW$10","v":0},{"$f":"COUNTIF([1]国語!AX48,1)*[1]国語!$AX$10","v":0},{"$f":"COUNTIF([1]国語!AY48,1)*[1]国語!$AY$10","v":0},{"$f":"COUNTIF([1]国語!AZ48,1)*[1]国語!$AZ$10","v":0},{"$f":"COUNTIF([1]国語!BA48,1)*[1]国語!$BA$10","v":0},{"$f":"COUNTIF([1]国語!BB48,1)*[1]国語!$BB$10","v":0},60,null,null,"38問",{"$f":"[1]国語!AP58","v":0},null,"38問",null,null,38]
[39,{"$f":"COUNTIF([1]国語!E49,1)*[1]国語!$E$10","v":0},{"$f":"COUNTIF([1]国語!F49,1)*[1]国語!$F$10","v":0},{"$f":"COUNTIF([1]国語!G49,1)*[1]国語!$G$10","v":0},{"$f":"COUNTIF([1]国語!H49,1)*[1]国語!$H$10","v":0},{"$f":"COUNTIF([1]国語!I49,1)*[1]国語!$I$10","v":0},{"$f":"COUNTIF([1]国語!J49,1)*[1]国語!$J$10","v":0},{"$f":"COUNTIF([1]国語!K49,1)*[1]国語!$F$10","v":0},{"$f":"COUNTIF([1]国語!L49,1)*[1]国語!$F$10","v":0},{"$f":"COUNTIF([1]国語!M49,1)*[1]国語!$M$10","v":0},{"$f":"COUNTIF([1]国語!N49,1)*[1]国語!$N$10","v":4},{"$f":"COUNTIF([1]国語!O49,1)*[1]国語!$O$10","v":4},{"$f":"COUNTIF([1]国語!P49,1)*[1]国語!$P$10","v":4},{"$f":"COUNTIF([1]国語!Q49,1)*[1]国語!$Q$10","v":4},{"$f":"COUNTIF([1]国語!R49,1)*[1]国語!$R$10","v":4},{"$f":"COUNTIF([1]国語!S49,1)*[1]国語!$S$10","v":4},{"$f":"COUNTIF([1]国語!T49,1)*[1]国語!$T$10","v":4},{"$f":"COUNTIF([1]国語!U49,1)*[1]国語!$U$10","v":4},{"$f":"COUNTIF([1]国語!V49,1)*[1]国語!$V$10","v":4},{"$f":"COUNTIF([1]国語!W49,1)*[1]国語!$W$10","v":4},{"$f":"COUNTIF([1]国語!X49,1)*[1]国語!$X$10","v":4},{"$f":"COUNTIF([1]国語!Y49,1)*[1]国語!$Y$10","v":4},{"$f":"COUNTIF([1]国語!Z49,1)*[1]国語!$Z$10","v":4},{"$f":"COUNTIF([1]国語!AA49,1)*[1]国語!$AA$10","v":4},{"$f":"COUNTIF([1]国語!AB49,1)*[1]国語!$AB$10","v":4},{"$f":"COUNTIF([1]国語!AC49,1)*[1]国語!$AC$10","v":4},{"$f":"COUNTIF([1]国語!AD49,1)*[1]国語!$AD$10","v":0},{"$f":"COUNTIF([1]国語!AE49,1)*[1]国語!$AE$10","v":0},{"$f":"COUNTIF([1]国語!AF49,1)*[1]国語!$AF$10","v":0},{"$f":"COUNTIF([1]国語!AG49,1)*[1]国語!$AG$10","v":0},{"$f":"COUNTIF([1]国語!AH49,1)*[1]国語!$AH$10","v":0},{"$f":"COUNTIF([1]国語!AI49,1)*[1]国語!$AI$10","v":0},{"$f":"COUNTIF([1]国語!AJ49,1)*[1]国語!$AJ$10","v":0},{"$f":"COUNTIF([1]国語!AK49,1)*[1]国語!$AK$10","v":0},{"$f":"COUNTIF([1]国語!AL49,1)*[1]国語!$AL$10","v":0},{"$f":"COUNTIF([1]国語!AM49,1)*[1]国語!$AM$10","v":0},{"$f":"COUNTIF([1]国語!AN49,1)*[1]国語!$AN$10","v":0},{"$f":"COUNTIF([1]国語!AO49,1)*[1]国語!$AO$10","v":0},{"$f":"COUNTIF([1]国語!AP49,1)*[1]国語!$AP$10","v":0},{"$f":"COUNTIF([1]国語!AQ49,1)*[1]国語!$AQ$10","v":0},{"$f":"COUNTIF([1]国語!AR49,1)*[1]国語!$AR$10","v":0},{"$f":"COUNTIF([1]国語!AS49,1)*[1]国語!$AS$10","v":0},{"$f":"COUNTIF([1]国語!AT49,1)*[1]国語!$AT$10","v":0},{"$f":"COUNTIF([1]国語!AU49,1)*[1]国語!$AU$10","v":0},{"$f":"COUNTIF([1]国語!AV49,1)*[1]国語!$AV$10","v":0},{"$f":"COUNTIF([1]国語!AW49,1)*[1]国語!$AW$10","v":0},{"$f":"COUNTIF([1]国語!AX49,1)*[1]国語!$AX$10","v":0},{"$f":"COUNTIF([1]国語!AY49,1)*[1]国語!$AY$10","v":0},{"$f":"COUNTIF([1]国語!AZ49,1)*[1]国語!$AZ$10","v":0},{"$f":"COUNTIF([1]国語!BA49,1)*[1]国語!$BA$10","v":0},{"$f":"COUNTIF([1]国語!BB49,1)*[1]国語!$BB$10","v":0},64,null,null,"39問",{"$f":"[1]国語!AQ58","v":0},null,"39問",null,null,39]
[40,{"$f":"COUNTIF([1]国語!E50,1)*[1]国語!$E$10","v":0},{"$f":"COUNTIF([1]国語!F50,1)*[1]国語!$F$10","v":0},{"$f":"COUNTIF([1]国語!G50,1)*[1]国語!$G$10","v":0},{"$f":"COUNTIF([1]国語!H50,1)*[1]国語!$H$10","v":0},{"$f":"COUNTIF([1]国語!I50,1)*[1]国語!$I$10","v":0},{"$f":"COUNTIF([1]国語!J50,1)*[1]国語!$J$10","v":0},{"$f":"COUNTIF([1]国語!K50,1)*[1]国語!$F$10","v":0},{"$f":"COUNTIF([1]国語!L50,1)*[1]国語!$F$10","v":0},{"$f":"COUNTIF([1]国語!M50,1)*[1]国語!$M$10","v":4},{"$f":"COUNTIF([1]国語!N50,1)*[1]国語!$N$10","v":4},{"$f":"COUNTIF([1]国語!O50,1)*[1]国語!$O$10","v":4},{"$f":"COUNTIF([1]国語!P50,1)*[1]国語!$P$10","v":4},{"$f":"COUNTIF([1]国語!Q50,1)*[1]国語!$Q$10","v":4},{"$f":"COUNTIF([1]国語!R50,1)*[1]国語!$R$10","v":4},{"$f":"COUNTIF([1]国語!S50,1)*[1]国語!$S$10","v":4},{"$f":"COUNTIF([1]国語!T50,1)*[1]国語!$T$10","v":4},{"$f":"COUNTIF([1]国語!U50,1)*[1]国語!$U$10","v":4},{"$f":"COUNTIF([1]国語!V50,1)*[1]国語!$V$10","v":4},{"$f":"COUNTIF([1]国語!W50,1)*[1]国語!$W$10","v":4},{"$f":"COUNTIF([1]国語!X50,1)*[1]国語!$X$10","v":4},{"$f":"COUNTIF([1]国語!Y50,1)*[1]国語!$Y$10","v":4},{"$f":"COUNTIF([1]国語!Z50,1)*[1]国語!$Z$10","v":4},{"$f":"COUNTIF([1]国語!AA50,1)*[1]国語!$AA$10","v":4},{"$f":"COUNTIF([1]国語!AB50,1)*[1]国語!$AB$10","v":4},{"$f":"COUNTIF([1]国語!AC50,1)*[1]国語!$AC$10","v":4},{"$f":"COUNTIF([1]国語!AD50,1)*[1]国語!$AD$10","v":0},{"$f":"COUNTIF([1]国語!AE50,1)*[1]国語!$AE$10","v":0},{"$f":"COUNTIF([1]国語!AF50,1)*[1]国語!$AF$10","v":0},{"$f":"COUNTIF([1]国語!AG50,1)*[1]国語!$AG$10","v":0},{"$f":"COUNTIF([1]国語!AH50,1)*[1]国語!$AH$10","v":0},{"$f":"COUNTIF([1]国語!AI50,1)*[1]国語!$AI$10","v":0},{"$f":"COUNTIF([1]国語!AJ50,1)*[1]国語!$AJ$10","v":0},{"$f":"COUNTIF([1]国語!AK50,1)*[1]国語!$AK$10","v":0},{"$f":"COUNTIF([1]国語!AL50,1)*[1]国語!$AL$10","v":0},{"$f":"COUNTIF([1]国語!AM50,1)*[1]国語!$AM$10","v":0},{"$f":"COUNTIF([1]国語!AN50,1)*[1]国語!$AN$10","v":0},{"$f":"COUNTIF([1]国語!AO50,1)*[1]国語!$AO$10","v":0},{"$f":"COUNTIF([1]国語!AP50,1)*[1]国語!$AP$10","v":0},{"$f":"COUNTIF([1]国語!AQ50,1)*[1]国語!$AQ$10","v":0},{"$f":"COUNTIF([1]国語!AR50,1)*[1]国語!$AR$10","v":0},{"$f":"COUNTIF([1]国語!AS50,1)*[1]国語!$AS$10","v":0},{"$f":"COUNTIF([1]国語!AT50,1)*[1]国語!$AT$10","v":0},{"$f":"COUNTIF([1]国語!AU50,1)*[1]国語!$AU$10","v":0},{"$f":"COUNTIF([1]国語!AV50,1)*[1]国語!$AV$10","v":0},{"$f":"COUNTIF([1]国語!AW50,1)*[1]国語!$AW$10","v":0},{"$f":"COUNTIF([1]国語!AX50,1)*[1]国語!$AX$10","v":0},{"$f":"COUNTIF([1]国語!AY50,1)*[1]国語!$AY$10","v":0},{"$f":"COUNTIF([1]国語!AZ50,1)*[1]国語!$AZ$10","v":0},{"$f":"COUNTIF([1]国語!BA50,1)*[1]国語!$BA$10","v":0},{"$f":"COUNTIF([1]国語!BB50,1)*[1]国語!$BB$10","v":0},68,null,null,"40問",{"$f":"[1]国語!AR58","v":0},null,"40問",null,null,40]
[41,{"$f":"COUNTIF([1]国語!E51,1)*[1]国語!$E$10","v":0},{"$f":"COUNTIF([1]国語!F51,1)*[1]国語!$F$10","v":0},{"$f":"COUNTIF([1]国語!G51,1)*[1]国語!$G$10","v":0},{"$f":"COUNTIF([1]国語!H51,1)*[1]国語!$H$10","v":0},{"$f":"COUNTIF([1]国語!I51,1)*[1]国語!$I$10","v":0},{"$f":"COUNTIF([1]国語!J51,1)*[1]国語!$J$10","v":0},{"$f":"COUNTIF([1]国語!K51,1)*[1]国語!$F$10","v":0},{"$f":"COUNTIF([1]国語!L51,1)*[1]国語!$F$10","v":0},{"$f":"COUNTIF([1]国語!M51,1)*[1]国語!$M$10","v":4},{"$f":"COUNTIF([1]国語!N51,1)*[1]国語!$N$10","v":4},{"$f":"COUNTIF([1]国語!O51,1)*[1]国語!$O$10","v":4},{"$f":"COUNTIF([1]国語!P51,1)*[1]国語!$P$10","v":4},{"$f":"COUNTIF([1]国語!Q51,1)*[1]国語!$Q$10","v":4},{"$f":"COUNTIF([1]国語!R51,1)*[1]国語!$R$10","v":4},{"$f":"COUNTIF([1]国語!S51,1)*[1]国語!$S$10","v":4},{"$f":"COUNTIF([1]国語!T51,1)*[1]国語!$T$10","v":4},{"$f":"COUNTIF([1]国語!U51,1)*[1]国語!$U$10","v":4},{"$f":"COUNTIF([1]国語!V51,1)*[1]国語!$V$10","v":4},{"$f":"COUNTIF([1]国語!W51,1)*[1]国語!$W$10","v":4},{"$f":"COUNTIF([1]国語!X51,1)*[1]国語!$X$10","v":4},{"$f":"COUNTIF([1]国語!Y51,1)*[1]国語!$Y$10","v":4},{"$f":"COUNTIF([1]国語!Z51,1)*[1]国語!$Z$10","v":4},{"$f":"COUNTIF([1]国語!AA51,1)*[1]国語!$AA$10","v":4},{"$f":"COUNTIF([1]国語!AB51,1)*[1]国語!$AB$10","v":4},{"$f":"COUNTIF([1]国語!AC51,1)*[1]国語!$AC$10","v":4},{"$f":"COUNTIF([1]国語!AD51,1)*[1]国語!$AD$10","v":0},{"$f":"COUNTIF([1]国語!AE51,1)*[1]国語!$AE$10","v":0},{"$f":"COUNTIF([1]国語!AF51,1)*[1]国語!$AF$10","v":0},{"$f":"COUNTIF([1]国語!AG51,1)*[1]国語!$AG$10","v":0},{"$f":"COUNTIF([1]国語!AH51,1)*[1]国語!$AH$10","v":0},{"$f":"COUNTIF([1]国語!AI51,1)*[1]国語!$AI$10","v":0},{"$f":"COUNTIF([1]国語!AJ51,1)*[1]国語!$AJ$10","v":0},{"$f":"COUNTIF([1]国語!AK51,1)*[1]国語!$AK$10","v":0},{"$f":"COUNTIF([1]国語!AL51,1)*[1]国語!$AL$10","v":0},{"$f":"COUNTIF([1]国語!AM51,1)*[1]国語!$AM$10","v":0},{"$f":"COUNTIF([1]国語!AN51,1)*[1]国語!$AN$10","v":0},{"$f":"COUNTIF([1]国語!AO51,1)*[1]国語!$AO$10","v":0},{"$f":"COUNTIF([1]国語!AP51,1)*[1]国語!$AP$10","v":0},{"$f":"COUNTIF([1]国語!AQ51,1)*[1]国語!$AQ$10","v":0},{"$f":"COUNTIF([1]国語!AR51,1)*[1]国語!$AR$10","v":0},{"$f":"COUNTIF([1]国語!AS51,1)*[1]国語!$AS$10","v":0},{"$f":"COUNTIF([1]国語!AT51,1)*[1]国語!$AT$10","v":0},{"$f":"COUNTIF([1]国語!AU51,1)*[1]国語!$AU$10","v":0},{"$f":"COUNTIF([1]国語!AV51,1)*[1]国語!$AV$10","v":0},{"$f":"COUNTIF([1]国語!AW51,1)*[1]国語!$AW$10","v":0},{"$f":"COUNTIF([1]国語!AX51,1)*[1]国語!$AX$10","v":0},{"$f":"COUNTIF([1]国語!AY51,1)*[1]国語!$AY$10","v":0},{"$f":"COUNTIF([1]国語!AZ51,1)*[1]国語!$AZ$10","v":0},{"$f":"COUNTIF([1]国語!BA51,1)*[1]国語!$BA$10","v":0},{"$f":"COUNTIF([1]国語!BB51,1)*[1]国語!$BB$10","v":0},68,null,null,"41問",{"$f":"[1]国語!AS58","v":0},null,"41問",null,null,41]
[42,{"$f":"COUNTIF([1]国語!E52,1)*[1]国語!$E$10","v":4},{"$f":"COUNTIF([1]国語!F52,1)*[1]国語!$F$10","v":0},{"$f":"COUNTIF([1]国語!G52,1)*[1]国語!$G$10","v":0},{"$f":"COUNTIF([1]国語!H52,1)*[1]国語!$H$10","v":0},{"$f":"COUNTIF([1]国語!I52,1)*[1]国語!$I$10","v":0},{"$f":"COUNTIF([1]国語!J52,1)*[1]国語!$J$10","v":0},{"$f":"COUNTIF([1]国語!K52,1)*[1]国語!$F$10","v":4},{"$f":"COUNTIF([1]国語!L52,1)*[1]国語!$F$10","v":4},{"$f":"COUNTIF([1]国語!M52,1)*[1]国語!$M$10","v":4},{"$f":"COUNTIF([1]国語!N52,1)*[1]国語!$N$10","v":4},{"$f":"COUNTIF([1]国語!O52,1)*[1]国語!$O$10","v":4},{"$f":"COUNTIF([1]国語!P52,1)*[1]国語!$P$10","v":4},{"$f":"COUNTIF([1]国語!Q52,1)*[1]国語!$Q$10","v":4},{"$f":"COUNTIF([1]国語!R52,1)*[1]国語!$R$10","v":4},{"$f":"COUNTIF([1]国語!S52,1)*[1]国語!$S$10","v":4},{"$f":"COUNTIF([1]国語!T52,1)*[1]国語!$T$10","v":4},{"$f":"COUNTIF([1]国語!U52,1)*[1]国語!$U$10","v":4},{"$f":"COUNTIF([1]国語!V52,1)*[1]国語!$V$10","v":4},{"$f":"COUNTIF([1]国語!W52,1)*[1]国語!$W$10","v":4},{"$f":"COUNTIF([1]国語!X52,1)*[1]国語!$X$10","v":4},{"$f":"COUNTIF([1]国語!Y52,1)*[1]国語!$Y$10","v":4},{"$f":"COUNTIF([1]国語!Z52,1)*[1]国語!$Z$10","v":4},{"$f":"COUNTIF([1]国語!AA52,1)*[1]国語!$AA$10","v":4},{"$f":"COUNTIF([1]国語!AB52,1)*[1]国語!$AB$10","v":4},{"$f":"COUNTIF([1]国語!AC52,1)*[1]国語!$AC$10","v":4},{"$f":"COUNTIF([1]国語!AD52,1)*[1]国語!$AD$10","v":0},{"$f":"COUNTIF([1]国語!AE52,1)*[1]国語!$AE$10","v":0},{"$f":"COUNTIF([1]国語!AF52,1)*[1]国語!$AF$10","v":0},{"$f":"COUNTIF([1]国語!AG52,1)*[1]国語!$AG$10","v":0},{"$f":"COUNTIF([1]国語!AH52,1)*[1]国語!$AH$10","v":0},{"$f":"COUNTIF([1]国語!AI52,1)*[1]国語!$AI$10","v":0},{"$f":"COUNTIF([1]国語!AJ52,1)*[1]国語!$AJ$10","v":0},{"$f":"COUNTIF([1]国語!AK52,1)*[1]国語!$AK$10","v":0},{"$f":"COUNTIF([1]国語!AL52,1)*[1]国語!$AL$10","v":0},{"$f":"COUNTIF([1]国語!AM52,1)*[1]国語!$AM$10","v":0},{"$f":"COUNTIF([1]国語!AN52,1)*[1]国語!$AN$10","v":0},{"$f":"COUNTIF([1]国語!AO52,1)*[1]国語!$AO$10","v":0},{"$f":"COUNTIF([1]国語!AP52,1)*[1]国語!$AP$10","v":0},{"$f":"COUNTIF([1]国語!AQ52,1)*[1]国語!$AQ$10","v":0},{"$f":"COUNTIF([1]国語!AR52,1)*[1]国語!$AR$10","v":0},{"$f":"COUNTIF([1]国語!AS52,1)*[1]国語!$AS$10","v":0},{"$f":"COUNTIF([1]国語!AT52,1)*[1]国語!$AT$10","v":0},{"$f":"COUNTIF([1]国語!AU52,1)*[1]国語!$AU$10","v":0},{"$f":"COUNTIF([1]国語!AV52,1)*[1]国語!$AV$10","v":0},{"$f":"COUNTIF([1]国語!AW52,1)*[1]国語!$AW$10","v":0},{"$f":"COUNTIF([1]国語!AX52,1)*[1]国語!$AX$10","v":0},{"$f":"COUNTIF([1]国語!AY52,1)*[1]国語!$AY$10","v":0},{"$f":"COUNTIF([1]国語!AZ52,1)*[1]国語!$AZ$10","v":0},{"$f":"COUNTIF([1]国語!BA52,1)*[1]国語!$BA$10","v":0},{"$f":"COUNTIF([1]国語!BB52,1)*[1]国語!$BB$10","v":0},80,null,null,"42問",{"$f":"[1]国語!AT58","v":0},null,"42問",null,null,42]
[43,{"$f":"COUNTIF([1]国語!E53,1)*[1]国語!$E$10","v":0},{"$f":"COUNTIF([1]国語!F53,1)*[1]国語!$F$10","v":4},{"$f":"COUNTIF([1]国語!G53,1)*[1]国語!$G$10","v":0},{"$f":"COUNTIF([1]国語!H53,1)*[1]国語!$H$10","v":0},{"$f":"COUNTIF([1]国語!I53,1)*[1]国語!$I$10","v":0},{"$f":"COUNTIF([1]国語!J53,1)*[1]国語!$J$10","v":4},{"$f":"COUNTIF([1]国語!K53,1)*[1]国語!$F$10","v":4},{"$f":"COUNTIF([1]国語!L53,1)*[1]国語!$F$10","v":4},{"$f":"COUNTIF([1]国語!M53,1)*[1]国語!$M$10","v":4},{"$f":"COUNTIF([1]国語!N53,1)*[1]国語!$N$10","v":4},{"$f":"COUNTIF([1]国語!O53,1)*[1]国語!$O$10","v":4},{"$f":"COUNTIF([1]国語!P53,1)*[1]国語!$P$10","v":4},{"$f":"COUNTIF([1]国語!Q53,1)*[1]国語!$Q$10","v":4},{"$f":"COUNTIF([1]国語!R53,1)*[1]国語!$R$10","v":4},{"$f":"COUNTIF([1]国語!S53,1)*[1]国語!$S$10","v":4},{"$f":"COUNTIF([1]国語!T53,1)*[1]国語!$T$10","v":4},{"$f":"COUNTIF([1]国語!U53,1)*[1]国語!$U$10","v":4},{"$f":"COUNTIF([1]国語!V53,1)*[1]国語!$V$10","v":4},{"$f":"COUNTIF([1]国語!W53,1)*[1]国語!$W$10","v":4},{"$f":"COUNTIF([1]国語!X53,1)*[1]国語!$X$10","v":4},{"$f":"COUNTIF([1]国語!Y53,1)*[1]国語!$Y$10","v":4},{"$f":"COUNTIF([1]国語!Z53,1)*[1]国語!$Z$10","v":4},{"$f":"COUNTIF([1]国語!AA53,1)*[1]国語!$AA$10","v":4},{"$f":"COUNTIF([1]国語!AB53,1)*[1]国語!$AB$10","v":4},{"$f":"COUNTIF([1]国語!AC53,1)*[1]国語!$AC$10","v":4},{"$f":"COUNTIF([1]国語!AD53,1)*[1]国語!$AD$10","v":0},{"$f":"COUNTIF([1]国語!AE53,1)*[1]国語!$AE$10","v":0},{"$f":"COUNTIF([1]国語!AF53,1)*[1]国語!$AF$10","v":0},{"$f":"COUNTIF([1]国語!AG53,1)*[1]国語!$AG$10","v":0},{"$f":"COUNTIF([1]国語!AH53,1)*[1]国語!$AH$10","v":0},{"$f":"COUNTIF([1]国語!AI53,1)*[1]国語!$AI$10","v":0},{"$f":"COUNTIF([1]国語!AJ53,1)*[1]国語!$AJ$10","v":0},{"$f":"COUNTIF([1]国語!AK53,1)*[1]国語!$AK$10","v":0},{"$f":"COUNTIF([1]国語!AL53,1)*[1]国語!$AL$10","v":0},{"$f":"COUNTIF([1]国語!AM53,1)*[1]国語!$AM$10","v":0},{"$f":"COUNTIF([1]国語!AN53,1)*[1]国語!$AN$10","v":0},{"$f":"COUNTIF([1]国語!AO53,1)*[1]国語!$AO$10","v":0},{"$f":"COUNTIF([1]国語!AP53,1)*[1]国語!$AP$10","v":0},{"$f":"COUNTIF([1]国語!AQ53,1)*[1]国語!$AQ$10","v":0},{"$f":"COUNTIF([1]国語!AR53,1)*[1]国語!$AR$10","v":0},{"$f":"COUNTIF([1]国語!AS53,1)*[1]国語!$AS$10","v":0},{"$f":"COUNTIF([1]国語!AT53,1)*[1]国語!$AT$10","v":0},{"$f":"COUNTIF([1]国語!AU53,1)*[1]国語!$AU$10","v":0},{"$f":"COUNTIF([1]国語!AV53,1)*[1]国語!$AV$10","v":0},{"$f":"COUNTIF([1]国語!AW53,1)*[1]国語!$AW$10","v":0},{"$f":"COUNTIF([1]国語!AX53,1)*[1]国語!$AX$10","v":0},{"$f":"COUNTIF([1]国語!AY53,1)*[1]国語!$AY$10","v":0},{"$f":"COUNTIF([1]国語!AZ53,1)*[1]国語!$AZ$10","v":0},{"$f":"COUNTIF([1]国語!BA53,1)*[1]国語!$BA$10","v":0},{"$f":"COUNTIF([1]国語!BB53,1)*[1]国語!$BB$10","v":0},84,null,null,"43問",{"$f":"[1]国語!AU58","v":0},null,"43問",null,null,43]
[44,{"$f":"COUNTIF([1]国語!E54,1)*[1]国語!$E$10","v":0},{"$f":"COUNTIF([1]国語!F54,1)*[1]国語!$F$10","v":0},{"$f":"COUNTIF([1]国語!G54,1)*[1]国語!$G$10","v":4},{"$f":"COUNTIF([1]国語!H54,1)*[1]国語!$H$10","v":0},{"$f":"COUNTIF([1]国語!I54,1)*[1]国語!$I$10","v":4},{"$f":"COUNTIF([1]国語!J54,1)*[1]国語!$J$10","v":4},{"$f":"COUNTIF([1]国語!K54,1)*[1]国語!$F$10","v":4},{"$f":"COUNTIF([1]国語!L54,1)*[1]国語!$F$10","v":4},{"$f":"COUNTIF([1]国語!M54,1)*[1]国語!$M$10","v":4},{"$f":"COUNTIF([1]国語!N54,1)*[1]国語!$N$10","v":4},{"$f":"COUNTIF([1]国語!O54,1)*[1]国語!$O$10","v":4},{"$f":"COUNTIF([1]国語!P54,1)*[1]国語!$P$10","v":4},{"$f":"COUNTIF([1]国語!Q54,1)*[1]国語!$Q$10","v":4},{"$f":"COUNTIF([1]国語!R54,1)*[1]国語!$R$10","v":4},{"$f":"COUNTIF([1]国語!S54,1)*[1]国語!$S$10","v":4},{"$f":"COUNTIF([1]国語!T54,1)*[1]国語!$T$10","v":4},{"$f":"COUNTIF([1]国語!U54,1)*[1]国語!$U$10","v":4},{"$f":"COUNTIF([1]国語!V54,1)*[1]国語!$V$10","v":4},{"$f":"COUNTIF([1]国語!W54,1)*[1]国語!$W$10","v":4},{"$f":"COUNTIF([1]国語!X54,1)*[1]国語!$X$10","v":4},{"$f":"COUNTIF([1]国語!Y54,1)*[1]国語!$Y$10","v":4},{"$f":"COUNTIF([1]国語!Z54,1)*[1]国語!$Z$10","v":4},{"$f":"COUNTIF([1]国語!AA54,1)*[1]国語!$AA$10","v":4},{"$f":"COUNTIF([1]国語!AB54,1)*[1]国語!$AB$10","v":4},{"$f":"COUNTIF([1]国語!AC54,1)*[1]国語!$AC$10","v":4},{"$f":"COUNTIF([1]国語!AD54,1)*[1]国語!$AD$10","v":0},{"$f":"COUNTIF([1]国語!AE54,1)*[1]国語!$AE$10","v":0},{"$f":"COUNTIF([1]国語!AF54,1)*[1]国語!$AF$10","v":0},{"$f":"COUNTIF([1]国語!AG54,1)*[1]国語!$AG$10","v":0},{"$f":"COUNTIF([1]国語!AH54,1)*[1]国語!$AH$10","v":0},{"$f":"COUNTIF([1]国語!AI54,1)*[1]国語!$AI$10","v":0},{"$f":"COUNTIF([1]国語!AJ54,1)*[1]国語!$AJ$10","v":0},{"$f":"COUNTIF([1]国語!AK54,1)*[1]国語!$AK$10","v":0},{"$f":"COUNTIF([1]国語!AL54,1)*[1]国語!$AL$10","v":0},{"$f":"COUNTIF([1]国語!AM54,1)*[1]国語!$AM$10","v":0},{"$f":"COUNTIF([1]国語!AN54,1)*[1]国語!$AN$10","v":0},{"$f":"COUNTIF([1]国語!AO54,1)*[1]国語!$AO$10","v":0},{"$f":"COUNTIF([1]国語!AP54,1)*[1]国語!$AP$10","v":0},{"$f":"COUNTIF([1]国語!AQ54,1)*[1]国語!$AQ$10","v":0},{"$f":"COUNTIF([1]国語!AR54,1)*[1]国語!$AR$10","v":0},{"$f":"COUNTIF([1]国語!AS54,1)*[1]国語!$AS$10","v":0},{"$f":"COUNTIF([1]国語!AT54,1)*[1]国語!$AT$10","v":0},{"$f":"COUNTIF([1]国語!AU54,1)*[1]国語!$AU$10","v":0},{"$f":"COUNTIF([1]国語!AV54,1)*[1]国語!$AV$10","v":0},{"$f":"COUNTIF([1]国語!AW54,1)*[1]国語!$AW$10","v":0},{"$f":"COUNTIF([1]国語!AX54,1)*[1]国語!$AX$10","v":0},{"$f":"COUNTIF([1]国語!AY54,1)*[1]国語!$AY$10","v":0},{"$f":"COUNTIF([1]国語!AZ54,1)*[1]国語!$AZ$10","v":0},{"$f":"COUNTIF([1]国語!BA54,1)*[1]国語!$BA$10","v":0},{"$f":"COUNTIF([1]国語!BB54,1)*[1]国語!$BB$10","v":0},88,null,null,"44問",{"$f":"[1]国語!AV58","v":0},null,"44問",null,null,44]
[45,{"$f":"COUNTIF([1]国語!E55,1)*[1]国語!$E$10","v":0},{"$f":"COUNTIF([1]国語!F55,1)*[1]国語!$F$10","v":0},{"$f":"COUNTIF([1]国語!G55,1)*[1]国語!$G$10","v":0},{"$f":"COUNTIF([1]国語!H55,1)*[1]国語!$H$10","v":4},{"$f":"COUNTIF([1]国語!I55,1)*[1]国語!$I$10","v":4},{"$f":"COUNTIF([1]国語!J55,1)*[1]国語!$J$10","v":4},{"$f":"COUNTIF([1]国語!K55,1)*[1]国語!$F$10","v":4},{"$f":"COUNTIF([1]国語!L55,1)*[1]国語!$F$10","v":4},{"$f":"COUNTIF([1]国語!M55,1)*[1]国語!$M$10","v":4},{"$f":"COUNTIF([1]国語!N55,1)*[1]国語!$N$10","v":4},{"$f":"COUNTIF([1]国語!O55,1)*[1]国語!$O$10","v":4},{"$f":"COUNTIF([1]国語!P55,1)*[1]国語!$P$10","v":4},{"$f":"COUNTIF([1]国語!Q55,1)*[1]国語!$Q$10","v":4},{"$f":"COUNTIF([1]国語!R55,1)*[1]国語!$R$10","v":4},{"$f":"COUNTIF([1]国語!S55,1)*[1]国語!$S$10","v":4},{"$f":"COUNTIF([1]国語!T55,1)*[1]国語!$T$10","v":4},{"$f":"COUNTIF([1]国語!U55,1)*[1]国語!$U$10","v":4},{"$f":"COUNTIF([1]国語!V55,1)*[1]国語!$V$10","v":4},{"$f":"COUNTIF([1]国語!W55,1)*[1]国語!$W$10","v":4},{"$f":"COUNTIF([1]国語!X55,1)*[1]国語!$X$10","v":4},{"$f":"COUNTIF([1]国語!Y55,1)*[1]国語!$Y$10","v":4},{"$f":"COUNTIF([1]国語!Z55,1)*[1]国語!$Z$10","v":4},{"$f":"COUNTIF([1]国語!AA55,1)*[1]国語!$AA$10","v":4},{"$f":"COUNTIF([1]国語!AB55,1)*[1]国語!$AB$10","v":4},{"$f":"COUNTIF([1]国語!AC55,1)*[1]国語!$AC$10","v":4},{"$f":"COUNTIF([1]国語!AD55,1)*[1]国語!$AD$10","v":0},{"$f":"COUNTIF([1]国語!AE55,1)*[1]国語!$AE$10","v":0},{"$f":"COUNTIF([1]国語!AF55,1)*[1]国語!$AF$10","v":0},{"$f":"COUNTIF([1]国語!AG55,1)*[1]国語!$AG$10","v":0},{"$f":"COUNTIF([1]国語!AH55,1)*[1]国語!$AH$10","v":0},{"$f":"COUNTIF([1]国語!AI55,1)*[1]国語!$AI$10","v":0},{"$f":"COUNTIF([1]国語!AJ55,1)*[1]国語!$AJ$10","v":0},{"$f":"COUNTIF([1]国語!AK55,1)*[1]国語!$AK$10","v":0},{"$f":"COUNTIF([1]国語!AL55,1)*[1]国語!$AL$10","v":0},{"$f":"COUNTIF([1]国語!AM55,1)*[1]国語!$AM$10","v":0},{"$f":"COUNTIF([1]国語!AN55,1)*[1]国語!$AN$10","v":0},{"$f":"COUNTIF([1]国語!AO55,1)*[1]国語!$AO$10","v":0},{"$f":"COUNTIF([1]国語!AP55,1)*[1]国語!$AP$10","v":0},{"$f":"COUNTIF([1]国語!AQ55,1)*[1]国語!$AQ$10","v":0},{"$f":"COUNTIF([1]国語!AR55,1)*[1]国語!$AR$10","v":0},{"$f":"COUNTIF([1]国語!AS55,1)*[1]国語!$AS$10","v":0},{"$f":"COUNTIF([1]国語!AT55,1)*[1]国語!$AT$10","v":0},{"$f":"COUNTIF([1]国語!AU55,1)*[1]国語!$AU$10","v":0},{"$f":"COUNTIF([1]国語!AV55,1)*[1]国語!$AV$10","v":0},{"$f":"COUNTIF([1]国語!AW55,1)*[1]国語!$AW$10","v":0},{"$f":"COUNTIF([1]国語!AX55,1)*[1]国語!$AX$10","v":0},{"$f":"COUNTIF([1]国語!AY55,1)*[1]国語!$AY$10","v":0},{"$f":"COUNTIF([1]国語!AZ55,1)*[1]国語!$AZ$10","v":0},{"$f":"COUNTIF([1]国語!BA55,1)*[1]国語!$BA$10","v":0},{"$f":"COUNTIF([1]国語!BB55,1)*[1]国語!$BB$10","v":0},88,null,null,"45問",{"$f":"[1]国語!AW58","v":0},null,"45問",null,null,45]
[null,null,null,null,null,null,null,null,null,null,null,null,null,null,null,null,null,null,null,null,null,null,null,null,null,null,null,null,null,null,null,null,null,null,null,null,null,null,null,null,null,null,null,null,null,null,null,null,null,null,null,null,null,null,"46問",{"$f":"[1]国語!AX58","v":0},null,"46問",null,null,46]
[null,null,null,null,null,null,null,null,null,null,null,null,null,null,null,null,null,null,null,null,null,null,null,null,null,null,null,null,null,null,null,null,null,null,null,null,null,null,null,null,null,null,null,null,null,null,null,null,null,null,null,null,null,null,"47問",{"$f":"[1]国語!AY58","v":0},null,"47問",null,null,47]
["数",1,2,3,4,5,6,7,8,9,10,11,12,13,14,15,16,17,18,19,20,21,22,23,24,25,26,27,28,29,30,31,32,33,34,35,36,37,38,39,40,41,42,43,44,45,46,47,48,49,50,null,null,null,"48問",{"$f":"[1]国語!AZ58","v":0},null,"48問",null,null,48]
["正答",{"$f":"[1]国語!E58","v":2},{"$f":"[1]国語!F58","v":3},{"$f":"[1]国語!G58","v":4},{"$f":"[1]国語!H58","v":5},{"$f":"[1]国語!I58","v":7},{"$f":"[1]国語!J58","v":9},{"$f":"[1]国語!K58","v":11},{"$f":"[1]国語!L58","v":11},{"$f":"[1]国語!M58","v":13},{"$f":"[1]国語!N58","v":15},{"$f":"[1]国語!O58","v":17},{"$f":"[1]国語!P58","v":19},{"$f":"[1]国語!Q58","v":21},{"$f":"[1]国語!R58","v":23},{"$f":"[1]国語!S58","v":25},{"$f":"[1]国語!T58","v":27},{"$f":"[1]国語!U58","v":29},{"$f":"[1]国語!V58","v":31},{"$f":"[1]国語!W58","v":33},{"$f":"[1]国語!X58","v":35},{"$f":"[1]国語!Y58","v":37},{"$f":"[1]国語!Z58","v":39},{"$f":"[1]国語!AA58","v":41},{"$f":"[1]国語!AB58","v":43},{"$f":"[1]国語!AC58","v":44},{"$f":"[1]国語!AD58","v":0},{"$f":"[1]国語!AE58","v":0},{"$f":"[1]国語!AF58","v":0},{"$f":"[1]国語!AG58","v":0},{"$f":"[1]国語!AH58","v":0},{"$f":"[1]国語!AI58","v":0},{"$f":"[1]国語!AJ58","v":0},{"$f":"[1]国語!AK58","v":0},{"$f":"[1]国語!AL58","v":0},{"$f":"[1]国語!AM58","v":0},{"$f":"[1]国語!AN58","v":0},{"$f":"[1]国語!AO58","v":0},{"$f":"[1]国語!AP58","v":0},{"$f":"[1]国語!AQ58","v":0},{"$f":"[1]国語!AR58","v":0},{"$f":"[1]国語!AS58","v":0},{"$f":"[1]国語!AT58","v":0},{"$f":"[1]国語!AU58","v":0},{"$f":"[1]国語!AV58","v":0},{"$f":"[1]国語!AW58","v":0},{"$f":"[1]国語!AX58","v":0},{"$f":"[1]国語!AY58","v":0},{"$f":"[1]国語!AZ58","v":0},{"$f":"[1]国語!BA58","v":0},{"$f":"[1]国語!BB58","v":0},null,null,null,"49問",{"$f":"[1]国語!BA58","v":0},null,"49問",null,null,49]
["誤答",{"$f":"[1]国語!E59","v":21},{"$f":"[1]国語!F59","v":22},{"$f":"[1]国語!G59","v":20},{"$f":"[1]国語!H59","v":20},{"$f":"[1]国語!I59","v":19},{"$f":"[1]国語!J59","v":18},{"$f":"[1]国語!K59","v":17},{"$f":"[1]国語!L59","v":18},{"$f":"[1]国語!M59","v":16},{"$f":"[1]国語!N59","v":15},{"$f":"[1]国語!O59","v":14},{"$f":"[1]国語!P59","v":15},{"$f":"[1]国語!Q59","v":13},{"$f":"[1]国語!R59","v":12},{"$f":"[1]国語!S59","v":11},{"$f":"[1]国語!T59","v":9},{"$f":"[1]国語!U59","v":9},{"$f":"[1]国語!V59","v":8},{"$f":"[1]国語!W59","v":6},{"$f":"[1]国語!X59","v":5},{"$f":"[1]国語!Y59","v":4},{"$f":"[1]国語!Z59","v":3},{"$f":"[1]国語!AA59","v":2},{"$f":"[1]国語!AB59","v":1},{"$f":"[1]国語!AC59","v":1},{"$f":"[1]国語!AD59","v":0},{"$f":"[1]国語!AE59","v":0},{"$f":"[1]国語!AF59","v":0},{"$f":"[1]国語!AG59","v":0},{"$f":"[1]国語!AH59","v":0},{"$f":"[1]国語!AI59","v":0},{"$f":"[1]国語!AJ59","v":0},{"$f":"[1]国語!AK59","v":0},{"$f":"[1]国語!AL59","v":0},{"$f":"[1]国語!AM59","v":0},{"$f":"[1]国語!AN59","v":0},{"$f":"[1]国語!AO59","v":0},{"$f":"[1]国語!AP59","v":0},{"$f":"[1]国語!AQ59","v":0},{"$f":"[1]国語!AR59","v":0},{"$f":"[1]国語!AS59","v":0},{"$f":"[1]国語!AT59","v":0},{"$f":"[1]国語!AU59","v":0},{"$f":"[1]国語!AV59","v":0},{"$f":"[1]国語!AW59","v":0},{"$f":"[1]国語!AX59","v":0},{"$f":"[1]国語!AY59","v":0},{"$f":"[1]国語!AZ59","v":0},{"$f":"[1]国語!BA59","v":0},{"$f":"[1]国語!BB59","v":0},null,null,null,"50問",{"$f":"[1]国語!BB58","v":0},null,"50問",null,null,50]
["無答",{"$f":"[1]国語!E60","v":22},{"$f":"[1]国語!F60","v":20},{"$f":"[1]国語!G60","v":21},{"$f":"[1]国語!H60","v":20},{"$f":"[1]国語!I60","v":19},{"$f":"[1]国語!J60","v":18},{"$f":"[1]国語!K60","v":17},{"$f":"[1]国語!L60","v":16},{"$f":"[1]国語!M60","v":16},{"$f":"[1]国語!N60","v":15},{"$f":"[1]国語!O60","v":14},{"$f":"[1]国語!P60","v":11},{"$f":"[1]国語!Q60","v":11},{"$f":"[1]国語!R60","v":10},{"$f":"[1]国語!S60","v":9},{"$f":"[1]国語!T60","v":9},{"$f":"[1]国語!U60","v":7},{"$f":"[1]国語!V60","v":6},{"$f":"[1]国語!W60","v":6},{"$f":"[1]国語!X60","v":5},{"$f":"[1]国語!Y60","v":4},{"$f":"[1]国語!Z60","v":3},{"$f":"[1]国語!AA60","v":2},{"$f":"[1]国語!AB60","v":1},{"$f":"[1]国語!AC60","v":0},{"$f":"[1]国語!AD60","v":0},{"$f":"[1]国語!AE60","v":0},{"$f":"[1]国語!AF60","v":0},{"$f":"[1]国語!AG60","v":0},{"$f":"[1]国語!AH60","v":0},{"$f":"[1]国語!AI60","v":0},{"$f":"[1]国語!AJ60","v":0},{"$f":"[1]国語!AK60","v":0},{"$f":"[1]国語!AL60","v":0},{"$f":"[1]国語!AM60","v":0},{"$f":"[1]国語!AN60","v":0},{"$f":"[1]国語!AO60","v":0},{"$f":"[1]国語!AP60","v":0},{"$f":"[1]国語!AQ60","v":0},{"$f":"[1]国語!AR60","v":0},{"$f":"[1]国語!AS60","v":0},{"$f":"[1]国語!AT60","v":0},{"$f":"[1]国語!AU60","v":0},{"$f":"[1]国語!AV60","v":0},{"$f":"[1]国語!AW60","v":0},{"$f":"[1]国語!AX60","v":0},{"$f":"[1]国語!AY60","v":0},{"$f":"[1]国語!AZ60","v":0},{"$f":"[1]国語!BA60","v":0},{"$f":"[1]国語!BB60","v":0},null,null,null,"児童数合計",{"$f":"L1","v":45},null,"合計",{"$f":"SUM(BG3:BG53)","v":1763.8999999999996}]
["合計",{"$f":"[1]国語!E61","v":45},{"$f":"[1]国語!F61","v":45},{"$f":"[1]国語!G61","v":45},{"$f":"[1]国語!H61","v":45},{"$f":"[1]国語!I61","v":45},{"$f":"[1]国語!J61","v":45},{"$f":"[1]国語!K61","v":45},{"$f":"[1]国語!L61","v":45},{"$f":"[1]国語!M61","v":45},{"$f":"[1]国語!N61","v":45},{"$f":"[1]国語!O61","v":45},{"$f":"[1]国語!P61","v":45},{"$f":"[1]国語!Q61","v":45},{"$f":"[1]国語!R61","v":45},{"$f":"[1]国語!S61","v":45},{"$f":"[1]国語!T61","v":45},{"$f":"[1]国語!U61","v":45},{"$f":"[1]国語!V61","v":45},{"$f":"[1]国語!W61","v":45},{"$f":"[1]国語!X61","v":45},{"$f":"[1]国語!Y61","v":45},{"$f":"[1]国語!Z61","v":45},{"$f":"[1]国語!AA61","v":45},{"$f":"[1]国語!AB61","v":45},{"$f":"[1]国語!AC61","v":45},{"$f":"[1]国語!AD61","v":0},{"$f":"[1]国語!AE61","v":0},{"$f":"[1]国語!AF61","v":0},{"$f":"[1]国語!AG61","v":0},{"$f":"[1]国語!AH61","v":0},{"$f":"[1]国語!AI61","v":0},{"$f":"[1]国語!AJ61","v":0},{"$f":"[1]国語!AK61","v":0},{"$f":"[1]国語!AL61","v":0},{"$f":"[1]国語!AM61","v":0},{"$f":"[1]国語!AN61","v":0},{"$f":"[1]国語!AO61","v":0},{"$f":"[1]国語!AP61","v":0},{"$f":"[1]国語!AQ61","v":0},{"$f":"[1]国語!AR61","v":0},{"$f":"[1]国語!AS61","v":0},{"$f":"[1]国語!AT61","v":0},{"$f":"[1]国語!AU61","v":0},{"$f":"[1]国語!AV61","v":0},{"$f":"[1]国語!AW61","v":0},{"$f":"[1]国語!AX61","v":0},{"$f":"[1]国語!AY61","v":0},{"$f":"[1]国語!AZ61","v":0},{"$f":"[1]国語!BA61","v":0},{"$f":"[1]国語!BB61","v":0}]
["６年国語",{"$f":"[1]国語!E9","v":"知・技"},{"$f":"[1]国語!F9","v":"知・技"},{"$f":"[1]国語!G9","v":"知・技"},{"$f":"[1]国語!H9","v":"知・技"},{"$f":"[1]国語!I9","v":"知・技"},{"$f":"[1]国語!J9","v":"知・技"},{"$f":"[1]国語!K9","v":"知・技"},{"$f":"[1]国語!L9","v":"知・技"},{"$f":"[1]国語!M9","v":"知・技"},{"$f":"[1]国語!N9","v":"知・技"},{"$f":"[1]国語!O9","v":"知・技"},{"$f":"[1]国語!P9","v":"知・技"},{"$f":"[1]国語!Q9","v":"思判表"},{"$f":"[1]国語!R9","v":"思判表"},{"$f":"[1]国語!S9","v":"思判表"},{"$f":"[1]国語!T9","v":"思判表"},{"$f":"[1]国語!U9","v":"思判表"},{"$f":"[1]国語!V9","v":"思判表"},{"$f":"[1]国語!W9","v":"思判表"},{"$f":"[1]国語!X9","v":"思判表"},{"$f":"[1]国語!Y9","v":"思判表"},{"$f":"[1]国語!Z9","v":"思判表"},{"$f":"[1]国語!AA9","v":"思判表"},{"$f":"[1]国語!AB9","v":"思判表"},{"$f":"[1]国語!AC9","v":"思判表"}]
["富山県\n割合％",1,2,3,4,5,6,7,8,9,10,11,12,13,14,15,16,17,18,19,20,21,22,23,24,25,26,27,28,29,30,31,32,33,34,35,36,37,38,39,40,41,42,43,44,45,46,47,48,49,50]
["正答率",0.95499999999999996,0.96199999999999997,0.52600000000000002,0.96399999999999997,0.81299999999999994,0.56699999999999995,0.81599999999999995,0.53800000000000003,0.56000000000000005,0.621,0.96099999999999997,0.97499999999999998,0.83799999999999997,0.84099999999999997,0.88800000000000001,0.82799999999999996,0.46700000000000003,0.58299999999999996,0.69799999999999995,0.83099999999999996,0.74,0.42,0.28399999999999997,0.39600000000000002,0.56699999999999995]
["誤答率",3.6999999999999998E-2,3.6999999999999998E-2,0.45300000000000001,2.8000000000000001E-2,0.122,0.29899999999999999,0.112,0.37,0.42899999999999999,0.36299999999999999,3.6999999999999998E-2,2.1999999999999999E-2,0.159,0.155,0.105,0.14799999999999999,0.503,0.39800000000000002,0.28799999999999998,0.156,0.252,0.50600000000000001,0.63,0.49099999999999999,0.41599999999999998]
["無答率",8.0000000000000071E-3,1.0000000000000009E-3,2.0999999999999908E-2,8.0000000000000071E-3,6.5000000000000058E-2,0.13400000000000012,7.2000000000000064E-2,9.1999999999999971E-2,1.0999999999999899E-2,1.6000000000000014E-2,2.0000000000000018E-3,3.0000000000000027E-3,3.0000000000000027E-3,4.0000000000000036E-3,7.0000000000000062E-3,2.4000000000000021E-2,3.0000000000000027E-2,1.9000000000000017E-2,1.4000000000000012E-2,1.3000000000000012E-2,8.0000000000000071E-3,7.4000000000000066E-2,8.6000000000000076E-2,0.11299999999999999,1.7000000000000126E-2]
["合計",{"$f":"SUM(B58:B60)","v":1},{"$f":"SUM(C58:C60)","v":1},1,1,1,1,1,1,1,1,1,1,1,1,1,1,1,1,1,1,1,1,1,1,1,0,0,0,0,0,0,0,0,0,0,0,0,0,0,0,0,0,0,0,0,0,0,0,0,0]
[]
["観点別正答数",null,null,null,null,null,null,null,null,null,null,null,null,null,null,null,null,null,null,null,null,null,null,null,null,null,null,null,null,null,null,null,null,null,null,null,null,null,null,null,null,null,null,null,null,null,null,null,null,null,null,"計","数","割合",{"$f":"A63","v":"観点別正答数"}]
[{"$f":"[1]国語!BF35","v":"知・技"},{"$f":"IF(COUNTIF(B3,$A$64),SUM(B52),0)","v":2},3,4,5,7,9,11,11,13,15,17,19,0,0,0,0,0,0,0,0,0,0,0,0,0,0,0,0,0,0,0,0,{"$f":"IF(COUNTIF(AH3,$A$64),SUM(AH52),0)","v":0},0,0,0,0,0,0,0,0,0,0,0,0,0,0,0,0,0,{"$f":"SUM(B64:AY64)","v":116},{"$f":"COUNTIF($B$3:$AY$3,A64)","v":12},{"$f":"AZ64/BA64/$L$1","v":0.21481481481481479},{"$f":"A64","v":"知・技"}]
[{"$f":"[1]国語!BF36","v":"思判表"},{"$f":"IF(COUNTIF(B3,$A$65),SUM(B52),0)","v":0},0,0,0,0,0,0,0,0,0,0,0,21,23,25,27,29,31,33,35,37,39,41,43,44,0,0,0,0,0,0,0,0,0,0,0,0,0,0,0,0,0,0,0,0,0,0,0,0,0,{"$f":"SUM(B65:AY65)","v":428},{"$f":"COUNTIF($B$3:$AY$3,A65)","v":13},{"$f":"AZ65/BA65/$L$1","v":0.73162393162393158},"思判表"]
[{"$f":"[1]国語!BF37","v":"-"},{"$f":"IF(COUNTIF(B3,$A$66),SUM(B52),0)","v":0},0,0,0,0,0,0,0,0,0,0,0,0,0,0,0,0,0,0,0,0,0,0,0,0,0,0,0,0,0,0,0,0,0,0,0,0,0,0,0,0,0,0,0,0,0,0,0,0,0,{"$f":"SUM(B66:AY66)","v":0},{"$f":"COUNTIF($B$3:$AY$3,A66)","v":0},{"$f":"AZ66/BA66/$L$1","v":{"$error":"#DIV/0!"}},"-"]
[{"$f":"[1]国語!BF38","v":"-"},{"$f":"IF(COUNTIF(B3,$A$67),SUM(B52),0)","v":0},0,0,0,0,0,0,0,0,0,0,0,0,0,0,0,0,0,0,0,0,0,0,0,0,0,0,0,0,0,0,0,0,0,0,0,0,0,0,0,0,0,0,0,0,0,0,0,0,0,{"$f":"SUM(B67:AY67)","v":0},{"$f":"COUNTIF($B$3:$AY$3,A67)","v":0},{"$f":"AZ67/BA67/$L$1","v":{"$error":"#DIV/0!"}},"-"]
[{"$f":"[1]国語!BF39","v":"-"},{"$f":"IF(COUNTIF(B3,$A$68),SUM(B52),0)","v":0},0,0,0,0,0,0,0,0,0,0,0,0,0,0,0,0,0,0,0,0,0,0,0,0,0,0,0,0,0,0,0,0,0,0,0,0,0,0,0,0,0,0,0,0,0,0,0,0,0,{"$f":"SUM(B68:AY68)","v":0},{"$f":"COUNTIF($B$3:$AY$3,A68)","v":0},{"$f":"AZ68/BA68/$L$1","v":{"$error":"#DIV/0!"}},"-"]
[]
["観点別誤答数",null,null,null,null,null,null,null,null,null,null,null,null,null,null,null,null,null,null,null,null,null,null,null,null,null,null,null,null,null,null,null,null,null,null,null,null,null,null,null,null,null,null,null,null,null,null,null,null,null,null,null,null,null,"観点別誤答数"]
[{"$f":"A64","v":"知・技"},{"$f":"IF(COUNTIF(B3,$A$64),SUM(B53),0)","v":21},22,20,20,19,18,17,18,16,15,14,15,0,0,0,0,0,0,0,0,0,0,0,0,0,0,0,0,0,0,0,0,0,0,0,0,0,0,0,0,0,0,0,0,0,0,0,0,0,0,{"$f":"SUM(B71:AY71)","v":215},{"$f":"BA64","v":12},{"$f":"AZ71/BA71/$L$1","v":0.3981481481481482},"知・技"]
[{"$f":"A65","v":"思判表"},{"$f":"IF(COUNTIF(B3,$A$65),SUM(B53),0)","v":0},0,0,0,0,0,0,0,0,0,0,0,13,12,11,9,9,8,6,5,4,3,2,1,1,0,0,0,0,0,0,0,0,0,0,0,0,0,0,0,0,0,0,0,0,0,0,0,0,0,{"$f":"SUM(B72:AY72)","v":84},{"$f":"BA65","v":13},{"$f":"AZ72/BA72/$L$1","v":0.14358974358974358},"思判表"]
[{"$f":"A66","v":"-"},{"$f":"IF(COUNTIF(B3,$A$66),SUM(B53),0)","v":0},0,0,0,0,0,0,0,0,0,0,0,0,0,0,0,0,0,0,0,0,0,0,0,0,0,0,0,0,0,0,0,0,0,0,0,0,0,0,0,0,0,0,0,0,0,0,0,0,0,{"$f":"SUM(B73:AY73)","v":0},{"$f":"BA66","v":0},{"$f":"AZ73/BA73/$L$1","v":{"$error":"#DIV/0!"}},"-"]
[{"$f":"A67","v":"-"},{"$f":"IF(COUNTIF(B3,$A$67),SUM(B53),0)","v":0},0,0,0,0,0,0,0,0,0,0,0,0,0,0,0,0,0,0,0,0,0,0,0,0,0,0,0,0,0,0,0,0,0,0,0,0,0,0,0,0,0,0,0,0,0,0,0,0,0,{"$f":"SUM(B74:AY74)","v":0},{"$f":"BA67","v":0},{"$f":"AZ74/BA74/$L$1","v":{"$error":"#DIV/0!"}},"-"]
[{"$f":"A68","v":"-"},{"$f":"IF(COUNTIF(B3,$A$68),SUM(B53),0)","v":0},0,0,0,0,0,0,0,0,0,0,0,0,0,0,0,0,0,0,0,0,0,0,0,0,0,0,0,0,0,0,0,0,0,0,0,0,0,0,0,0,0,0,0,0,0,0,0,0,0,{"$f":"SUM(B75:AY75)","v":0},{"$f":"BA68","v":0},{"$f":"AZ75/BA75/$L$1","v":{"$error":"#DIV/0!"}},"-"]
[]
["観点別無答数",null,null,null,null,null,null,null,null,null,null,null,null,null,null,null,null,null,null,null,null,null,null,null,null,null,null,null,null,null,null,null,null,null,null,null,null,null,null,null,null,null,null,null,null,null,null,null,null,null,null,null,null,null,"観点別無答数"]
[{"$f":"A64","v":"知・技"},{"$f":"IF(COUNTIF(B3,$A$64),SUM(B54),0)","v":22},20,21,20,19,18,17,16,16,15,14,11,0,0,0,0,0,0,0,0,0,0,0,0,0,0,0,0,0,0,0,0,0,0,0,0,0,0,0,0,0,0,0,0,0,0,0,0,0,0,{"$f":"SUM(B78:AY78)","v":209},{"$f":"BA64","v":12},{"$f":"AZ78/BA78/$L$1","v":0.38703703703703707},"知・技"]
[{"$f":"A65","v":"思判表"},{"$f":"IF(COUNTIF(B3,$A$65),SUM(B54),0)","v":0},0,0,0,0,0,0,0,0,0,0,0,11,10,9,9,7,6,6,5,4,3,2,1,0,0,0,0,0,0,0,0,0,0,0,0,0,0,0,0,0,0,0,0,0,0,0,0,0,0,{"$f":"SUM(B79:AY79)","v":73},{"$f":"BA65","v":13},{"$f":"AZ79/BA79/$L$1","v":0.12478632478632477},"思判表"]
[{"$f":"A66","v":"-"},{"$f":"IF(COUNTIF(B3,$A$66),SUM(B54),0)","v":0},0,0,0,0,0,0,0,0,0,0,0,0,0,0,0,0,0,0,0,0,0,0,0,0,0,0,0,0,0,0,0,0,0,0,0,0,0,0,0,0,0,0,0,0,0,0,0,0,0,{"$f":"SUM(B80:AY80)","v":0},{"$f":"BA66","v":0},{"$f":"AZ80/BA80/$L$1","v":{"$error":"#DIV/0!"}},"-"]
[{"$f":"A67","v":"-"},{"$f":"IF(COUNTIF(B3,$A$67),SUM(B54),0)","v":0},0,0,0,0,0,0,0,0,0,0,0,0,0,0,0,0,0,0,0,0,0,0,0,0,0,0,0,0,0,0,0,0,0,0,0,0,0,0,0,0,0,0,0,0,0,0,0,0,0,{"$f":"SUM(B81:AY81)","v":0},{"$f":"BA67","v":0},{"$f":"AZ81/BA81/$L$1","v":{"$error":"#DIV/0!"}},"-"]
[{"$f":"A68","v":"-"},{"$f":"IF(COUNTIF(B3,$A$68),SUM(B54),0)","v":0},0,0,0,0,0,0,0,0,0,0,0,0,0,0,0,0,0,0,0,0,0,0,0,0,0,0,0,0,0,0,0,0,0,0,0,0,0,0,0,0,0,0,0,0,0,0,0,0,0,{"$f":"SUM(B82:AY82)","v":0},{"$f":"BA68","v":0},{"$f":"AZ82/BA82/$L$1","v":{"$error":"#DIV/0!"}},"-"]

{"sheet":"社会表紙","index":9,"n_rows":6,"n_cols":2,"rows_kept":6,"cut":false,"hidden":false,"merged":[]}
[]
["社会の結果の分析"]
[]
[null,"最初にデータコピーをクリックして、社会のデータを入力したファイルを選択してください。"]
[]
[null,"選択ボタン一覧（色で囲んであるところをクリックしてください。）"]

{"sheet":"①社会の平均正答数②社会の平均正答率","index":10,"n_rows":27,"n_cols":15,"rows_kept":27,"cut":false,"hidden":false,"merged":[[4,0,4,1],[10,0,10,2],[19,1,19,3],[24,1,24,3],[19,15,19,21],[11,0,11,2],[12,0,12,2],[13,0,13,2],[16,0,16,2],[14,0,14,2],[15,0,15,2]]}
["①社会の平均正答数②社会の平均正答率"]
[]
[]
["集計対象"]
["児童数"]
[{"$f":"社会!AB1","v":0},"人"]
[]
["観点別集計結果"]
[null,null,null,null,null,null,null,null,null,null,null,null,null,null,"1900-01-01"]
["社会",null,null,null,null,null,null,null,null,null,null,null,null,null,"1900-01-01"]
["観点",null,null,"対象設問数\n（問）","富山県\n平均正答率\n（％）","自校\n平均正答率\n（％）","自校\n平均正答数\n（問）",null,null,"自校\n平均正答率\n（％）",null,null,"自校\n平均正答数\n（問）"]
[{"$f":"社会!BG35","v":"思考・判断・表現"},null,null,{"$f":"社会得点!BA64","v":7},{"$f":"IF(ISERR(社会!F76)*100,0,(社会!F76)*100)","v":57.328571428571429},{"$f":"IF(ISERR(社会!F71)*100,0,(社会!F71)*100)","v":0},{"$f":"IF(ISERR(D12*F12)/100,\"\",(D12*F12)/100)","v":0},null,60,50,null,null,{"$f":"IF(J12=\"\",\"\",D12*J12/100)","v":3.5}]
[{"$f":"社会!BG36","v":"知識・技能"},null,null,{"$f":"社会得点!BA65","v":18},{"$f":"IF(ISERR(社会!K76)*100,0,(社会!K76)*100)","v":67.200000000000017},{"$f":"IF(ISERR(社会!K71)*100,0,(社会!K71)*100)","v":0},{"$f":"IF(ISERR(D13*F13)/100,\"\",(D13*F13)/100)","v":0},null,60,50,null,null,{"$f":"IF(J13=\"\",\"\",D13*J13/100)","v":9}]
[{"$f":"社会!BG37","v":"-"},null,null,{"$f":"社会得点!BA66","v":0},{"$f":"IF(ISERR(社会!P76)*100,0,(社会!P76)*100)","v":0},{"$f":"IF(ISERR(社会!P71)*100,0,(社会!P71)*100)","v":0},{"$f":"IF(ISERR(D14*F14)/100,\"\",(D14*F14)/100)","v":0},null,60,50,null,null,{"$f":"IF(J14=\"\",\"\",D14*J14/100)","v":0}]
[{"$f":"社会!BG38","v":"-"},null,null,{"$f":"社会得点!BA67","v":0},{"$f":"IF(ISERR(社会!U71)*100,0,(社会!U76)*100)","v":0},{"$f":"IF(ISERR(社会!U71)*100,0,(社会!U71)*100)","v":0},{"$f":"IF(ISERR(D15*F15)/100,\"\",(D15*F15)/100)","v":0}]
[{"$f":"社会!BG39","v":"-"},null,null,{"$f":"社会得点!BA68","v":0},{"$f":"IF(ISERR(社会!Z76)*100,0,(社会!Z76)*100)","v":0},{"$f":"IF(ISERR(社会!Z71)*100,0,(社会!Z71)*100)","v":0},{"$f":"IF(ISERR(D16*F16)/100,\"\",(D16*F16)/100)","v":0}]
["設問数・平均正答率・平均正答数",null,null,{"$f":"SUM(D12:D16)","v":25},{"$f":"SUM(E12:E16)/社会!BG41","v":62.26428571428572},{"$f":"SUM(F12:F16)/社会!BG41","v":0},{"$f":"D17*F17/100","v":0},null,0,0,"観点数",null,{"$f":"IF(J17=\"\",\"\",#REF!*J17/100)","v":{"$error":"#REF!"}},{"$f":"社会!BG41","v":2}]
[]
["◆社会"]
[null,"　　　　平均正答数"]
[null,"富山県（ア）","自校(イ)","県との差（イーア）"]
[{"$f":"\"社会　\"&社会!AX1&\"問\"","v":"社会　25問"},{"$f":"D17*E17/100","v":15.566071428571428},{"$f":"G17","v":0},{"$f":"C22-B22","v":-15.566071428571428}]
[]
[]
[null," 平均正答率"]
[null,"富山県(ア)","自校（イ）"," 県との差(イーア)"]
[{"$f":"\"社会　\"&社会!AX1&\"問\"","v":"社会　25問"},{"$f":"E17","v":62.26428571428572},{"$f":"F17","v":0},{"$f":"C27-B27","v":-62.26428571428572}]

{"sheet":"③社会の正答数別分布","index":11,"n_rows":59,"n_cols":7,"rows_kept":59,"cut":false,"hidden":false,"merged":[[6,0,6,1]]}
["③社会の正答数別分布"]
[]
["問題数",{"$f":"社会!AX1","v":25}]
[]
[]
["◆社会",null,null,"◆社会"]
["正答数別の児童数(人)",null,null,"正答数","富山県％（ア）","自校％(イ)"," 県との差(イーア)"]
["0問",{"$f":"社会得点!BD3","v":0},null,"0問",{"$f":"社会得点!BG3","v":0},{"$f":"IF(B8=\"\",\"\",B8/B$59*100)","v":{"$error":"#DIV/0!"}},{"$f":"IF($F8=\"\",\"\",$F8-$E8)","v":{"$error":"#DIV/0!"}}]
["1問",{"$f":"社会得点!BD4","v":0},null,"1問",{"$f":"社会得点!BG4","v":78.3},{"$error":"#DIV/0!"},{"$error":"#DIV/0!"}]
["2問",{"$f":"社会得点!BD5","v":0},null,"2問",{"$f":"社会得点!BG5","v":52.300000000000004},{"$error":"#DIV/0!"},{"$error":"#DIV/0!"}]
["3問",{"$f":"社会得点!BD6","v":0},null,"3問",{"$f":"社会得点!BG6","v":28.999999999999996},{"$error":"#DIV/0!"},{"$error":"#DIV/0!"}]
["4問",{"$f":"社会得点!BD7","v":0},null,"4問",{"$f":"社会得点!BG7","v":78.3},{"$error":"#DIV/0!"},{"$error":"#DIV/0!"}]
["5問",{"$f":"社会得点!BD8","v":0},null,"5問",{"$f":"社会得点!BG8","v":33.800000000000004},{"$error":"#DIV/0!"},{"$error":"#DIV/0!"}]
["6問",{"$f":"社会得点!BD9","v":0},null,"6問",{"$f":"社会得点!BG9","v":35.9},{"$error":"#DIV/0!"},{"$error":"#DIV/0!"}]
["7問",{"$f":"社会得点!BD10","v":0},null,"7問",{"$f":"社会得点!BG10","v":68.899999999999991},{"$error":"#DIV/0!"},{"$error":"#DIV/0!"}]
["8問",{"$f":"社会得点!BD11","v":0},null,"8問",{"$f":"社会得点!BG11","v":65.5},{"$error":"#DIV/0!"},{"$error":"#DIV/0!"}]
["9問",{"$f":"社会得点!BD12","v":0},null,"9問",{"$f":"社会得点!BG12","v":55.400000000000006},{"$error":"#DIV/0!"},{"$error":"#DIV/0!"}]
["10問",{"$f":"社会得点!BD13","v":0},null,"10問",{"$f":"社会得点!BG13","v":73.2},{"$error":"#DIV/0!"},{"$error":"#DIV/0!"}]
["11問",{"$f":"社会得点!BD14","v":0},null,"11問",{"$f":"社会得点!BG14","v":100},{"$error":"#DIV/0!"},{"$error":"#DIV/0!"}]
["12問",{"$f":"社会得点!BD15","v":0},null,"12問",{"$f":"社会得点!BG15","v":92.100000000000009},{"$error":"#DIV/0!"},{"$error":"#DIV/0!"}]
["13問",{"$f":"社会得点!BD16","v":0},null,"13問",{"$f":"社会得点!BG16","v":84.1},{"$error":"#DIV/0!"},{"$error":"#DIV/0!"}]
["14問",{"$f":"社会得点!BD17","v":0},null,"14問",{"$f":"社会得点!BG17","v":70.599999999999994},{"$error":"#DIV/0!"},{"$error":"#DIV/0!"}]
["15問",{"$f":"社会得点!BD18","v":0},null,"15問",{"$f":"社会得点!BG18","v":53.5},{"$error":"#DIV/0!"},{"$error":"#DIV/0!"}]
["16問",{"$f":"社会得点!BD19","v":0},null,"16問",{"$f":"社会得点!BG19","v":83.899999999999991},{"$error":"#DIV/0!"},{"$error":"#DIV/0!"}]
["17問",{"$f":"社会得点!BD20","v":0},null,"17問",{"$f":"社会得点!BG20","v":88.6},{"$error":"#DIV/0!"},{"$error":"#DIV/0!"}]
["18問",{"$f":"社会得点!BD21","v":0},null,"18問",{"$f":"社会得点!BG21","v":57.699999999999996},{"$error":"#DIV/0!"},{"$error":"#DIV/0!"}]
["19問",{"$f":"社会得点!BD22","v":0},null,"19問",{"$f":"社会得点!BG22","v":52.800000000000004},{"$error":"#DIV/0!"},{"$error":"#DIV/0!"}]
["20問",{"$f":"社会得点!BD23","v":0},null,"20問",{"$f":"社会得点!BG23","v":27.900000000000002},{"$error":"#DIV/0!"},{"$error":"#DIV/0!"}]
["21問",{"$f":"社会得点!BD24","v":0},null,"21問",{"$f":"社会得点!BG24","v":89.2},{"$error":"#DIV/0!"},{"$error":"#DIV/0!"}]
["22問",{"$f":"社会得点!BD25","v":0},null,"22問",{"$f":"社会得点!BG25","v":73.900000000000006},{"$error":"#DIV/0!"},{"$error":"#DIV/0!"}]
["23問",{"$f":"社会得点!BD26","v":0},null,"23問",{"$f":"社会得点!BG26","v":60.3},{"$error":"#DIV/0!"},{"$error":"#DIV/0!"}]
["24問",{"$f":"社会得点!BD27","v":0},null,"24問",{"$f":"社会得点!BG27","v":47.699999999999996},{"$error":"#DIV/0!"},{"$error":"#DIV/0!"}]
["25問",{"$f":"社会得点!BD28","v":0},null,"25問",{"$f":"社会得点!BG28","v":57.999999999999993},{"$error":"#DIV/0!"},{"$error":"#DIV/0!"}]
["26問",{"$f":"社会得点!BD29","v":0},null,"26問",{"$f":"社会得点!BG29","v":0},{"$error":"#DIV/0!"},{"$error":"#DIV/0!"}]
["27問",{"$f":"社会得点!BD30","v":0},null,"27問",{"$f":"社会得点!BG30","v":0},{"$error":"#DIV/0!"},{"$error":"#DIV/0!"}]
["28問",{"$f":"社会得点!BD31","v":0},null,"28問",{"$f":"社会得点!BG31","v":0},{"$error":"#DIV/0!"},{"$error":"#DIV/0!"}]
["29問",{"$f":"社会得点!BD32","v":0},null,"29問",{"$f":"社会得点!BG32","v":0},{"$error":"#DIV/0!"},{"$error":"#DIV/0!"}]
["30問",{"$f":"社会得点!BD33","v":0},null,"30問",{"$f":"社会得点!BG33","v":0},{"$error":"#DIV/0!"},{"$error":"#DIV/0!"}]
["31問",{"$f":"社会得点!BD34","v":0},null,"31問",{"$f":"社会得点!BG34","v":0},{"$error":"#DIV/0!"},{"$error":"#DIV/0!"}]
["32問",{"$f":"社会得点!BD35","v":0},null,"32問",{"$f":"社会得点!BG35","v":0},{"$f":"IF(B40=\"\",\"\",B40/B$59*100)","v":{"$error":"#DIV/0!"}},{"$f":"IF($F40=\"\",\"\",$F40-$E40)","v":{"$error":"#DIV/0!"}}]
["33問",{"$f":"社会得点!BD36","v":0},null,"33問",{"$f":"社会得点!BG36","v":0},{"$error":"#DIV/0!"},{"$error":"#DIV/0!"}]
["34問",{"$f":"社会得点!BD37","v":0},null,"34問",{"$f":"社会得点!BG37","v":0},{"$error":"#DIV/0!"},{"$error":"#DIV/0!"}]
["35問",{"$f":"社会得点!BD38","v":0},null,"35問",{"$f":"社会得点!BG38","v":0},{"$error":"#DIV/0!"},{"$error":"#DIV/0!"}]
["36問",{"$f":"社会得点!BD39","v":0},null,"36問",{"$f":"社会得点!BG39","v":0},{"$error":"#DIV/0!"},{"$error":"#DIV/0!"}]
["37問",{"$f":"社会得点!BD40","v":0},null,"37問",{"$f":"社会得点!BG40","v":0},{"$error":"#DIV/0!"},{"$error":"#DIV/0!"}]
["38問",{"$f":"社会得点!BD41","v":0},null,"38問",{"$f":"社会得点!BG41","v":0},{"$error":"#DIV/0!"},{"$error":"#DIV/0!"}]
["39問",{"$f":"社会得点!BD42","v":0},null,"39問",{"$f":"社会得点!BG42","v":0},{"$error":"#DIV/0!"},{"$error":"#DIV/0!"}]
["40問",{"$f":"社会得点!BD43","v":0},null,"40問",{"$f":"社会得点!BG43","v":0},{"$error":"#DIV/0!"},{"$error":"#DIV/0!"}]
["41問",{"$f":"社会得点!BD44","v":0},null,"41問",{"$f":"社会得点!BG44","v":0},{"$error":"#DIV/0!"},{"$error":"#DIV/0!"}]
["42問",{"$f":"社会得点!BD45","v":0},null,"42問",{"$f":"社会得点!BG45","v":0},{"$error":"#DIV/0!"},{"$error":"#DIV/0!"}]
["43問",{"$f":"社会得点!BD46","v":0},null,"43問",{"$f":"社会得点!BG46","v":0},{"$error":"#DIV/0!"},{"$error":"#DIV/0!"}]
["44問",{"$f":"社会得点!BD47","v":0},null,"44問",{"$f":"社会得点!BG47","v":0},{"$error":"#DIV/0!"},{"$error":"#DIV/0!"}]
["45問",{"$f":"社会得点!BD48","v":0},null,"45問",{"$f":"社会得点!BG48","v":0},{"$error":"#DIV/0!"},{"$error":"#DIV/0!"}]
["46問",{"$f":"社会得点!BD49","v":0},null,"46問",{"$f":"社会得点!BG49","v":0},{"$error":"#DIV/0!"},{"$error":"#DIV/0!"}]
["47問",{"$f":"社会得点!BD50","v":0},null,"47問",{"$f":"社会得点!BG50","v":0},{"$error":"#DIV/0!"},{"$error":"#DIV/0!"}]
["48問",{"$f":"社会得点!BD51","v":0},null,"48問",{"$f":"社会得点!BG51","v":0},{"$error":"#DIV/0!"},{"$error":"#DIV/0!"}]
["49問",{"$f":"社会得点!BD52","v":0},null,"49問",{"$f":"社会得点!BG52","v":0},{"$error":"#DIV/0!"},{"$error":"#DIV/0!"}]
["50問",{"$f":"社会得点!BD53","v":0},null,"50問",{"$f":"社会得点!BG53","v":0},{"$error":"#DIV/0!"},{"$error":"#DIV/0!"}]
["児童数合計",{"$f":"社会得点!BD54","v":0},null,"合計",{"$f":"社会得点!BG54","v":1610.9000000000003},{"$f":"SUM(F8:F58)","v":{"$error":"#DIV/0!"}}]

{"sheet":"④社会の問題別正答率","index":12,"n_rows":57,"n_cols":19,"rows_kept":57,"cut":false,"hidden":false,"merged":[[4,13,4,15],[4,3,5,3],[4,16,4,18],[4,0,5,0],[4,2,5,2],[4,4,4,7],[4,8,4,12],[4,1,5,1]]}
["④社会の問題別正答率"]
[]
[null,null,"問題数",{"$f":"社会!AX1","v":25}]
["◆社会"]
["問題通し番号","問題\n番号","小問題","問題の領域","学習指導要領の領域等",null,null,null,"観点",null,null,null,null,"問題形式",null,null,"正答率"]
[null,null,null,null,null,null,null,null,{"$f":"社会!BG35","v":"思考・判断・表現"},{"$f":"社会!BG36","v":"知識・技能"},{"$f":"社会!BG37","v":"-"},{"$f":"社会!BG38","v":"-"},{"$f":"社会!BG39","v":"-"},"選択式","短答式","記述式","富山県（ア）","自校（イ）","富山県との差（イ-ア)"]
[1,{"$f":"社会得点!BJ4","v":1},{"$f":"社会得点!BK4","v":"（1）①"},{"$f":"社会得点!BL4","v":"わたしたちの国土"},null,null,null,null,{"$f":"IF(社会!$E$9=社会!$BF$35,\"○\",\"\")","v":""},{"$f":"IF(社会!$E$9=社会!$BF$36,\"○\",\"\")","v":"○"},{"$f":"IF(社会!$E$9=社会!$BF$37,\"○\",\"\")","v":""},{"$f":"IF(社会!$E$9=社会!$BF$38,\"○\",\"\")","v":""},{"$f":"IF(社会!$E$9=社会!$BF$39,\"○\",\"\")","v":""},null,null,null,{"$f":"社会得点!B$58*100","v":78.3},{"$f":"社会!E$64*100","v":{"$error":"#DIV/0!"}},{"$f":"IF($R7=\"\",\"\",$R7-$Q7)","v":{"$error":"#DIV/0!"}}]
[2,{"$f":"社会得点!BJ5","v":1},{"$f":"社会得点!BK5","v":"（1）②"},{"$f":"社会得点!BL5","v":"わたしたちの国土"},null,null,null,null,{"$f":"IF(社会!$F$9=社会!$BF$35,\"○\",\"\")","v":""},{"$f":"IF(社会!$F$9=社会!$BF$36,\"○\",\"\")","v":"○"},{"$f":"IF(社会!$F$9=社会!$BF$37,\"○\",\"\")","v":""},{"$f":"IF(社会!$F$9=社会!$BF$38,\"○\",\"\")","v":""},{"$f":"IF(社会!$F$9=社会!$BF$39,\"○\",\"\")","v":""},null,null,null,{"$f":"社会得点!C$58*100","v":52.300000000000004},{"$f":"社会!F$64*100","v":{"$error":"#DIV/0!"}},{"$error":"#DIV/0!"}]
[3,{"$f":"社会得点!BJ6","v":1},{"$f":"社会得点!BK6","v":"（1）③"},{"$f":"社会得点!BL6","v":"わたしたちの国土"},null,null,null,null,{"$f":"IF(社会!$G$9=社会!$BF$35,\"○\",\"\")","v":""},{"$f":"IF(社会!$G$9=社会!$BF$36,\"○\",\"\")","v":"○"},{"$f":"IF(社会!$G$9=社会!$BF$37,\"○\",\"\")","v":""},{"$f":"IF(社会!$G$9=社会!$BF$38,\"○\",\"\")","v":""},{"$f":"IF(社会!$G$9=社会!$BF$39,\"○\",\"\")","v":""},null,null,null,{"$f":"社会得点!D$58*100","v":28.999999999999996},{"$f":"社会!G$64*100","v":{"$error":"#DIV/0!"}},{"$error":"#DIV/0!"}]
[4,{"$f":"社会得点!BJ7","v":1},{"$f":"社会得点!BK7","v":"（2）"},{"$f":"社会得点!BL7","v":"わたしたちの国土"},null,null,null,null,{"$f":"IF(社会!$H$9=社会!$BF$35,\"○\",\"\")","v":""},{"$f":"IF(社会!$H$9=社会!$BF$36,\"○\",\"\")","v":"○"},{"$f":"IF(社会!$H$9=社会!$BF$37,\"○\",\"\")","v":""},{"$f":"IF(社会!$H$9=社会!$BF$38,\"○\",\"\")","v":""},{"$f":"IF(社会!$H$9=社会!$BF$39,\"○\",\"\")","v":""},null,null,null,{"$f":"社会得点!E$58*100","v":78.3},{"$f":"社会!H$64*100","v":{"$error":"#DIV/0!"}},{"$error":"#DIV/0!"}]
[5,{"$f":"社会得点!BJ8","v":1},{"$f":"社会得点!BK8","v":"（3）"},{"$f":"社会得点!BL8","v":"わたしたちの国土"},null,null,null,null,{"$f":"IF(社会!$I$9=社会!$BF$35,\"○\",\"\")","v":"○"},{"$f":"IF(社会!$I$9=社会!$BF$36,\"○\",\"\")","v":""},{"$f":"IF(社会!$I$9=社会!$BF$37,\"○\",\"\")","v":""},{"$f":"IF(社会!$I$9=社会!$BF$38,\"○\",\"\")","v":""},{"$f":"IF(社会!$I$9=社会!$BF$39,\"○\",\"\")","v":""},null,null,null,{"$f":"社会得点!F$58*100","v":33.800000000000004},{"$f":"社会!I$64*100","v":{"$error":"#DIV/0!"}},{"$error":"#DIV/0!"}]
[6,{"$f":"社会得点!BJ9","v":2},{"$f":"社会得点!BK9","v":"（1）"},{"$f":"社会得点!BL9","v":"米づくりのさかんな地域"},null,null,null,null,{"$f":"IF(社会!$J$9=社会!$BF$35,\"○\",\"\")","v":""},{"$f":"IF(社会!$J$9=社会!$BF$36,\"○\",\"\")","v":"○"},{"$f":"IF(社会!$J$9=社会!$BF$37,\"○\",\"\")","v":""},{"$f":"IF(社会!$J$9=社会!$BF$38,\"○\",\"\")","v":""},{"$f":"IF(社会!$J$9=社会!$BF$39,\"○\",\"\")","v":""},null,null,null,{"$f":"社会得点!G$58*100","v":35.9},{"$f":"社会!J$64*100","v":{"$error":"#DIV/0!"}},{"$error":"#DIV/0!"}]
[7,{"$f":"社会得点!BJ10","v":2},{"$f":"社会得点!BK10","v":"（2）ゆか"},{"$f":"社会得点!BL10","v":"米づくりのさかんな地域"},null,null,null,null,{"$f":"IF(社会!$K$9=社会!$BF$35,\"○\",\"\")","v":""},{"$f":"IF(社会!$K$9=社会!$BF$36,\"○\",\"\")","v":"○"},{"$f":"IF(社会!$K$9=社会!$BF$37,\"○\",\"\")","v":""},{"$f":"IF(社会!$K$9=社会!$BF$38,\"○\",\"\")","v":""},{"$f":"IF(社会!$K$9=社会!$BF$39,\"○\",\"\")","v":""},null,null,null,{"$f":"社会得点!H$58*100","v":68.899999999999991},{"$f":"社会!K$64*100","v":{"$error":"#DIV/0!"}},{"$error":"#DIV/0!"}]
[8,{"$f":"社会得点!BJ11","v":2},{"$f":"社会得点!BK11","v":"（2）しんいち"},{"$f":"社会得点!BL11","v":"米づくりのさかんな地域"},null,null,null,null,{"$f":"IF(社会!$L$9=社会!$BF$35,\"○\",\"\")","v":""},{"$f":"IF(社会!$L$9=社会!$BF$36,\"○\",\"\")","v":"○"},{"$f":"IF(社会!$L$9=社会!$BF$37,\"○\",\"\")","v":""},{"$f":"IF(社会!$L$9=社会!$BF$38,\"○\",\"\")","v":""},{"$f":"IF(社会!$L$9=社会!$BF$39,\"○\",\"\")","v":""},null,null,null,{"$f":"社会得点!I$58*100","v":65.5},{"$f":"社会!L$64*100","v":{"$error":"#DIV/0!"}},{"$error":"#DIV/0!"}]
[9,{"$f":"社会得点!BJ12","v":2},{"$f":"社会得点!BK12","v":"（3）"},{"$f":"社会得点!BL12","v":"米づくりのさかんな地域"},null,null,null,null,{"$f":"IF(社会!$M$9=社会!$BF$35,\"○\",\"\")","v":"○"},{"$f":"IF(社会!$M$9=社会!$BF$36,\"○\",\"\")","v":""},{"$f":"IF(社会!$M$9=社会!$BF$37,\"○\",\"\")","v":""},{"$f":"IF(社会!$M$9=社会!$BF$38,\"○\",\"\")","v":""},{"$f":"IF(社会!$M$9=社会!$BF$39,\"○\",\"\")","v":""},null,null,null,{"$f":"社会得点!J$58*100","v":55.400000000000006},{"$f":"社会!M$64*100","v":{"$error":"#DIV/0!"}},{"$error":"#DIV/0!"}]
[10,{"$f":"社会得点!BJ13","v":3},{"$f":"社会得点!BK13","v":"（1）あ"},{"$f":"社会得点!BL13","v":"水産業のさかんな地域"},null,null,null,null,{"$f":"IF(社会!$N$9=社会!$BF$35,\"○\",\"\")","v":""},{"$f":"IF(社会!$N$9=社会!$BF$36,\"○\",\"\")","v":"○"},{"$f":"IF(社会!$N$9=社会!$BF$37,\"○\",\"\")","v":""},{"$f":"IF(社会!$N$9=社会!$BF$38,\"○\",\"\")","v":""},{"$f":"IF(社会!$N$9=社会!$BF$39,\"○\",\"\")","v":""},null,null,null,{"$f":"社会得点!K$58*100","v":73.2},{"$f":"社会!N$64*100","v":{"$error":"#DIV/0!"}},{"$error":"#DIV/0!"}]
[11,{"$f":"社会得点!BJ14","v":3},{"$f":"社会得点!BK14","v":"（1）い"},{"$f":"社会得点!BL14","v":"水産業のさかんな地域"},null,null,null,null,{"$f":"IF(社会!$O$9=社会!$BF$35,\"○\",\"\")","v":""},{"$f":"IF(社会!$O$9=社会!$BF$36,\"○\",\"\")","v":"○"},{"$f":"IF(社会!$O$9=社会!$BF$37,\"○\",\"\")","v":""},{"$f":"IF(社会!$O$9=社会!$BF$38,\"○\",\"\")","v":""},{"$f":"IF(社会!$O$9=社会!$BF$39,\"○\",\"\")","v":""},null,null,null,{"$f":"社会得点!L$58*100","v":100},{"$f":"社会!O$64*100","v":{"$error":"#DIV/0!"}},{"$error":"#DIV/0!"}]
[12,{"$f":"社会得点!BJ15","v":3},{"$f":"社会得点!BK15","v":"（2）"},{"$f":"社会得点!BL15","v":"水産業のさかんな地域"},null,null,null,null,{"$f":"IF(社会!$P$9=社会!$BF$35,\"○\",\"\")","v":""},{"$f":"IF(社会!$P$9=社会!$BF$36,\"○\",\"\")","v":"○"},{"$f":"IF(社会!$P$9=社会!$BF$37,\"○\",\"\")","v":""},{"$f":"IF(社会!$P$9=社会!$BF$38,\"○\",\"\")","v":""},{"$f":"IF(社会!$P$9=社会!$BF$39,\"○\",\"\")","v":""},null,null,null,{"$f":"社会得点!M$58*100","v":92.100000000000009},{"$f":"社会!P$64*100","v":{"$error":"#DIV/0!"}},{"$error":"#DIV/0!"}]
[13,{"$f":"社会得点!BJ16","v":3},{"$f":"社会得点!BK16","v":"（3）"},{"$f":"社会得点!BL16","v":"水産業のさかんな地域"},null,null,null,null,{"$f":"IF(社会!$Q$9=社会!$BF$35,\"○\",\"\")","v":"○"},{"$f":"IF(社会!$Q$9=社会!$BF$36,\"○\",\"\")","v":""},{"$f":"IF(社会!$Q$9=社会!$BF$37,\"○\",\"\")","v":""},{"$f":"IF(社会!$Q$9=社会!$BF$38,\"○\",\"\")","v":""},{"$f":"IF(社会!$Q$9=社会!$BF$39,\"○\",\"\")","v":""},null,null,null,{"$f":"社会得点!N$58*100","v":84.1},{"$f":"社会!Q$64*100","v":{"$error":"#DIV/0!"}},{"$error":"#DIV/0!"}]
[14,{"$f":"社会得点!BJ17","v":4},{"$f":"社会得点!BK17","v":"（1）"},{"$f":"社会得点!BL17","v":"わたしたちの生活と工業生産"},null,null,null,null,{"$f":"IF(社会!$R$9=社会!$BF$35,\"○\",\"\")","v":""},{"$f":"IF(社会!$R$9=社会!$BF$36,\"○\",\"\")","v":"○"},{"$f":"IF(社会!$R$9=社会!$BF$37,\"○\",\"\")","v":""},{"$f":"IF(社会!$R$9=社会!$BF$38,\"○\",\"\")","v":""},{"$f":"IF(社会!$R$9=社会!$BF$39,\"○\",\"\")","v":""},null,null,null,{"$f":"社会得点!O$58*100","v":70.599999999999994},{"$f":"社会!R$64*100","v":{"$error":"#DIV/0!"}},{"$error":"#DIV/0!"}]
[15,{"$f":"社会得点!BJ18","v":4},{"$f":"社会得点!BK18","v":"（2）"},{"$f":"社会得点!BL18","v":"わたしたちの生活と工業生産"},null,null,null,null,{"$f":"IF(社会!$S$9=社会!$BF$35,\"○\",\"\")","v":"○"},{"$f":"IF(社会!$S$9=社会!$BF$36,\"○\",\"\")","v":""},{"$f":"IF(社会!$S$9=社会!$BF$37,\"○\",\"\")","v":""},{"$f":"IF(社会!$S$9=社会!$BF$38,\"○\",\"\")","v":""},{"$f":"IF(社会!$S$9=社会!$BF$39,\"○\",\"\")","v":""},null,null,null,{"$f":"社会得点!P$58*100","v":53.5},{"$f":"社会!S$64*100","v":{"$error":"#DIV/0!"}},{"$error":"#DIV/0!"}]
[16,{"$f":"社会得点!BJ19","v":4},{"$f":"社会得点!BK19","v":"（3）"},{"$f":"社会得点!BL19","v":"わたしたちの生活と工業生産"},null,null,null,null,{"$f":"IF(社会!$T$9=社会!$BF$35,\"○\",\"\")","v":""},{"$f":"IF(社会!$T$9=社会!$BF$36,\"○\",\"\")","v":"○"},{"$f":"IF(社会!$T$9=社会!$BF$37,\"○\",\"\")","v":""},{"$f":"IF(社会!$T$9=社会!$BF$38,\"○\",\"\")","v":""},{"$f":"IF(社会!$T$9=社会!$BF$39,\"○\",\"\")","v":""},null,null,null,{"$f":"社会得点!Q$58*100","v":83.899999999999991},{"$f":"社会!T$64*100","v":{"$error":"#DIV/0!"}},{"$error":"#DIV/0!"}]
[17,{"$f":"社会得点!BJ20","v":4},{"$f":"社会得点!BK20","v":"（4）"},{"$f":"社会得点!BL20","v":"わたしたちの生活と工業生産"},null,null,null,null,{"$f":"IF(社会!$U$9=社会!$BF$35,\"○\",\"\")","v":"○"},{"$f":"IF(社会!$U$9=社会!$BF$36,\"○\",\"\")","v":""},{"$f":"IF(社会!$U$9=社会!$BF$37,\"○\",\"\")","v":""},{"$f":"IF(社会!$U$9=社会!$BF$38,\"○\",\"\")","v":""},{"$f":"IF(社会!$U$9=社会!$BF$39,\"○\",\"\")","v":""},null,null,null,{"$f":"社会得点!R$58*100","v":88.6},{"$f":"社会!U$64*100","v":{"$error":"#DIV/0!"}},{"$error":"#DIV/0!"}]
[18,{"$f":"社会得点!BJ21","v":5},{"$f":"社会得点!BK21","v":"（1）"},{"$f":"社会得点!BL21","v":"情報化した社会と産業の発展"},null,null,null,null,{"$f":"IF(社会!$V$9=社会!$BF$35,\"○\",\"\")","v":""},{"$f":"IF(社会!$V$9=社会!$BF$36,\"○\",\"\")","v":"○"},{"$f":"IF(社会!$V$9=社会!$BF$37,\"○\",\"\")","v":""},{"$f":"IF(社会!$V$9=社会!$BF$38,\"○\",\"\")","v":""},{"$f":"IF(社会!$V$9=社会!$BF$39,\"○\",\"\")","v":""},null,null,null,{"$f":"社会得点!S$58*100","v":57.699999999999996},{"$f":"社会!V$64*100","v":{"$error":"#DIV/0!"}},{"$error":"#DIV/0!"}]
[19,{"$f":"社会得点!BJ22","v":5},{"$f":"社会得点!BK22","v":"（2）"},{"$f":"社会得点!BL22","v":"情報化した社会と産業の発展"},null,null,null,null,{"$f":"IF(社会!$W$9=社会!$BF$35,\"○\",\"\")","v":""},{"$f":"IF(社会!$W$9=社会!$BF$36,\"○\",\"\")","v":"○"},{"$f":"IF(社会!$W$9=社会!$BF$37,\"○\",\"\")","v":""},{"$f":"IF(社会!$W$9=社会!$BF$38,\"○\",\"\")","v":""},{"$f":"IF(社会!$W$9=社会!$BF$39,\"○\",\"\")","v":""},null,null,null,{"$f":"社会得点!T$58*100","v":52.800000000000004},{"$f":"社会!W$64*100","v":{"$error":"#DIV/0!"}},{"$error":"#DIV/0!"}]
[20,{"$f":"社会得点!BJ23","v":5},{"$f":"社会得点!BK23","v":"（3）"},{"$f":"社会得点!BL23","v":"情報化した社会と産業の発展"},null,null,null,null,{"$f":"IF(社会!$X$9=社会!$BF$35,\"○\",\"\")","v":"○"},{"$f":"IF(社会!$X$9=社会!$BF$36,\"○\",\"\")","v":""},{"$f":"IF(社会!$X$9=社会!$BF$37,\"○\",\"\")","v":""},{"$f":"IF(社会!$X$9=社会!$BF$38,\"○\",\"\")","v":""},{"$f":"IF(社会!$X$9=社会!$BF$39,\"○\",\"\")","v":""},null,null,null,{"$f":"社会得点!U$58*100","v":27.900000000000002},{"$f":"社会!X$64*100","v":{"$error":"#DIV/0!"}},{"$error":"#DIV/0!"}]
[21,{"$f":"社会得点!BJ24","v":5},{"$f":"社会得点!BK24","v":"（4）"},{"$f":"社会得点!BL24","v":"情報化した社会と産業の発展"},null,null,null,null,{"$f":"IF(社会!$Y$9=社会!$BF$35,\"○\",\"\")","v":""},{"$f":"IF(社会!$Y$9=社会!$BF$36,\"○\",\"\")","v":"○"},{"$f":"IF(社会!$Y$9=社会!$BF$37,\"○\",\"\")","v":""},{"$f":"IF(社会!$Y$9=社会!$BF$38,\"○\",\"\")","v":""},{"$f":"IF(社会!$Y$9=社会!$BF$39,\"○\",\"\")","v":""},null,null,null,{"$f":"社会得点!V$58*100","v":89.2},{"$f":"社会!Y$64*100","v":{"$error":"#DIV/0!"}},{"$error":"#DIV/0!"}]
[22,{"$f":"社会得点!BJ25","v":6},{"$f":"社会得点!BK25","v":"（1）ABC"},{"$f":"社会得点!BL25","v":"わたしたちの生活と環境"},null,null,null,null,{"$f":"IF(社会!$Z$9=社会!$BF$35,\"○\",\"\")","v":""},{"$f":"IF(社会!$Z$9=社会!$BF$36,\"○\",\"\")","v":"○"},{"$f":"IF(社会!$Z$9=社会!$BF$37,\"○\",\"\")","v":""},{"$f":"IF(社会!$Z$9=社会!$BF$38,\"○\",\"\")","v":""},{"$f":"IF(社会!$Z$9=社会!$BF$39,\"○\",\"\")","v":""},null,null,null,{"$f":"社会得点!W$58*100","v":73.900000000000006},{"$f":"社会!Z$64*100","v":{"$error":"#DIV/0!"}},{"$error":"#DIV/0!"}]
[23,{"$f":"社会得点!BJ26","v":6},{"$f":"社会得点!BK26","v":"（2）"},{"$f":"社会得点!BL26","v":"わたしたちの生活と環境"},null,null,null,null,{"$f":"IF(社会!$AA$9=社会!$BF$35,\"○\",\"\")","v":""},{"$f":"IF(社会!$AA$9=社会!$BF$36,\"○\",\"\")","v":"○"},{"$f":"IF(社会!$AA$9=社会!$BF$37,\"○\",\"\")","v":""},{"$f":"IF(社会!$AA$9=社会!$BF$38,\"○\",\"\")","v":""},{"$f":"IF(社会!$AA$9=社会!$BF$39,\"○\",\"\")","v":""},null,null,null,{"$f":"社会得点!X$58*100","v":60.3},{"$f":"社会!AA$64*100","v":{"$error":"#DIV/0!"}},{"$error":"#DIV/0!"}]
[24,{"$f":"社会得点!BJ27","v":6},{"$f":"社会得点!BK27","v":"（3）あいうえ"},{"$f":"社会得点!BL27","v":"わたしたちの生活と環境"},null,null,null,null,{"$f":"IF(社会!$AB$9=社会!$BF$35,\"○\",\"\")","v":""},{"$f":"IF(社会!$AB$9=社会!$BF$36,\"○\",\"\")","v":"○"},{"$f":"IF(社会!$AB$9=社会!$BF$37,\"○\",\"\")","v":""},{"$f":"IF(社会!$AB$9=社会!$BF$38,\"○\",\"\")","v":""},{"$f":"IF(社会!$AB$9=社会!$BF$39,\"○\",\"\")","v":""},null,null,null,{"$f":"社会得点!Y$58*100","v":47.699999999999996},{"$f":"社会!AB$64*100","v":{"$error":"#DIV/0!"}},{"$error":"#DIV/0!"}]
[25,{"$f":"社会得点!BJ28","v":6},{"$f":"社会得点!BK28","v":"（4）"},{"$f":"社会得点!BL28","v":"わたしたちの生活と環境"},null,null,null,null,{"$f":"IF(社会!$AC$9=社会!$BF$35,\"○\",\"\")","v":"○"},{"$f":"IF(社会!$AC$9=社会!$BF$36,\"○\",\"\")","v":""},{"$f":"IF(社会!$AC$9=社会!$BF$37,\"○\",\"\")","v":""},{"$f":"IF(社会!$AC$9=社会!$BF$38,\"○\",\"\")","v":""},{"$f":"IF(社会!$AC$9=社会!$BF$39,\"○\",\"\")","v":""},null,null,null,{"$f":"社会得点!Z$58*100","v":57.999999999999993},{"$f":"社会!AC$64*100","v":{"$error":"#DIV/0!"}},{"$error":"#DIV/0!"}]
[26,{"$f":"社会得点!BJ29","v":0},{"$f":"社会得点!BK29","v":0},{"$f":"社会得点!BL29","v":0},null,null,null,null,{"$f":"IF(社会!$AD$9=社会!$BF$35,\"○\",\"\")","v":""},{"$f":"IF(社会!$AD$9=社会!$BF$36,\"○\",\"\")","v":""},{"$f":"IF(社会!$AD$9=社会!$BF$37,\"○\",\"\")","v":""},{"$f":"IF(社会!$AD$9=社会!$BF$38,\"○\",\"\")","v":""},{"$f":"IF(社会!$AD$9=社会!$BF$39,\"○\",\"\")","v":""},null,null,null,{"$f":"社会得点!AA$58*100","v":0},{"$f":"社会!AD$64*100","v":{"$error":"#DIV/0!"}},{"$error":"#DIV/0!"}]
[27,{"$f":"社会得点!BJ30","v":0},{"$f":"社会得点!BK30","v":0},{"$f":"社会得点!BL30","v":0},null,null,null,null,{"$f":"IF(社会!$AE$9=社会!$BF$35,\"○\",\"\")","v":""},{"$f":"IF(社会!$AE$9=社会!$BF$36,\"○\",\"\")","v":""},{"$f":"IF(社会!$AE$9=社会!$BF$37,\"○\",\"\")","v":""},{"$f":"IF(社会!$AE$9=社会!$BF$38,\"○\",\"\")","v":""},{"$f":"IF(社会!$AE$9=社会!$BF$39,\"○\",\"\")","v":""},null,null,null,{"$f":"社会得点!AB$58*100","v":0},{"$f":"社会!AE$64*100","v":{"$error":"#DIV/0!"}},{"$error":"#DIV/0!"}]
[28,{"$f":"社会得点!BJ31","v":0},{"$f":"社会得点!BK31","v":0},{"$f":"社会得点!BL31","v":0},null,null,null,null,{"$f":"IF(社会!$AF$9=社会!$BF$35,\"○\",\"\")","v":""},{"$f":"IF(社会!$AF$9=社会!$BF$36,\"○\",\"\")","v":""},{"$f":"IF(社会!$AF$9=社会!$BF$37,\"○\",\"\")","v":""},{"$f":"IF(社会!$AF$9=社会!$BF$38,\"○\",\"\")","v":""},{"$f":"IF(社会!$AF$9=社会!$BF$39,\"○\",\"\")","v":""},null,null,null,{"$f":"社会得点!AC$58*100","v":0},{"$f":"社会!AF$64*100","v":{"$error":"#DIV/0!"}},{"$error":"#DIV/0!"}]
[29,{"$f":"社会得点!BJ32","v":0},{"$f":"社会得点!BK32","v":0},{"$f":"社会得点!BL32","v":0},null,null,null,null,{"$f":"IF(社会!$AG$9=社会!$BF$35,\"○\",\"\")","v":""},{"$f":"IF(社会!$AG$9=社会!$BF$36,\"○\",\"\")","v":""},{"$f":"IF(社会!$AG$9=社会!$BF$37,\"○\",\"\")","v":""},{"$f":"IF(社会!$AG$9=社会!$BF$38,\"○\",\"\")","v":""},{"$f":"IF(社会!$AG$9=社会!$BF$39,\"○\",\"\")","v":""},null,null,null,{"$f":"社会得点!AD$58*100","v":0},{"$f":"社会!AG$64*100","v":{"$error":"#DIV/0!"}},{"$error":"#DIV/0!"}]
[30,{"$f":"社会得点!BJ33","v":0},{"$f":"社会得点!BK33","v":0},{"$f":"社会得点!BL33","v":0},null,null,null,null,{"$f":"IF(社会!$AH$9=社会!$BF$35,\"○\",\"\")","v":""},{"$f":"IF(社会!$AH$9=社会!$BF$36,\"○\",\"\")","v":""},{"$f":"IF(社会!$AH$9=社会!$BF$37,\"○\",\"\")","v":""},{"$f":"IF(社会!$AH$9=社会!$BF$38,\"○\",\"\")","v":""},{"$f":"IF(社会!$AH$9=社会!$BF$39,\"○\",\"\")","v":""},null,null,null,{"$f":"社会得点!AE$58*100","v":0},{"$f":"社会!AH$64*100","v":{"$error":"#DIV/0!"}},{"$error":"#DIV/0!"}]
[31,{"$f":"社会得点!BJ34","v":0},{"$f":"社会得点!BK34","v":0},{"$f":"社会得点!BL34","v":0},null,null,null,null,{"$f":"IF(社会!$AI$9=社会!$BF$35,\"○\",\"\")","v":""},{"$f":"IF(社会!$AI$9=社会!$BF$36,\"○\",\"\")","v":""},{"$f":"IF(社会!$AI$9=社会!$BF$37,\"○\",\"\")","v":""},{"$f":"IF(社会!$AI$9=社会!$BF$38,\"○\",\"\")","v":""},{"$f":"IF(社会!$AI$9=社会!$BF$39,\"○\",\"\")","v":""},null,null,null,{"$f":"社会得点!AF$58*100","v":0},{"$f":"社会!AI$64*100","v":{"$error":"#DIV/0!"}},{"$error":"#DIV/0!"}]
[32,{"$f":"社会得点!BJ35","v":0},{"$f":"社会得点!BK35","v":0},{"$f":"社会得点!BL35","v":0},null,null,null,null,{"$f":"IF(社会!$AJ$9=社会!$BF$35,\"○\",\"\")","v":""},{"$f":"IF(社会!$AJ$9=社会!$BF$36,\"○\",\"\")","v":""},{"$f":"IF(社会!$AJ$9=社会!$BF$37,\"○\",\"\")","v":""},{"$f":"IF(社会!$AJ$9=社会!$BF$38,\"○\",\"\")","v":""},{"$f":"IF(社会!$AJ$9=社会!$BF$39,\"○\",\"\")","v":""},null,null,null,{"$f":"社会得点!AG$58*100","v":0},{"$f":"社会!AJ$64*100","v":{"$error":"#DIV/0!"}},{"$f":"IF($R38=\"\",\"\",$R38-$Q38)","v":{"$error":"#DIV/0!"}}]
[33,{"$f":"社会得点!BJ36","v":0},{"$f":"社会得点!BK36","v":0},{"$f":"社会得点!BL36","v":0},null,null,null,null,{"$f":"IF(社会!$AK$9=社会!$BF$35,\"○\",\"\")","v":""},{"$f":"IF(社会!$AK$9=社会!$BF$36,\"○\",\"\")","v":""},{"$f":"IF(社会!$AK$9=社会!$BF$37,\"○\",\"\")","v":""},{"$f":"IF(社会!$AK$9=社会!$BF$38,\"○\",\"\")","v":""},{"$f":"IF(社会!$AK$9=社会!$BF$39,\"○\",\"\")","v":""},null,null,null,{"$f":"社会得点!AH$58*100","v":0},{"$f":"社会!AK$64*100","v":{"$error":"#DIV/0!"}},{"$error":"#DIV/0!"}]
[34,{"$f":"社会得点!BJ37","v":0},{"$f":"社会得点!BK37","v":0},{"$f":"社会得点!BL37","v":0},null,null,null,null,{"$f":"IF(社会!$AL$9=社会!$BF$35,\"○\",\"\")","v":""},{"$f":"IF(社会!$AL$9=社会!$BF$36,\"○\",\"\")","v":""},{"$f":"IF(社会!$AL$9=社会!$BF$37,\"○\",\"\")","v":""},{"$f":"IF(社会!$AL$9=社会!$BF$38,\"○\",\"\")","v":""},{"$f":"IF(社会!$AL$9=社会!$BF$39,\"○\",\"\")","v":""},null,null,null,{"$f":"社会得点!AI$58*100","v":0},{"$f":"社会!AL$64*100","v":{"$error":"#DIV/0!"}},{"$error":"#DIV/0!"}]
[35,{"$f":"社会得点!BJ38","v":0},{"$f":"社会得点!BK38","v":0},{"$f":"社会得点!BL38","v":0},null,null,null,null,{"$f":"IF(社会!$AM$9=社会!$BF$35,\"○\",\"\")","v":""},{"$f":"IF(社会!$AM$9=社会!$BF$36,\"○\",\"\")","v":""},{"$f":"IF(社会!$AM$9=社会!$BF$37,\"○\",\"\")","v":""},{"$f":"IF(社会!$AM$9=社会!$BF$38,\"○\",\"\")","v":""},{"$f":"IF(社会!$AM$9=社会!$BF$39,\"○\",\"\")","v":""},null,null,null,{"$f":"社会得点!AJ$58*100","v":0},{"$f":"社会!AM$64*100","v":{"$error":"#DIV/0!"}},{"$error":"#DIV/0!"}]
[36,{"$f":"社会得点!BJ39","v":0},{"$f":"社会得点!BK39","v":0},{"$f":"社会得点!BL39","v":0},null,null,null,null,{"$f":"IF(社会!$AN$9=社会!$BF$35,\"○\",\"\")","v":""},{"$f":"IF(社会!$AN$9=社会!$BF$36,\"○\",\"\")","v":""},{"$f":"IF(社会!$AN$9=社会!$BF$37,\"○\",\"\")","v":""},{"$f":"IF(社会!$AN$9=社会!$BF$38,\"○\",\"\")","v":""},{"$f":"IF(社会!$AN$9=社会!$BF$39,\"○\",\"\")","v":""},null,null,null,{"$f":"社会得点!AK$58*100","v":0},{"$f":"社会!AN$64*100","v":{"$error":"#DIV/0!"}},{"$error":"#DIV/0!"}]
[37,{"$f":"社会得点!BJ40","v":0},{"$f":"社会得点!BK40","v":0},{"$f":"社会得点!BL40","v":0},null,null,null,null,{"$f":"IF(社会!$AO$9=社会!$BF$35,\"○\",\"\")","v":""},{"$f":"IF(社会!$AO$9=社会!$BF$36,\"○\",\"\")","v":""},{"$f":"IF(社会!$AO$9=社会!$BF$37,\"○\",\"\")","v":""},{"$f":"IF(社会!$AO$9=社会!$BF$38,\"○\",\"\")","v":""},{"$f":"IF(社会!$AO$9=社会!$BF$39,\"○\",\"\")","v":""},null,null,null,{"$f":"社会得点!AL$58*100","v":0},{"$f":"社会!AO$64*100","v":{"$error":"#DIV/0!"}},{"$error":"#DIV/0!"}]
[38,{"$f":"社会得点!BJ41","v":0},{"$f":"社会得点!BK41","v":0},{"$f":"社会得点!BL41","v":0},null,null,null,null,{"$f":"IF(社会!$AP$9=社会!$BF$35,\"○\",\"\")","v":""},{"$f":"IF(社会!$AP$9=社会!$BF$36,\"○\",\"\")","v":""},{"$f":"IF(社会!$AP$9=社会!$BF$37,\"○\",\"\")","v":""},{"$f":"IF(社会!$AP$9=社会!$BF$38,\"○\",\"\")","v":""},{"$f":"IF(社会!$AP$9=社会!$BF$39,\"○\",\"\")","v":""},null,null,null,{"$f":"社会得点!AM$58*100","v":0},{"$f":"社会!AP$64*100","v":{"$error":"#DIV/0!"}},{"$error":"#DIV/0!"}]
[39,{"$f":"社会得点!BJ42","v":0},{"$f":"社会得点!BK42","v":0},{"$f":"社会得点!BL42","v":0},null,null,null,null,{"$f":"IF(社会!$AQ$9=社会!$BF$35,\"○\",\"\")","v":""},{"$f":"IF(社会!$AQ$9=社会!$BF$36,\"○\",\"\")","v":""},{"$f":"IF(社会!$AQ$9=社会!$BF$37,\"○\",\"\")","v":""},{"$f":"IF(社会!$AQ$9=社会!$BF$38,\"○\",\"\")","v":""},{"$f":"IF(社会!$AQ$9=社会!$BF$39,\"○\",\"\")","v":""},null,null,null,{"$f":"社会得点!AN$58*100","v":0},{"$f":"社会!AQ$64*100","v":{"$error":"#DIV/0!"}},{"$error":"#DIV/0!"}]
[40,{"$f":"社会得点!BJ43","v":0},{"$f":"社会得点!BK43","v":0},{"$f":"社会得点!BL43","v":0},null,null,null,null,{"$f":"IF(社会!$AR$9=社会!$BF$35,\"○\",\"\")","v":""},{"$f":"IF(社会!$AR$9=社会!$BF$36,\"○\",\"\")","v":""},{"$f":"IF(社会!$AR$9=社会!$BF$37,\"○\",\"\")","v":""},{"$f":"IF(社会!$AR$9=社会!$BF$38,\"○\",\"\")","v":""},{"$f":"IF(社会!$AR$9=社会!$BF$39,\"○\",\"\")","v":""},null,null,null,{"$f":"社会得点!AO$58*100","v":0},{"$f":"社会!AR$64*100","v":{"$error":"#DIV/0!"}},{"$error":"#DIV/0!"}]
[41,{"$f":"社会得点!BJ44","v":0},{"$f":"社会得点!BK44","v":0},{"$f":"社会得点!BL44","v":0},null,null,null,null,{"$f":"IF(社会!$AS$9=社会!$BF$35,\"○\",\"\")","v":""},{"$f":"IF(社会!$AS$9=社会!$BF$36,\"○\",\"\")","v":""},{"$f":"IF(社会!$AS$9=社会!$BF$37,\"○\",\"\")","v":""},{"$f":"IF(社会!$AS$9=社会!$BF$38,\"○\",\"\")","v":""},{"$f":"IF(社会!$AS$9=社会!$BF$39,\"○\",\"\")","v":""},null,null,null,{"$f":"社会得点!AP$58*100","v":0},{"$f":"社会!AS$64*100","v":{"$error":"#DIV/0!"}},{"$error":"#DIV/0!"}]
[42,{"$f":"社会得点!BJ45","v":0},{"$f":"社会得点!BK45","v":0},{"$f":"社会得点!BL45","v":0},null,null,null,null,{"$f":"IF(社会!$AT$9=社会!$BF$35,\"○\",\"\")","v":""},{"$f":"IF(社会!$AT$9=社会!$BF$36,\"○\",\"\")","v":""},{"$f":"IF(社会!$AT$9=社会!$BF$37,\"○\",\"\")","v":""},{"$f":"IF(社会!$AT$9=社会!$BF$38,\"○\",\"\")","v":""},{"$f":"IF(社会!$AT$9=社会!$BF$39,\"○\",\"\")","v":""},null,null,null,{"$f":"社会得点!AQ$58*100","v":0},{"$f":"社会!AT$64*100","v":{"$error":"#DIV/0!"}},{"$error":"#DIV/0!"}]
[43,{"$f":"社会得点!BJ46","v":0},{"$f":"社会得点!BK46","v":0},{"$f":"社会得点!BL46","v":0},null,null,null,null,{"$f":"IF(社会!$AU$9=社会!$BF$35,\"○\",\"\")","v":""},{"$f":"IF(社会!$AU$9=社会!$BF$36,\"○\",\"\")","v":""},{"$f":"IF(社会!$AU$9=社会!$BF$37,\"○\",\"\")","v":""},{"$f":"IF(社会!$AU$9=社会!$BF$38,\"○\",\"\")","v":""},{"$f":"IF(社会!$AU$9=社会!$BF$39,\"○\",\"\")","v":""},null,null,null,{"$f":"社会得点!AR$58*100","v":0},{"$f":"社会!AU$64*100","v":{"$error":"#DIV/0!"}},{"$error":"#DIV/0!"}]
[44,{"$f":"社会得点!BJ47","v":0},{"$f":"社会得点!BK47","v":0},{"$f":"社会得点!BL47","v":0},null,null,null,null,{"$f":"IF(社会!$AV$9=社会!$BF$35,\"○\",\"\")","v":""},{"$f":"IF(社会!$AV$9=社会!$BF$36,\"○\",\"\")","v":""},{"$f":"IF(社会!$AV$9=社会!$BF$37,\"○\",\"\")","v":""},{"$f":"IF(社会!$AV$9=社会!$BF$38,\"○\",\"\")","v":""},{"$f":"IF(社会!$AV$9=社会!$BF$39,\"○\",\"\")","v":""},null,null,null,{"$f":"社会得点!AS$58*100","v":0},{"$f":"社会!AV$64*100","v":{"$error":"#DIV/0!"}},{"$error":"#DIV/0!"}]
[45,{"$f":"社会得点!BJ48","v":0},{"$f":"社会得点!BK48","v":0},{"$f":"社会得点!BL48","v":0},null,null,null,null,{"$f":"IF(社会!$AW$9=社会!$BF$35,\"○\",\"\")","v":""},{"$f":"IF(社会!$AW$9=社会!$BF$36,\"○\",\"\")","v":""},{"$f":"IF(社会!$AW$9=社会!$BF$37,\"○\",\"\")","v":""},{"$f":"IF(社会!$AW$9=社会!$BF$38,\"○\",\"\")","v":""},{"$f":"IF(社会!$AW$9=社会!$BF$39,\"○\",\"\")","v":""},null,null,null,{"$f":"社会得点!AT$58*100","v":0},{"$f":"社会!AW$64*100","v":{"$error":"#DIV/0!"}},{"$f":"IF($R51=\"\",\"\",$R51-$Q51)","v":{"$error":"#DIV/0!"}}]
[46,{"$f":"社会得点!BJ49","v":0},{"$f":"社会得点!BK49","v":0},{"$f":"社会得点!BL49","v":0},null,null,null,null,{"$f":"IF(社会!$AX$9=社会!$BF$35,\"○\",\"\")","v":""},{"$f":"IF(社会!$AX$9=社会!$BF$36,\"○\",\"\")","v":""},{"$f":"IF(社会!$AX$9=社会!$BF$37,\"○\",\"\")","v":""},{"$f":"IF(社会!$AX$9=社会!$BF$38,\"○\",\"\")","v":""},{"$f":"IF(社会!$AX$9=社会!$BF$39,\"○\",\"\")","v":""},null,null,null,{"$f":"社会得点!AU$58*100","v":0},{"$f":"社会!AX$64*100","v":{"$error":"#DIV/0!"}},{"$error":"#DIV/0!"}]
[47,{"$f":"社会得点!BJ50","v":0},{"$f":"社会得点!BK50","v":0},{"$f":"社会得点!BL50","v":0},null,null,null,null,{"$f":"IF(社会!$AY$9=社会!$BF$35,\"○\",\"\")","v":""},{"$f":"IF(社会!$AY$9=社会!$BF$36,\"○\",\"\")","v":""},{"$f":"IF(社会!$AY$9=社会!$BF$37,\"○\",\"\")","v":""},{"$f":"IF(社会!$AY$9=社会!$BF$38,\"○\",\"\")","v":""},{"$f":"IF(社会!$AY$9=社会!$BF$39,\"○\",\"\")","v":""},null,null,null,{"$f":"社会得点!AV$58*100","v":0},{"$f":"社会!AY$64*100","v":{"$error":"#DIV/0!"}},{"$error":"#DIV/0!"}]
[48,{"$f":"社会得点!BJ51","v":0},{"$f":"社会得点!BK51","v":0},{"$f":"社会得点!BL51","v":0},null,null,null,null,{"$f":"IF(社会!$AZ$9=社会!$BF$35,\"○\",\"\")","v":""},{"$f":"IF(社会!$AZ$9=社会!$BF$36,\"○\",\"\")","v":""},{"$f":"IF(社会!$AZ$9=社会!$BF$37,\"○\",\"\")","v":""},{"$f":"IF(社会!$AZ$9=社会!$BF$38,\"○\",\"\")","v":""},{"$f":"IF(社会!$AZ$9=社会!$BF$39,\"○\",\"\")","v":""},null,null,null,{"$f":"社会得点!AW$58*100","v":0},{"$f":"社会!AZ$64*100","v":{"$error":"#DIV/0!"}},{"$f":"IF($R54=\"\",\"\",$R54-$Q54)","v":{"$error":"#DIV/0!"}}]
[49,{"$f":"社会得点!BJ52","v":0},{"$f":"社会得点!BK52","v":0},{"$f":"社会得点!BL52","v":0},null,null,null,null,{"$f":"IF(社会!$BA$9=社会!$BF$35,\"○\",\"\")","v":""},{"$f":"IF(社会!$BA$9=社会!$BF$36,\"○\",\"\")","v":""},{"$f":"IF(社会!$BA$9=社会!$BF$37,\"○\",\"\")","v":""},{"$f":"IF(社会!$BA$9=社会!$BF$38,\"○\",\"\")","v":""},{"$f":"IF(社会!$BA$9=社会!$BF$39,\"○\",\"\")","v":""},null,null,null,{"$f":"社会得点!AX$58*100","v":0},{"$f":"社会!BA$64*100","v":{"$error":"#DIV/0!"}},{"$f":"IF($R55=\"\",\"\",$R55-$Q55)","v":{"$error":"#DIV/0!"}}]
[50,{"$f":"社会得点!BJ53","v":0},{"$f":"社会得点!BK53","v":0},{"$f":"社会得点!BL53","v":0},null,null,null,null,{"$f":"IF(社会!$BB$9=社会!$BF$35,\"○\",\"\")","v":""},{"$f":"IF(社会!$BB$9=社会!$BF$36,\"○\",\"\")","v":""},{"$f":"IF(社会!$BB$9=社会!$BF$37,\"○\",\"\")","v":""},{"$f":"IF(社会!$BB$9=社会!$BF$38,\"○\",\"\")","v":""},{"$f":"IF(社会!$BB$9=社会!$BF$39,\"○\",\"\")","v":""},null,null,null,{"$f":"社会得点!AY$58*100","v":0},{"$f":"社会!BB$64*100","v":{"$error":"#DIV/0!"}},{"$error":"#DIV/0!"}]
["平均",null,null,null,null,null,null,null,null,null,null,null,null,null,null,null,{"$f":"①社会の平均正答数②社会の平均正答率!B27","v":62.26428571428572},{"$f":"①社会の平均正答数②社会の平均正答率!C27","v":0},{"$f":"①社会の平均正答数②社会の平均正答率!D27","v":-62.26428571428572}]

{"sheet":"⑤社会の問題別誤答率","index":13,"n_rows":57,"n_cols":19,"rows_kept":57,"cut":false,"hidden":false,"merged":[[4,13,4,15],[4,3,5,3],[4,16,4,18],[4,0,5,0],[4,2,5,2],[4,4,4,7],[4,8,4,12],[4,1,5,1]]}
["⑤社会の問題別誤答率"]
[]
[null,null,"問題数",{"$f":"社会!AX1","v":25}]
["◆社会"]
["問題通し番号","問題\n番号","小問題","問題の領域","学習指導要領の領域等",null,null,null,"観点",null,null,null,null,"問題形式",null,null,"誤答率"]
[null,null,null,null,null,null,null,null,{"$f":"社会!BG35","v":"思考・判断・表現"},{"$f":"社会!BG36","v":"知識・技能"},{"$f":"社会!BG37","v":"-"},{"$f":"社会!BG38","v":"-"},{"$f":"社会!BG39","v":"-"},"選択式","短答式","記述式","富山県（ア）","自校（イ）","富山県との差（イ-ア)"]
[1,{"$f":"社会得点!BJ4","v":1},{"$f":"社会得点!BK4","v":"（1）①"},{"$f":"社会得点!BL4","v":"わたしたちの国土"},null,null,null,null,{"$f":"IF(社会!$E$9=社会!$BF$35,\"○\",\"\")","v":""},{"$f":"IF(社会!$E$9=社会!$BF$36,\"○\",\"\")","v":"○"},{"$f":"IF(社会!$E$9=社会!$BF$37,\"○\",\"\")","v":""},{"$f":"IF(社会!$E$9=社会!$BF$38,\"○\",\"\")","v":""},{"$f":"IF(社会!$E$9=社会!$BF$39,\"○\",\"\")","v":""},null,null,null,{"$f":"社会得点!B$59*100","v":21.099999999999998},{"$f":"社会!E$65*100","v":{"$error":"#DIV/0!"}},{"$f":"IF($R7=\"\",\"\",$R7-$Q7)","v":{"$error":"#DIV/0!"}}]
[2,{"$f":"社会得点!BJ5","v":1},{"$f":"社会得点!BK5","v":"（1）②"},{"$f":"社会得点!BL5","v":"わたしたちの国土"},null,null,null,null,{"$f":"IF(社会!$F$9=社会!$BF$35,\"○\",\"\")","v":""},{"$f":"IF(社会!$F$9=社会!$BF$36,\"○\",\"\")","v":"○"},{"$f":"IF(社会!$F$9=社会!$BF$37,\"○\",\"\")","v":""},{"$f":"IF(社会!$F$9=社会!$BF$38,\"○\",\"\")","v":""},{"$f":"IF(社会!$F$9=社会!$BF$39,\"○\",\"\")","v":""},null,null,null,{"$f":"社会得点!C$59*100","v":33.900000000000006},{"$f":"社会!F$65*100","v":{"$error":"#DIV/0!"}},{"$error":"#DIV/0!"}]
[3,{"$f":"社会得点!BJ6","v":1},{"$f":"社会得点!BK6","v":"（1）③"},{"$f":"社会得点!BL6","v":"わたしたちの国土"},null,null,null,null,{"$f":"IF(社会!$G$9=社会!$BF$35,\"○\",\"\")","v":""},{"$f":"IF(社会!$G$9=社会!$BF$36,\"○\",\"\")","v":"○"},{"$f":"IF(社会!$G$9=社会!$BF$37,\"○\",\"\")","v":""},{"$f":"IF(社会!$G$9=社会!$BF$38,\"○\",\"\")","v":""},{"$f":"IF(社会!$G$9=社会!$BF$39,\"○\",\"\")","v":""},null,null,null,{"$f":"社会得点!D$59*100","v":46.9},{"$f":"社会!G$65*100","v":{"$error":"#DIV/0!"}},{"$error":"#DIV/0!"}]
[4,{"$f":"社会得点!BJ7","v":1},{"$f":"社会得点!BK7","v":"（2）"},{"$f":"社会得点!BL7","v":"わたしたちの国土"},null,null,null,null,{"$f":"IF(社会!$H$9=社会!$BF$35,\"○\",\"\")","v":""},{"$f":"IF(社会!$H$9=社会!$BF$36,\"○\",\"\")","v":"○"},{"$f":"IF(社会!$H$9=社会!$BF$37,\"○\",\"\")","v":""},{"$f":"IF(社会!$H$9=社会!$BF$38,\"○\",\"\")","v":""},{"$f":"IF(社会!$H$9=社会!$BF$39,\"○\",\"\")","v":""},null,null,null,{"$f":"社会得点!E$59*100","v":21},{"$f":"社会!H$65*100","v":{"$error":"#DIV/0!"}},{"$error":"#DIV/0!"}]
[5,{"$f":"社会得点!BJ8","v":1},{"$f":"社会得点!BK8","v":"（3）"},{"$f":"社会得点!BL8","v":"わたしたちの国土"},null,null,null,null,{"$f":"IF(社会!$I$9=社会!$BF$35,\"○\",\"\")","v":"○"},{"$f":"IF(社会!$I$9=社会!$BF$36,\"○\",\"\")","v":""},{"$f":"IF(社会!$I$9=社会!$BF$37,\"○\",\"\")","v":""},{"$f":"IF(社会!$I$9=社会!$BF$38,\"○\",\"\")","v":""},{"$f":"IF(社会!$I$9=社会!$BF$39,\"○\",\"\")","v":""},null,null,null,{"$f":"社会得点!F$59*100","v":52.1},{"$f":"社会!I$65*100","v":{"$error":"#DIV/0!"}},{"$error":"#DIV/0!"}]
[6,{"$f":"社会得点!BJ9","v":2},{"$f":"社会得点!BK9","v":"（1）"},{"$f":"社会得点!BL9","v":"米づくりのさかんな地域"},null,null,null,null,{"$f":"IF(社会!$J$9=社会!$BF$35,\"○\",\"\")","v":""},{"$f":"IF(社会!$J$9=社会!$BF$36,\"○\",\"\")","v":"○"},{"$f":"IF(社会!$J$9=社会!$BF$37,\"○\",\"\")","v":""},{"$f":"IF(社会!$J$9=社会!$BF$38,\"○\",\"\")","v":""},{"$f":"IF(社会!$J$9=社会!$BF$39,\"○\",\"\")","v":""},null,null,null,{"$f":"社会得点!G$59*100","v":39.300000000000004},{"$f":"社会!J$65*100","v":{"$error":"#DIV/0!"}},{"$error":"#DIV/0!"}]
[7,{"$f":"社会得点!BJ10","v":2},{"$f":"社会得点!BK10","v":"（2）ゆか"},{"$f":"社会得点!BL10","v":"米づくりのさかんな地域"},null,null,null,null,{"$f":"IF(社会!$K$9=社会!$BF$35,\"○\",\"\")","v":""},{"$f":"IF(社会!$K$9=社会!$BF$36,\"○\",\"\")","v":"○"},{"$f":"IF(社会!$K$9=社会!$BF$37,\"○\",\"\")","v":""},{"$f":"IF(社会!$K$9=社会!$BF$38,\"○\",\"\")","v":""},{"$f":"IF(社会!$K$9=社会!$BF$39,\"○\",\"\")","v":""},null,null,null,{"$f":"社会得点!H$59*100","v":30.5},{"$f":"社会!K$65*100","v":{"$error":"#DIV/0!"}},{"$error":"#DIV/0!"}]
[8,{"$f":"社会得点!BJ11","v":2},{"$f":"社会得点!BK11","v":"（2）しんいち"},{"$f":"社会得点!BL11","v":"米づくりのさかんな地域"},null,null,null,null,{"$f":"IF(社会!$L$9=社会!$BF$35,\"○\",\"\")","v":""},{"$f":"IF(社会!$L$9=社会!$BF$36,\"○\",\"\")","v":"○"},{"$f":"IF(社会!$L$9=社会!$BF$37,\"○\",\"\")","v":""},{"$f":"IF(社会!$L$9=社会!$BF$38,\"○\",\"\")","v":""},{"$f":"IF(社会!$L$9=社会!$BF$39,\"○\",\"\")","v":""},null,null,null,{"$f":"社会得点!I$59*100","v":33.700000000000003},{"$f":"社会!L$65*100","v":{"$error":"#DIV/0!"}},{"$error":"#DIV/0!"}]
[9,{"$f":"社会得点!BJ12","v":2},{"$f":"社会得点!BK12","v":"（3）"},{"$f":"社会得点!BL12","v":"米づくりのさかんな地域"},null,null,null,null,{"$f":"IF(社会!$M$9=社会!$BF$35,\"○\",\"\")","v":"○"},{"$f":"IF(社会!$M$9=社会!$BF$36,\"○\",\"\")","v":""},{"$f":"IF(社会!$M$9=社会!$BF$37,\"○\",\"\")","v":""},{"$f":"IF(社会!$M$9=社会!$BF$38,\"○\",\"\")","v":""},{"$f":"IF(社会!$M$9=社会!$BF$39,\"○\",\"\")","v":""},null,null,null,{"$f":"社会得点!J$59*100","v":38.700000000000003},{"$f":"社会!M$65*100","v":{"$error":"#DIV/0!"}},{"$error":"#DIV/0!"}]
[10,{"$f":"社会得点!BJ13","v":3},{"$f":"社会得点!BK13","v":"（1）あ"},{"$f":"社会得点!BL13","v":"水産業のさかんな地域"},null,null,null,null,{"$f":"IF(社会!$N$9=社会!$BF$35,\"○\",\"\")","v":""},{"$f":"IF(社会!$N$9=社会!$BF$36,\"○\",\"\")","v":"○"},{"$f":"IF(社会!$N$9=社会!$BF$37,\"○\",\"\")","v":""},{"$f":"IF(社会!$N$9=社会!$BF$38,\"○\",\"\")","v":""},{"$f":"IF(社会!$N$9=社会!$BF$39,\"○\",\"\")","v":""},null,null,null,{"$f":"社会得点!K$59*100","v":25.900000000000002},{"$f":"社会!N$65*100","v":{"$error":"#DIV/0!"}},{"$error":"#DIV/0!"}]
[11,{"$f":"社会得点!BJ14","v":3},{"$f":"社会得点!BK14","v":"（1）い"},{"$f":"社会得点!BL14","v":"水産業のさかんな地域"},null,null,null,null,{"$f":"IF(社会!$O$9=社会!$BF$35,\"○\",\"\")","v":""},{"$f":"IF(社会!$O$9=社会!$BF$36,\"○\",\"\")","v":"○"},{"$f":"IF(社会!$O$9=社会!$BF$37,\"○\",\"\")","v":""},{"$f":"IF(社会!$O$9=社会!$BF$38,\"○\",\"\")","v":""},{"$f":"IF(社会!$O$9=社会!$BF$39,\"○\",\"\")","v":""},null,null,null,{"$f":"社会得点!L$59*100","v":0},{"$f":"社会!O$65*100","v":{"$error":"#DIV/0!"}},{"$error":"#DIV/0!"}]
[12,{"$f":"社会得点!BJ15","v":3},{"$f":"社会得点!BK15","v":"（2）"},{"$f":"社会得点!BL15","v":"水産業のさかんな地域"},null,null,null,null,{"$f":"IF(社会!$P$9=社会!$BF$35,\"○\",\"\")","v":""},{"$f":"IF(社会!$P$9=社会!$BF$36,\"○\",\"\")","v":"○"},{"$f":"IF(社会!$P$9=社会!$BF$37,\"○\",\"\")","v":""},{"$f":"IF(社会!$P$9=社会!$BF$38,\"○\",\"\")","v":""},{"$f":"IF(社会!$P$9=社会!$BF$39,\"○\",\"\")","v":""},null,null,null,{"$f":"社会得点!M$59*100","v":7.0000000000000009},{"$f":"社会!P$65*100","v":{"$error":"#DIV/0!"}},{"$error":"#DIV/0!"}]
[13,{"$f":"社会得点!BJ16","v":3},{"$f":"社会得点!BK16","v":"（3）"},{"$f":"社会得点!BL16","v":"水産業のさかんな地域"},null,null,null,null,{"$f":"IF(社会!$Q$9=社会!$BF$35,\"○\",\"\")","v":"○"},{"$f":"IF(社会!$Q$9=社会!$BF$36,\"○\",\"\")","v":""},{"$f":"IF(社会!$Q$9=社会!$BF$37,\"○\",\"\")","v":""},{"$f":"IF(社会!$Q$9=社会!$BF$38,\"○\",\"\")","v":""},{"$f":"IF(社会!$Q$9=社会!$BF$39,\"○\",\"\")","v":""},null,null,null,{"$f":"社会得点!N$59*100","v":14.499999999999998},{"$f":"社会!Q$65*100","v":{"$error":"#DIV/0!"}},{"$error":"#DIV/0!"}]
[14,{"$f":"社会得点!BJ17","v":4},{"$f":"社会得点!BK17","v":"（1）"},{"$f":"社会得点!BL17","v":"わたしたちの生活と工業生産"},null,null,null,null,{"$f":"IF(社会!$R$9=社会!$BF$35,\"○\",\"\")","v":""},{"$f":"IF(社会!$R$9=社会!$BF$36,\"○\",\"\")","v":"○"},{"$f":"IF(社会!$R$9=社会!$BF$37,\"○\",\"\")","v":""},{"$f":"IF(社会!$R$9=社会!$BF$38,\"○\",\"\")","v":""},{"$f":"IF(社会!$R$9=社会!$BF$39,\"○\",\"\")","v":""},null,null,null,{"$f":"社会得点!O$59*100","v":20.399999999999999},{"$f":"社会!R$65*100","v":{"$error":"#DIV/0!"}},{"$error":"#DIV/0!"}]
[15,{"$f":"社会得点!BJ18","v":4},{"$f":"社会得点!BK18","v":"（2）"},{"$f":"社会得点!BL18","v":"わたしたちの生活と工業生産"},null,null,null,null,{"$f":"IF(社会!$S$9=社会!$BF$35,\"○\",\"\")","v":"○"},{"$f":"IF(社会!$S$9=社会!$BF$36,\"○\",\"\")","v":""},{"$f":"IF(社会!$S$9=社会!$BF$37,\"○\",\"\")","v":""},{"$f":"IF(社会!$S$9=社会!$BF$38,\"○\",\"\")","v":""},{"$f":"IF(社会!$S$9=社会!$BF$39,\"○\",\"\")","v":""},null,null,null,{"$f":"社会得点!P$59*100","v":34.300000000000004},{"$f":"社会!S$65*100","v":{"$error":"#DIV/0!"}},{"$error":"#DIV/0!"}]
[16,{"$f":"社会得点!BJ19","v":4},{"$f":"社会得点!BK19","v":"（3）"},{"$f":"社会得点!BL19","v":"わたしたちの生活と工業生産"},null,null,null,null,{"$f":"IF(社会!$T$9=社会!$BF$35,\"○\",\"\")","v":""},{"$f":"IF(社会!$T$9=社会!$BF$36,\"○\",\"\")","v":"○"},{"$f":"IF(社会!$T$9=社会!$BF$37,\"○\",\"\")","v":""},{"$f":"IF(社会!$T$9=社会!$BF$38,\"○\",\"\")","v":""},{"$f":"IF(社会!$T$9=社会!$BF$39,\"○\",\"\")","v":""},null,null,null,{"$f":"社会得点!Q$59*100","v":14.2},{"$f":"社会!T$65*100","v":{"$error":"#DIV/0!"}},{"$error":"#DIV/0!"}]
[17,{"$f":"社会得点!BJ20","v":4},{"$f":"社会得点!BK20","v":"（4）"},{"$f":"社会得点!BL20","v":"わたしたちの生活と工業生産"},null,null,null,null,{"$f":"IF(社会!$U$9=社会!$BF$35,\"○\",\"\")","v":"○"},{"$f":"IF(社会!$U$9=社会!$BF$36,\"○\",\"\")","v":""},{"$f":"IF(社会!$U$9=社会!$BF$37,\"○\",\"\")","v":""},{"$f":"IF(社会!$U$9=社会!$BF$38,\"○\",\"\")","v":""},{"$f":"IF(社会!$U$9=社会!$BF$39,\"○\",\"\")","v":""},null,null,null,{"$f":"社会得点!R$59*100","v":10.5},{"$f":"社会!U$65*100","v":{"$error":"#DIV/0!"}},{"$error":"#DIV/0!"}]
[18,{"$f":"社会得点!BJ21","v":5},{"$f":"社会得点!BK21","v":"（1）"},{"$f":"社会得点!BL21","v":"情報化した社会と産業の発展"},null,null,null,null,{"$f":"IF(社会!$V$9=社会!$BF$35,\"○\",\"\")","v":""},{"$f":"IF(社会!$V$9=社会!$BF$36,\"○\",\"\")","v":"○"},{"$f":"IF(社会!$V$9=社会!$BF$37,\"○\",\"\")","v":""},{"$f":"IF(社会!$V$9=社会!$BF$38,\"○\",\"\")","v":""},{"$f":"IF(社会!$V$9=社会!$BF$39,\"○\",\"\")","v":""},null,null,null,{"$f":"社会得点!S$59*100","v":41.199999999999996},{"$f":"社会!V$65*100","v":{"$error":"#DIV/0!"}},{"$error":"#DIV/0!"}]
[19,{"$f":"社会得点!BJ22","v":5},{"$f":"社会得点!BK22","v":"（2）"},{"$f":"社会得点!BL22","v":"情報化した社会と産業の発展"},null,null,null,null,{"$f":"IF(社会!$W$9=社会!$BF$35,\"○\",\"\")","v":""},{"$f":"IF(社会!$W$9=社会!$BF$36,\"○\",\"\")","v":"○"},{"$f":"IF(社会!$W$9=社会!$BF$37,\"○\",\"\")","v":""},{"$f":"IF(社会!$W$9=社会!$BF$38,\"○\",\"\")","v":""},{"$f":"IF(社会!$W$9=社会!$BF$39,\"○\",\"\")","v":""},null,null,null,{"$f":"社会得点!T$59*100","v":45.5},{"$f":"社会!W$65*100","v":{"$error":"#DIV/0!"}},{"$error":"#DIV/0!"}]
[20,{"$f":"社会得点!BJ23","v":5},{"$f":"社会得点!BK23","v":"（3）"},{"$f":"社会得点!BL23","v":"情報化した社会と産業の発展"},null,null,null,null,{"$f":"IF(社会!$X$9=社会!$BF$35,\"○\",\"\")","v":"○"},{"$f":"IF(社会!$X$9=社会!$BF$36,\"○\",\"\")","v":""},{"$f":"IF(社会!$X$9=社会!$BF$37,\"○\",\"\")","v":""},{"$f":"IF(社会!$X$9=社会!$BF$38,\"○\",\"\")","v":""},{"$f":"IF(社会!$X$9=社会!$BF$39,\"○\",\"\")","v":""},null,null,null,{"$f":"社会得点!U$59*100","v":62.1},{"$f":"社会!X$65*100","v":{"$error":"#DIV/0!"}},{"$error":"#DIV/0!"}]
[21,{"$f":"社会得点!BJ24","v":5},{"$f":"社会得点!BK24","v":"（4）"},{"$f":"社会得点!BL24","v":"情報化した社会と産業の発展"},null,null,null,null,{"$f":"IF(社会!$Y$9=社会!$BF$35,\"○\",\"\")","v":""},{"$f":"IF(社会!$Y$9=社会!$BF$36,\"○\",\"\")","v":"○"},{"$f":"IF(社会!$Y$9=社会!$BF$37,\"○\",\"\")","v":""},{"$f":"IF(社会!$Y$9=社会!$BF$38,\"○\",\"\")","v":""},{"$f":"IF(社会!$Y$9=社会!$BF$39,\"○\",\"\")","v":""},null,null,null,{"$f":"社会得点!V$59*100","v":8.5},{"$f":"社会!Y$65*100","v":{"$error":"#DIV/0!"}},{"$error":"#DIV/0!"}]
[22,{"$f":"社会得点!BJ25","v":6},{"$f":"社会得点!BK25","v":"（1）ABC"},{"$f":"社会得点!BL25","v":"わたしたちの生活と環境"},null,null,null,null,{"$f":"IF(社会!$Z$9=社会!$BF$35,\"○\",\"\")","v":""},{"$f":"IF(社会!$Z$9=社会!$BF$36,\"○\",\"\")","v":"○"},{"$f":"IF(社会!$Z$9=社会!$BF$37,\"○\",\"\")","v":""},{"$f":"IF(社会!$Z$9=社会!$BF$38,\"○\",\"\")","v":""},{"$f":"IF(社会!$Z$9=社会!$BF$39,\"○\",\"\")","v":""},null,null,null,{"$f":"社会得点!W$59*100","v":24.3},{"$f":"社会!Z$65*100","v":{"$error":"#DIV/0!"}},{"$error":"#DIV/0!"}]
[23,{"$f":"社会得点!BJ26","v":6},{"$f":"社会得点!BK26","v":"（2）"},{"$f":"社会得点!BL26","v":"わたしたちの生活と環境"},null,null,null,null,{"$f":"IF(社会!$AA$9=社会!$BF$35,\"○\",\"\")","v":""},{"$f":"IF(社会!$AA$9=社会!$BF$36,\"○\",\"\")","v":"○"},{"$f":"IF(社会!$AA$9=社会!$BF$37,\"○\",\"\")","v":""},{"$f":"IF(社会!$AA$9=社会!$BF$38,\"○\",\"\")","v":""},{"$f":"IF(社会!$AA$9=社会!$BF$39,\"○\",\"\")","v":""},null,null,null,{"$f":"社会得点!X$59*100","v":26.1},{"$f":"社会!AA$65*100","v":{"$error":"#DIV/0!"}},{"$error":"#DIV/0!"}]
[24,{"$f":"社会得点!BJ27","v":6},{"$f":"社会得点!BK27","v":"（3）あいうえ"},{"$f":"社会得点!BL27","v":"わたしたちの生活と環境"},null,null,null,null,{"$f":"IF(社会!$AB$9=社会!$BF$35,\"○\",\"\")","v":""},{"$f":"IF(社会!$AB$9=社会!$BF$36,\"○\",\"\")","v":"○"},{"$f":"IF(社会!$AB$9=社会!$BF$37,\"○\",\"\")","v":""},{"$f":"IF(社会!$AB$9=社会!$BF$38,\"○\",\"\")","v":""},{"$f":"IF(社会!$AB$9=社会!$BF$39,\"○\",\"\")","v":""},null,null,null,{"$f":"社会得点!Y$59*100","v":47.5},{"$f":"社会!AB$65*100","v":{"$error":"#DIV/0!"}},{"$error":"#DIV/0!"}]
[25,{"$f":"社会得点!BJ28","v":6},{"$f":"社会得点!BK28","v":"（4）"},{"$f":"社会得点!BL28","v":"わたしたちの生活と環境"},null,null,null,null,{"$f":"IF(社会!$AC$9=社会!$BF$35,\"○\",\"\")","v":"○"},{"$f":"IF(社会!$AC$9=社会!$BF$36,\"○\",\"\")","v":""},{"$f":"IF(社会!$AC$9=社会!$BF$37,\"○\",\"\")","v":""},{"$f":"IF(社会!$AC$9=社会!$BF$38,\"○\",\"\")","v":""},{"$f":"IF(社会!$AC$9=社会!$BF$39,\"○\",\"\")","v":""},null,null,null,{"$f":"社会得点!Z$59*100","v":28.599999999999998},{"$f":"社会!AC$65*100","v":{"$error":"#DIV/0!"}},{"$error":"#DIV/0!"}]
[26,{"$f":"社会得点!BJ29","v":0},{"$f":"社会得点!BK29","v":0},{"$f":"社会得点!BL29","v":0},null,null,null,null,{"$f":"IF(社会!$AD$9=社会!$BF$35,\"○\",\"\")","v":""},{"$f":"IF(社会!$AD$9=社会!$BF$36,\"○\",\"\")","v":""},{"$f":"IF(社会!$AD$9=社会!$BF$37,\"○\",\"\")","v":""},{"$f":"IF(社会!$AD$9=社会!$BF$38,\"○\",\"\")","v":""},{"$f":"IF(社会!$AD$9=社会!$BF$39,\"○\",\"\")","v":""},null,null,null,{"$f":"社会得点!AA$59*100","v":0},{"$f":"社会!AD$65*100","v":{"$error":"#DIV/0!"}},{"$error":"#DIV/0!"}]
[27,{"$f":"社会得点!BJ30","v":0},{"$f":"社会得点!BK30","v":0},{"$f":"社会得点!BL30","v":0},null,null,null,null,{"$f":"IF(社会!$AE$9=社会!$BF$35,\"○\",\"\")","v":""},{"$f":"IF(社会!$AE$9=社会!$BF$36,\"○\",\"\")","v":""},{"$f":"IF(社会!$AE$9=社会!$BF$37,\"○\",\"\")","v":""},{"$f":"IF(社会!$AE$9=社会!$BF$38,\"○\",\"\")","v":""},{"$f":"IF(社会!$AE$9=社会!$BF$39,\"○\",\"\")","v":""},null,null,null,{"$f":"社会得点!AB$59*100","v":0},{"$f":"社会!AE$65*100","v":{"$error":"#DIV/0!"}},{"$error":"#DIV/0!"}]
[28,{"$f":"社会得点!BJ31","v":0},{"$f":"社会得点!BK31","v":0},{"$f":"社会得点!BL31","v":0},null,null,null,null,{"$f":"IF(社会!$AF$9=社会!$BF$35,\"○\",\"\")","v":""},{"$f":"IF(社会!$AF$9=社会!$BF$36,\"○\",\"\")","v":""},{"$f":"IF(社会!$AF$9=社会!$BF$37,\"○\",\"\")","v":""},{"$f":"IF(社会!$AF$9=社会!$BF$38,\"○\",\"\")","v":""},{"$f":"IF(社会!$AF$9=社会!$BF$39,\"○\",\"\")","v":""},null,null,null,{"$f":"社会得点!AC$59*100","v":0},{"$f":"社会!AF$65*100","v":{"$error":"#DIV/0!"}},{"$error":"#DIV/0!"}]
[29,{"$f":"社会得点!BJ32","v":0},{"$f":"社会得点!BK32","v":0},{"$f":"社会得点!BL32","v":0},null,null,null,null,{"$f":"IF(社会!$AG$9=社会!$BF$35,\"○\",\"\")","v":""},{"$f":"IF(社会!$AG$9=社会!$BF$36,\"○\",\"\")","v":""},{"$f":"IF(社会!$AG$9=社会!$BF$37,\"○\",\"\")","v":""},{"$f":"IF(社会!$AG$9=社会!$BF$38,\"○\",\"\")","v":""},{"$f":"IF(社会!$AG$9=社会!$BF$39,\"○\",\"\")","v":""},null,null,null,{"$f":"社会得点!AD$59*100","v":0},{"$f":"社会!AG$65*100","v":{"$error":"#DIV/0!"}},{"$error":"#DIV/0!"}]
[30,{"$f":"社会得点!BJ33","v":0},{"$f":"社会得点!BK33","v":0},{"$f":"社会得点!BL33","v":0},null,null,null,null,{"$f":"IF(社会!$AH$9=社会!$BF$35,\"○\",\"\")","v":""},{"$f":"IF(社会!$AH$9=社会!$BF$36,\"○\",\"\")","v":""},{"$f":"IF(社会!$AH$9=社会!$BF$37,\"○\",\"\")","v":""},{"$f":"IF(社会!$AH$9=社会!$BF$38,\"○\",\"\")","v":""},{"$f":"IF(社会!$AH$9=社会!$BF$39,\"○\",\"\")","v":""},null,null,null,{"$f":"社会得点!AE$59*100","v":0},{"$f":"社会!AH$65*100","v":{"$error":"#DIV/0!"}},{"$error":"#DIV/0!"}]
[31,{"$f":"社会得点!BJ34","v":0},{"$f":"社会得点!BK34","v":0},{"$f":"社会得点!BL34","v":0},null,null,null,null,{"$f":"IF(社会!$AI$9=社会!$BF$35,\"○\",\"\")","v":""},{"$f":"IF(社会!$AI$9=社会!$BF$36,\"○\",\"\")","v":""},{"$f":"IF(社会!$AI$9=社会!$BF$37,\"○\",\"\")","v":""},{"$f":"IF(社会!$AI$9=社会!$BF$38,\"○\",\"\")","v":""},{"$f":"IF(社会!$AI$9=社会!$BF$39,\"○\",\"\")","v":""},null,null,null,{"$f":"社会得点!AF$59*100","v":0},{"$f":"社会!AI$65*100","v":{"$error":"#DIV/0!"}},{"$error":"#DIV/0!"}]
[32,{"$f":"社会得点!BJ35","v":0},{"$f":"社会得点!BK35","v":0},{"$f":"社会得点!BL35","v":0},null,null,null,null,{"$f":"IF(社会!$AJ$9=社会!$BF$35,\"○\",\"\")","v":""},{"$f":"IF(社会!$AJ$9=社会!$BF$36,\"○\",\"\")","v":""},{"$f":"IF(社会!$AJ$9=社会!$BF$37,\"○\",\"\")","v":""},{"$f":"IF(社会!$AJ$9=社会!$BF$38,\"○\",\"\")","v":""},{"$f":"IF(社会!$AJ$9=社会!$BF$39,\"○\",\"\")","v":""},null,null,null,{"$f":"社会得点!AG$59*100","v":0},{"$f":"社会!AJ$65*100","v":{"$error":"#DIV/0!"}},{"$f":"IF($R38=\"\",\"\",$R38-$Q38)","v":{"$error":"#DIV/0!"}}]
[33,{"$f":"社会得点!BJ36","v":0},{"$f":"社会得点!BK36","v":0},{"$f":"社会得点!BL36","v":0},null,null,null,null,{"$f":"IF(社会!$AK$9=社会!$BF$35,\"○\",\"\")","v":""},{"$f":"IF(社会!$AK$9=社会!$BF$36,\"○\",\"\")","v":""},{"$f":"IF(社会!$AK$9=社会!$BF$37,\"○\",\"\")","v":""},{"$f":"IF(社会!$AK$9=社会!$BF$38,\"○\",\"\")","v":""},{"$f":"IF(社会!$AK$9=社会!$BF$39,\"○\",\"\")","v":""},null,null,null,{"$f":"社会得点!AH$59*100","v":0},{"$f":"社会!AK$65*100","v":{"$error":"#DIV/0!"}},{"$error":"#DIV/0!"}]
[34,{"$f":"社会得点!BJ37","v":0},{"$f":"社会得点!BK37","v":0},{"$f":"社会得点!BL37","v":0},null,null,null,null,{"$f":"IF(社会!$AL$9=社会!$BF$35,\"○\",\"\")","v":""},{"$f":"IF(社会!$AL$9=社会!$BF$36,\"○\",\"\")","v":""},{"$f":"IF(社会!$AL$9=社会!$BF$37,\"○\",\"\")","v":""},{"$f":"IF(社会!$AL$9=社会!$BF$38,\"○\",\"\")","v":""},{"$f":"IF(社会!$AL$9=社会!$BF$39,\"○\",\"\")","v":""},null,null,null,{"$f":"社会得点!AI$59*100","v":0},{"$f":"社会!AL$65*100","v":{"$error":"#DIV/0!"}},{"$error":"#DIV/0!"}]
[35,{"$f":"社会得点!BJ38","v":0},{"$f":"社会得点!BK38","v":0},{"$f":"社会得点!BL38","v":0},null,null,null,null,{"$f":"IF(社会!$AM$9=社会!$BF$35,\"○\",\"\")","v":""},{"$f":"IF(社会!$AM$9=社会!$BF$36,\"○\",\"\")","v":""},{"$f":"IF(社会!$AM$9=社会!$BF$37,\"○\",\"\")","v":""},{"$f":"IF(社会!$AM$9=社会!$BF$38,\"○\",\"\")","v":""},{"$f":"IF(社会!$AM$9=社会!$BF$39,\"○\",\"\")","v":""},null,null,null,{"$f":"社会得点!AJ$59*100","v":0},{"$f":"社会!AM$65*100","v":{"$error":"#DIV/0!"}},{"$error":"#DIV/0!"}]
[36,{"$f":"社会得点!BJ39","v":0},{"$f":"社会得点!BK39","v":0},{"$f":"社会得点!BL39","v":0},null,null,null,null,{"$f":"IF(社会!$AN$9=社会!$BF$35,\"○\",\"\")","v":""},{"$f":"IF(社会!$AN$9=社会!$BF$36,\"○\",\"\")","v":""},{"$f":"IF(社会!$AN$9=社会!$BF$37,\"○\",\"\")","v":""},{"$f":"IF(社会!$AN$9=社会!$BF$38,\"○\",\"\")","v":""},{"$f":"IF(社会!$AN$9=社会!$BF$39,\"○\",\"\")","v":""},null,null,null,{"$f":"社会得点!AK$59*100","v":0},{"$f":"社会!AN$65*100","v":{"$error":"#DIV/0!"}},{"$error":"#DIV/0!"}]
[37,{"$f":"社会得点!BJ40","v":0},{"$f":"社会得点!BK40","v":0},{"$f":"社会得点!BL40","v":0},null,null,null,null,{"$f":"IF(社会!$AO$9=社会!$BF$35,\"○\",\"\")","v":""},{"$f":"IF(社会!$AO$9=社会!$BF$36,\"○\",\"\")","v":""},{"$f":"IF(社会!$AO$9=社会!$BF$37,\"○\",\"\")","v":""},{"$f":"IF(社会!$AO$9=社会!$BF$38,\"○\",\"\")","v":""},{"$f":"IF(社会!$AO$9=社会!$BF$39,\"○\",\"\")","v":""},null,null,null,{"$f":"社会得点!AL$59*100","v":0},{"$f":"社会!AO$65*100","v":{"$error":"#DIV/0!"}},{"$error":"#DIV/0!"}]
[38,{"$f":"社会得点!BJ41","v":0},{"$f":"社会得点!BK41","v":0},{"$f":"社会得点!BL41","v":0},null,null,null,null,{"$f":"IF(社会!$AP$9=社会!$BF$35,\"○\",\"\")","v":""},{"$f":"IF(社会!$AP$9=社会!$BF$36,\"○\",\"\")","v":""},{"$f":"IF(社会!$AP$9=社会!$BF$37,\"○\",\"\")","v":""},{"$f":"IF(社会!$AP$9=社会!$BF$38,\"○\",\"\")","v":""},{"$f":"IF(社会!$AP$9=社会!$BF$39,\"○\",\"\")","v":""},null,null,null,{"$f":"社会得点!AM$59*100","v":0},{"$f":"社会!AP$65*100","v":{"$error":"#DIV/0!"}},{"$error":"#DIV/0!"}]
[39,{"$f":"社会得点!BJ42","v":0},{"$f":"社会得点!BK42","v":0},{"$f":"社会得点!BL42","v":0},null,null,null,null,{"$f":"IF(社会!$AQ$9=社会!$BF$35,\"○\",\"\")","v":""},{"$f":"IF(社会!$AQ$9=社会!$BF$36,\"○\",\"\")","v":""},{"$f":"IF(社会!$AQ$9=社会!$BF$37,\"○\",\"\")","v":""},{"$f":"IF(社会!$AQ$9=社会!$BF$38,\"○\",\"\")","v":""},{"$f":"IF(社会!$AQ$9=社会!$BF$39,\"○\",\"\")","v":""},null,null,null,{"$f":"社会得点!AN$59*100","v":0},{"$f":"社会!AQ$65*100","v":{"$error":"#DIV/0!"}},{"$error":"#DIV/0!"}]
[40,{"$f":"社会得点!BJ43","v":0},{"$f":"社会得点!BK43","v":0},{"$f":"社会得点!BL43","v":0},null,null,null,null,{"$f":"IF(社会!$AR$9=社会!$BF$35,\"○\",\"\")","v":""},{"$f":"IF(社会!$AR$9=社会!$BF$36,\"○\",\"\")","v":""},{"$f":"IF(社会!$AR$9=社会!$BF$37,\"○\",\"\")","v":""},{"$f":"IF(社会!$AR$9=社会!$BF$38,\"○\",\"\")","v":""},{"$f":"IF(社会!$AR$9=社会!$BF$39,\"○\",\"\")","v":""},null,null,null,{"$f":"社会得点!AO$59*100","v":0},{"$f":"社会!AR$65*100","v":{"$error":"#DIV/0!"}},{"$error":"#DIV/0!"}]
[41,{"$f":"社会得点!BJ44","v":0},{"$f":"社会得点!BK44","v":0},{"$f":"社会得点!BL44","v":0},null,null,null,null,{"$f":"IF(社会!$AS$9=社会!$BF$35,\"○\",\"\")","v":""},{"$f":"IF(社会!$AS$9=社会!$BF$36,\"○\",\"\")","v":""},{"$f":"IF(社会!$AS$9=社会!$BF$37,\"○\",\"\")","v":""},{"$f":"IF(社会!$AS$9=社会!$BF$38,\"○\",\"\")","v":""},{"$f":"IF(社会!$AS$9=社会!$BF$39,\"○\",\"\")","v":""},null,null,null,{"$f":"社会得点!AP$59*100","v":0},{"$f":"社会!AS$65*100","v":{"$error":"#DIV/0!"}},{"$error":"#DIV/0!"}]
[42,{"$f":"社会得点!BJ45","v":0},{"$f":"社会得点!BK45","v":0},{"$f":"社会得点!BL45","v":0},null,null,null,null,{"$f":"IF(社会!$AT$9=社会!$BF$35,\"○\",\"\")","v":""},{"$f":"IF(社会!$AT$9=社会!$BF$36,\"○\",\"\")","v":""},{"$f":"IF(社会!$AT$9=社会!$BF$37,\"○\",\"\")","v":""},{"$f":"IF(社会!$AT$9=社会!$BF$38,\"○\",\"\")","v":""},{"$f":"IF(社会!$AT$9=社会!$BF$39,\"○\",\"\")","v":""},null,null,null,{"$f":"社会得点!AQ$59*100","v":0},{"$f":"社会!AT$65*100","v":{"$error":"#DIV/0!"}},{"$error":"#DIV/0!"}]
[43,{"$f":"社会得点!BJ46","v":0},{"$f":"社会得点!BK46","v":0},{"$f":"社会得点!BL46","v":0},null,null,null,null,{"$f":"IF(社会!$AU$9=社会!$BF$35,\"○\",\"\")","v":""},{"$f":"IF(社会!$AU$9=社会!$BF$36,\"○\",\"\")","v":""},{"$f":"IF(社会!$AU$9=社会!$BF$37,\"○\",\"\")","v":""},{"$f":"IF(社会!$AU$9=社会!$BF$38,\"○\",\"\")","v":""},{"$f":"IF(社会!$AU$9=社会!$BF$39,\"○\",\"\")","v":""},null,null,null,{"$f":"社会得点!AR$59*100","v":0},{"$f":"社会!AU$65*100","v":{"$error":"#DIV/0!"}},{"$error":"#DIV/0!"}]
[44,{"$f":"社会得点!BJ47","v":0},{"$f":"社会得点!BK47","v":0},{"$f":"社会得点!BL47","v":0},null,null,null,null,{"$f":"IF(社会!$AV$9=社会!$BF$35,\"○\",\"\")","v":""},{"$f":"IF(社会!$AV$9=社会!$BF$36,\"○\",\"\")","v":""},{"$f":"IF(社会!$AV$9=社会!$BF$37,\"○\",\"\")","v":""},{"$f":"IF(社会!$AV$9=社会!$BF$38,\"○\",\"\")","v":""},{"$f":"IF(社会!$AV$9=社会!$BF$39,\"○\",\"\")","v":""},null,null,null,{"$f":"社会得点!AS$59*100","v":0},{"$f":"社会!AV$65*100","v":{"$error":"#DIV/0!"}},{"$error":"#DIV/0!"}]
[45,{"$f":"社会得点!BJ48","v":0},{"$f":"社会得点!BK48","v":0},{"$f":"社会得点!BL48","v":0},null,null,null,null,{"$f":"IF(社会!$AW$9=社会!$BF$35,\"○\",\"\")","v":""},{"$f":"IF(社会!$AW$9=社会!$BF$36,\"○\",\"\")","v":""},{"$f":"IF(社会!$AW$9=社会!$BF$37,\"○\",\"\")","v":""},{"$f":"IF(社会!$AW$9=社会!$BF$38,\"○\",\"\")","v":""},{"$f":"IF(社会!$AW$9=社会!$BF$39,\"○\",\"\")","v":""},null,null,null,{"$f":"社会得点!AT$59*100","v":0},{"$f":"社会!AW$65*100","v":{"$error":"#DIV/0!"}},{"$f":"IF($R51=\"\",\"\",$R51-$Q51)","v":{"$error":"#DIV/0!"}}]
[46,{"$f":"社会得点!BJ49","v":0},{"$f":"社会得点!BK49","v":0},{"$f":"社会得点!BL49","v":0},null,null,null,null,{"$f":"IF(社会!$AX$9=社会!$BF$35,\"○\",\"\")","v":""},{"$f":"IF(社会!$AX$9=社会!$BF$36,\"○\",\"\")","v":""},{"$f":"IF(社会!$AX$9=社会!$BF$37,\"○\",\"\")","v":""},{"$f":"IF(社会!$AX$9=社会!$BF$38,\"○\",\"\")","v":""},{"$f":"IF(社会!$AX$9=社会!$BF$39,\"○\",\"\")","v":""},null,null,null,{"$f":"社会得点!AU$59*100","v":0},{"$f":"社会!AX$65*100","v":{"$error":"#DIV/0!"}},{"$error":"#DIV/0!"}]
[47,{"$f":"社会得点!BJ50","v":0},{"$f":"社会得点!BK50","v":0},{"$f":"社会得点!BL50","v":0},null,null,null,null,{"$f":"IF(社会!$AY$9=社会!$BF$35,\"○\",\"\")","v":""},{"$f":"IF(社会!$AY$9=社会!$BF$36,\"○\",\"\")","v":""},{"$f":"IF(社会!$AY$9=社会!$BF$37,\"○\",\"\")","v":""},{"$f":"IF(社会!$AY$9=社会!$BF$38,\"○\",\"\")","v":""},{"$f":"IF(社会!$AY$9=社会!$BF$39,\"○\",\"\")","v":""},null,null,null,{"$f":"社会得点!AV$59*100","v":0},{"$f":"社会!AY$65*100","v":{"$error":"#DIV/0!"}},{"$error":"#DIV/0!"}]
[48,{"$f":"社会得点!BJ51","v":0},{"$f":"社会得点!BK51","v":0},{"$f":"社会得点!BL51","v":0},null,null,null,null,{"$f":"IF(社会!$AZ$9=社会!$BF$35,\"○\",\"\")","v":""},{"$f":"IF(社会!$AZ$9=社会!$BF$36,\"○\",\"\")","v":""},{"$f":"IF(社会!$AZ$9=社会!$BF$37,\"○\",\"\")","v":""},{"$f":"IF(社会!$AZ$9=社会!$BF$38,\"○\",\"\")","v":""},{"$f":"IF(社会!$AZ$9=社会!$BF$39,\"○\",\"\")","v":""},null,null,null,{"$f":"社会得点!AW$59*100","v":0},{"$f":"社会!AZ$65*100","v":{"$error":"#DIV/0!"}},{"$f":"IF($R54=\"\",\"\",$R54-$Q54)","v":{"$error":"#DIV/0!"}}]
[49,{"$f":"社会得点!BJ52","v":0},{"$f":"社会得点!BK52","v":0},{"$f":"社会得点!BL52","v":0},null,null,null,null,{"$f":"IF(社会!$BA$9=社会!$BF$35,\"○\",\"\")","v":""},{"$f":"IF(社会!$BA$9=社会!$BF$36,\"○\",\"\")","v":""},{"$f":"IF(社会!$BA$9=社会!$BF$37,\"○\",\"\")","v":""},{"$f":"IF(社会!$BA$9=社会!$BF$38,\"○\",\"\")","v":""},{"$f":"IF(社会!$BA$9=社会!$BF$39,\"○\",\"\")","v":""},null,null,null,{"$f":"社会得点!AX$59*100","v":0},{"$f":"社会!BA$65*100","v":{"$error":"#DIV/0!"}},{"$f":"IF($R55=\"\",\"\",$R55-$Q55)","v":{"$error":"#DIV/0!"}}]
[50,{"$f":"社会得点!BJ53","v":0},{"$f":"社会得点!BK53","v":0},{"$f":"社会得点!BL53","v":0},null,null,null,null,{"$f":"IF(社会!$BB$9=社会!$BF$35,\"○\",\"\")","v":""},{"$f":"IF(社会!$BB$9=社会!$BF$36,\"○\",\"\")","v":""},{"$f":"IF(社会!$BB$9=社会!$BF$37,\"○\",\"\")","v":""},{"$f":"IF(社会!$BB$9=社会!$BF$38,\"○\",\"\")","v":""},{"$f":"IF(社会!$BB$9=社会!$BF$39,\"○\",\"\")","v":""},null,null,null,{"$f":"社会得点!AY$59*100","v":0},{"$f":"社会!BB$65*100","v":{"$error":"#DIV/0!"}},{"$error":"#DIV/0!"}]
["平均"]

{"sheet":"⑥社会の問題別無解答率","index":14,"n_rows":57,"n_cols":19,"rows_kept":57,"cut":false,"hidden":false,"merged":[[4,13,4,15],[4,3,5,3],[4,16,4,18],[4,0,5,0],[4,2,5,2],[4,4,4,7],[4,8,4,12],[4,1,5,1]]}
["⑥社会の問題別無解答率"]
[]
[null,null,"問題数",{"$f":"社会!AX1","v":25}]
["◆社会"]
["問題通し番号","問題\n番号","小問題","問題の領域","学習指導要領の領域等",null,null,null,"観点",null,null,null,null,"問題形式",null,null,"無解答率"]
[null,null,null,null,null,null,null,null,{"$f":"社会!BG35","v":"思考・判断・表現"},{"$f":"社会!BG36","v":"知識・技能"},{"$f":"社会!BG37","v":"-"},{"$f":"社会!BG38","v":"-"},{"$f":"社会!BG39","v":"-"},"選択式","短答式","記述式","富山県（ア）","自校（イ）","富山県との差（イ-ア)"]
[1,{"$f":"社会得点!BJ4","v":1},{"$f":"社会得点!BK4","v":"（1）①"},{"$f":"社会得点!BL4","v":"わたしたちの国土"},null,null,null,null,{"$f":"IF(社会!$E$9=社会!$BF$35,\"○\",\"\")","v":""},{"$f":"IF(社会!$E$9=社会!$BF$36,\"○\",\"\")","v":"○"},{"$f":"IF(社会!$E$9=社会!$BF$37,\"○\",\"\")","v":""},{"$f":"IF(社会!$E$9=社会!$BF$38,\"○\",\"\")","v":""},{"$f":"IF(社会!$E$9=社会!$BF$39,\"○\",\"\")","v":""},null,null,null,{"$f":"社会得点!B$60*100","v":0.60000000000000053},{"$f":"社会!E$66*100","v":{"$error":"#DIV/0!"}},{"$f":"IF($R7=\"\",\"\",$R7-$Q7)","v":{"$error":"#DIV/0!"}}]
[2,{"$f":"社会得点!BJ5","v":1},{"$f":"社会得点!BK5","v":"（1）②"},{"$f":"社会得点!BL5","v":"わたしたちの国土"},null,null,null,null,{"$f":"IF(社会!$F$9=社会!$BF$35,\"○\",\"\")","v":""},{"$f":"IF(社会!$F$9=社会!$BF$36,\"○\",\"\")","v":"○"},{"$f":"IF(社会!$F$9=社会!$BF$37,\"○\",\"\")","v":""},{"$f":"IF(社会!$F$9=社会!$BF$38,\"○\",\"\")","v":""},{"$f":"IF(社会!$F$9=社会!$BF$39,\"○\",\"\")","v":""},null,null,null,{"$f":"社会得点!C$60*100","v":13.79999999999999},{"$f":"社会!F$66*100","v":{"$error":"#DIV/0!"}},{"$error":"#DIV/0!"}]
[3,{"$f":"社会得点!BJ6","v":1},{"$f":"社会得点!BK6","v":"（1）③"},{"$f":"社会得点!BL6","v":"わたしたちの国土"},null,null,null,null,{"$f":"IF(社会!$G$9=社会!$BF$35,\"○\",\"\")","v":""},{"$f":"IF(社会!$G$9=社会!$BF$36,\"○\",\"\")","v":"○"},{"$f":"IF(社会!$G$9=社会!$BF$37,\"○\",\"\")","v":""},{"$f":"IF(社会!$G$9=社会!$BF$38,\"○\",\"\")","v":""},{"$f":"IF(社会!$G$9=社会!$BF$39,\"○\",\"\")","v":""},null,null,null,{"$f":"社会得点!D$60*100","v":24.100000000000009},{"$f":"社会!G$66*100","v":{"$error":"#DIV/0!"}},{"$error":"#DIV/0!"}]
[4,{"$f":"社会得点!BJ7","v":1},{"$f":"社会得点!BK7","v":"（2）"},{"$f":"社会得点!BL7","v":"わたしたちの国土"},null,null,null,null,{"$f":"IF(社会!$H$9=社会!$BF$35,\"○\",\"\")","v":""},{"$f":"IF(社会!$H$9=社会!$BF$36,\"○\",\"\")","v":"○"},{"$f":"IF(社会!$H$9=社会!$BF$37,\"○\",\"\")","v":""},{"$f":"IF(社会!$H$9=社会!$BF$38,\"○\",\"\")","v":""},{"$f":"IF(社会!$H$9=社会!$BF$39,\"○\",\"\")","v":""},null,null,null,{"$f":"社会得点!E$60*100","v":0.70000000000000062},{"$f":"社会!H$66*100","v":{"$error":"#DIV/0!"}},{"$error":"#DIV/0!"}]
[5,{"$f":"社会得点!BJ8","v":1},{"$f":"社会得点!BK8","v":"（3）"},{"$f":"社会得点!BL8","v":"わたしたちの国土"},null,null,null,null,{"$f":"IF(社会!$I$9=社会!$BF$35,\"○\",\"\")","v":"○"},{"$f":"IF(社会!$I$9=社会!$BF$36,\"○\",\"\")","v":""},{"$f":"IF(社会!$I$9=社会!$BF$37,\"○\",\"\")","v":""},{"$f":"IF(社会!$I$9=社会!$BF$38,\"○\",\"\")","v":""},{"$f":"IF(社会!$I$9=社会!$BF$39,\"○\",\"\")","v":""},null,null,null,{"$f":"社会得点!F$60*100","v":14.100000000000001},{"$f":"社会!I$66*100","v":{"$error":"#DIV/0!"}},{"$error":"#DIV/0!"}]
[6,{"$f":"社会得点!BJ9","v":2},{"$f":"社会得点!BK9","v":"（1）"},{"$f":"社会得点!BL9","v":"米づくりのさかんな地域"},null,null,null,null,{"$f":"IF(社会!$J$9=社会!$BF$35,\"○\",\"\")","v":""},{"$f":"IF(社会!$J$9=社会!$BF$36,\"○\",\"\")","v":"○"},{"$f":"IF(社会!$J$9=社会!$BF$37,\"○\",\"\")","v":""},{"$f":"IF(社会!$J$9=社会!$BF$38,\"○\",\"\")","v":""},{"$f":"IF(社会!$J$9=社会!$BF$39,\"○\",\"\")","v":""},null,null,null,{"$f":"社会得点!G$60*100","v":24.8},{"$f":"社会!J$66*100","v":{"$error":"#DIV/0!"}},{"$error":"#DIV/0!"}]
[7,{"$f":"社会得点!BJ10","v":2},{"$f":"社会得点!BK10","v":"（2）ゆか"},{"$f":"社会得点!BL10","v":"米づくりのさかんな地域"},null,null,null,null,{"$f":"IF(社会!$K$9=社会!$BF$35,\"○\",\"\")","v":""},{"$f":"IF(社会!$K$9=社会!$BF$36,\"○\",\"\")","v":"○"},{"$f":"IF(社会!$K$9=社会!$BF$37,\"○\",\"\")","v":""},{"$f":"IF(社会!$K$9=社会!$BF$38,\"○\",\"\")","v":""},{"$f":"IF(社会!$K$9=社会!$BF$39,\"○\",\"\")","v":""},null,null,null,{"$f":"社会得点!H$60*100","v":0.60000000000000053},{"$f":"社会!K$66*100","v":{"$error":"#DIV/0!"}},{"$error":"#DIV/0!"}]
[8,{"$f":"社会得点!BJ11","v":2},{"$f":"社会得点!BK11","v":"（2）しんいち"},{"$f":"社会得点!BL11","v":"米づくりのさかんな地域"},null,null,null,null,{"$f":"IF(社会!$L$9=社会!$BF$35,\"○\",\"\")","v":""},{"$f":"IF(社会!$L$9=社会!$BF$36,\"○\",\"\")","v":"○"},{"$f":"IF(社会!$L$9=社会!$BF$37,\"○\",\"\")","v":""},{"$f":"IF(社会!$L$9=社会!$BF$38,\"○\",\"\")","v":""},{"$f":"IF(社会!$L$9=社会!$BF$39,\"○\",\"\")","v":""},null,null,null,{"$f":"社会得点!I$60*100","v":0.80000000000000071},{"$f":"社会!L$66*100","v":{"$error":"#DIV/0!"}},{"$error":"#DIV/0!"}]
[9,{"$f":"社会得点!BJ12","v":2},{"$f":"社会得点!BK12","v":"（3）"},{"$f":"社会得点!BL12","v":"米づくりのさかんな地域"},null,null,null,null,{"$f":"IF(社会!$M$9=社会!$BF$35,\"○\",\"\")","v":"○"},{"$f":"IF(社会!$M$9=社会!$BF$36,\"○\",\"\")","v":""},{"$f":"IF(社会!$M$9=社会!$BF$37,\"○\",\"\")","v":""},{"$f":"IF(社会!$M$9=社会!$BF$38,\"○\",\"\")","v":""},{"$f":"IF(社会!$M$9=社会!$BF$39,\"○\",\"\")","v":""},null,null,null,{"$f":"社会得点!J$60*100","v":5.8999999999999941},{"$f":"社会!M$66*100","v":{"$error":"#DIV/0!"}},{"$error":"#DIV/0!"}]
[10,{"$f":"社会得点!BJ13","v":3},{"$f":"社会得点!BK13","v":"（1）あ"},{"$f":"社会得点!BL13","v":"水産業のさかんな地域"},null,null,null,null,{"$f":"IF(社会!$N$9=社会!$BF$35,\"○\",\"\")","v":""},{"$f":"IF(社会!$N$9=社会!$BF$36,\"○\",\"\")","v":"○"},{"$f":"IF(社会!$N$9=社会!$BF$37,\"○\",\"\")","v":""},{"$f":"IF(社会!$N$9=社会!$BF$38,\"○\",\"\")","v":""},{"$f":"IF(社会!$N$9=社会!$BF$39,\"○\",\"\")","v":""},null,null,null,{"$f":"社会得点!K$60*100","v":0.9000000000000008},{"$f":"社会!N$66*100","v":{"$error":"#DIV/0!"}},{"$error":"#DIV/0!"}]
[11,{"$f":"社会得点!BJ14","v":3},{"$f":"社会得点!BK14","v":"（1）い"},{"$f":"社会得点!BL14","v":"水産業のさかんな地域"},null,null,null,null,{"$f":"IF(社会!$O$9=社会!$BF$35,\"○\",\"\")","v":""},{"$f":"IF(社会!$O$9=社会!$BF$36,\"○\",\"\")","v":"○"},{"$f":"IF(社会!$O$9=社会!$BF$37,\"○\",\"\")","v":""},{"$f":"IF(社会!$O$9=社会!$BF$38,\"○\",\"\")","v":""},{"$f":"IF(社会!$O$9=社会!$BF$39,\"○\",\"\")","v":""},null,null,null,{"$f":"社会得点!L$60*100","v":0},{"$f":"社会!O$66*100","v":{"$error":"#DIV/0!"}},{"$error":"#DIV/0!"}]
[12,{"$f":"社会得点!BJ15","v":3},{"$f":"社会得点!BK15","v":"（2）"},{"$f":"社会得点!BL15","v":"水産業のさかんな地域"},null,null,null,null,{"$f":"IF(社会!$P$9=社会!$BF$35,\"○\",\"\")","v":""},{"$f":"IF(社会!$P$9=社会!$BF$36,\"○\",\"\")","v":"○"},{"$f":"IF(社会!$P$9=社会!$BF$37,\"○\",\"\")","v":""},{"$f":"IF(社会!$P$9=社会!$BF$38,\"○\",\"\")","v":""},{"$f":"IF(社会!$P$9=社会!$BF$39,\"○\",\"\")","v":""},null,null,null,{"$f":"社会得点!M$60*100","v":0.8999999999999897},{"$f":"社会!P$66*100","v":{"$error":"#DIV/0!"}},{"$error":"#DIV/0!"}]
[13,{"$f":"社会得点!BJ16","v":3},{"$f":"社会得点!BK16","v":"（3）"},{"$f":"社会得点!BL16","v":"水産業のさかんな地域"},null,null,null,null,{"$f":"IF(社会!$Q$9=社会!$BF$35,\"○\",\"\")","v":"○"},{"$f":"IF(社会!$Q$9=社会!$BF$36,\"○\",\"\")","v":""},{"$f":"IF(社会!$Q$9=社会!$BF$37,\"○\",\"\")","v":""},{"$f":"IF(社会!$Q$9=社会!$BF$38,\"○\",\"\")","v":""},{"$f":"IF(社会!$Q$9=社会!$BF$39,\"○\",\"\")","v":""},null,null,null,{"$f":"社会得点!N$60*100","v":1.4000000000000012},{"$f":"社会!Q$66*100","v":{"$error":"#DIV/0!"}},{"$error":"#DIV/0!"}]
[14,{"$f":"社会得点!BJ17","v":4},{"$f":"社会得点!BK17","v":"（1）"},{"$f":"社会得点!BL17","v":"わたしたちの生活と工業生産"},null,null,null,null,{"$f":"IF(社会!$R$9=社会!$BF$35,\"○\",\"\")","v":""},{"$f":"IF(社会!$R$9=社会!$BF$36,\"○\",\"\")","v":"○"},{"$f":"IF(社会!$R$9=社会!$BF$37,\"○\",\"\")","v":""},{"$f":"IF(社会!$R$9=社会!$BF$38,\"○\",\"\")","v":""},{"$f":"IF(社会!$R$9=社会!$BF$39,\"○\",\"\")","v":""},null,null,null,{"$f":"社会得点!O$60*100","v":9.0000000000000071},{"$f":"社会!R$66*100","v":{"$error":"#DIV/0!"}},{"$error":"#DIV/0!"}]
[15,{"$f":"社会得点!BJ18","v":4},{"$f":"社会得点!BK18","v":"（2）"},{"$f":"社会得点!BL18","v":"わたしたちの生活と工業生産"},null,null,null,null,{"$f":"IF(社会!$S$9=社会!$BF$35,\"○\",\"\")","v":"○"},{"$f":"IF(社会!$S$9=社会!$BF$36,\"○\",\"\")","v":""},{"$f":"IF(社会!$S$9=社会!$BF$37,\"○\",\"\")","v":""},{"$f":"IF(社会!$S$9=社会!$BF$38,\"○\",\"\")","v":""},{"$f":"IF(社会!$S$9=社会!$BF$39,\"○\",\"\")","v":""},null,null,null,{"$f":"社会得点!P$60*100","v":12.199999999999989},{"$f":"社会!S$66*100","v":{"$error":"#DIV/0!"}},{"$error":"#DIV/0!"}]
[16,{"$f":"社会得点!BJ19","v":4},{"$f":"社会得点!BK19","v":"（3）"},{"$f":"社会得点!BL19","v":"わたしたちの生活と工業生産"},null,null,null,null,{"$f":"IF(社会!$T$9=社会!$BF$35,\"○\",\"\")","v":""},{"$f":"IF(社会!$T$9=社会!$BF$36,\"○\",\"\")","v":"○"},{"$f":"IF(社会!$T$9=社会!$BF$37,\"○\",\"\")","v":""},{"$f":"IF(社会!$T$9=社会!$BF$38,\"○\",\"\")","v":""},{"$f":"IF(社会!$T$9=社会!$BF$39,\"○\",\"\")","v":""},null,null,null,{"$f":"社会得点!Q$60*100","v":1.9000000000000017},{"$f":"社会!T$66*100","v":{"$error":"#DIV/0!"}},{"$error":"#DIV/0!"}]
[17,{"$f":"社会得点!BJ20","v":4},{"$f":"社会得点!BK20","v":"（4）"},{"$f":"社会得点!BL20","v":"わたしたちの生活と工業生産"},null,null,null,null,{"$f":"IF(社会!$U$9=社会!$BF$35,\"○\",\"\")","v":"○"},{"$f":"IF(社会!$U$9=社会!$BF$36,\"○\",\"\")","v":""},{"$f":"IF(社会!$U$9=社会!$BF$37,\"○\",\"\")","v":""},{"$f":"IF(社会!$U$9=社会!$BF$38,\"○\",\"\")","v":""},{"$f":"IF(社会!$U$9=社会!$BF$39,\"○\",\"\")","v":""},null,null,null,{"$f":"社会得点!R$60*100","v":0.9000000000000008},{"$f":"社会!U$66*100","v":{"$error":"#DIV/0!"}},{"$error":"#DIV/0!"}]
[18,{"$f":"社会得点!BJ21","v":5},{"$f":"社会得点!BK21","v":"（1）"},{"$f":"社会得点!BL21","v":"情報化した社会と産業の発展"},null,null,null,null,{"$f":"IF(社会!$V$9=社会!$BF$35,\"○\",\"\")","v":""},{"$f":"IF(社会!$V$9=社会!$BF$36,\"○\",\"\")","v":"○"},{"$f":"IF(社会!$V$9=社会!$BF$37,\"○\",\"\")","v":""},{"$f":"IF(社会!$V$9=社会!$BF$38,\"○\",\"\")","v":""},{"$f":"IF(社会!$V$9=社会!$BF$39,\"○\",\"\")","v":""},null,null,null,{"$f":"社会得点!S$60*100","v":1.1000000000000121},{"$f":"社会!V$66*100","v":{"$error":"#DIV/0!"}},{"$error":"#DIV/0!"}]
[19,{"$f":"社会得点!BJ22","v":5},{"$f":"社会得点!BK22","v":"（2）"},{"$f":"社会得点!BL22","v":"情報化した社会と産業の発展"},null,null,null,null,{"$f":"IF(社会!$W$9=社会!$BF$35,\"○\",\"\")","v":""},{"$f":"IF(社会!$W$9=社会!$BF$36,\"○\",\"\")","v":"○"},{"$f":"IF(社会!$W$9=社会!$BF$37,\"○\",\"\")","v":""},{"$f":"IF(社会!$W$9=社会!$BF$38,\"○\",\"\")","v":""},{"$f":"IF(社会!$W$9=社会!$BF$39,\"○\",\"\")","v":""},null,null,null,{"$f":"社会得点!T$60*100","v":1.6999999999999904},{"$f":"社会!W$66*100","v":{"$error":"#DIV/0!"}},{"$error":"#DIV/0!"}]
[20,{"$f":"社会得点!BJ23","v":5},{"$f":"社会得点!BK23","v":"（3）"},{"$f":"社会得点!BL23","v":"情報化した社会と産業の発展"},null,null,null,null,{"$f":"IF(社会!$X$9=社会!$BF$35,\"○\",\"\")","v":"○"},{"$f":"IF(社会!$X$9=社会!$BF$36,\"○\",\"\")","v":""},{"$f":"IF(社会!$X$9=社会!$BF$37,\"○\",\"\")","v":""},{"$f":"IF(社会!$X$9=社会!$BF$38,\"○\",\"\")","v":""},{"$f":"IF(社会!$X$9=社会!$BF$39,\"○\",\"\")","v":""},null,null,null,{"$f":"社会得点!U$60*100","v":9.9999999999999982},{"$f":"社会!X$66*100","v":{"$error":"#DIV/0!"}},{"$error":"#DIV/0!"}]
[21,{"$f":"社会得点!BJ24","v":5},{"$f":"社会得点!BK24","v":"（4）"},{"$f":"社会得点!BL24","v":"情報化した社会と産業の発展"},null,null,null,null,{"$f":"IF(社会!$Y$9=社会!$BF$35,\"○\",\"\")","v":""},{"$f":"IF(社会!$Y$9=社会!$BF$36,\"○\",\"\")","v":"○"},{"$f":"IF(社会!$Y$9=社会!$BF$37,\"○\",\"\")","v":""},{"$f":"IF(社会!$Y$9=社会!$BF$38,\"○\",\"\")","v":""},{"$f":"IF(社会!$Y$9=社会!$BF$39,\"○\",\"\")","v":""},null,null,null,{"$f":"社会得点!V$60*100","v":2.300000000000002},{"$f":"社会!Y$66*100","v":{"$error":"#DIV/0!"}},{"$error":"#DIV/0!"}]
[22,{"$f":"社会得点!BJ25","v":6},{"$f":"社会得点!BK25","v":"（1）ABC"},{"$f":"社会得点!BL25","v":"わたしたちの生活と環境"},null,null,null,null,{"$f":"IF(社会!$Z$9=社会!$BF$35,\"○\",\"\")","v":""},{"$f":"IF(社会!$Z$9=社会!$BF$36,\"○\",\"\")","v":"○"},{"$f":"IF(社会!$Z$9=社会!$BF$37,\"○\",\"\")","v":""},{"$f":"IF(社会!$Z$9=社会!$BF$38,\"○\",\"\")","v":""},{"$f":"IF(社会!$Z$9=社会!$BF$39,\"○\",\"\")","v":""},null,null,null,{"$f":"社会得点!W$60*100","v":1.8000000000000016},{"$f":"社会!Z$66*100","v":{"$error":"#DIV/0!"}},{"$error":"#DIV/0!"}]
[23,{"$f":"社会得点!BJ26","v":6},{"$f":"社会得点!BK26","v":"（2）"},{"$f":"社会得点!BL26","v":"わたしたちの生活と環境"},null,null,null,null,{"$f":"IF(社会!$AA$9=社会!$BF$35,\"○\",\"\")","v":""},{"$f":"IF(社会!$AA$9=社会!$BF$36,\"○\",\"\")","v":"○"},{"$f":"IF(社会!$AA$9=社会!$BF$37,\"○\",\"\")","v":""},{"$f":"IF(社会!$AA$9=社会!$BF$38,\"○\",\"\")","v":""},{"$f":"IF(社会!$AA$9=社会!$BF$39,\"○\",\"\")","v":""},null,null,null,{"$f":"社会得点!X$60*100","v":13.600000000000001},{"$f":"社会!AA$66*100","v":{"$error":"#DIV/0!"}},{"$error":"#DIV/0!"}]
[24,{"$f":"社会得点!BJ27","v":6},{"$f":"社会得点!BK27","v":"（3）あいうえ"},{"$f":"社会得点!BL27","v":"わたしたちの生活と環境"},null,null,null,null,{"$f":"IF(社会!$AB$9=社会!$BF$35,\"○\",\"\")","v":""},{"$f":"IF(社会!$AB$9=社会!$BF$36,\"○\",\"\")","v":"○"},{"$f":"IF(社会!$AB$9=社会!$BF$37,\"○\",\"\")","v":""},{"$f":"IF(社会!$AB$9=社会!$BF$38,\"○\",\"\")","v":""},{"$f":"IF(社会!$AB$9=社会!$BF$39,\"○\",\"\")","v":""},null,null,null,{"$f":"社会得点!Y$60*100","v":4.8000000000000043},{"$f":"社会!AB$66*100","v":{"$error":"#DIV/0!"}},{"$error":"#DIV/0!"}]
[25,{"$f":"社会得点!BJ28","v":6},{"$f":"社会得点!BK28","v":"（4）"},{"$f":"社会得点!BL28","v":"わたしたちの生活と環境"},null,null,null,null,{"$f":"IF(社会!$AC$9=社会!$BF$35,\"○\",\"\")","v":"○"},{"$f":"IF(社会!$AC$9=社会!$BF$36,\"○\",\"\")","v":""},{"$f":"IF(社会!$AC$9=社会!$BF$37,\"○\",\"\")","v":""},{"$f":"IF(社会!$AC$9=社会!$BF$38,\"○\",\"\")","v":""},{"$f":"IF(社会!$AC$9=社会!$BF$39,\"○\",\"\")","v":""},null,null,null,{"$f":"社会得点!Z$60*100","v":13.400000000000013},{"$f":"社会!AC$66*100","v":{"$error":"#DIV/0!"}},{"$error":"#DIV/0!"}]
[26,{"$f":"社会得点!BJ29","v":0},{"$f":"社会得点!BK29","v":0},{"$f":"社会得点!BL29","v":0},null,null,null,null,{"$f":"IF(社会!$AD$9=社会!$BF$35,\"○\",\"\")","v":""},{"$f":"IF(社会!$AD$9=社会!$BF$36,\"○\",\"\")","v":""},{"$f":"IF(社会!$AD$9=社会!$BF$37,\"○\",\"\")","v":""},{"$f":"IF(社会!$AD$9=社会!$BF$38,\"○\",\"\")","v":""},{"$f":"IF(社会!$AD$9=社会!$BF$39,\"○\",\"\")","v":""},null,null,null,{"$f":"社会得点!AA$60*100","v":0},{"$f":"社会!AD$66*100","v":{"$error":"#DIV/0!"}},{"$error":"#DIV/0!"}]
[27,{"$f":"社会得点!BJ30","v":0},{"$f":"社会得点!BK30","v":0},{"$f":"社会得点!BL30","v":0},null,null,null,null,{"$f":"IF(社会!$AE$9=社会!$BF$35,\"○\",\"\")","v":""},{"$f":"IF(社会!$AE$9=社会!$BF$36,\"○\",\"\")","v":""},{"$f":"IF(社会!$AE$9=社会!$BF$37,\"○\",\"\")","v":""},{"$f":"IF(社会!$AE$9=社会!$BF$38,\"○\",\"\")","v":""},{"$f":"IF(社会!$AE$9=社会!$BF$39,\"○\",\"\")","v":""},null,null,null,{"$f":"社会得点!AB$60*100","v":0},{"$f":"社会!AE$66*100","v":{"$error":"#DIV/0!"}},{"$error":"#DIV/0!"}]
[28,{"$f":"社会得点!BJ31","v":0},{"$f":"社会得点!BK31","v":0},{"$f":"社会得点!BL31","v":0},null,null,null,null,{"$f":"IF(社会!$AF$9=社会!$BF$35,\"○\",\"\")","v":""},{"$f":"IF(社会!$AF$9=社会!$BF$36,\"○\",\"\")","v":""},{"$f":"IF(社会!$AF$9=社会!$BF$37,\"○\",\"\")","v":""},{"$f":"IF(社会!$AF$9=社会!$BF$38,\"○\",\"\")","v":""},{"$f":"IF(社会!$AF$9=社会!$BF$39,\"○\",\"\")","v":""},null,null,null,{"$f":"社会得点!AC$60*100","v":0},{"$f":"社会!AF$66*100","v":{"$error":"#DIV/0!"}},{"$error":"#DIV/0!"}]
[29,{"$f":"社会得点!BJ32","v":0},{"$f":"社会得点!BK32","v":0},{"$f":"社会得点!BL32","v":0},null,null,null,null,{"$f":"IF(社会!$AG$9=社会!$BF$35,\"○\",\"\")","v":""},{"$f":"IF(社会!$AG$9=社会!$BF$36,\"○\",\"\")","v":""},{"$f":"IF(社会!$AG$9=社会!$BF$37,\"○\",\"\")","v":""},{"$f":"IF(社会!$AG$9=社会!$BF$38,\"○\",\"\")","v":""},{"$f":"IF(社会!$AG$9=社会!$BF$39,\"○\",\"\")","v":""},null,null,null,{"$f":"社会得点!AD$60*100","v":0},{"$f":"社会!AG$66*100","v":{"$error":"#DIV/0!"}},{"$error":"#DIV/0!"}]
[30,{"$f":"社会得点!BJ33","v":0},{"$f":"社会得点!BK33","v":0},{"$f":"社会得点!BL33","v":0},null,null,null,null,{"$f":"IF(社会!$AH$9=社会!$BF$35,\"○\",\"\")","v":""},{"$f":"IF(社会!$AH$9=社会!$BF$36,\"○\",\"\")","v":""},{"$f":"IF(社会!$AH$9=社会!$BF$37,\"○\",\"\")","v":""},{"$f":"IF(社会!$AH$9=社会!$BF$38,\"○\",\"\")","v":""},{"$f":"IF(社会!$AH$9=社会!$BF$39,\"○\",\"\")","v":""},null,null,null,{"$f":"社会得点!AE$60*100","v":0},{"$f":"社会!AH$66*100","v":{"$error":"#DIV/0!"}},{"$error":"#DIV/0!"}]
[31,{"$f":"社会得点!BJ34","v":0},{"$f":"社会得点!BK34","v":0},{"$f":"社会得点!BL34","v":0},null,null,null,null,{"$f":"IF(社会!$AI$9=社会!$BF$35,\"○\",\"\")","v":""},{"$f":"IF(社会!$AI$9=社会!$BF$36,\"○\",\"\")","v":""},{"$f":"IF(社会!$AI$9=社会!$BF$37,\"○\",\"\")","v":""},{"$f":"IF(社会!$AI$9=社会!$BF$38,\"○\",\"\")","v":""},{"$f":"IF(社会!$AI$9=社会!$BF$39,\"○\",\"\")","v":""},null,null,null,{"$f":"社会得点!AF$60*100","v":0},{"$f":"社会!AI$66*100","v":{"$error":"#DIV/0!"}},{"$error":"#DIV/0!"}]
[32,{"$f":"社会得点!BJ35","v":0},{"$f":"社会得点!BK35","v":0},{"$f":"社会得点!BL35","v":0},null,null,null,null,{"$f":"IF(社会!$AJ$9=社会!$BF$35,\"○\",\"\")","v":""},{"$f":"IF(社会!$AJ$9=社会!$BF$36,\"○\",\"\")","v":""},{"$f":"IF(社会!$AJ$9=社会!$BF$37,\"○\",\"\")","v":""},{"$f":"IF(社会!$AJ$9=社会!$BF$38,\"○\",\"\")","v":""},{"$f":"IF(社会!$AJ$9=社会!$BF$39,\"○\",\"\")","v":""},null,null,null,{"$f":"社会得点!AG$60*100","v":0},{"$f":"社会!AJ$66*100","v":{"$error":"#DIV/0!"}},{"$f":"IF($R38=\"\",\"\",$R38-$Q38)","v":{"$error":"#DIV/0!"}}]
[33,{"$f":"社会得点!BJ36","v":0},{"$f":"社会得点!BK36","v":0},{"$f":"社会得点!BL36","v":0},null,null,null,null,{"$f":"IF(社会!$AK$9=社会!$BF$35,\"○\",\"\")","v":""},{"$f":"IF(社会!$AK$9=社会!$BF$36,\"○\",\"\")","v":""},{"$f":"IF(社会!$AK$9=社会!$BF$37,\"○\",\"\")","v":""},{"$f":"IF(社会!$AK$9=社会!$BF$38,\"○\",\"\")","v":""},{"$f":"IF(社会!$AK$9=社会!$BF$39,\"○\",\"\")","v":""},null,null,null,{"$f":"社会得点!AH$60*100","v":0},{"$f":"社会!AK$66*100","v":{"$error":"#DIV/0!"}},{"$error":"#DIV/0!"}]
[34,{"$f":"社会得点!BJ37","v":0},{"$f":"社会得点!BK37","v":0},{"$f":"社会得点!BL37","v":0},null,null,null,null,{"$f":"IF(社会!$AL$9=社会!$BF$35,\"○\",\"\")","v":""},{"$f":"IF(社会!$AL$9=社会!$BF$36,\"○\",\"\")","v":""},{"$f":"IF(社会!$AL$9=社会!$BF$37,\"○\",\"\")","v":""},{"$f":"IF(社会!$AL$9=社会!$BF$38,\"○\",\"\")","v":""},{"$f":"IF(社会!$AL$9=社会!$BF$39,\"○\",\"\")","v":""},null,null,null,{"$f":"社会得点!AI$60*100","v":0},{"$f":"社会!AL$66*100","v":{"$error":"#DIV/0!"}},{"$error":"#DIV/0!"}]
[35,{"$f":"社会得点!BJ38","v":0},{"$f":"社会得点!BK38","v":0},{"$f":"社会得点!BL38","v":0},null,null,null,null,{"$f":"IF(社会!$AM$9=社会!$BF$35,\"○\",\"\")","v":""},{"$f":"IF(社会!$AM$9=社会!$BF$36,\"○\",\"\")","v":""},{"$f":"IF(社会!$AM$9=社会!$BF$37,\"○\",\"\")","v":""},{"$f":"IF(社会!$AM$9=社会!$BF$38,\"○\",\"\")","v":""},{"$f":"IF(社会!$AM$9=社会!$BF$39,\"○\",\"\")","v":""},null,null,null,{"$f":"社会得点!AJ$60*100","v":0},{"$f":"社会!AM$66*100","v":{"$error":"#DIV/0!"}},{"$error":"#DIV/0!"}]
[36,{"$f":"社会得点!BJ39","v":0},{"$f":"社会得点!BK39","v":0},{"$f":"社会得点!BL39","v":0},null,null,null,null,{"$f":"IF(社会!$AN$9=社会!$BF$35,\"○\",\"\")","v":""},{"$f":"IF(社会!$AN$9=社会!$BF$36,\"○\",\"\")","v":""},{"$f":"IF(社会!$AN$9=社会!$BF$37,\"○\",\"\")","v":""},{"$f":"IF(社会!$AN$9=社会!$BF$38,\"○\",\"\")","v":""},{"$f":"IF(社会!$AN$9=社会!$BF$39,\"○\",\"\")","v":""},null,null,null,{"$f":"社会得点!AK$60*100","v":0},{"$f":"社会!AN$66*100","v":{"$error":"#DIV/0!"}},{"$error":"#DIV/0!"}]
[37,{"$f":"社会得点!BJ40","v":0},{"$f":"社会得点!BK40","v":0},{"$f":"社会得点!BL40","v":0},null,null,null,null,{"$f":"IF(社会!$AO$9=社会!$BF$35,\"○\",\"\")","v":""},{"$f":"IF(社会!$AO$9=社会!$BF$36,\"○\",\"\")","v":""},{"$f":"IF(社会!$AO$9=社会!$BF$37,\"○\",\"\")","v":""},{"$f":"IF(社会!$AO$9=社会!$BF$38,\"○\",\"\")","v":""},{"$f":"IF(社会!$AO$9=社会!$BF$39,\"○\",\"\")","v":""},null,null,null,{"$f":"社会得点!AL$60*100","v":0},{"$f":"社会!AO$66*100","v":{"$error":"#DIV/0!"}},{"$error":"#DIV/0!"}]
[38,{"$f":"社会得点!BJ41","v":0},{"$f":"社会得点!BK41","v":0},{"$f":"社会得点!BL41","v":0},null,null,null,null,{"$f":"IF(社会!$AP$9=社会!$BF$35,\"○\",\"\")","v":""},{"$f":"IF(社会!$AP$9=社会!$BF$36,\"○\",\"\")","v":""},{"$f":"IF(社会!$AP$9=社会!$BF$37,\"○\",\"\")","v":""},{"$f":"IF(社会!$AP$9=社会!$BF$38,\"○\",\"\")","v":""},{"$f":"IF(社会!$AP$9=社会!$BF$39,\"○\",\"\")","v":""},null,null,null,{"$f":"社会得点!AM$60*100","v":0},{"$f":"社会!AP$66*100","v":{"$error":"#DIV/0!"}},{"$error":"#DIV/0!"}]
[39,{"$f":"社会得点!BJ42","v":0},{"$f":"社会得点!BK42","v":0},{"$f":"社会得点!BL42","v":0},null,null,null,null,{"$f":"IF(社会!$AQ$9=社会!$BF$35,\"○\",\"\")","v":""},{"$f":"IF(社会!$AQ$9=社会!$BF$36,\"○\",\"\")","v":""},{"$f":"IF(社会!$AQ$9=社会!$BF$37,\"○\",\"\")","v":""},{"$f":"IF(社会!$AQ$9=社会!$BF$38,\"○\",\"\")","v":""},{"$f":"IF(社会!$AQ$9=社会!$BF$39,\"○\",\"\")","v":""},null,null,null,{"$f":"社会得点!AN$60*100","v":0},{"$f":"社会!AQ$66*100","v":{"$error":"#DIV/0!"}},{"$error":"#DIV/0!"}]
[40,{"$f":"社会得点!BJ43","v":0},{"$f":"社会得点!BK43","v":0},{"$f":"社会得点!BL43","v":0},null,null,null,null,{"$f":"IF(社会!$AR$9=社会!$BF$35,\"○\",\"\")","v":""},{"$f":"IF(社会!$AR$9=社会!$BF$36,\"○\",\"\")","v":""},{"$f":"IF(社会!$AR$9=社会!$BF$37,\"○\",\"\")","v":""},{"$f":"IF(社会!$AR$9=社会!$BF$38,\"○\",\"\")","v":""},{"$f":"IF(社会!$AR$9=社会!$BF$39,\"○\",\"\")","v":""},null,null,null,{"$f":"社会得点!AO$60*100","v":0},{"$f":"社会!AR$66*100","v":{"$error":"#DIV/0!"}},{"$error":"#DIV/0!"}]
[41,{"$f":"社会得点!BJ44","v":0},{"$f":"社会得点!BK44","v":0},{"$f":"社会得点!BL44","v":0},null,null,null,null,{"$f":"IF(社会!$AS$9=社会!$BF$35,\"○\",\"\")","v":""},{"$f":"IF(社会!$AS$9=社会!$BF$36,\"○\",\"\")","v":""},{"$f":"IF(社会!$AS$9=社会!$BF$37,\"○\",\"\")","v":""},{"$f":"IF(社会!$AS$9=社会!$BF$38,\"○\",\"\")","v":""},{"$f":"IF(社会!$AS$9=社会!$BF$39,\"○\",\"\")","v":""},null,null,null,{"$f":"社会得点!AP$60*100","v":0},{"$f":"社会!AS$66*100","v":{"$error":"#DIV/0!"}},{"$error":"#DIV/0!"}]
[42,{"$f":"社会得点!BJ45","v":0},{"$f":"社会得点!BK45","v":0},{"$f":"社会得点!BL45","v":0},null,null,null,null,{"$f":"IF(社会!$AT$9=社会!$BF$35,\"○\",\"\")","v":""},{"$f":"IF(社会!$AT$9=社会!$BF$36,\"○\",\"\")","v":""},{"$f":"IF(社会!$AT$9=社会!$BF$37,\"○\",\"\")","v":""},{"$f":"IF(社会!$AT$9=社会!$BF$38,\"○\",\"\")","v":""},{"$f":"IF(社会!$AT$9=社会!$BF$39,\"○\",\"\")","v":""},null,null,null,{"$f":"社会得点!AQ$60*100","v":0},{"$f":"社会!AT$66*100","v":{"$error":"#DIV/0!"}},{"$error":"#DIV/0!"}]
[43,{"$f":"社会得点!BJ46","v":0},{"$f":"社会得点!BK46","v":0},{"$f":"社会得点!BL46","v":0},null,null,null,null,{"$f":"IF(社会!$AU$9=社会!$BF$35,\"○\",\"\")","v":""},{"$f":"IF(社会!$AU$9=社会!$BF$36,\"○\",\"\")","v":""},{"$f":"IF(社会!$AU$9=社会!$BF$37,\"○\",\"\")","v":""},{"$f":"IF(社会!$AU$9=社会!$BF$38,\"○\",\"\")","v":""},{"$f":"IF(社会!$AU$9=社会!$BF$39,\"○\",\"\")","v":""},null,null,null,{"$f":"社会得点!AR$60*100","v":0},{"$f":"社会!AU$66*100","v":{"$error":"#DIV/0!"}},{"$error":"#DIV/0!"}]
[44,{"$f":"社会得点!BJ47","v":0},{"$f":"社会得点!BK47","v":0},{"$f":"社会得点!BL47","v":0},null,null,null,null,{"$f":"IF(社会!$AV$9=社会!$BF$35,\"○\",\"\")","v":""},{"$f":"IF(社会!$AV$9=社会!$BF$36,\"○\",\"\")","v":""},{"$f":"IF(社会!$AV$9=社会!$BF$37,\"○\",\"\")","v":""},{"$f":"IF(社会!$AV$9=社会!$BF$38,\"○\",\"\")","v":""},{"$f":"IF(社会!$AV$9=社会!$BF$39,\"○\",\"\")","v":""},null,null,null,{"$f":"社会得点!AS$60*100","v":0},{"$f":"社会!AV$66*100","v":{"$error":"#DIV/0!"}},{"$error":"#DIV/0!"}]
[45,{"$f":"社会得点!BJ48","v":0},{"$f":"社会得点!BK48","v":0},{"$f":"社会得点!BL48","v":0},null,null,null,null,{"$f":"IF(社会!$AW$9=社会!$BF$35,\"○\",\"\")","v":""},{"$f":"IF(社会!$AW$9=社会!$BF$36,\"○\",\"\")","v":""},{"$f":"IF(社会!$AW$9=社会!$BF$37,\"○\",\"\")","v":""},{"$f":"IF(社会!$AW$9=社会!$BF$38,\"○\",\"\")","v":""},{"$f":"IF(社会!$AW$9=社会!$BF$39,\"○\",\"\")","v":""},null,null,null,{"$f":"社会得点!AT$60*100","v":0},{"$f":"社会!AW$66*100","v":{"$error":"#DIV/0!"}},{"$f":"IF($R51=\"\",\"\",$R51-$Q51)","v":{"$error":"#DIV/0!"}}]
[46,{"$f":"社会得点!BJ49","v":0},{"$f":"社会得点!BK49","v":0},{"$f":"社会得点!BL49","v":0},null,null,null,null,{"$f":"IF(社会!$AX$9=社会!$BF$35,\"○\",\"\")","v":""},{"$f":"IF(社会!$AX$9=社会!$BF$36,\"○\",\"\")","v":""},{"$f":"IF(社会!$AX$9=社会!$BF$37,\"○\",\"\")","v":""},{"$f":"IF(社会!$AX$9=社会!$BF$38,\"○\",\"\")","v":""},{"$f":"IF(社会!$AX$9=社会!$BF$39,\"○\",\"\")","v":""},null,null,null,{"$f":"社会得点!AU$60*100","v":0},{"$f":"社会!AX$66*100","v":{"$error":"#DIV/0!"}},{"$error":"#DIV/0!"}]
[47,{"$f":"社会得点!BJ50","v":0},{"$f":"社会得点!BK50","v":0},{"$f":"社会得点!BL50","v":0},null,null,null,null,{"$f":"IF(社会!$AY$9=社会!$BF$35,\"○\",\"\")","v":""},{"$f":"IF(社会!$AY$9=社会!$BF$36,\"○\",\"\")","v":""},{"$f":"IF(社会!$AY$9=社会!$BF$37,\"○\",\"\")","v":""},{"$f":"IF(社会!$AY$9=社会!$BF$38,\"○\",\"\")","v":""},{"$f":"IF(社会!$AY$9=社会!$BF$39,\"○\",\"\")","v":""},null,null,null,{"$f":"社会得点!AV$60*100","v":0},{"$f":"社会!AY$66*100","v":{"$error":"#DIV/0!"}},{"$error":"#DIV/0!"}]
[48,{"$f":"社会得点!BJ51","v":0},{"$f":"社会得点!BK51","v":0},{"$f":"社会得点!BL51","v":0},null,null,null,null,{"$f":"IF(社会!$AZ$9=社会!$BF$35,\"○\",\"\")","v":""},{"$f":"IF(社会!$AZ$9=社会!$BF$36,\"○\",\"\")","v":""},{"$f":"IF(社会!$AZ$9=社会!$BF$37,\"○\",\"\")","v":""},{"$f":"IF(社会!$AZ$9=社会!$BF$38,\"○\",\"\")","v":""},{"$f":"IF(社会!$AZ$9=社会!$BF$39,\"○\",\"\")","v":""},null,null,null,{"$f":"社会得点!AW$60*100","v":0},{"$f":"社会!AZ$66*100","v":{"$error":"#DIV/0!"}},{"$f":"IF($R54=\"\",\"\",$R54-$Q54)","v":{"$error":"#DIV/0!"}}]
[49,{"$f":"社会得点!BJ52","v":0},{"$f":"社会得点!BK52","v":0},{"$f":"社会得点!BL52","v":0},null,null,null,null,{"$f":"IF(社会!$BA$9=社会!$BF$35,\"○\",\"\")","v":""},{"$f":"IF(社会!$BA$9=社会!$BF$36,\"○\",\"\")","v":""},{"$f":"IF(社会!$BA$9=社会!$BF$37,\"○\",\"\")","v":""},{"$f":"IF(社会!$BA$9=社会!$BF$38,\"○\",\"\")","v":""},{"$f":"IF(社会!$BA$9=社会!$BF$39,\"○\",\"\")","v":""},null,null,null,{"$f":"社会得点!AX$60*100","v":0},{"$f":"社会!BA$66*100","v":{"$error":"#DIV/0!"}},{"$f":"IF($R55=\"\",\"\",$R55-$Q55)","v":{"$error":"#DIV/0!"}}]
[50,{"$f":"社会得点!BJ53","v":0},{"$f":"社会得点!BK53","v":0},{"$f":"社会得点!BL53","v":0},null,null,null,null,{"$f":"IF(社会!$BB$9=社会!$BF$35,\"○\",\"\")","v":""},{"$f":"IF(社会!$BB$9=社会!$BF$36,\"○\",\"\")","v":""},{"$f":"IF(社会!$BB$9=社会!$BF$37,\"○\",\"\")","v":""},{"$f":"IF(社会!$BB$9=社会!$BF$38,\"○\",\"\")","v":""},{"$f":"IF(社会!$BB$9=社会!$BF$39,\"○\",\"\")","v":""},null,null,null,{"$f":"社会得点!AY$60*100","v":0},{"$f":"社会!BB$66*100","v":{"$error":"#DIV/0!"}},{"$error":"#DIV/0!"}]
["平均"]

{"sheet":"⑦社会の平均点⑧社会の得点別分布","index":15,"n_rows":25,"n_cols":4,"rows_kept":25,"cut":false,"hidden":false,"merged":[[5,1,5,3]]}
["⑦社会の平均点⑧社会の得点別分布"]
[]
[]
[]
["◆社会"]
[null,"　　　　平均点"]
[null,"富山県（ア）","自校(イ)","県との差（イーア）"]
["社会",{"$f":"社会!BJ23","v":64.400000000000006},{"$f":"社会!BG23","v":{"$error":"#DIV/0!"}},{"$f":"C8-B8","v":{"$error":"#DIV/0!"}}]
[]
[]
[]
["◆社会"]
["得点分布","富山県％（ア）","自校％(イ)"," 県との差(イーア)"]
["0点",{"$f":"社会!BJ20","v":0},{"$f":"社会!BH20*100","v":{"$error":"#DIV/0!"}},{"$f":"IF($C14=\"\",\"\",$C14-$B14)","v":{"$error":"#DIV/0!"}}]
["１～９点",{"$f":"社会!BJ19","v":1},{"$f":"社会!BH19*100","v":{"$error":"#DIV/0!"}},{"$f":"IF($C15=\"\",\"\",$C15-$B15)","v":{"$error":"#DIV/0!"}}]
["１０～１９点",{"$f":"社会!BJ18","v":1.4},{"$f":"社会!BH18*100","v":{"$error":"#DIV/0!"}},{"$error":"#DIV/0!"}]
["２０～２９点",{"$f":"社会!BJ17","v":4.2},{"$f":"社会!BH17*100","v":{"$error":"#DIV/0!"}},{"$error":"#DIV/0!"}]
["３０～３９点",{"$f":"社会!BJ16","v":4.4000000000000004},{"$f":"社会!BH16*100","v":{"$error":"#DIV/0!"}},{"$error":"#DIV/0!"}]
["４０～４９点",{"$f":"社会!BJ15","v":11.4},{"$f":"社会!BH15*100","v":{"$error":"#DIV/0!"}},{"$error":"#DIV/0!"}]
["５０～５９点",{"$f":"社会!BJ14","v":11.3},{"$f":"社会!BH14*100","v":{"$error":"#DIV/0!"}},{"$error":"#DIV/0!"}]
["６０～６９点",{"$f":"社会!BJ13","v":21.5},{"$f":"社会!BH13*100","v":{"$error":"#DIV/0!"}},{"$error":"#DIV/0!"}]
["７０～７９点",{"$f":"社会!BJ12","v":16.100000000000001},{"$f":"社会!BH12*100","v":{"$error":"#DIV/0!"}},{"$error":"#DIV/0!"}]
["８０～８９点",{"$f":"社会!BJ11","v":20.5},{"$f":"社会!BH11*100","v":{"$error":"#DIV/0!"}},{"$error":"#DIV/0!"}]
["９０～９９点",{"$f":"社会!BJ10","v":7.4},{"$f":"社会!BH10*100","v":{"$error":"#DIV/0!"}},{"$error":"#DIV/0!"}]
["100点",{"$f":"社会!BJ9","v":0.7},{"$f":"社会!BH9*100","v":{"$error":"#DIV/0!"}},{"$error":"#DIV/0!"}]

{"sheet":"社会","index":16,"n_rows":76,"n_cols":62,"rows_kept":76,"cut":false,"hidden":false,"merged":[[6,61,7,61],[21,60,22,60],[51,0,51,1],[52,0,52,1],[53,0,53,1],[39,0,39,1],[40,0,40,1],[34,58,34,59],[35,58,35,59],[36,58,36,59],[37,58,37,59],[35,0,35,1],[38,58,38,59],[45,0,45,1],[36,0,36,1],[42,0,42,1],[54,0,54,1],[46,0,46,1],[47,0,47,1],[48,0,48,1],[49,0,49,1],[50,0,50,1],[26,0,26,1],[21,0,21,1],[22,0,22,1],[23,0,23,1],[24,0,24,1],[43,0,43,1],[44,0,44,1],[41,0,41,1],[29,0,29,1],[30,0,30,1],[32,0,32,1],[33,0,33,1],[38,0,38,1],[0,11,0,17],[10,0,10,1],[11,0,11,1],[12,0,12,1],[3,0,7,1],[8,0,9,1],[7,2,7,3],[6,2,6,3],[3,2,3,3],[4,2,5,3],[0,44,0,48],[0,49,0,53],[0,22,0,26],[0,27,0,31],[0,33,0,37],[0,38,0,42],[8,54,9,54],[8,55,9,55],[31,0,31,1],[34,0,34,1],[37,0,37,1],[20,0,20,1],[17,0,17,1],[18,0,18,1],[13,0,13,1],[14,0,14,1],[15,0,15,1],[16,0,16,1],[19,0,19,1],[25,0,25,1],[27,0,27,1],[28,0,28,1],[69,5,69,7],[69,10,69,12],[69,15,69,17],[69,20,69,22],[69,25,69,27],[70,5,70,7],[70,10,70,12],[70,15,70,17],[70,20,70,22],[70,25,70,27],[71,5,71,7],[71,10,71,12],[71,15,71,17],[71,20,71,22],[71,25,71,27],[72,5,72,7],[72,10,72,12],[72,15,72,17],[72,20,72,22],[72,25,72,27],[73,5,73,7],[73,10,73,12],[73,15,73,17],[73,20,73,22],[73,25,73,27],[75,5,75,7],[75,10,75,12],[75,15,75,17],[75,20,75,22],[75,25,75,27]]}
["６年社会（正誤）",null,null,null,null,null,null,null,"クラス名",null,null,{"$f":"[1]国語!$L$1","v":0},null,null,null,null,null,null,null,null,null,null,"受検者数",null,null,null,null,{"$f":"BG30","v":0},null,null,null,null,null,"配点合計",null,null,null,null,{"$f":"SUM(E10:BB10)","v":100},null,null,null,null,null,"問題数",null,null,null,null,{"$f":"COUNT(E10:BB10)","v":25}]
["※『男女』の欄には、男子「0」及び女子「1」を入力してください。"]
["※正答を「1」、誤答を「2」、無答を「3」で入力してください。"]
[null,null,"問題№",null,1,1,1,1,1,2,2,2,2,3,3,3,3,4,4,4,4,5,5,5,5,6,6,6,6]
[null,null,"小問№",null,"⑴","⑴","⑴","⑵","⑶","⑴","⑵","⑵","⑶","⑴","⑴","⑵","⑶","⑴","⑵","⑶","⑷","⑴","⑵","⑶","⑷","⑴","⑵","⑶","⑷"]
[null,null,null,null,"①","②","③",null,null,null,"ゆか","しんいち",null,"あ","い",null,null,null,null,null,null,null,null,null,null,"①②③",null,"あいうえ"]
[null,null,"◎…活用する力をみる問題\n★…経年比較問題\n※…複数学年共通問題",null,"※","★","★",null,"◎",null,null,null,"◎",null,null,null,"◎",null,null,null,"◎",null,null,"◎",null,null,null,null,"◎",null,null,null,null,null,null,null,null,null,null,null,null,null,null,null,null,null,null,null,null,null,null,null,null,null,null,null,null,null,null,null,null,"富山県の\n分布率％"]
[null,null,"通し番号",null,1,2,3,4,5,6,7,8,9,10,11,12,13,14,15,16,17,18,19,20,21,22,23,24,25,26,27,28,29,30,31,32,33,34,35,36,37,38,39,40,41,42,43,44,45,46,47,48,49,50,null,null,null,"得点分布","分布人数","分布率"]
["№",null,"男　  名","観点","知・技","知・技","知・技","知・技","思判表","知・技","知・技","知・技","思判表","知・技","知・技","知・技","思判表","知・技","思判表","知・技","思判表","知・技","知・技","思判表","知・技","知・技","知・技","知・技","思判表",null,null,null,null,null,null,null,null,null,null,null,null,null,null,null,null,null,null,null,null,null,null,null,null,null,"計算結果","正答数",null,100,{"$f":"COUNTIF(BC11:BC55,100)","v":0},{"$f":"BG9/BG$21","v":{"$error":"#DIV/0!"}},null,0.7]
[null,null,"女　  前","配点",4,4,4,4,4,4,4,4,4,4,4,4,4,4,4,4,4,4,4,4,4,4,4,4,4,null,null,null,null,null,null,null,null,null,null,null,null,null,null,null,null,null,null,null,null,null,null,null,null,null,null,null,null,"90～99",{"$f":"COUNTIF(BC11:BC55,99)+COUNTIF(BC11:BC55,98)+COUNTIF(BC11:BC55,97)+COUNTIF(BC11:BC55,96)+COUNTIF(BC11:BC55,95)+COUNTIF(BC11:BC55,94)+COUNTIF(BC11:BC55,93)+COUNTIF(BC11:BC55,92)+COUNTIF(BC11:BC55,91)+COUNTIF(BC11:BC55,90)","v":0},{"$f":"BG10/BG$21","v":{"$error":"#DIV/0!"}},null,7.4]
[1,null,null,null,null,null,null,null,null,null,null,null,null,null,null,null,null,null,null,null,null,null,null,null,null,null,null,null,null,null,null,null,null,null,null,null,null,null,null,null,null,null,null,null,null,null,null,null,null,null,null,null,null,null,{"$f":"[1]社会得点!AZ4","v":0},{"$f":"COUNTIF(E11:BB11,1)","v":0},null,"80～89",{"$f":"COUNTIF(BC11:BC55,89)+COUNTIF(BC11:BC55,88)+COUNTIF(BC11:BC55,87)+COUNTIF(BC11:BC55,86)+COUNTIF(BC11:BC55,85)+COUNTIF(BC11:BC55,84)+COUNTIF(BC11:BC55,83)+COUNTIF(BC11:BC55,82)+COUNTIF(BC11:BC55,81)+COUNTIF(BC11:BC55,80)","v":0},{"$error":"#DIV/0!"},null,20.5]
[2,null,null,null,null,null,null,null,null,null,null,null,null,null,null,null,null,null,null,null,null,null,null,null,null,null,null,null,null,null,null,null,null,null,null,null,null,null,null,null,null,null,null,null,null,null,null,null,null,null,null,null,null,null,{"$f":"[1]社会得点!AZ5","v":0},0,null,"70～79",{"$f":"COUNTIF(BC11:BC55,79)+COUNTIF(BC11:BC55,78)+COUNTIF(BC11:BC55,77)+COUNTIF(BC11:BC55,76)+COUNTIF(BC11:BC55,75)+COUNTIF(BC11:BC55,74)+COUNTIF(BC11:BC55,73)+COUNTIF(BC11:BC55,72)+COUNTIF(BC11:BC55,71)+COUNTIF(BC11:BC55,70)","v":0},{"$error":"#DIV/0!"},null,16.100000000000001]
[3,null,null,null,null,null,null,null,null,null,null,null,null,null,null,null,null,null,null,null,null,null,null,null,null,null,null,null,null,null,null,null,null,null,null,null,null,null,null,null,null,null,null,null,null,null,null,null,null,null,null,null,null,null,{"$f":"[1]社会得点!AZ6","v":0},0,null,"60～69",{"$f":"COUNTIF(BC11:BC55,69)+COUNTIF(BC11:BC55,68)+COUNTIF(BC11:BC55,67)+COUNTIF(BC11:BC55,66)+COUNTIF(BC11:BC55,65)+COUNTIF(BC11:BC55,64)+COUNTIF(BC11:BC55,63)+COUNTIF(BC11:BC55,62)+COUNTIF(BC11:BC55,61)+COUNTIF(BC11:BC55,60)","v":0},{"$error":"#DIV/0!"},null,21.5]
[4,null,null,null,null,null,null,null,null,null,null,null,null,null,null,null,null,null,null,null,null,null,null,null,null,null,null,null,null,null,null,null,null,null,null,null,null,null,null,null,null,null,null,null,null,null,null,null,null,null,null,null,null,null,{"$f":"[1]社会得点!AZ7","v":0},0,null,"50～59",{"$f":"COUNTIF(BC11:BC55,59)+COUNTIF(BC11:BC55,58)+COUNTIF(BC11:BC55,57)+COUNTIF(BC11:BC55,56)+COUNTIF(BC11:BC55,55)+COUNTIF(BC11:BC55,54)+COUNTIF(BC11:BC55,53)+COUNTIF(BC11:BC55,52)+COUNTIF(BC11:BC55,51)+COUNTIF(BC11:BC55,50)","v":0},{"$error":"#DIV/0!"},null,11.3]
[5,null,null,null,null,null,null,null,null,null,null,null,null,null,null,null,null,null,null,null,null,null,null,null,null,null,null,null,null,null,null,null,null,null,null,null,null,null,null,null,null,null,null,null,null,null,null,null,null,null,null,null,null,null,{"$f":"[1]社会得点!AZ8","v":0},0,null,"40～49",{"$f":"COUNTIF(BC11:BC55,49)+COUNTIF(BC11:BC55,48)+COUNTIF(BC11:BC55,47)+COUNTIF(BC11:BC55,46)+COUNTIF(BC11:BC55,45)+COUNTIF(BC11:BC55,44)+COUNTIF(BC11:BC55,43)+COUNTIF(BC11:BC55,42)+COUNTIF(BC11:BC55,41)+COUNTIF(BC11:BC55,40)","v":0},{"$error":"#DIV/0!"},null,11.4]
[6,null,null,null,null,null,null,null,null,null,null,null,null,null,null,null,null,null,null,null,null,null,null,null,null,null,null,null,null,null,null,null,null,null,null,null,null,null,null,null,null,null,null,null,null,null,null,null,null,null,null,null,null,null,{"$f":"[1]社会得点!AZ9","v":0},0,null,"30～39",{"$f":"COUNTIF(BC11:BC55,39)+COUNTIF(BC11:BC55,38)+COUNTIF(BC11:BC55,37)+COUNTIF(BC11:BC55,36)+COUNTIF(BC11:BC55,35)+COUNTIF(BC11:BC55,34)+COUNTIF(BC11:BC55,33)+COUNTIF(BC11:BC55,32)+COUNTIF(BC11:BC55,31)+COUNTIF(BC11:BC55,30)","v":0},{"$error":"#DIV/0!"},null,4.4000000000000004]
[7,null,null,null,null,null,null,null,null,null,null,null,null,null,null,null,null,null,null,null,null,null,null,null,null,null,null,null,null,null,null,null,null,null,null,null,null,null,null,null,null,null,null,null,null,null,null,null,null,null,null,null,null,null,{"$f":"[1]社会得点!AZ10","v":0},0,null,"20～29",{"$f":"COUNTIF(BC11:BC55,29)+COUNTIF(BC11:BC55,28)+COUNTIF(BC11:BC55,27)+COUNTIF(BC11:BC55,26)+COUNTIF(BC11:BC55,25)+COUNTIF(BC11:BC55,24)+COUNTIF(BC11:BC55,23)+COUNTIF(BC11:BC55,22)+COUNTIF(BC11:BC55,21)+COUNTIF(BC11:BC55,20)","v":0},{"$error":"#DIV/0!"},null,4.2]
[8,null,null,null,null,null,null,null,null,null,null,null,null,null,null,null,null,null,null,null,null,null,null,null,null,null,null,null,null,null,null,null,null,null,null,null,null,null,null,null,null,null,null,null,null,null,null,null,null,null,null,null,null,null,{"$f":"[1]社会得点!AZ11","v":0},0,null,"10～19",{"$f":"COUNTIF(BC11:BC55,19)+COUNTIF(BC11:BC55,18)+COUNTIF(BC11:BC55,17)+COUNTIF(BC11:BC55,16)+COUNTIF(BC11:BC55,15)+COUNTIF(BC2:BC55,14)+COUNTIF(BC11:BC55,13)+COUNTIF(BC11:BC55,12)+COUNTIF(BC11:BC55,11)+COUNTIF(BC11:BC55,10)","v":0},{"$error":"#DIV/0!"},null,1.4]
[9,null,null,null,null,null,null,null,null,null,null,null,null,null,null,null,null,null,null,null,null,null,null,null,null,null,null,null,null,null,null,null,null,null,null,null,null,null,null,null,null,null,null,null,null,null,null,null,null,null,null,null,null,null,{"$f":"[1]社会得点!AZ12","v":0},0,null,"1 ～ 9",{"$f":"COUNTIF(BC11:BC55,9)+COUNTIF(BC11:BC55,8)+COUNTIF(BC11:BC55,7)+COUNTIF(BC11:BC55,6)+COUNTIF(BC11:BC55,5)+COUNTIF(BC11:BC55,4)+COUNTIF(BC11:BC55,3)+COUNTIF(BC11:BC55,2)+COUNTIF(BC11:BC55,1)","v":0},{"$error":"#DIV/0!"},null,1]
[10,null,null,null,null,null,null,null,null,null,null,null,null,null,null,null,null,null,null,null,null,null,null,null,null,null,null,null,null,null,null,null,null,null,null,null,null,null,null,null,null,null,null,null,null,null,null,null,null,null,null,null,null,null,{"$f":"[1]社会得点!AZ13","v":0},0,null,0,{"$f":"BG30-SUM(BG9:BG19)","v":0},{"$error":"#DIV/0!"},null,0]
[11,null,null,null,null,null,null,null,null,null,null,null,null,null,null,null,null,null,null,null,null,null,null,null,null,null,null,null,null,null,null,null,null,null,null,null,null,null,null,null,null,null,null,null,null,null,null,null,null,null,null,null,null,null,{"$f":"[1]社会得点!AZ14","v":0},0,null,"集計人数計",{"$f":"SUM(BG9:BG20)","v":0}]
[12,null,null,null,null,null,null,null,null,null,null,null,null,null,null,null,null,null,null,null,null,null,null,null,null,null,null,null,null,null,null,null,null,null,null,null,null,null,null,null,null,null,null,null,null,null,null,null,null,null,null,null,null,null,{"$f":"[1]社会得点!AZ15","v":0},0,null,"得点合計",{"$f":"SUM(BC11:BC55)","v":0},null,"富山県の\n平均点"]
[13,null,null,null,null,null,null,null,null,null,null,null,null,null,null,null,null,null,null,null,null,null,null,null,null,null,null,null,null,null,null,null,null,null,null,null,null,null,null,null,null,null,null,null,null,null,null,null,null,null,null,null,null,null,{"$f":"[1]社会得点!AZ16","v":0},0,null,"平均点",{"$f":"BG22/BG21","v":{"$error":"#DIV/0!"}},null,null,64.400000000000006]
[14,null,null,null,null,null,null,null,null,null,null,null,null,null,null,null,null,null,null,null,null,null,null,null,null,null,null,null,null,null,null,null,null,null,null,null,null,null,null,null,null,null,null,null,null,null,null,null,null,null,null,null,null,null,{"$f":"[1]社会得点!AZ17","v":0},0]
[15,null,null,null,null,null,null,null,null,null,null,null,null,null,null,null,null,null,null,null,null,null,null,null,null,null,null,null,null,null,null,null,null,null,null,null,null,null,null,null,null,null,null,null,null,null,null,null,null,null,null,null,null,null,{"$f":"[1]社会得点!AZ18","v":0},0]
[16,null,null,null,null,null,null,null,null,null,null,null,null,null,null,null,null,null,null,null,null,null,null,null,null,null,null,null,null,null,null,null,null,null,null,null,null,null,null,null,null,null,null,null,null,null,null,null,null,null,null,null,null,null,{"$f":"[1]社会得点!AZ19","v":0},0]
[17,null,null,null,null,null,null,null,null,null,null,null,null,null,null,null,null,null,null,null,null,null,null,null,null,null,null,null,null,null,null,null,null,null,null,null,null,null,null,null,null,null,null,null,null,null,null,null,null,null,null,null,null,null,{"$f":"[1]社会得点!AZ20","v":0},0,null,"男女別人数"]
[18,null,null,null,null,null,null,null,null,null,null,null,null,null,null,null,null,null,null,null,null,null,null,null,null,null,null,null,null,null,null,null,null,null,null,null,null,null,null,null,null,null,null,null,null,null,null,null,null,null,null,null,null,null,{"$f":"[1]社会得点!AZ21","v":0},0,null,"男　　子",{"$f":"COUNTIF(C11:C55,0)","v":0}]
[19,null,null,null,null,null,null,null,null,null,null,null,null,null,null,null,null,null,null,null,null,null,null,null,null,null,null,null,null,null,null,null,null,null,null,null,null,null,null,null,null,null,null,null,null,null,null,null,null,null,null,null,null,null,{"$f":"[1]社会得点!AZ22","v":0},0,null,"女　　子",{"$f":"COUNTIF(C11:C55,1)","v":0}]
[20,null,null,null,null,null,null,null,null,null,null,null,null,null,null,null,null,null,null,null,null,null,null,null,null,null,null,null,null,null,null,null,null,null,null,null,null,null,null,null,null,null,null,null,null,null,null,null,null,null,null,null,null,null,{"$f":"[1]社会得点!AZ23","v":0},0,null,"計",{"$f":"SUM(BG28:BG29)","v":0}]
[21,null,null,null,null,null,null,null,null,null,null,null,null,null,null,null,null,null,null,null,null,null,null,null,null,null,null,null,null,null,null,null,null,null,null,null,null,null,null,null,null,null,null,null,null,null,null,null,null,null,null,null,null,null,{"$f":"[1]社会得点!AZ24","v":0},0]
[22,null,null,null,null,null,null,null,null,null,null,null,null,null,null,null,null,null,null,null,null,null,null,null,null,null,null,null,null,null,null,null,null,null,null,null,null,null,null,null,null,null,null,null,null,null,null,null,null,null,null,null,null,null,{"$f":"[1]社会得点!AZ25","v":0},0]
[23,null,null,null,null,null,null,null,null,null,null,null,null,null,null,null,null,null,null,null,null,null,null,null,null,null,null,null,null,null,null,null,null,null,null,null,null,null,null,null,null,null,null,null,null,null,null,null,null,null,null,null,null,null,{"$f":"[1]社会得点!AZ26","v":0},0]
[24,null,null,null,null,null,null,null,null,null,null,null,null,null,null,null,null,null,null,null,null,null,null,null,null,null,null,null,null,null,null,null,null,null,null,null,null,null,null,null,null,null,null,null,null,null,null,null,null,null,null,null,null,null,{"$f":"[1]社会得点!AZ27","v":0},0,null,"観点別記号"]
[25,null,null,null,null,null,null,null,null,null,null,null,null,null,null,null,null,null,null,null,null,null,null,null,null,null,null,null,null,null,null,null,null,null,null,null,null,null,null,null,null,null,null,null,null,null,null,null,null,null,null,null,null,null,{"$f":"[1]社会得点!AZ28","v":0},0,null,"思判表","思考・判断・表現"]
[26,null,null,null,null,null,null,null,null,null,null,null,null,null,null,null,null,null,null,null,null,null,null,null,null,null,null,null,null,null,null,null,null,null,null,null,null,null,null,null,null,null,null,null,null,null,null,null,null,null,null,null,null,null,{"$f":"[1]社会得点!AZ29","v":0},0,null,"知・技","知識・技能"]
[27,null,null,null,null,null,null,null,null,null,null,null,null,null,null,null,null,null,null,null,null,null,null,null,null,null,null,null,null,null,null,null,null,null,null,null,null,null,null,null,null,null,null,null,null,null,null,null,null,null,null,null,null,null,{"$f":"[1]社会得点!AZ30","v":0},0,null,"-","-"]
[28,null,null,null,null,null,null,null,null,null,null,null,null,null,null,null,null,null,null,null,null,null,null,null,null,null,null,null,null,null,null,null,null,null,null,null,null,null,null,null,null,null,null,null,null,null,null,null,null,null,null,null,null,null,{"$f":"[1]社会得点!AZ31","v":0},0,null,"-","-"]
[29,null,null,null,null,null,null,null,null,null,null,null,null,null,null,null,null,null,null,null,null,null,null,null,null,null,null,null,null,null,null,null,null,null,null,null,null,null,null,null,null,null,null,null,null,null,null,null,null,null,null,null,null,null,{"$f":"[1]社会得点!AZ32","v":0},0,null,"-","-"]
[30,null,null,null,null,null,null,null,null,null,null,null,null,null,null,null,null,null,null,null,null,null,null,null,null,null,null,null,null,null,null,null,null,null,null,null,null,null,null,null,null,null,null,null,null,null,null,null,null,null,null,null,null,null,{"$f":"[1]社会得点!AZ33","v":0},0]
[31,null,null,null,null,null,null,null,null,null,null,null,null,null,null,null,null,null,null,null,null,null,null,null,null,null,null,null,null,null,null,null,null,null,null,null,null,null,null,null,null,null,null,null,null,null,null,null,null,null,null,null,null,null,{"$f":"[1]社会得点!AZ34","v":0},0,null,"観点数",{"$f":"SUMPRODUCT((BF35:BF39<>\"\")*1)-COUNTIF(BF35:BF39,\"-\")","v":2}]
[32,null,null,null,null,null,null,null,null,null,null,null,null,null,null,null,null,null,null,null,null,null,null,null,null,null,null,null,null,null,null,null,null,null,null,null,null,null,null,null,null,null,null,null,null,null,null,null,null,null,null,null,null,null,{"$f":"[1]社会得点!AZ35","v":0},0]
[33,null,null,null,null,null,null,null,null,null,null,null,null,null,null,null,null,null,null,null,null,null,null,null,null,null,null,null,null,null,null,null,null,null,null,null,null,null,null,null,null,null,null,null,null,null,null,null,null,null,null,null,null,null,{"$f":"[1]社会得点!AZ36","v":0},0]
[34,null,null,null,null,null,null,null,null,null,null,null,null,null,null,null,null,null,null,null,null,null,null,null,null,null,null,null,null,null,null,null,null,null,null,null,null,null,null,null,null,null,null,null,null,null,null,null,null,null,null,null,null,null,{"$f":"[1]社会得点!AZ37","v":0},0]
[35,null,null,null,null,null,null,null,null,null,null,null,null,null,null,null,null,null,null,null,null,null,null,null,null,null,null,null,null,null,null,null,null,null,null,null,null,null,null,null,null,null,null,null,null,null,null,null,null,null,null,null,null,null,{"$f":"[1]社会得点!AZ38","v":0},0]
[36,null,null,null,null,null,null,null,null,null,null,null,null,null,null,null,null,null,null,null,null,null,null,null,null,null,null,null,null,null,null,null,null,null,null,null,null,null,null,null,null,null,null,null,null,null,null,null,null,null,null,null,null,null,{"$f":"[1]社会得点!AZ39","v":0},0]
[37,null,null,null,null,null,null,null,null,null,null,null,null,null,null,null,null,null,null,null,null,null,null,null,null,null,null,null,null,null,null,null,null,null,null,null,null,null,null,null,null,null,null,null,null,null,null,null,null,null,null,null,null,null,{"$f":"[1]社会得点!AZ40","v":0},0]
[38,null,null,null,null,null,null,null,null,null,null,null,null,null,null,null,null,null,null,null,null,null,null,null,null,null,null,null,null,null,null,null,null,null,null,null,null,null,null,null,null,null,null,null,null,null,null,null,null,null,null,null,null,null,{"$f":"[1]社会得点!AZ41","v":0},0]
[39,null,null,null,null,null,null,null,null,null,null,null,null,null,null,null,null,null,null,null,null,null,null,null,null,null,null,null,null,null,null,null,null,null,null,null,null,null,null,null,null,null,null,null,null,null,null,null,null,null,null,null,null,null,{"$f":"[1]社会得点!AZ42","v":0},0]
[40,null,null,null,null,null,null,null,null,null,null,null,null,null,null,null,null,null,null,null,null,null,null,null,null,null,null,null,null,null,null,null,null,null,null,null,null,null,null,null,null,null,null,null,null,null,null,null,null,null,null,null,null,null,{"$f":"[1]社会得点!AZ43","v":0},0]
[41,null,null,null,null,null,null,null,null,null,null,null,null,null,null,null,null,null,null,null,null,null,null,null,null,null,null,null,null,null,null,null,null,null,null,null,null,null,null,null,null,null,null,null,null,null,null,null,null,null,null,null,null,null,{"$f":"[1]社会得点!AZ44","v":0},0]
[42,null,null,null,null,null,null,null,null,null,null,null,null,null,null,null,null,null,null,null,null,null,null,null,null,null,null,null,null,null,null,null,null,null,null,null,null,null,null,null,null,null,null,null,null,null,null,null,null,null,null,null,null,null,{"$f":"[1]社会得点!AZ45","v":0},0]
[43,null,null,null,null,null,null,null,null,null,null,null,null,null,null,null,null,null,null,null,null,null,null,null,null,null,null,null,null,null,null,null,null,null,null,null,null,null,null,null,null,null,null,null,null,null,null,null,null,null,null,null,null,null,{"$f":"[1]社会得点!AZ46","v":0},0]
[44,null,null,null,null,null,null,null,null,null,null,null,null,null,null,null,null,null,null,null,null,null,null,null,null,null,null,null,null,null,null,null,null,null,null,null,null,null,null,null,null,null,null,null,null,null,null,null,null,null,null,null,null,null,{"$f":"[1]社会得点!AZ47","v":0},0]
[45,null,null,null,null,null,null,null,null,null,null,null,null,null,null,null,null,null,null,null,null,null,null,null,null,null,null,null,null,null,null,null,null,null,null,null,null,null,null,null,null,null,null,null,null,null,null,null,null,null,null,null,null,null,{"$f":"[1]社会得点!AZ48","v":0},0]
[]
[null,null,"数",null,1,2,3,4,5,6,7,8,9,10,11,12,13,14,15,16,17,18,19,20,21,22,23,24,25,26,27,28,29,30,31,32,33,34,35,36,37,38,39,40,41,42,43,44,45,46,47,48,49,50]
[null,null,"正答",null,{"$f":"COUNTIF(E11:E55,1)","v":0},{"$f":"COUNTIF(F11:F55,1)","v":0},0,0,0,0,0,0,0,0,0,0,0,0,0,0,0,0,0,0,0,0,0,0,0,0,0,0,0,0,0,0,0,0,0,0,0,0,0,0,0,0,0,0,0,0,0,0,0,0]
[null,null,"誤答",null,{"$f":"COUNTIF(E11:E55,2)","v":0},{"$f":"COUNTIF(F11:F55,2)","v":0},0,0,0,0,0,0,0,0,0,0,0,0,0,0,0,0,0,0,0,0,0,0,0,0,0,0,0,0,0,0,0,0,0,0,0,0,0,0,0,0,0,0,0,0,0,0,0,0]
[null,null,"無答",null,{"$f":"COUNTIF(E11:E55,3)","v":0},{"$f":"COUNTIF(F11:F55,3)","v":0},0,0,0,0,0,0,0,0,0,0,0,0,0,0,0,0,0,0,0,0,0,0,0,0,0,0,0,0,0,0,0,0,0,0,0,0,0,0,0,0,0,0,0,0,0,0,0,0]
[null,null,"合計",null,{"$f":"SUM(E58:E60)","v":0},{"$f":"SUM(F58:F60)","v":0},0,0,0,0,0,0,0,0,0,0,0,0,0,0,0,0,0,0,0,0,0,0,0,0,0,0,0,0,0,0,0,0,0,0,0,0,0,0,0,0,0,0,0,0,0,0,0,0]
[]
[null,null,"割合",null,{"$f":"E57","v":1},2,3,4,5,6,7,8,9,10,11,12,13,14,15,16,17,18,19,20,21,22,23,24,25,26,27,28,29,30,31,32,33,34,35,36,37,38,39,40,41,42,43,44,45,46,47,48,49,50]
[null,null,{"$f":"C58","v":"正答"},null,{"$f":"E58/E61","v":{"$error":"#DIV/0!"}},{"$error":"#DIV/0!"},{"$error":"#DIV/0!"},{"$error":"#DIV/0!"},{"$error":"#DIV/0!"},{"$error":"#DIV/0!"},{"$error":"#DIV/0!"},{"$error":"#DIV/0!"},{"$error":"#DIV/0!"},{"$error":"#DIV/0!"},{"$error":"#DIV/0!"},{"$error":"#DIV/0!"},{"$error":"#DIV/0!"},{"$error":"#DIV/0!"},{"$error":"#DIV/0!"},{"$error":"#DIV/0!"},{"$error":"#DIV/0!"},{"$error":"#DIV/0!"},{"$error":"#DIV/0!"},{"$error":"#DIV/0!"},{"$error":"#DIV/0!"},{"$error":"#DIV/0!"},{"$error":"#DIV/0!"},{"$error":"#DIV/0!"},{"$error":"#DIV/0!"},{"$error":"#DIV/0!"},{"$error":"#DIV/0!"},{"$error":"#DIV/0!"},{"$error":"#DIV/0!"},{"$error":"#DIV/0!"},{"$error":"#DIV/0!"},{"$error":"#DIV/0!"},{"$error":"#DIV/0!"},{"$error":"#DIV/0!"},{"$error":"#DIV/0!"},{"$error":"#DIV/0!"},{"$error":"#DIV/0!"},{"$error":"#DIV/0!"},{"$error":"#DIV/0!"},{"$error":"#DIV/0!"},{"$error":"#DIV/0!"},{"$error":"#DIV/0!"},{"$error":"#DIV/0!"},{"$error":"#DIV/0!"},{"$error":"#DIV/0!"},{"$error":"#DIV/0!"},{"$error":"#DIV/0!"},{"$error":"#DIV/0!"},{"$error":"#DIV/0!"},{"$error":"#DIV/0!"}]
[null,null,{"$f":"C59","v":"誤答"},null,{"$f":"E59/E61","v":{"$error":"#DIV/0!"}},{"$error":"#DIV/0!"},{"$error":"#DIV/0!"},{"$error":"#DIV/0!"},{"$error":"#DIV/0!"},{"$error":"#DIV/0!"},{"$error":"#DIV/0!"},{"$error":"#DIV/0!"},{"$error":"#DIV/0!"},{"$error":"#DIV/0!"},{"$error":"#DIV/0!"},{"$error":"#DIV/0!"},{"$error":"#DIV/0!"},{"$error":"#DIV/0!"},{"$error":"#DIV/0!"},{"$error":"#DIV/0!"},{"$error":"#DIV/0!"},{"$error":"#DIV/0!"},{"$error":"#DIV/0!"},{"$error":"#DIV/0!"},{"$error":"#DIV/0!"},{"$error":"#DIV/0!"},{"$error":"#DIV/0!"},{"$error":"#DIV/0!"},{"$error":"#DIV/0!"},{"$error":"#DIV/0!"},{"$error":"#DIV/0!"},{"$error":"#DIV/0!"},{"$error":"#DIV/0!"},{"$error":"#DIV/0!"},{"$error":"#DIV/0!"},{"$error":"#DIV/0!"},{"$error":"#DIV/0!"},{"$error":"#DIV/0!"},{"$error":"#DIV/0!"},{"$error":"#DIV/0!"},{"$error":"#DIV/0!"},{"$error":"#DIV/0!"},{"$error":"#DIV/0!"},{"$error":"#DIV/0!"},{"$error":"#DIV/0!"},{"$error":"#DIV/0!"},{"$error":"#DIV/0!"},{"$error":"#DIV/0!"},{"$error":"#DIV/0!"},{"$error":"#DIV/0!"},{"$error":"#DIV/0!"},{"$error":"#DIV/0!"},{"$error":"#DIV/0!"},{"$error":"#DIV/0!"}]
[null,null,{"$f":"C60","v":"無答"},null,{"$f":"E60/E61","v":{"$error":"#DIV/0!"}},{"$error":"#DIV/0!"},{"$error":"#DIV/0!"},{"$error":"#DIV/0!"},{"$error":"#DIV/0!"},{"$error":"#DIV/0!"},{"$error":"#DIV/0!"},{"$error":"#DIV/0!"},{"$error":"#DIV/0!"},{"$error":"#DIV/0!"},{"$error":"#DIV/0!"},{"$error":"#DIV/0!"},{"$error":"#DIV/0!"},{"$error":"#DIV/0!"},{"$error":"#DIV/0!"},{"$error":"#DIV/0!"},{"$error":"#DIV/0!"},{"$error":"#DIV/0!"},{"$error":"#DIV/0!"},{"$error":"#DIV/0!"},{"$error":"#DIV/0!"},{"$error":"#DIV/0!"},{"$error":"#DIV/0!"},{"$error":"#DIV/0!"},{"$error":"#DIV/0!"},{"$error":"#DIV/0!"},{"$error":"#DIV/0!"},{"$error":"#DIV/0!"},{"$error":"#DIV/0!"},{"$error":"#DIV/0!"},{"$error":"#DIV/0!"},{"$error":"#DIV/0!"},{"$error":"#DIV/0!"},{"$error":"#DIV/0!"},{"$error":"#DIV/0!"},{"$error":"#DIV/0!"},{"$error":"#DIV/0!"},{"$error":"#DIV/0!"},{"$error":"#DIV/0!"},{"$error":"#DIV/0!"},{"$error":"#DIV/0!"},{"$error":"#DIV/0!"},{"$error":"#DIV/0!"},{"$error":"#DIV/0!"},{"$error":"#DIV/0!"},{"$error":"#DIV/0!"},{"$error":"#DIV/0!"},{"$error":"#DIV/0!"},{"$error":"#DIV/0!"},{"$error":"#DIV/0!"}]
[null,null,{"$f":"C61","v":"合計"},null,{"$f":"SUM(E64:E66)","v":{"$error":"#DIV/0!"}},{"$error":"#DIV/0!"},{"$error":"#DIV/0!"},{"$error":"#DIV/0!"},{"$error":"#DIV/0!"},{"$error":"#DIV/0!"},{"$error":"#DIV/0!"},{"$error":"#DIV/0!"},{"$error":"#DIV/0!"},{"$error":"#DIV/0!"},{"$error":"#DIV/0!"},{"$error":"#DIV/0!"},{"$error":"#DIV/0!"},{"$error":"#DIV/0!"},{"$error":"#DIV/0!"},{"$error":"#DIV/0!"},{"$error":"#DIV/0!"},{"$error":"#DIV/0!"},{"$error":"#DIV/0!"},{"$error":"#DIV/0!"},{"$error":"#DIV/0!"},{"$error":"#DIV/0!"},{"$error":"#DIV/0!"},{"$error":"#DIV/0!"},{"$error":"#DIV/0!"},{"$error":"#DIV/0!"},{"$error":"#DIV/0!"},{"$error":"#DIV/0!"},{"$error":"#DIV/0!"},{"$error":"#DIV/0!"},{"$error":"#DIV/0!"},{"$error":"#DIV/0!"},{"$error":"#DIV/0!"},{"$error":"#DIV/0!"},{"$error":"#DIV/0!"},{"$error":"#DIV/0!"},{"$error":"#DIV/0!"},{"$error":"#DIV/0!"},{"$error":"#DIV/0!"},{"$error":"#DIV/0!"},{"$error":"#DIV/0!"},{"$error":"#DIV/0!"},{"$error":"#DIV/0!"},{"$error":"#DIV/0!"},{"$error":"#DIV/0!"},{"$error":"#DIV/0!"},{"$error":"#DIV/0!"},{"$error":"#DIV/0!"},{"$error":"#DIV/0!"},{"$error":"#DIV/0!"}]
[]
[null,null,"観点別集計"]
[null,null,null,null,null,{"$f":"BF35","v":"思判表"},null,null,null,null,{"$f":"BF36","v":"知・技"},null,null,null,null,{"$f":"BF37","v":"-"},null,null,null,null,{"$f":"BF38","v":"-"},null,null,null,null,{"$f":"BF39","v":"-"}]
[null,null,"正答",null,null,{"$f":"[1]社会得点!BB64","v":{"$error":"#DIV/0!"}},null,null,null,null,{"$f":"[1]社会得点!BB65","v":{"$error":"#DIV/0!"}},null,null,null,null,{"$f":"[1]社会得点!BB66","v":{"$error":"#DIV/0!"}},null,null,null,null,{"$f":"[1]社会得点!BB67","v":{"$error":"#DIV/0!"}},null,null,null,null,{"$f":"[1]社会得点!BB68","v":{"$error":"#DIV/0!"}}]
[null,null,"誤答",null,null,{"$f":"[1]社会得点!BB71","v":{"$error":"#DIV/0!"}},null,null,null,null,{"$f":"[1]社会得点!BB72","v":{"$error":"#DIV/0!"}},null,null,null,null,{"$f":"[1]社会得点!BB73","v":{"$error":"#DIV/0!"}},null,null,null,null,{"$f":"[1]社会得点!BB74","v":{"$error":"#DIV/0!"}},null,null,null,null,{"$f":"[1]社会得点!BB75","v":{"$error":"#DIV/0!"}}]
[null,null,"無答",null,null,{"$f":"[1]社会得点!BB78","v":{"$error":"#DIV/0!"}},null,null,null,null,{"$f":"[1]社会得点!BB79","v":{"$error":"#DIV/0!"}},null,null,null,null,{"$f":"[1]社会得点!BB80","v":{"$error":"#DIV/0!"}},null,null,null,null,{"$f":"[1]社会得点!BB81","v":{"$error":"#DIV/0!"}},null,null,null,null,{"$f":"[1]社会得点!BB82","v":{"$error":"#DIV/0!"}}]
[null,null,"合計",null,null,{"$f":"SUM(F71:H73)","v":{"$error":"#DIV/0!"}},null,null,null,null,{"$f":"SUM(K71:M73)","v":{"$error":"#DIV/0!"}},null,null,null,null,{"$f":"SUM(P71:R73)","v":{"$error":"#DIV/0!"}},null,null,null,null,{"$f":"SUM(U71:W73)","v":{"$error":"#DIV/0!"}},null,null,null,null,{"$f":"SUM(Z71:AB73)","v":{"$error":"#DIV/0!"}}]
[]
[null,null,"富山県平均正答率％",null,null,{"$f":"[1]社会得点!BB85","v":0.57328571428571429},null,null,null,null,{"$f":"[1]社会得点!BB86","v":0.67200000000000015},null,null,null,null,{"$f":"[1]社会得点!BB87","v":{"$error":"#DIV/0!"}},null,null,null,null,{"$f":"[1]社会得点!BB88","v":{"$error":"#DIV/0!"}},null,null,null,null,{"$f":"[1]社会得点!BB89","v":{"$error":"#DIV/0!"}}]

{"sheet":"社会得点","index":17,"n_rows":82,"n_cols":64,"rows_kept":82,"cut":false,"hidden":false,"merged":[[1,63,2,63],[1,61,2,61],[1,62,2,62],[0,6,0,10],[0,11,0,13],[1,60,2,60],[1,54,1,55],[1,57,1,58]]}
["社会（得点）",null,null,null,null,null,"受検者数",null,null,null,null,{"$f":"[1]社会!$AB$1","v":0}]
["№",1,2,3,4,5,6,7,8,9,10,11,12,13,14,15,16,17,18,19,20,21,22,23,24,25,26,27,28,29,30,31,32,33,34,35,36,37,38,39,40,41,42,43,44,45,46,47,48,49,50,"得点",null,null,"正答数別の児童数(人)",null,null,"富山県正答数％",null,null,"通し\n番号","問題\n番号","小問\n番号","問題の領域"]
["観点",{"$f":"[1]社会!E9","v":"知・技"},{"$f":"[1]社会!F9","v":"知・技"},{"$f":"[1]社会!G9","v":"知・技"},{"$f":"[1]社会!H9","v":"知・技"},{"$f":"[1]社会!I9","v":"思判表"},{"$f":"[1]社会!J9","v":"知・技"},{"$f":"[1]社会!K9","v":"知・技"},{"$f":"[1]社会!L9","v":"知・技"},{"$f":"[1]社会!M9","v":"思判表"},{"$f":"[1]社会!N9","v":"知・技"},{"$f":"[1]社会!O9","v":"知・技"},{"$f":"[1]社会!P9","v":"知・技"},{"$f":"[1]社会!Q9","v":"思判表"},{"$f":"[1]社会!R9","v":"知・技"},{"$f":"[1]社会!S9","v":"思判表"},{"$f":"[1]社会!T9","v":"知・技"},{"$f":"[1]社会!U9","v":"思判表"},{"$f":"[1]社会!V9","v":"知・技"},{"$f":"[1]社会!W9","v":"知・技"},{"$f":"[1]社会!X9","v":"思判表"},{"$f":"[1]社会!Y9","v":"知・技"},{"$f":"[1]社会!Z9","v":"知・技"},{"$f":"[1]社会!AA9","v":"知・技"},{"$f":"[1]社会!AB9","v":"知・技"},{"$f":"[1]社会!AC9","v":"思判表"},{"$f":"[1]社会!AD9","v":0},{"$f":"[1]社会!AE9","v":0},{"$f":"[1]社会!AF9","v":0},{"$f":"[1]社会!AG9","v":0},{"$f":"[1]社会!AH9","v":0},{"$f":"[1]社会!AI9","v":0},{"$f":"[1]社会!AJ9","v":0},{"$f":"[1]社会!AK9","v":0},{"$f":"[1]社会!AL9","v":0},{"$f":"[1]社会!AM9","v":0},{"$f":"[1]社会!AN9","v":0},{"$f":"[1]社会!AO9","v":0},{"$f":"[1]社会!AP9","v":0},{"$f":"[1]社会!AQ9","v":0},{"$f":"[1]社会!AR9","v":0},{"$f":"[1]社会!AS9","v":0},{"$f":"[1]社会!AT9","v":0},{"$f":"[1]社会!AU9","v":0},{"$f":"[1]社会!AV9","v":0},{"$f":"[1]社会!AW9","v":0},{"$f":"[1]社会!AX9","v":0},{"$f":"[1]社会!AY9","v":0},{"$f":"[1]社会!AZ9","v":0},{"$f":"[1]社会!BA9","v":0},{"$f":"[1]社会!BB9","v":0},null,null,null,"0問",null,null,"0問"]
[1,{"$f":"COUNTIF([1]社会!E11,1)*[1]社会!$E$10","v":0},{"$f":"COUNTIF([1]社会!F11,1)*[1]社会!$F$10","v":0},{"$f":"COUNTIF([1]社会!G11,1)*[1]社会!$G$10","v":0},{"$f":"COUNTIF([1]社会!H11,1)*[1]社会!$H$10","v":0},{"$f":"COUNTIF([1]社会!I11,1)*[1]社会!$I$10","v":0},{"$f":"COUNTIF([1]社会!J11,1)*[1]社会!$J$10","v":0},{"$f":"COUNTIF([1]社会!K11,1)*[1]社会!$K$10","v":0},{"$f":"COUNTIF([1]社会!L11,1)*[1]社会!$L$10","v":0},{"$f":"COUNTIF([1]社会!M11,1)*[1]社会!$M$10","v":0},{"$f":"COUNTIF([1]社会!N11,1)*[1]社会!$N$10","v":0},{"$f":"COUNTIF([1]社会!O11,1)*[1]社会!$O$10","v":0},{"$f":"COUNTIF([1]社会!P11,1)*[1]社会!$P$10","v":0},{"$f":"COUNTIF([1]社会!Q11,1)*[1]社会!$Q$10","v":0},{"$f":"COUNTIF([1]社会!R11,1)*[1]社会!$R$10","v":0},{"$f":"COUNTIF([1]社会!S11,1)*[1]社会!$S$10","v":0},{"$f":"COUNTIF([1]社会!T11,1)*[1]社会!$T$10","v":0},{"$f":"COUNTIF([1]社会!U11,1)*[1]社会!$U$10","v":0},{"$f":"COUNTIF([1]社会!V11,1)*[1]社会!$V$10","v":0},{"$f":"COUNTIF([1]社会!W11,1)*[1]社会!$W$10","v":0},{"$f":"COUNTIF([1]社会!X11,1)*[1]社会!$X$10","v":0},{"$f":"COUNTIF([1]社会!Y11,1)*[1]社会!$Y$10","v":0},{"$f":"COUNTIF([1]社会!Z11,1)*[1]社会!$Z$10","v":0},{"$f":"COUNTIF([1]社会!AA11,1)*[1]社会!$AA$10","v":0},{"$f":"COUNTIF([1]社会!AB11,1)*[1]社会!$AB$10","v":0},{"$f":"COUNTIF([1]社会!AC11,1)*[1]社会!$AC$10","v":0},{"$f":"COUNTIF([1]社会!AD11,1)*[1]社会!$AD$10","v":0},{"$f":"COUNTIF([1]社会!AE11,1)*[1]社会!$AE$10","v":0},{"$f":"COUNTIF([1]社会!AF11,1)*[1]社会!$AF$10","v":0},{"$f":"COUNTIF([1]社会!AG11,1)*[1]社会!$AG$10","v":0},{"$f":"COUNTIF([1]社会!AH11,1)*[1]社会!$AH$10","v":0},{"$f":"COUNTIF([1]社会!AI11,1)*[1]社会!$AI$10","v":0},{"$f":"COUNTIF([1]社会!AJ11,1)*[1]社会!$AJ$10","v":0},{"$f":"COUNTIF([1]社会!AK11,1)*[1]社会!$AK$10","v":0},{"$f":"COUNTIF([1]社会!AL11,1)*[1]社会!$AL$10","v":0},{"$f":"COUNTIF([1]社会!AM11,1)*[1]社会!$AM$10","v":0},{"$f":"COUNTIF([1]社会!AN11,1)*[1]社会!$AN$10","v":0},{"$f":"COUNTIF([1]社会!AO11,1)*[1]社会!$AO$10","v":0},{"$f":"COUNTIF([1]社会!AP11,1)*[1]社会!$AP$10","v":0},{"$f":"COUNTIF([1]社会!AQ11,1)*[1]社会!$AQ$10","v":0},{"$f":"COUNTIF([1]社会!AR11,1)*[1]社会!$AR$10","v":0},{"$f":"COUNTIF([1]社会!AS11,1)*[1]社会!$AS$10","v":0},{"$f":"COUNTIF([1]社会!AT11,1)*[1]社会!$AT$10","v":0},{"$f":"COUNTIF([1]社会!AU11,1)*[1]社会!$AU$10","v":0},{"$f":"COUNTIF([1]社会!AV11,1)*[1]社会!$AV$10","v":0},{"$f":"COUNTIF([1]社会!AW11,1)*[1]社会!$AW$10","v":0},{"$f":"COUNTIF([1]社会!AX11,1)*[1]社会!$AX$10","v":0},{"$f":"COUNTIF([1]社会!AY11,1)*[1]社会!$AY$10","v":0},{"$f":"COUNTIF([1]社会!AZ11,1)*[1]社会!$AZ$10","v":0},{"$f":"COUNTIF([1]社会!BA11,1)*[1]社会!$BA$10","v":0},{"$f":"COUNTIF([1]社会!BB11,1)*[1]社会!$BB$10","v":0},{"$f":"SUM(B4:AY4)","v":0},null,null,"1問",{"$f":"[1]社会!E58","v":0},null,"1問",78.3,null,1,1,"（1）①","わたしたちの国土"]
[2,{"$f":"COUNTIF([1]社会!E12,1)*[1]社会!$E$10","v":0},{"$f":"COUNTIF([1]社会!F12,1)*[1]社会!$F$10","v":0},{"$f":"COUNTIF([1]社会!G12,1)*[1]社会!$G$10","v":0},{"$f":"COUNTIF([1]社会!H12,1)*[1]社会!$H$10","v":0},{"$f":"COUNTIF([1]社会!I12,1)*[1]社会!$I$10","v":0},{"$f":"COUNTIF([1]社会!J12,1)*[1]社会!$J$10","v":0},{"$f":"COUNTIF([1]社会!K12,1)*[1]社会!$K$10","v":0},{"$f":"COUNTIF([1]社会!L12,1)*[1]社会!$L$10","v":0},{"$f":"COUNTIF([1]社会!M12,1)*[1]社会!$M$10","v":0},{"$f":"COUNTIF([1]社会!N12,1)*[1]社会!$N$10","v":0},{"$f":"COUNTIF([1]社会!O12,1)*[1]社会!$O$10","v":0},{"$f":"COUNTIF([1]社会!P12,1)*[1]社会!$P$10","v":0},{"$f":"COUNTIF([1]社会!Q12,1)*[1]社会!$Q$10","v":0},{"$f":"COUNTIF([1]社会!R12,1)*[1]社会!$R$10","v":0},{"$f":"COUNTIF([1]社会!S12,1)*[1]社会!$S$10","v":0},{"$f":"COUNTIF([1]社会!T12,1)*[1]社会!$T$10","v":0},{"$f":"COUNTIF([1]社会!U12,1)*[1]社会!$U$10","v":0},{"$f":"COUNTIF([1]社会!V12,1)*[1]社会!$V$10","v":0},{"$f":"COUNTIF([1]社会!W12,1)*[1]社会!$W$10","v":0},{"$f":"COUNTIF([1]社会!X12,1)*[1]社会!$X$10","v":0},{"$f":"COUNTIF([1]社会!Y12,1)*[1]社会!$Y$10","v":0},{"$f":"COUNTIF([1]社会!Z12,1)*[1]社会!$Z$10","v":0},{"$f":"COUNTIF([1]社会!AA12,1)*[1]社会!$AA$10","v":0},{"$f":"COUNTIF([1]社会!AB12,1)*[1]社会!$AB$10","v":0},{"$f":"COUNTIF([1]社会!AC12,1)*[1]社会!$AC$10","v":0},{"$f":"COUNTIF([1]社会!AD12,1)*[1]社会!$AD$10","v":0},{"$f":"COUNTIF([1]社会!AE12,1)*[1]社会!$AE$10","v":0},{"$f":"COUNTIF([1]社会!AF12,1)*[1]社会!$AF$10","v":0},{"$f":"COUNTIF([1]社会!AG12,1)*[1]社会!$AG$10","v":0},{"$f":"COUNTIF([1]社会!AH12,1)*[1]社会!$AH$10","v":0},{"$f":"COUNTIF([1]社会!AI12,1)*[1]社会!$AI$10","v":0},{"$f":"COUNTIF([1]社会!AJ12,1)*[1]社会!$AJ$10","v":0},{"$f":"COUNTIF([1]社会!AK12,1)*[1]社会!$AK$10","v":0},{"$f":"COUNTIF([1]社会!AL12,1)*[1]社会!$AL$10","v":0},{"$f":"COUNTIF([1]社会!AM12,1)*[1]社会!$AM$10","v":0},{"$f":"COUNTIF([1]社会!AN12,1)*[1]社会!$AN$10","v":0},{"$f":"COUNTIF([1]社会!AO12,1)*[1]社会!$AO$10","v":0},{"$f":"COUNTIF([1]社会!AP12,1)*[1]社会!$AP$10","v":0},{"$f":"COUNTIF([1]社会!AQ12,1)*[1]社会!$AQ$10","v":0},{"$f":"COUNTIF([1]社会!AR12,1)*[1]社会!$AR$10","v":0},{"$f":"COUNTIF([1]社会!AS12,1)*[1]社会!$AS$10","v":0},{"$f":"COUNTIF([1]社会!AT12,1)*[1]社会!$AT$10","v":0},{"$f":"COUNTIF([1]社会!AU12,1)*[1]社会!$AU$10","v":0},{"$f":"COUNTIF([1]社会!AV12,1)*[1]社会!$AV$10","v":0},{"$f":"COUNTIF([1]社会!AW12,1)*[1]社会!$AW$10","v":0},{"$f":"COUNTIF([1]社会!AX12,1)*[1]社会!$AX$10","v":0},{"$f":"COUNTIF([1]社会!AY12,1)*[1]社会!$AY$10","v":0},{"$f":"COUNTIF([1]社会!AZ12,1)*[1]社会!$AZ$10","v":0},{"$f":"COUNTIF([1]社会!BA12,1)*[1]社会!$BA$10","v":0},{"$f":"COUNTIF([1]社会!BB12,1)*[1]社会!$BB$10","v":0},0,null,null,"2問",{"$f":"[1]社会!F58","v":0},null,"2問",52.300000000000004,null,2,1,"（1）②","わたしたちの国土"]
[3,{"$f":"COUNTIF([1]社会!E13,1)*[1]社会!$E$10","v":0},{"$f":"COUNTIF([1]社会!F13,1)*[1]社会!$F$10","v":0},{"$f":"COUNTIF([1]社会!G13,1)*[1]社会!$G$10","v":0},{"$f":"COUNTIF([1]社会!H13,1)*[1]社会!$H$10","v":0},{"$f":"COUNTIF([1]社会!I13,1)*[1]社会!$I$10","v":0},{"$f":"COUNTIF([1]社会!J13,1)*[1]社会!$J$10","v":0},{"$f":"COUNTIF([1]社会!K13,1)*[1]社会!$K$10","v":0},{"$f":"COUNTIF([1]社会!L13,1)*[1]社会!$L$10","v":0},{"$f":"COUNTIF([1]社会!M13,1)*[1]社会!$M$10","v":0},{"$f":"COUNTIF([1]社会!N13,1)*[1]社会!$N$10","v":0},{"$f":"COUNTIF([1]社会!O13,1)*[1]社会!$O$10","v":0},{"$f":"COUNTIF([1]社会!P13,1)*[1]社会!$P$10","v":0},{"$f":"COUNTIF([1]社会!Q13,1)*[1]社会!$Q$10","v":0},{"$f":"COUNTIF([1]社会!R13,1)*[1]社会!$R$10","v":0},{"$f":"COUNTIF([1]社会!S13,1)*[1]社会!$S$10","v":0},{"$f":"COUNTIF([1]社会!T13,1)*[1]社会!$T$10","v":0},{"$f":"COUNTIF([1]社会!U13,1)*[1]社会!$U$10","v":0},{"$f":"COUNTIF([1]社会!V13,1)*[1]社会!$V$10","v":0},{"$f":"COUNTIF([1]社会!W13,1)*[1]社会!$W$10","v":0},{"$f":"COUNTIF([1]社会!X13,1)*[1]社会!$X$10","v":0},{"$f":"COUNTIF([1]社会!Y13,1)*[1]社会!$Y$10","v":0},{"$f":"COUNTIF([1]社会!Z13,1)*[1]社会!$Z$10","v":0},{"$f":"COUNTIF([1]社会!AA13,1)*[1]社会!$AA$10","v":0},{"$f":"COUNTIF([1]社会!AB13,1)*[1]社会!$AB$10","v":0},{"$f":"COUNTIF([1]社会!AC13,1)*[1]社会!$AC$10","v":0},{"$f":"COUNTIF([1]社会!AD13,1)*[1]社会!$AD$10","v":0},{"$f":"COUNTIF([1]社会!AE13,1)*[1]社会!$AE$10","v":0},{"$f":"COUNTIF([1]社会!AF13,1)*[1]社会!$AF$10","v":0},{"$f":"COUNTIF([1]社会!AG13,1)*[1]社会!$AG$10","v":0},{"$f":"COUNTIF([1]社会!AH13,1)*[1]社会!$AH$10","v":0},{"$f":"COUNTIF([1]社会!AI13,1)*[1]社会!$AI$10","v":0},{"$f":"COUNTIF([1]社会!AJ13,1)*[1]社会!$AJ$10","v":0},{"$f":"COUNTIF([1]社会!AK13,1)*[1]社会!$AK$10","v":0},{"$f":"COUNTIF([1]社会!AL13,1)*[1]社会!$AL$10","v":0},{"$f":"COUNTIF([1]社会!AM13,1)*[1]社会!$AM$10","v":0},{"$f":"COUNTIF([1]社会!AN13,1)*[1]社会!$AN$10","v":0},{"$f":"COUNTIF([1]社会!AO13,1)*[1]社会!$AO$10","v":0},{"$f":"COUNTIF([1]社会!AP13,1)*[1]社会!$AP$10","v":0},{"$f":"COUNTIF([1]社会!AQ13,1)*[1]社会!$AQ$10","v":0},{"$f":"COUNTIF([1]社会!AR13,1)*[1]社会!$AR$10","v":0},{"$f":"COUNTIF([1]社会!AS13,1)*[1]社会!$AS$10","v":0},{"$f":"COUNTIF([1]社会!AT13,1)*[1]社会!$AT$10","v":0},{"$f":"COUNTIF([1]社会!AU13,1)*[1]社会!$AU$10","v":0},{"$f":"COUNTIF([1]社会!AV13,1)*[1]社会!$AV$10","v":0},{"$f":"COUNTIF([1]社会!AW13,1)*[1]社会!$AW$10","v":0},{"$f":"COUNTIF([1]社会!AX13,1)*[1]社会!$AX$10","v":0},{"$f":"COUNTIF([1]社会!AY13,1)*[1]社会!$AY$10","v":0},{"$f":"COUNTIF([1]社会!AZ13,1)*[1]社会!$AZ$10","v":0},{"$f":"COUNTIF([1]社会!BA13,1)*[1]社会!$BA$10","v":0},{"$f":"COUNTIF([1]社会!BB13,1)*[1]社会!$BB$10","v":0},0,null,null,"3問",{"$f":"[1]社会!G58","v":0},null,"3問",28.999999999999996,null,3,1,"（1）③","わたしたちの国土"]
[4,{"$f":"COUNTIF([1]社会!E14,1)*[1]社会!$E$10","v":0},{"$f":"COUNTIF([1]社会!F14,1)*[1]社会!$F$10","v":0},{"$f":"COUNTIF([1]社会!G14,1)*[1]社会!$G$10","v":0},{"$f":"COUNTIF([1]社会!H14,1)*[1]社会!$H$10","v":0},{"$f":"COUNTIF([1]社会!I14,1)*[1]社会!$I$10","v":0},{"$f":"COUNTIF([1]社会!J14,1)*[1]社会!$J$10","v":0},{"$f":"COUNTIF([1]社会!K14,1)*[1]社会!$K$10","v":0},{"$f":"COUNTIF([1]社会!L14,1)*[1]社会!$L$10","v":0},{"$f":"COUNTIF([1]社会!M14,1)*[1]社会!$M$10","v":0},{"$f":"COUNTIF([1]社会!N14,1)*[1]社会!$N$10","v":0},{"$f":"COUNTIF([1]社会!O14,1)*[1]社会!$O$10","v":0},{"$f":"COUNTIF([1]社会!P14,1)*[1]社会!$P$10","v":0},{"$f":"COUNTIF([1]社会!Q14,1)*[1]社会!$Q$10","v":0},{"$f":"COUNTIF([1]社会!R14,1)*[1]社会!$R$10","v":0},{"$f":"COUNTIF([1]社会!S14,1)*[1]社会!$S$10","v":0},{"$f":"COUNTIF([1]社会!T14,1)*[1]社会!$T$10","v":0},{"$f":"COUNTIF([1]社会!U14,1)*[1]社会!$U$10","v":0},{"$f":"COUNTIF([1]社会!V14,1)*[1]社会!$V$10","v":0},{"$f":"COUNTIF([1]社会!W14,1)*[1]社会!$W$10","v":0},{"$f":"COUNTIF([1]社会!X14,1)*[1]社会!$X$10","v":0},{"$f":"COUNTIF([1]社会!Y14,1)*[1]社会!$Y$10","v":0},{"$f":"COUNTIF([1]社会!Z14,1)*[1]社会!$Z$10","v":0},{"$f":"COUNTIF([1]社会!AA14,1)*[1]社会!$AA$10","v":0},{"$f":"COUNTIF([1]社会!AB14,1)*[1]社会!$AB$10","v":0},{"$f":"COUNTIF([1]社会!AC14,1)*[1]社会!$AC$10","v":0},{"$f":"COUNTIF([1]社会!AD14,1)*[1]社会!$AD$10","v":0},{"$f":"COUNTIF([1]社会!AE14,1)*[1]社会!$AE$10","v":0},{"$f":"COUNTIF([1]社会!AF14,1)*[1]社会!$AF$10","v":0},{"$f":"COUNTIF([1]社会!AG14,1)*[1]社会!$AG$10","v":0},{"$f":"COUNTIF([1]社会!AH14,1)*[1]社会!$AH$10","v":0},{"$f":"COUNTIF([1]社会!AI14,1)*[1]社会!$AI$10","v":0},{"$f":"COUNTIF([1]社会!AJ14,1)*[1]社会!$AJ$10","v":0},{"$f":"COUNTIF([1]社会!AK14,1)*[1]社会!$AK$10","v":0},{"$f":"COUNTIF([1]社会!AL14,1)*[1]社会!$AL$10","v":0},{"$f":"COUNTIF([1]社会!AM14,1)*[1]社会!$AM$10","v":0},{"$f":"COUNTIF([1]社会!AN14,1)*[1]社会!$AN$10","v":0},{"$f":"COUNTIF([1]社会!AO14,1)*[1]社会!$AO$10","v":0},{"$f":"COUNTIF([1]社会!AP14,1)*[1]社会!$AP$10","v":0},{"$f":"COUNTIF([1]社会!AQ14,1)*[1]社会!$AQ$10","v":0},{"$f":"COUNTIF([1]社会!AR14,1)*[1]社会!$AR$10","v":0},{"$f":"COUNTIF([1]社会!AS14,1)*[1]社会!$AS$10","v":0},{"$f":"COUNTIF([1]社会!AT14,1)*[1]社会!$AT$10","v":0},{"$f":"COUNTIF([1]社会!AU14,1)*[1]社会!$AU$10","v":0},{"$f":"COUNTIF([1]社会!AV14,1)*[1]社会!$AV$10","v":0},{"$f":"COUNTIF([1]社会!AW14,1)*[1]社会!$AW$10","v":0},{"$f":"COUNTIF([1]社会!AX14,1)*[1]社会!$AX$10","v":0},{"$f":"COUNTIF([1]社会!AY14,1)*[1]社会!$AY$10","v":0},{"$f":"COUNTIF([1]社会!AZ14,1)*[1]社会!$AZ$10","v":0},{"$f":"COUNTIF([1]社会!BA14,1)*[1]社会!$BA$10","v":0},{"$f":"COUNTIF([1]社会!BB14,1)*[1]社会!$BB$10","v":0},0,null,null,"4問",{"$f":"[1]社会!H58","v":0},null,"4問",78.3,null,4,1,"（2）","わたしたちの国土"]
[5,{"$f":"COUNTIF([1]社会!E15,1)*[1]社会!$E$10","v":0},{"$f":"COUNTIF([1]社会!F15,1)*[1]社会!$F$10","v":0},{"$f":"COUNTIF([1]社会!G15,1)*[1]社会!$G$10","v":0},{"$f":"COUNTIF([1]社会!H15,1)*[1]社会!$H$10","v":0},{"$f":"COUNTIF([1]社会!I15,1)*[1]社会!$I$10","v":0},{"$f":"COUNTIF([1]社会!J15,1)*[1]社会!$J$10","v":0},{"$f":"COUNTIF([1]社会!K15,1)*[1]社会!$K$10","v":0},{"$f":"COUNTIF([1]社会!L15,1)*[1]社会!$L$10","v":0},{"$f":"COUNTIF([1]社会!M15,1)*[1]社会!$M$10","v":0},{"$f":"COUNTIF([1]社会!N15,1)*[1]社会!$N$10","v":0},{"$f":"COUNTIF([1]社会!O15,1)*[1]社会!$O$10","v":0},{"$f":"COUNTIF([1]社会!P15,1)*[1]社会!$P$10","v":0},{"$f":"COUNTIF([1]社会!Q15,1)*[1]社会!$Q$10","v":0},{"$f":"COUNTIF([1]社会!R15,1)*[1]社会!$R$10","v":0},{"$f":"COUNTIF([1]社会!S15,1)*[1]社会!$S$10","v":0},{"$f":"COUNTIF([1]社会!T15,1)*[1]社会!$T$10","v":0},{"$f":"COUNTIF([1]社会!U15,1)*[1]社会!$U$10","v":0},{"$f":"COUNTIF([1]社会!V15,1)*[1]社会!$V$10","v":0},{"$f":"COUNTIF([1]社会!W15,1)*[1]社会!$W$10","v":0},{"$f":"COUNTIF([1]社会!X15,1)*[1]社会!$X$10","v":0},{"$f":"COUNTIF([1]社会!Y15,1)*[1]社会!$Y$10","v":0},{"$f":"COUNTIF([1]社会!Z15,1)*[1]社会!$Z$10","v":0},{"$f":"COUNTIF([1]社会!AA15,1)*[1]社会!$AA$10","v":0},{"$f":"COUNTIF([1]社会!AB15,1)*[1]社会!$AB$10","v":0},{"$f":"COUNTIF([1]社会!AC15,1)*[1]社会!$AC$10","v":0},{"$f":"COUNTIF([1]社会!AD15,1)*[1]社会!$AD$10","v":0},{"$f":"COUNTIF([1]社会!AE15,1)*[1]社会!$AE$10","v":0},{"$f":"COUNTIF([1]社会!AF15,1)*[1]社会!$AF$10","v":0},{"$f":"COUNTIF([1]社会!AG15,1)*[1]社会!$AG$10","v":0},{"$f":"COUNTIF([1]社会!AH15,1)*[1]社会!$AH$10","v":0},{"$f":"COUNTIF([1]社会!AI15,1)*[1]社会!$AI$10","v":0},{"$f":"COUNTIF([1]社会!AJ15,1)*[1]社会!$AJ$10","v":0},{"$f":"COUNTIF([1]社会!AK15,1)*[1]社会!$AK$10","v":0},{"$f":"COUNTIF([1]社会!AL15,1)*[1]社会!$AL$10","v":0},{"$f":"COUNTIF([1]社会!AM15,1)*[1]社会!$AM$10","v":0},{"$f":"COUNTIF([1]社会!AN15,1)*[1]社会!$AN$10","v":0},{"$f":"COUNTIF([1]社会!AO15,1)*[1]社会!$AO$10","v":0},{"$f":"COUNTIF([1]社会!AP15,1)*[1]社会!$AP$10","v":0},{"$f":"COUNTIF([1]社会!AQ15,1)*[1]社会!$AQ$10","v":0},{"$f":"COUNTIF([1]社会!AR15,1)*[1]社会!$AR$10","v":0},{"$f":"COUNTIF([1]社会!AS15,1)*[1]社会!$AS$10","v":0},{"$f":"COUNTIF([1]社会!AT15,1)*[1]社会!$AT$10","v":0},{"$f":"COUNTIF([1]社会!AU15,1)*[1]社会!$AU$10","v":0},{"$f":"COUNTIF([1]社会!AV15,1)*[1]社会!$AV$10","v":0},{"$f":"COUNTIF([1]社会!AW15,1)*[1]社会!$AW$10","v":0},{"$f":"COUNTIF([1]社会!AX15,1)*[1]社会!$AX$10","v":0},{"$f":"COUNTIF([1]社会!AY15,1)*[1]社会!$AY$10","v":0},{"$f":"COUNTIF([1]社会!AZ15,1)*[1]社会!$AZ$10","v":0},{"$f":"COUNTIF([1]社会!BA15,1)*[1]社会!$BA$10","v":0},{"$f":"COUNTIF([1]社会!BB15,1)*[1]社会!$BB$10","v":0},0,null,null,"5問",{"$f":"[1]社会!I58","v":0},null,"5問",33.800000000000004,null,5,1,"（3）","わたしたちの国土"]
[6,{"$f":"COUNTIF([1]社会!E16,1)*[1]社会!$E$10","v":0},{"$f":"COUNTIF([1]社会!F16,1)*[1]社会!$F$10","v":0},{"$f":"COUNTIF([1]社会!G16,1)*[1]社会!$G$10","v":0},{"$f":"COUNTIF([1]社会!H16,1)*[1]社会!$H$10","v":0},{"$f":"COUNTIF([1]社会!I16,1)*[1]社会!$I$10","v":0},{"$f":"COUNTIF([1]社会!J16,1)*[1]社会!$J$10","v":0},{"$f":"COUNTIF([1]社会!K16,1)*[1]社会!$K$10","v":0},{"$f":"COUNTIF([1]社会!L16,1)*[1]社会!$L$10","v":0},{"$f":"COUNTIF([1]社会!M16,1)*[1]社会!$M$10","v":0},{"$f":"COUNTIF([1]社会!N16,1)*[1]社会!$N$10","v":0},{"$f":"COUNTIF([1]社会!O16,1)*[1]社会!$O$10","v":0},{"$f":"COUNTIF([1]社会!P16,1)*[1]社会!$P$10","v":0},{"$f":"COUNTIF([1]社会!Q16,1)*[1]社会!$Q$10","v":0},{"$f":"COUNTIF([1]社会!R16,1)*[1]社会!$R$10","v":0},{"$f":"COUNTIF([1]社会!S16,1)*[1]社会!$S$10","v":0},{"$f":"COUNTIF([1]社会!T16,1)*[1]社会!$T$10","v":0},{"$f":"COUNTIF([1]社会!U16,1)*[1]社会!$U$10","v":0},{"$f":"COUNTIF([1]社会!V16,1)*[1]社会!$V$10","v":0},{"$f":"COUNTIF([1]社会!W16,1)*[1]社会!$W$10","v":0},{"$f":"COUNTIF([1]社会!X16,1)*[1]社会!$X$10","v":0},{"$f":"COUNTIF([1]社会!Y16,1)*[1]社会!$Y$10","v":0},{"$f":"COUNTIF([1]社会!Z16,1)*[1]社会!$Z$10","v":0},{"$f":"COUNTIF([1]社会!AA16,1)*[1]社会!$AA$10","v":0},{"$f":"COUNTIF([1]社会!AB16,1)*[1]社会!$AB$10","v":0},{"$f":"COUNTIF([1]社会!AC16,1)*[1]社会!$AC$10","v":0},{"$f":"COUNTIF([1]社会!AD16,1)*[1]社会!$AD$10","v":0},{"$f":"COUNTIF([1]社会!AE16,1)*[1]社会!$AE$10","v":0},{"$f":"COUNTIF([1]社会!AF16,1)*[1]社会!$AF$10","v":0},{"$f":"COUNTIF([1]社会!AG16,1)*[1]社会!$AG$10","v":0},{"$f":"COUNTIF([1]社会!AH16,1)*[1]社会!$AH$10","v":0},{"$f":"COUNTIF([1]社会!AI16,1)*[1]社会!$AI$10","v":0},{"$f":"COUNTIF([1]社会!AJ16,1)*[1]社会!$AJ$10","v":0},{"$f":"COUNTIF([1]社会!AK16,1)*[1]社会!$AK$10","v":0},{"$f":"COUNTIF([1]社会!AL16,1)*[1]社会!$AL$10","v":0},{"$f":"COUNTIF([1]社会!AM16,1)*[1]社会!$AM$10","v":0},{"$f":"COUNTIF([1]社会!AN16,1)*[1]社会!$AN$10","v":0},{"$f":"COUNTIF([1]社会!AO16,1)*[1]社会!$AO$10","v":0},{"$f":"COUNTIF([1]社会!AP16,1)*[1]社会!$AP$10","v":0},{"$f":"COUNTIF([1]社会!AQ16,1)*[1]社会!$AQ$10","v":0},{"$f":"COUNTIF([1]社会!AR16,1)*[1]社会!$AR$10","v":0},{"$f":"COUNTIF([1]社会!AS16,1)*[1]社会!$AS$10","v":0},{"$f":"COUNTIF([1]社会!AT16,1)*[1]社会!$AT$10","v":0},{"$f":"COUNTIF([1]社会!AU16,1)*[1]社会!$AU$10","v":0},{"$f":"COUNTIF([1]社会!AV16,1)*[1]社会!$AV$10","v":0},{"$f":"COUNTIF([1]社会!AW16,1)*[1]社会!$AW$10","v":0},{"$f":"COUNTIF([1]社会!AX16,1)*[1]社会!$AX$10","v":0},{"$f":"COUNTIF([1]社会!AY16,1)*[1]社会!$AY$10","v":0},{"$f":"COUNTIF([1]社会!AZ16,1)*[1]社会!$AZ$10","v":0},{"$f":"COUNTIF([1]社会!BA16,1)*[1]社会!$BA$10","v":0},{"$f":"COUNTIF([1]社会!BB16,1)*[1]社会!$BB$10","v":0},0,null,null,"6問",{"$f":"[1]社会!J58","v":0},null,"6問",35.9,null,6,2,"（1）","米づくりのさかんな地域"]
[7,{"$f":"COUNTIF([1]社会!E17,1)*[1]社会!$E$10","v":0},{"$f":"COUNTIF([1]社会!F17,1)*[1]社会!$F$10","v":0},{"$f":"COUNTIF([1]社会!G17,1)*[1]社会!$G$10","v":0},{"$f":"COUNTIF([1]社会!H17,1)*[1]社会!$H$10","v":0},{"$f":"COUNTIF([1]社会!I17,1)*[1]社会!$I$10","v":0},{"$f":"COUNTIF([1]社会!J17,1)*[1]社会!$J$10","v":0},{"$f":"COUNTIF([1]社会!K17,1)*[1]社会!$K$10","v":0},{"$f":"COUNTIF([1]社会!L17,1)*[1]社会!$L$10","v":0},{"$f":"COUNTIF([1]社会!M17,1)*[1]社会!$M$10","v":0},{"$f":"COUNTIF([1]社会!N17,1)*[1]社会!$N$10","v":0},{"$f":"COUNTIF([1]社会!O17,1)*[1]社会!$O$10","v":0},{"$f":"COUNTIF([1]社会!P17,1)*[1]社会!$P$10","v":0},{"$f":"COUNTIF([1]社会!Q17,1)*[1]社会!$Q$10","v":0},{"$f":"COUNTIF([1]社会!R17,1)*[1]社会!$R$10","v":0},{"$f":"COUNTIF([1]社会!S17,1)*[1]社会!$S$10","v":0},{"$f":"COUNTIF([1]社会!T17,1)*[1]社会!$T$10","v":0},{"$f":"COUNTIF([1]社会!U17,1)*[1]社会!$U$10","v":0},{"$f":"COUNTIF([1]社会!V17,1)*[1]社会!$V$10","v":0},{"$f":"COUNTIF([1]社会!W17,1)*[1]社会!$W$10","v":0},{"$f":"COUNTIF([1]社会!X17,1)*[1]社会!$X$10","v":0},{"$f":"COUNTIF([1]社会!Y17,1)*[1]社会!$Y$10","v":0},{"$f":"COUNTIF([1]社会!Z17,1)*[1]社会!$Z$10","v":0},{"$f":"COUNTIF([1]社会!AA17,1)*[1]社会!$AA$10","v":0},{"$f":"COUNTIF([1]社会!AB17,1)*[1]社会!$AB$10","v":0},{"$f":"COUNTIF([1]社会!AC17,1)*[1]社会!$AC$10","v":0},{"$f":"COUNTIF([1]社会!AD17,1)*[1]社会!$AD$10","v":0},{"$f":"COUNTIF([1]社会!AE17,1)*[1]社会!$AE$10","v":0},{"$f":"COUNTIF([1]社会!AF17,1)*[1]社会!$AF$10","v":0},{"$f":"COUNTIF([1]社会!AG17,1)*[1]社会!$AG$10","v":0},{"$f":"COUNTIF([1]社会!AH17,1)*[1]社会!$AH$10","v":0},{"$f":"COUNTIF([1]社会!AI17,1)*[1]社会!$AI$10","v":0},{"$f":"COUNTIF([1]社会!AJ17,1)*[1]社会!$AJ$10","v":0},{"$f":"COUNTIF([1]社会!AK17,1)*[1]社会!$AK$10","v":0},{"$f":"COUNTIF([1]社会!AL17,1)*[1]社会!$AL$10","v":0},{"$f":"COUNTIF([1]社会!AM17,1)*[1]社会!$AM$10","v":0},{"$f":"COUNTIF([1]社会!AN17,1)*[1]社会!$AN$10","v":0},{"$f":"COUNTIF([1]社会!AO17,1)*[1]社会!$AO$10","v":0},{"$f":"COUNTIF([1]社会!AP17,1)*[1]社会!$AP$10","v":0},{"$f":"COUNTIF([1]社会!AQ17,1)*[1]社会!$AQ$10","v":0},{"$f":"COUNTIF([1]社会!AR17,1)*[1]社会!$AR$10","v":0},{"$f":"COUNTIF([1]社会!AS17,1)*[1]社会!$AS$10","v":0},{"$f":"COUNTIF([1]社会!AT17,1)*[1]社会!$AT$10","v":0},{"$f":"COUNTIF([1]社会!AU17,1)*[1]社会!$AU$10","v":0},{"$f":"COUNTIF([1]社会!AV17,1)*[1]社会!$AV$10","v":0},{"$f":"COUNTIF([1]社会!AW17,1)*[1]社会!$AW$10","v":0},{"$f":"COUNTIF([1]社会!AX17,1)*[1]社会!$AX$10","v":0},{"$f":"COUNTIF([1]社会!AY17,1)*[1]社会!$AY$10","v":0},{"$f":"COUNTIF([1]社会!AZ17,1)*[1]社会!$AZ$10","v":0},{"$f":"COUNTIF([1]社会!BA17,1)*[1]社会!$BA$10","v":0},{"$f":"COUNTIF([1]社会!BB17,1)*[1]社会!$BB$10","v":0},0,null,null,"7問",{"$f":"[1]社会!K58","v":0},null,"7問",68.899999999999991,null,7,2,"（2）ゆか","米づくりのさかんな地域"]
[8,{"$f":"COUNTIF([1]社会!E18,1)*[1]社会!$E$10","v":0},{"$f":"COUNTIF([1]社会!F18,1)*[1]社会!$F$10","v":0},{"$f":"COUNTIF([1]社会!G18,1)*[1]社会!$G$10","v":0},{"$f":"COUNTIF([1]社会!H18,1)*[1]社会!$H$10","v":0},{"$f":"COUNTIF([1]社会!I18,1)*[1]社会!$I$10","v":0},{"$f":"COUNTIF([1]社会!J18,1)*[1]社会!$J$10","v":0},{"$f":"COUNTIF([1]社会!K18,1)*[1]社会!$K$10","v":0},{"$f":"COUNTIF([1]社会!L18,1)*[1]社会!$L$10","v":0},{"$f":"COUNTIF([1]社会!M18,1)*[1]社会!$M$10","v":0},{"$f":"COUNTIF([1]社会!N18,1)*[1]社会!$N$10","v":0},{"$f":"COUNTIF([1]社会!O18,1)*[1]社会!$O$10","v":0},{"$f":"COUNTIF([1]社会!P18,1)*[1]社会!$P$10","v":0},{"$f":"COUNTIF([1]社会!Q18,1)*[1]社会!$Q$10","v":0},{"$f":"COUNTIF([1]社会!R18,1)*[1]社会!$R$10","v":0},{"$f":"COUNTIF([1]社会!S18,1)*[1]社会!$S$10","v":0},{"$f":"COUNTIF([1]社会!T18,1)*[1]社会!$T$10","v":0},{"$f":"COUNTIF([1]社会!U18,1)*[1]社会!$U$10","v":0},{"$f":"COUNTIF([1]社会!V18,1)*[1]社会!$V$10","v":0},{"$f":"COUNTIF([1]社会!W18,1)*[1]社会!$W$10","v":0},{"$f":"COUNTIF([1]社会!X18,1)*[1]社会!$X$10","v":0},{"$f":"COUNTIF([1]社会!Y18,1)*[1]社会!$Y$10","v":0},{"$f":"COUNTIF([1]社会!Z18,1)*[1]社会!$Z$10","v":0},{"$f":"COUNTIF([1]社会!AA18,1)*[1]社会!$AA$10","v":0},{"$f":"COUNTIF([1]社会!AB18,1)*[1]社会!$AB$10","v":0},{"$f":"COUNTIF([1]社会!AC18,1)*[1]社会!$AC$10","v":0},{"$f":"COUNTIF([1]社会!AD18,1)*[1]社会!$AD$10","v":0},{"$f":"COUNTIF([1]社会!AE18,1)*[1]社会!$AE$10","v":0},{"$f":"COUNTIF([1]社会!AF18,1)*[1]社会!$AF$10","v":0},{"$f":"COUNTIF([1]社会!AG18,1)*[1]社会!$AG$10","v":0},{"$f":"COUNTIF([1]社会!AH18,1)*[1]社会!$AH$10","v":0},{"$f":"COUNTIF([1]社会!AI18,1)*[1]社会!$AI$10","v":0},{"$f":"COUNTIF([1]社会!AJ18,1)*[1]社会!$AJ$10","v":0},{"$f":"COUNTIF([1]社会!AK18,1)*[1]社会!$AK$10","v":0},{"$f":"COUNTIF([1]社会!AL18,1)*[1]社会!$AL$10","v":0},{"$f":"COUNTIF([1]社会!AM18,1)*[1]社会!$AM$10","v":0},{"$f":"COUNTIF([1]社会!AN18,1)*[1]社会!$AN$10","v":0},{"$f":"COUNTIF([1]社会!AO18,1)*[1]社会!$AO$10","v":0},{"$f":"COUNTIF([1]社会!AP18,1)*[1]社会!$AP$10","v":0},{"$f":"COUNTIF([1]社会!AQ18,1)*[1]社会!$AQ$10","v":0},{"$f":"COUNTIF([1]社会!AR18,1)*[1]社会!$AR$10","v":0},{"$f":"COUNTIF([1]社会!AS18,1)*[1]社会!$AS$10","v":0},{"$f":"COUNTIF([1]社会!AT18,1)*[1]社会!$AT$10","v":0},{"$f":"COUNTIF([1]社会!AU18,1)*[1]社会!$AU$10","v":0},{"$f":"COUNTIF([1]社会!AV18,1)*[1]社会!$AV$10","v":0},{"$f":"COUNTIF([1]社会!AW18,1)*[1]社会!$AW$10","v":0},{"$f":"COUNTIF([1]社会!AX18,1)*[1]社会!$AX$10","v":0},{"$f":"COUNTIF([1]社会!AY18,1)*[1]社会!$AY$10","v":0},{"$f":"COUNTIF([1]社会!AZ18,1)*[1]社会!$AZ$10","v":0},{"$f":"COUNTIF([1]社会!BA18,1)*[1]社会!$BA$10","v":0},{"$f":"COUNTIF([1]社会!BB18,1)*[1]社会!$BB$10","v":0},0,null,null,"8問",{"$f":"[1]社会!L58","v":0},null,"8問",65.5,null,8,2,"（2）しんいち","米づくりのさかんな地域"]
[9,{"$f":"COUNTIF([1]社会!E19,1)*[1]社会!$E$10","v":0},{"$f":"COUNTIF([1]社会!F19,1)*[1]社会!$F$10","v":0},{"$f":"COUNTIF([1]社会!G19,1)*[1]社会!$G$10","v":0},{"$f":"COUNTIF([1]社会!H19,1)*[1]社会!$H$10","v":0},{"$f":"COUNTIF([1]社会!I19,1)*[1]社会!$I$10","v":0},{"$f":"COUNTIF([1]社会!J19,1)*[1]社会!$J$10","v":0},{"$f":"COUNTIF([1]社会!K19,1)*[1]社会!$K$10","v":0},{"$f":"COUNTIF([1]社会!L19,1)*[1]社会!$L$10","v":0},{"$f":"COUNTIF([1]社会!M19,1)*[1]社会!$M$10","v":0},{"$f":"COUNTIF([1]社会!N19,1)*[1]社会!$N$10","v":0},{"$f":"COUNTIF([1]社会!O19,1)*[1]社会!$O$10","v":0},{"$f":"COUNTIF([1]社会!P19,1)*[1]社会!$P$10","v":0},{"$f":"COUNTIF([1]社会!Q19,1)*[1]社会!$Q$10","v":0},{"$f":"COUNTIF([1]社会!R19,1)*[1]社会!$R$10","v":0},{"$f":"COUNTIF([1]社会!S19,1)*[1]社会!$S$10","v":0},{"$f":"COUNTIF([1]社会!T19,1)*[1]社会!$T$10","v":0},{"$f":"COUNTIF([1]社会!U19,1)*[1]社会!$U$10","v":0},{"$f":"COUNTIF([1]社会!V19,1)*[1]社会!$V$10","v":0},{"$f":"COUNTIF([1]社会!W19,1)*[1]社会!$W$10","v":0},{"$f":"COUNTIF([1]社会!X19,1)*[1]社会!$X$10","v":0},{"$f":"COUNTIF([1]社会!Y19,1)*[1]社会!$Y$10","v":0},{"$f":"COUNTIF([1]社会!Z19,1)*[1]社会!$Z$10","v":0},{"$f":"COUNTIF([1]社会!AA19,1)*[1]社会!$AA$10","v":0},{"$f":"COUNTIF([1]社会!AB19,1)*[1]社会!$AB$10","v":0},{"$f":"COUNTIF([1]社会!AC19,1)*[1]社会!$AC$10","v":0},{"$f":"COUNTIF([1]社会!AD19,1)*[1]社会!$AD$10","v":0},{"$f":"COUNTIF([1]社会!AE19,1)*[1]社会!$AE$10","v":0},{"$f":"COUNTIF([1]社会!AF19,1)*[1]社会!$AF$10","v":0},{"$f":"COUNTIF([1]社会!AG19,1)*[1]社会!$AG$10","v":0},{"$f":"COUNTIF([1]社会!AH19,1)*[1]社会!$AH$10","v":0},{"$f":"COUNTIF([1]社会!AI19,1)*[1]社会!$AI$10","v":0},{"$f":"COUNTIF([1]社会!AJ19,1)*[1]社会!$AJ$10","v":0},{"$f":"COUNTIF([1]社会!AK19,1)*[1]社会!$AK$10","v":0},{"$f":"COUNTIF([1]社会!AL19,1)*[1]社会!$AL$10","v":0},{"$f":"COUNTIF([1]社会!AM19,1)*[1]社会!$AM$10","v":0},{"$f":"COUNTIF([1]社会!AN19,1)*[1]社会!$AN$10","v":0},{"$f":"COUNTIF([1]社会!AO19,1)*[1]社会!$AO$10","v":0},{"$f":"COUNTIF([1]社会!AP19,1)*[1]社会!$AP$10","v":0},{"$f":"COUNTIF([1]社会!AQ19,1)*[1]社会!$AQ$10","v":0},{"$f":"COUNTIF([1]社会!AR19,1)*[1]社会!$AR$10","v":0},{"$f":"COUNTIF([1]社会!AS19,1)*[1]社会!$AS$10","v":0},{"$f":"COUNTIF([1]社会!AT19,1)*[1]社会!$AT$10","v":0},{"$f":"COUNTIF([1]社会!AU19,1)*[1]社会!$AU$10","v":0},{"$f":"COUNTIF([1]社会!AV19,1)*[1]社会!$AV$10","v":0},{"$f":"COUNTIF([1]社会!AW19,1)*[1]社会!$AW$10","v":0},{"$f":"COUNTIF([1]社会!AX19,1)*[1]社会!$AX$10","v":0},{"$f":"COUNTIF([1]社会!AY19,1)*[1]社会!$AY$10","v":0},{"$f":"COUNTIF([1]社会!AZ19,1)*[1]社会!$AZ$10","v":0},{"$f":"COUNTIF([1]社会!BA19,1)*[1]社会!$BA$10","v":0},{"$f":"COUNTIF([1]社会!BB19,1)*[1]社会!$BB$10","v":0},0,null,null,"9問",{"$f":"[1]社会!M58","v":0},null,"9問",55.400000000000006,null,9,2,"（3）","米づくりのさかんな地域"]
[10,{"$f":"COUNTIF([1]社会!E20,1)*[1]社会!$E$10","v":0},{"$f":"COUNTIF([1]社会!F20,1)*[1]社会!$F$10","v":0},{"$f":"COUNTIF([1]社会!G20,1)*[1]社会!$G$10","v":0},{"$f":"COUNTIF([1]社会!H20,1)*[1]社会!$H$10","v":0},{"$f":"COUNTIF([1]社会!I20,1)*[1]社会!$I$10","v":0},{"$f":"COUNTIF([1]社会!J20,1)*[1]社会!$J$10","v":0},{"$f":"COUNTIF([1]社会!K20,1)*[1]社会!$K$10","v":0},{"$f":"COUNTIF([1]社会!L20,1)*[1]社会!$L$10","v":0},{"$f":"COUNTIF([1]社会!M20,1)*[1]社会!$M$10","v":0},{"$f":"COUNTIF([1]社会!N20,1)*[1]社会!$N$10","v":0},{"$f":"COUNTIF([1]社会!O20,1)*[1]社会!$O$10","v":0},{"$f":"COUNTIF([1]社会!P20,1)*[1]社会!$P$10","v":0},{"$f":"COUNTIF([1]社会!Q20,1)*[1]社会!$Q$10","v":0},{"$f":"COUNTIF([1]社会!R20,1)*[1]社会!$R$10","v":0},{"$f":"COUNTIF([1]社会!S20,1)*[1]社会!$S$10","v":0},{"$f":"COUNTIF([1]社会!T20,1)*[1]社会!$T$10","v":0},{"$f":"COUNTIF([1]社会!U20,1)*[1]社会!$U$10","v":0},{"$f":"COUNTIF([1]社会!V20,1)*[1]社会!$V$10","v":0},{"$f":"COUNTIF([1]社会!W20,1)*[1]社会!$W$10","v":0},{"$f":"COUNTIF([1]社会!X20,1)*[1]社会!$X$10","v":0},{"$f":"COUNTIF([1]社会!Y20,1)*[1]社会!$Y$10","v":0},{"$f":"COUNTIF([1]社会!Z20,1)*[1]社会!$Z$10","v":0},{"$f":"COUNTIF([1]社会!AA20,1)*[1]社会!$AA$10","v":0},{"$f":"COUNTIF([1]社会!AB20,1)*[1]社会!$AB$10","v":0},{"$f":"COUNTIF([1]社会!AC20,1)*[1]社会!$AC$10","v":0},{"$f":"COUNTIF([1]社会!AD20,1)*[1]社会!$AD$10","v":0},{"$f":"COUNTIF([1]社会!AE20,1)*[1]社会!$AE$10","v":0},{"$f":"COUNTIF([1]社会!AF20,1)*[1]社会!$AF$10","v":0},{"$f":"COUNTIF([1]社会!AG20,1)*[1]社会!$AG$10","v":0},{"$f":"COUNTIF([1]社会!AH20,1)*[1]社会!$AH$10","v":0},{"$f":"COUNTIF([1]社会!AI20,1)*[1]社会!$AI$10","v":0},{"$f":"COUNTIF([1]社会!AJ20,1)*[1]社会!$AJ$10","v":0},{"$f":"COUNTIF([1]社会!AK20,1)*[1]社会!$AK$10","v":0},{"$f":"COUNTIF([1]社会!AL20,1)*[1]社会!$AL$10","v":0},{"$f":"COUNTIF([1]社会!AM20,1)*[1]社会!$AM$10","v":0},{"$f":"COUNTIF([1]社会!AN20,1)*[1]社会!$AN$10","v":0},{"$f":"COUNTIF([1]社会!AO20,1)*[1]社会!$AO$10","v":0},{"$f":"COUNTIF([1]社会!AP20,1)*[1]社会!$AP$10","v":0},{"$f":"COUNTIF([1]社会!AQ20,1)*[1]社会!$AQ$10","v":0},{"$f":"COUNTIF([1]社会!AR20,1)*[1]社会!$AR$10","v":0},{"$f":"COUNTIF([1]社会!AS20,1)*[1]社会!$AS$10","v":0},{"$f":"COUNTIF([1]社会!AT20,1)*[1]社会!$AT$10","v":0},{"$f":"COUNTIF([1]社会!AU20,1)*[1]社会!$AU$10","v":0},{"$f":"COUNTIF([1]社会!AV20,1)*[1]社会!$AV$10","v":0},{"$f":"COUNTIF([1]社会!AW20,1)*[1]社会!$AW$10","v":0},{"$f":"COUNTIF([1]社会!AX20,1)*[1]社会!$AX$10","v":0},{"$f":"COUNTIF([1]社会!AY20,1)*[1]社会!$AY$10","v":0},{"$f":"COUNTIF([1]社会!AZ20,1)*[1]社会!$AZ$10","v":0},{"$f":"COUNTIF([1]社会!BA20,1)*[1]社会!$BA$10","v":0},{"$f":"COUNTIF([1]社会!BB20,1)*[1]社会!$BB$10","v":0},0,null,null,"10問",{"$f":"[1]社会!N58","v":0},null,"10問",73.2,null,10,3,"（1）あ","水産業のさかんな地域"]
[11,{"$f":"COUNTIF([1]社会!E21,1)*[1]社会!$E$10","v":0},{"$f":"COUNTIF([1]社会!F21,1)*[1]社会!$F$10","v":0},{"$f":"COUNTIF([1]社会!G21,1)*[1]社会!$G$10","v":0},{"$f":"COUNTIF([1]社会!H21,1)*[1]社会!$H$10","v":0},{"$f":"COUNTIF([1]社会!I21,1)*[1]社会!$I$10","v":0},{"$f":"COUNTIF([1]社会!J21,1)*[1]社会!$J$10","v":0},{"$f":"COUNTIF([1]社会!K21,1)*[1]社会!$K$10","v":0},{"$f":"COUNTIF([1]社会!L21,1)*[1]社会!$L$10","v":0},{"$f":"COUNTIF([1]社会!M21,1)*[1]社会!$M$10","v":0},{"$f":"COUNTIF([1]社会!N21,1)*[1]社会!$N$10","v":0},{"$f":"COUNTIF([1]社会!O21,1)*[1]社会!$O$10","v":0},{"$f":"COUNTIF([1]社会!P21,1)*[1]社会!$P$10","v":0},{"$f":"COUNTIF([1]社会!Q21,1)*[1]社会!$Q$10","v":0},{"$f":"COUNTIF([1]社会!R21,1)*[1]社会!$R$10","v":0},{"$f":"COUNTIF([1]社会!S21,1)*[1]社会!$S$10","v":0},{"$f":"COUNTIF([1]社会!T21,1)*[1]社会!$T$10","v":0},{"$f":"COUNTIF([1]社会!U21,1)*[1]社会!$U$10","v":0},{"$f":"COUNTIF([1]社会!V21,1)*[1]社会!$V$10","v":0},{"$f":"COUNTIF([1]社会!W21,1)*[1]社会!$W$10","v":0},{"$f":"COUNTIF([1]社会!X21,1)*[1]社会!$X$10","v":0},{"$f":"COUNTIF([1]社会!Y21,1)*[1]社会!$Y$10","v":0},{"$f":"COUNTIF([1]社会!Z21,1)*[1]社会!$Z$10","v":0},{"$f":"COUNTIF([1]社会!AA21,1)*[1]社会!$AA$10","v":0},{"$f":"COUNTIF([1]社会!AB21,1)*[1]社会!$AB$10","v":0},{"$f":"COUNTIF([1]社会!AC21,1)*[1]社会!$AC$10","v":0},{"$f":"COUNTIF([1]社会!AD21,1)*[1]社会!$AD$10","v":0},{"$f":"COUNTIF([1]社会!AE21,1)*[1]社会!$AE$10","v":0},{"$f":"COUNTIF([1]社会!AF21,1)*[1]社会!$AF$10","v":0},{"$f":"COUNTIF([1]社会!AG21,1)*[1]社会!$AG$10","v":0},{"$f":"COUNTIF([1]社会!AH21,1)*[1]社会!$AH$10","v":0},{"$f":"COUNTIF([1]社会!AI21,1)*[1]社会!$AI$10","v":0},{"$f":"COUNTIF([1]社会!AJ21,1)*[1]社会!$AJ$10","v":0},{"$f":"COUNTIF([1]社会!AK21,1)*[1]社会!$AK$10","v":0},{"$f":"COUNTIF([1]社会!AL21,1)*[1]社会!$AL$10","v":0},{"$f":"COUNTIF([1]社会!AM21,1)*[1]社会!$AM$10","v":0},{"$f":"COUNTIF([1]社会!AN21,1)*[1]社会!$AN$10","v":0},{"$f":"COUNTIF([1]社会!AO21,1)*[1]社会!$AO$10","v":0},{"$f":"COUNTIF([1]社会!AP21,1)*[1]社会!$AP$10","v":0},{"$f":"COUNTIF([1]社会!AQ21,1)*[1]社会!$AQ$10","v":0},{"$f":"COUNTIF([1]社会!AR21,1)*[1]社会!$AR$10","v":0},{"$f":"COUNTIF([1]社会!AS21,1)*[1]社会!$AS$10","v":0},{"$f":"COUNTIF([1]社会!AT21,1)*[1]社会!$AT$10","v":0},{"$f":"COUNTIF([1]社会!AU21,1)*[1]社会!$AU$10","v":0},{"$f":"COUNTIF([1]社会!AV21,1)*[1]社会!$AV$10","v":0},{"$f":"COUNTIF([1]社会!AW21,1)*[1]社会!$AW$10","v":0},{"$f":"COUNTIF([1]社会!AX21,1)*[1]社会!$AX$10","v":0},{"$f":"COUNTIF([1]社会!AY21,1)*[1]社会!$AY$10","v":0},{"$f":"COUNTIF([1]社会!AZ21,1)*[1]社会!$AZ$10","v":0},{"$f":"COUNTIF([1]社会!BA21,1)*[1]社会!$BA$10","v":0},{"$f":"COUNTIF([1]社会!BB21,1)*[1]社会!$BB$10","v":0},0,null,null,"11問",{"$f":"[1]社会!O58","v":0},null,"11問",100,null,11,3,"（1）い","水産業のさかんな地域"]
[12,{"$f":"COUNTIF([1]社会!E22,1)*[1]社会!$E$10","v":0},{"$f":"COUNTIF([1]社会!F22,1)*[1]社会!$F$10","v":0},{"$f":"COUNTIF([1]社会!G22,1)*[1]社会!$G$10","v":0},{"$f":"COUNTIF([1]社会!H22,1)*[1]社会!$H$10","v":0},{"$f":"COUNTIF([1]社会!I22,1)*[1]社会!$I$10","v":0},{"$f":"COUNTIF([1]社会!J22,1)*[1]社会!$J$10","v":0},{"$f":"COUNTIF([1]社会!K22,1)*[1]社会!$K$10","v":0},{"$f":"COUNTIF([1]社会!L22,1)*[1]社会!$L$10","v":0},{"$f":"COUNTIF([1]社会!M22,1)*[1]社会!$M$10","v":0},{"$f":"COUNTIF([1]社会!N22,1)*[1]社会!$N$10","v":0},{"$f":"COUNTIF([1]社会!O22,1)*[1]社会!$O$10","v":0},{"$f":"COUNTIF([1]社会!P22,1)*[1]社会!$P$10","v":0},{"$f":"COUNTIF([1]社会!Q22,1)*[1]社会!$Q$10","v":0},{"$f":"COUNTIF([1]社会!R22,1)*[1]社会!$R$10","v":0},{"$f":"COUNTIF([1]社会!S22,1)*[1]社会!$S$10","v":0},{"$f":"COUNTIF([1]社会!T22,1)*[1]社会!$T$10","v":0},{"$f":"COUNTIF([1]社会!U22,1)*[1]社会!$U$10","v":0},{"$f":"COUNTIF([1]社会!V22,1)*[1]社会!$V$10","v":0},{"$f":"COUNTIF([1]社会!W22,1)*[1]社会!$W$10","v":0},{"$f":"COUNTIF([1]社会!X22,1)*[1]社会!$X$10","v":0},{"$f":"COUNTIF([1]社会!Y22,1)*[1]社会!$Y$10","v":0},{"$f":"COUNTIF([1]社会!Z22,1)*[1]社会!$Z$10","v":0},{"$f":"COUNTIF([1]社会!AA22,1)*[1]社会!$AA$10","v":0},{"$f":"COUNTIF([1]社会!AB22,1)*[1]社会!$AB$10","v":0},{"$f":"COUNTIF([1]社会!AC22,1)*[1]社会!$AC$10","v":0},{"$f":"COUNTIF([1]社会!AD22,1)*[1]社会!$AD$10","v":0},{"$f":"COUNTIF([1]社会!AE22,1)*[1]社会!$AE$10","v":0},{"$f":"COUNTIF([1]社会!AF22,1)*[1]社会!$AF$10","v":0},{"$f":"COUNTIF([1]社会!AG22,1)*[1]社会!$AG$10","v":0},{"$f":"COUNTIF([1]社会!AH22,1)*[1]社会!$AH$10","v":0},{"$f":"COUNTIF([1]社会!AI22,1)*[1]社会!$AI$10","v":0},{"$f":"COUNTIF([1]社会!AJ22,1)*[1]社会!$AJ$10","v":0},{"$f":"COUNTIF([1]社会!AK22,1)*[1]社会!$AK$10","v":0},{"$f":"COUNTIF([1]社会!AL22,1)*[1]社会!$AL$10","v":0},{"$f":"COUNTIF([1]社会!AM22,1)*[1]社会!$AM$10","v":0},{"$f":"COUNTIF([1]社会!AN22,1)*[1]社会!$AN$10","v":0},{"$f":"COUNTIF([1]社会!AO22,1)*[1]社会!$AO$10","v":0},{"$f":"COUNTIF([1]社会!AP22,1)*[1]社会!$AP$10","v":0},{"$f":"COUNTIF([1]社会!AQ22,1)*[1]社会!$AQ$10","v":0},{"$f":"COUNTIF([1]社会!AR22,1)*[1]社会!$AR$10","v":0},{"$f":"COUNTIF([1]社会!AS22,1)*[1]社会!$AS$10","v":0},{"$f":"COUNTIF([1]社会!AT22,1)*[1]社会!$AT$10","v":0},{"$f":"COUNTIF([1]社会!AU22,1)*[1]社会!$AU$10","v":0},{"$f":"COUNTIF([1]社会!AV22,1)*[1]社会!$AV$10","v":0},{"$f":"COUNTIF([1]社会!AW22,1)*[1]社会!$AW$10","v":0},{"$f":"COUNTIF([1]社会!AX22,1)*[1]社会!$AX$10","v":0},{"$f":"COUNTIF([1]社会!AY22,1)*[1]社会!$AY$10","v":0},{"$f":"COUNTIF([1]社会!AZ22,1)*[1]社会!$AZ$10","v":0},{"$f":"COUNTIF([1]社会!BA22,1)*[1]社会!$BA$10","v":0},{"$f":"COUNTIF([1]社会!BB22,1)*[1]社会!$BB$10","v":0},0,null,null,"12問",{"$f":"[1]社会!P58","v":0},null,"12問",92.100000000000009,null,12,3,"（2）","水産業のさかんな地域"]
[13,{"$f":"COUNTIF([1]社会!E23,1)*[1]社会!$E$10","v":0},{"$f":"COUNTIF([1]社会!F23,1)*[1]社会!$F$10","v":0},{"$f":"COUNTIF([1]社会!G23,1)*[1]社会!$G$10","v":0},{"$f":"COUNTIF([1]社会!H23,1)*[1]社会!$H$10","v":0},{"$f":"COUNTIF([1]社会!I23,1)*[1]社会!$I$10","v":0},{"$f":"COUNTIF([1]社会!J23,1)*[1]社会!$J$10","v":0},{"$f":"COUNTIF([1]社会!K23,1)*[1]社会!$K$10","v":0},{"$f":"COUNTIF([1]社会!L23,1)*[1]社会!$L$10","v":0},{"$f":"COUNTIF([1]社会!M23,1)*[1]社会!$M$10","v":0},{"$f":"COUNTIF([1]社会!N23,1)*[1]社会!$N$10","v":0},{"$f":"COUNTIF([1]社会!O23,1)*[1]社会!$O$10","v":0},{"$f":"COUNTIF([1]社会!P23,1)*[1]社会!$P$10","v":0},{"$f":"COUNTIF([1]社会!Q23,1)*[1]社会!$Q$10","v":0},{"$f":"COUNTIF([1]社会!R23,1)*[1]社会!$R$10","v":0},{"$f":"COUNTIF([1]社会!S23,1)*[1]社会!$S$10","v":0},{"$f":"COUNTIF([1]社会!T23,1)*[1]社会!$T$10","v":0},{"$f":"COUNTIF([1]社会!U23,1)*[1]社会!$U$10","v":0},{"$f":"COUNTIF([1]社会!V23,1)*[1]社会!$V$10","v":0},{"$f":"COUNTIF([1]社会!W23,1)*[1]社会!$W$10","v":0},{"$f":"COUNTIF([1]社会!X23,1)*[1]社会!$X$10","v":0},{"$f":"COUNTIF([1]社会!Y23,1)*[1]社会!$Y$10","v":0},{"$f":"COUNTIF([1]社会!Z23,1)*[1]社会!$Z$10","v":0},{"$f":"COUNTIF([1]社会!AA23,1)*[1]社会!$AA$10","v":0},{"$f":"COUNTIF([1]社会!AB23,1)*[1]社会!$AB$10","v":0},{"$f":"COUNTIF([1]社会!AC23,1)*[1]社会!$AC$10","v":0},{"$f":"COUNTIF([1]社会!AD23,1)*[1]社会!$AD$10","v":0},{"$f":"COUNTIF([1]社会!AE23,1)*[1]社会!$AE$10","v":0},{"$f":"COUNTIF([1]社会!AF23,1)*[1]社会!$AF$10","v":0},{"$f":"COUNTIF([1]社会!AG23,1)*[1]社会!$AG$10","v":0},{"$f":"COUNTIF([1]社会!AH23,1)*[1]社会!$AH$10","v":0},{"$f":"COUNTIF([1]社会!AI23,1)*[1]社会!$AI$10","v":0},{"$f":"COUNTIF([1]社会!AJ23,1)*[1]社会!$AJ$10","v":0},{"$f":"COUNTIF([1]社会!AK23,1)*[1]社会!$AK$10","v":0},{"$f":"COUNTIF([1]社会!AL23,1)*[1]社会!$AL$10","v":0},{"$f":"COUNTIF([1]社会!AM23,1)*[1]社会!$AM$10","v":0},{"$f":"COUNTIF([1]社会!AN23,1)*[1]社会!$AN$10","v":0},{"$f":"COUNTIF([1]社会!AO23,1)*[1]社会!$AO$10","v":0},{"$f":"COUNTIF([1]社会!AP23,1)*[1]社会!$AP$10","v":0},{"$f":"COUNTIF([1]社会!AQ23,1)*[1]社会!$AQ$10","v":0},{"$f":"COUNTIF([1]社会!AR23,1)*[1]社会!$AR$10","v":0},{"$f":"COUNTIF([1]社会!AS23,1)*[1]社会!$AS$10","v":0},{"$f":"COUNTIF([1]社会!AT23,1)*[1]社会!$AT$10","v":0},{"$f":"COUNTIF([1]社会!AU23,1)*[1]社会!$AU$10","v":0},{"$f":"COUNTIF([1]社会!AV23,1)*[1]社会!$AV$10","v":0},{"$f":"COUNTIF([1]社会!AW23,1)*[1]社会!$AW$10","v":0},{"$f":"COUNTIF([1]社会!AX23,1)*[1]社会!$AX$10","v":0},{"$f":"COUNTIF([1]社会!AY23,1)*[1]社会!$AY$10","v":0},{"$f":"COUNTIF([1]社会!AZ23,1)*[1]社会!$AZ$10","v":0},{"$f":"COUNTIF([1]社会!BA23,1)*[1]社会!$BA$10","v":0},{"$f":"COUNTIF([1]社会!BB23,1)*[1]社会!$BB$10","v":0},0,null,null,"13問",{"$f":"[1]社会!Q58","v":0},null,"13問",84.1,null,13,3,"（3）","水産業のさかんな地域"]
[14,{"$f":"COUNTIF([1]社会!E24,1)*[1]社会!$E$10","v":0},{"$f":"COUNTIF([1]社会!F24,1)*[1]社会!$F$10","v":0},{"$f":"COUNTIF([1]社会!G24,1)*[1]社会!$G$10","v":0},{"$f":"COUNTIF([1]社会!H24,1)*[1]社会!$H$10","v":0},{"$f":"COUNTIF([1]社会!I24,1)*[1]社会!$I$10","v":0},{"$f":"COUNTIF([1]社会!J24,1)*[1]社会!$J$10","v":0},{"$f":"COUNTIF([1]社会!K24,1)*[1]社会!$K$10","v":0},{"$f":"COUNTIF([1]社会!L24,1)*[1]社会!$L$10","v":0},{"$f":"COUNTIF([1]社会!M24,1)*[1]社会!$M$10","v":0},{"$f":"COUNTIF([1]社会!N24,1)*[1]社会!$N$10","v":0},{"$f":"COUNTIF([1]社会!O24,1)*[1]社会!$O$10","v":0},{"$f":"COUNTIF([1]社会!P24,1)*[1]社会!$P$10","v":0},{"$f":"COUNTIF([1]社会!Q24,1)*[1]社会!$Q$10","v":0},{"$f":"COUNTIF([1]社会!R24,1)*[1]社会!$R$10","v":0},{"$f":"COUNTIF([1]社会!S24,1)*[1]社会!$S$10","v":0},{"$f":"COUNTIF([1]社会!T24,1)*[1]社会!$T$10","v":0},{"$f":"COUNTIF([1]社会!U24,1)*[1]社会!$U$10","v":0},{"$f":"COUNTIF([1]社会!V24,1)*[1]社会!$V$10","v":0},{"$f":"COUNTIF([1]社会!W24,1)*[1]社会!$W$10","v":0},{"$f":"COUNTIF([1]社会!X24,1)*[1]社会!$X$10","v":0},{"$f":"COUNTIF([1]社会!Y24,1)*[1]社会!$Y$10","v":0},{"$f":"COUNTIF([1]社会!Z24,1)*[1]社会!$Z$10","v":0},{"$f":"COUNTIF([1]社会!AA24,1)*[1]社会!$AA$10","v":0},{"$f":"COUNTIF([1]社会!AB24,1)*[1]社会!$AB$10","v":0},{"$f":"COUNTIF([1]社会!AC24,1)*[1]社会!$AC$10","v":0},{"$f":"COUNTIF([1]社会!AD24,1)*[1]社会!$AD$10","v":0},{"$f":"COUNTIF([1]社会!AE24,1)*[1]社会!$AE$10","v":0},{"$f":"COUNTIF([1]社会!AF24,1)*[1]社会!$AF$10","v":0},{"$f":"COUNTIF([1]社会!AG24,1)*[1]社会!$AG$10","v":0},{"$f":"COUNTIF([1]社会!AH24,1)*[1]社会!$AH$10","v":0},{"$f":"COUNTIF([1]社会!AI24,1)*[1]社会!$AI$10","v":0},{"$f":"COUNTIF([1]社会!AJ24,1)*[1]社会!$AJ$10","v":0},{"$f":"COUNTIF([1]社会!AK24,1)*[1]社会!$AK$10","v":0},{"$f":"COUNTIF([1]社会!AL24,1)*[1]社会!$AL$10","v":0},{"$f":"COUNTIF([1]社会!AM24,1)*[1]社会!$AM$10","v":0},{"$f":"COUNTIF([1]社会!AN24,1)*[1]社会!$AN$10","v":0},{"$f":"COUNTIF([1]社会!AO24,1)*[1]社会!$AO$10","v":0},{"$f":"COUNTIF([1]社会!AP24,1)*[1]社会!$AP$10","v":0},{"$f":"COUNTIF([1]社会!AQ24,1)*[1]社会!$AQ$10","v":0},{"$f":"COUNTIF([1]社会!AR24,1)*[1]社会!$AR$10","v":0},{"$f":"COUNTIF([1]社会!AS24,1)*[1]社会!$AS$10","v":0},{"$f":"COUNTIF([1]社会!AT24,1)*[1]社会!$AT$10","v":0},{"$f":"COUNTIF([1]社会!AU24,1)*[1]社会!$AU$10","v":0},{"$f":"COUNTIF([1]社会!AV24,1)*[1]社会!$AV$10","v":0},{"$f":"COUNTIF([1]社会!AW24,1)*[1]社会!$AW$10","v":0},{"$f":"COUNTIF([1]社会!AX24,1)*[1]社会!$AX$10","v":0},{"$f":"COUNTIF([1]社会!AY24,1)*[1]社会!$AY$10","v":0},{"$f":"COUNTIF([1]社会!AZ24,1)*[1]社会!$AZ$10","v":0},{"$f":"COUNTIF([1]社会!BA24,1)*[1]社会!$BA$10","v":0},{"$f":"COUNTIF([1]社会!BB24,1)*[1]社会!$BB$10","v":0},0,null,null,"14問",{"$f":"[1]社会!R58","v":0},null,"14問",70.599999999999994,null,14,4,"（1）","わたしたちの生活と工業生産"]
[15,{"$f":"COUNTIF([1]社会!E25,1)*[1]社会!$E$10","v":0},{"$f":"COUNTIF([1]社会!F25,1)*[1]社会!$F$10","v":0},{"$f":"COUNTIF([1]社会!G25,1)*[1]社会!$G$10","v":0},{"$f":"COUNTIF([1]社会!H25,1)*[1]社会!$H$10","v":0},{"$f":"COUNTIF([1]社会!I25,1)*[1]社会!$I$10","v":0},{"$f":"COUNTIF([1]社会!J25,1)*[1]社会!$J$10","v":0},{"$f":"COUNTIF([1]社会!K25,1)*[1]社会!$K$10","v":0},{"$f":"COUNTIF([1]社会!L25,1)*[1]社会!$L$10","v":0},{"$f":"COUNTIF([1]社会!M25,1)*[1]社会!$M$10","v":0},{"$f":"COUNTIF([1]社会!N25,1)*[1]社会!$N$10","v":0},{"$f":"COUNTIF([1]社会!O25,1)*[1]社会!$O$10","v":0},{"$f":"COUNTIF([1]社会!P25,1)*[1]社会!$P$10","v":0},{"$f":"COUNTIF([1]社会!Q25,1)*[1]社会!$Q$10","v":0},{"$f":"COUNTIF([1]社会!R25,1)*[1]社会!$R$10","v":0},{"$f":"COUNTIF([1]社会!S25,1)*[1]社会!$S$10","v":0},{"$f":"COUNTIF([1]社会!T25,1)*[1]社会!$T$10","v":0},{"$f":"COUNTIF([1]社会!U25,1)*[1]社会!$U$10","v":0},{"$f":"COUNTIF([1]社会!V25,1)*[1]社会!$V$10","v":0},{"$f":"COUNTIF([1]社会!W25,1)*[1]社会!$W$10","v":0},{"$f":"COUNTIF([1]社会!X25,1)*[1]社会!$X$10","v":0},{"$f":"COUNTIF([1]社会!Y25,1)*[1]社会!$Y$10","v":0},{"$f":"COUNTIF([1]社会!Z25,1)*[1]社会!$Z$10","v":0},{"$f":"COUNTIF([1]社会!AA25,1)*[1]社会!$AA$10","v":0},{"$f":"COUNTIF([1]社会!AB25,1)*[1]社会!$AB$10","v":0},{"$f":"COUNTIF([1]社会!AC25,1)*[1]社会!$AC$10","v":0},{"$f":"COUNTIF([1]社会!AD25,1)*[1]社会!$AD$10","v":0},{"$f":"COUNTIF([1]社会!AE25,1)*[1]社会!$AE$10","v":0},{"$f":"COUNTIF([1]社会!AF25,1)*[1]社会!$AF$10","v":0},{"$f":"COUNTIF([1]社会!AG25,1)*[1]社会!$AG$10","v":0},{"$f":"COUNTIF([1]社会!AH25,1)*[1]社会!$AH$10","v":0},{"$f":"COUNTIF([1]社会!AI25,1)*[1]社会!$AI$10","v":0},{"$f":"COUNTIF([1]社会!AJ25,1)*[1]社会!$AJ$10","v":0},{"$f":"COUNTIF([1]社会!AK25,1)*[1]社会!$AK$10","v":0},{"$f":"COUNTIF([1]社会!AL25,1)*[1]社会!$AL$10","v":0},{"$f":"COUNTIF([1]社会!AM25,1)*[1]社会!$AM$10","v":0},{"$f":"COUNTIF([1]社会!AN25,1)*[1]社会!$AN$10","v":0},{"$f":"COUNTIF([1]社会!AO25,1)*[1]社会!$AO$10","v":0},{"$f":"COUNTIF([1]社会!AP25,1)*[1]社会!$AP$10","v":0},{"$f":"COUNTIF([1]社会!AQ25,1)*[1]社会!$AQ$10","v":0},{"$f":"COUNTIF([1]社会!AR25,1)*[1]社会!$AR$10","v":0},{"$f":"COUNTIF([1]社会!AS25,1)*[1]社会!$AS$10","v":0},{"$f":"COUNTIF([1]社会!AT25,1)*[1]社会!$AT$10","v":0},{"$f":"COUNTIF([1]社会!AU25,1)*[1]社会!$AU$10","v":0},{"$f":"COUNTIF([1]社会!AV25,1)*[1]社会!$AV$10","v":0},{"$f":"COUNTIF([1]社会!AW25,1)*[1]社会!$AW$10","v":0},{"$f":"COUNTIF([1]社会!AX25,1)*[1]社会!$AX$10","v":0},{"$f":"COUNTIF([1]社会!AY25,1)*[1]社会!$AY$10","v":0},{"$f":"COUNTIF([1]社会!AZ25,1)*[1]社会!$AZ$10","v":0},{"$f":"COUNTIF([1]社会!BA25,1)*[1]社会!$BA$10","v":0},{"$f":"COUNTIF([1]社会!BB25,1)*[1]社会!$BB$10","v":0},0,null,null,"15問",{"$f":"[1]社会!S58","v":0},null,"15問",53.5,null,15,4,"（2）","わたしたちの生活と工業生産"]
[16,{"$f":"COUNTIF([1]社会!E26,1)*[1]社会!$E$10","v":0},{"$f":"COUNTIF([1]社会!F26,1)*[1]社会!$F$10","v":0},{"$f":"COUNTIF([1]社会!G26,1)*[1]社会!$G$10","v":0},{"$f":"COUNTIF([1]社会!H26,1)*[1]社会!$H$10","v":0},{"$f":"COUNTIF([1]社会!I26,1)*[1]社会!$I$10","v":0},{"$f":"COUNTIF([1]社会!J26,1)*[1]社会!$J$10","v":0},{"$f":"COUNTIF([1]社会!K26,1)*[1]社会!$K$10","v":0},{"$f":"COUNTIF([1]社会!L26,1)*[1]社会!$L$10","v":0},{"$f":"COUNTIF([1]社会!M26,1)*[1]社会!$M$10","v":0},{"$f":"COUNTIF([1]社会!N26,1)*[1]社会!$N$10","v":0},{"$f":"COUNTIF([1]社会!O26,1)*[1]社会!$O$10","v":0},{"$f":"COUNTIF([1]社会!P26,1)*[1]社会!$P$10","v":0},{"$f":"COUNTIF([1]社会!Q26,1)*[1]社会!$Q$10","v":0},{"$f":"COUNTIF([1]社会!R26,1)*[1]社会!$R$10","v":0},{"$f":"COUNTIF([1]社会!S26,1)*[1]社会!$S$10","v":0},{"$f":"COUNTIF([1]社会!T26,1)*[1]社会!$T$10","v":0},{"$f":"COUNTIF([1]社会!U26,1)*[1]社会!$U$10","v":0},{"$f":"COUNTIF([1]社会!V26,1)*[1]社会!$V$10","v":0},{"$f":"COUNTIF([1]社会!W26,1)*[1]社会!$W$10","v":0},{"$f":"COUNTIF([1]社会!X26,1)*[1]社会!$X$10","v":0},{"$f":"COUNTIF([1]社会!Y26,1)*[1]社会!$Y$10","v":0},{"$f":"COUNTIF([1]社会!Z26,1)*[1]社会!$Z$10","v":0},{"$f":"COUNTIF([1]社会!AA26,1)*[1]社会!$AA$10","v":0},{"$f":"COUNTIF([1]社会!AB26,1)*[1]社会!$AB$10","v":0},{"$f":"COUNTIF([1]社会!AC26,1)*[1]社会!$AC$10","v":0},{"$f":"COUNTIF([1]社会!AD26,1)*[1]社会!$AD$10","v":0},{"$f":"COUNTIF([1]社会!AE26,1)*[1]社会!$AE$10","v":0},{"$f":"COUNTIF([1]社会!AF26,1)*[1]社会!$AF$10","v":0},{"$f":"COUNTIF([1]社会!AG26,1)*[1]社会!$AG$10","v":0},{"$f":"COUNTIF([1]社会!AH26,1)*[1]社会!$AH$10","v":0},{"$f":"COUNTIF([1]社会!AI26,1)*[1]社会!$AI$10","v":0},{"$f":"COUNTIF([1]社会!AJ26,1)*[1]社会!$AJ$10","v":0},{"$f":"COUNTIF([1]社会!AK26,1)*[1]社会!$AK$10","v":0},{"$f":"COUNTIF([1]社会!AL26,1)*[1]社会!$AL$10","v":0},{"$f":"COUNTIF([1]社会!AM26,1)*[1]社会!$AM$10","v":0},{"$f":"COUNTIF([1]社会!AN26,1)*[1]社会!$AN$10","v":0},{"$f":"COUNTIF([1]社会!AO26,1)*[1]社会!$AO$10","v":0},{"$f":"COUNTIF([1]社会!AP26,1)*[1]社会!$AP$10","v":0},{"$f":"COUNTIF([1]社会!AQ26,1)*[1]社会!$AQ$10","v":0},{"$f":"COUNTIF([1]社会!AR26,1)*[1]社会!$AR$10","v":0},{"$f":"COUNTIF([1]社会!AS26,1)*[1]社会!$AS$10","v":0},{"$f":"COUNTIF([1]社会!AT26,1)*[1]社会!$AT$10","v":0},{"$f":"COUNTIF([1]社会!AU26,1)*[1]社会!$AU$10","v":0},{"$f":"COUNTIF([1]社会!AV26,1)*[1]社会!$AV$10","v":0},{"$f":"COUNTIF([1]社会!AW26,1)*[1]社会!$AW$10","v":0},{"$f":"COUNTIF([1]社会!AX26,1)*[1]社会!$AX$10","v":0},{"$f":"COUNTIF([1]社会!AY26,1)*[1]社会!$AY$10","v":0},{"$f":"COUNTIF([1]社会!AZ26,1)*[1]社会!$AZ$10","v":0},{"$f":"COUNTIF([1]社会!BA26,1)*[1]社会!$BA$10","v":0},{"$f":"COUNTIF([1]社会!BB26,1)*[1]社会!$BB$10","v":0},0,null,null,"16問",{"$f":"[1]社会!T58","v":0},null,"16問",83.899999999999991,null,16,4,"（3）","わたしたちの生活と工業生産"]
[17,{"$f":"COUNTIF([1]社会!E27,1)*[1]社会!$E$10","v":0},{"$f":"COUNTIF([1]社会!F27,1)*[1]社会!$F$10","v":0},{"$f":"COUNTIF([1]社会!G27,1)*[1]社会!$G$10","v":0},{"$f":"COUNTIF([1]社会!H27,1)*[1]社会!$H$10","v":0},{"$f":"COUNTIF([1]社会!I27,1)*[1]社会!$I$10","v":0},{"$f":"COUNTIF([1]社会!J27,1)*[1]社会!$J$10","v":0},{"$f":"COUNTIF([1]社会!K27,1)*[1]社会!$K$10","v":0},{"$f":"COUNTIF([1]社会!L27,1)*[1]社会!$L$10","v":0},{"$f":"COUNTIF([1]社会!M27,1)*[1]社会!$M$10","v":0},{"$f":"COUNTIF([1]社会!N27,1)*[1]社会!$N$10","v":0},{"$f":"COUNTIF([1]社会!O27,1)*[1]社会!$O$10","v":0},{"$f":"COUNTIF([1]社会!P27,1)*[1]社会!$P$10","v":0},{"$f":"COUNTIF([1]社会!Q27,1)*[1]社会!$Q$10","v":0},{"$f":"COUNTIF([1]社会!R27,1)*[1]社会!$R$10","v":0},{"$f":"COUNTIF([1]社会!S27,1)*[1]社会!$S$10","v":0},{"$f":"COUNTIF([1]社会!T27,1)*[1]社会!$T$10","v":0},{"$f":"COUNTIF([1]社会!U27,1)*[1]社会!$U$10","v":0},{"$f":"COUNTIF([1]社会!V27,1)*[1]社会!$V$10","v":0},{"$f":"COUNTIF([1]社会!W27,1)*[1]社会!$W$10","v":0},{"$f":"COUNTIF([1]社会!X27,1)*[1]社会!$X$10","v":0},{"$f":"COUNTIF([1]社会!Y27,1)*[1]社会!$Y$10","v":0},{"$f":"COUNTIF([1]社会!Z27,1)*[1]社会!$Z$10","v":0},{"$f":"COUNTIF([1]社会!AA27,1)*[1]社会!$AA$10","v":0},{"$f":"COUNTIF([1]社会!AB27,1)*[1]社会!$AB$10","v":0},{"$f":"COUNTIF([1]社会!AC27,1)*[1]社会!$AC$10","v":0},{"$f":"COUNTIF([1]社会!AD27,1)*[1]社会!$AD$10","v":0},{"$f":"COUNTIF([1]社会!AE27,1)*[1]社会!$AE$10","v":0},{"$f":"COUNTIF([1]社会!AF27,1)*[1]社会!$AF$10","v":0},{"$f":"COUNTIF([1]社会!AG27,1)*[1]社会!$AG$10","v":0},{"$f":"COUNTIF([1]社会!AH27,1)*[1]社会!$AH$10","v":0},{"$f":"COUNTIF([1]社会!AI27,1)*[1]社会!$AI$10","v":0},{"$f":"COUNTIF([1]社会!AJ27,1)*[1]社会!$AJ$10","v":0},{"$f":"COUNTIF([1]社会!AK27,1)*[1]社会!$AK$10","v":0},{"$f":"COUNTIF([1]社会!AL27,1)*[1]社会!$AL$10","v":0},{"$f":"COUNTIF([1]社会!AM27,1)*[1]社会!$AM$10","v":0},{"$f":"COUNTIF([1]社会!AN27,1)*[1]社会!$AN$10","v":0},{"$f":"COUNTIF([1]社会!AO27,1)*[1]社会!$AO$10","v":0},{"$f":"COUNTIF([1]社会!AP27,1)*[1]社会!$AP$10","v":0},{"$f":"COUNTIF([1]社会!AQ27,1)*[1]社会!$AQ$10","v":0},{"$f":"COUNTIF([1]社会!AR27,1)*[1]社会!$AR$10","v":0},{"$f":"COUNTIF([1]社会!AS27,1)*[1]社会!$AS$10","v":0},{"$f":"COUNTIF([1]社会!AT27,1)*[1]社会!$AT$10","v":0},{"$f":"COUNTIF([1]社会!AU27,1)*[1]社会!$AU$10","v":0},{"$f":"COUNTIF([1]社会!AV27,1)*[1]社会!$AV$10","v":0},{"$f":"COUNTIF([1]社会!AW27,1)*[1]社会!$AW$10","v":0},{"$f":"COUNTIF([1]社会!AX27,1)*[1]社会!$AX$10","v":0},{"$f":"COUNTIF([1]社会!AY27,1)*[1]社会!$AY$10","v":0},{"$f":"COUNTIF([1]社会!AZ27,1)*[1]社会!$AZ$10","v":0},{"$f":"COUNTIF([1]社会!BA27,1)*[1]社会!$BA$10","v":0},{"$f":"COUNTIF([1]社会!BB27,1)*[1]社会!$BB$10","v":0},0,null,null,"17問",{"$f":"[1]社会!U58","v":0},null,"17問",88.6,null,17,4,"（4）","わたしたちの生活と工業生産"]
[18,{"$f":"COUNTIF([1]社会!E28,1)*[1]社会!$E$10","v":0},{"$f":"COUNTIF([1]社会!F28,1)*[1]社会!$F$10","v":0},{"$f":"COUNTIF([1]社会!G28,1)*[1]社会!$G$10","v":0},{"$f":"COUNTIF([1]社会!H28,1)*[1]社会!$H$10","v":0},{"$f":"COUNTIF([1]社会!I28,1)*[1]社会!$I$10","v":0},{"$f":"COUNTIF([1]社会!J28,1)*[1]社会!$J$10","v":0},{"$f":"COUNTIF([1]社会!K28,1)*[1]社会!$K$10","v":0},{"$f":"COUNTIF([1]社会!L28,1)*[1]社会!$L$10","v":0},{"$f":"COUNTIF([1]社会!M28,1)*[1]社会!$M$10","v":0},{"$f":"COUNTIF([1]社会!N28,1)*[1]社会!$N$10","v":0},{"$f":"COUNTIF([1]社会!O28,1)*[1]社会!$O$10","v":0},{"$f":"COUNTIF([1]社会!P28,1)*[1]社会!$P$10","v":0},{"$f":"COUNTIF([1]社会!Q28,1)*[1]社会!$Q$10","v":0},{"$f":"COUNTIF([1]社会!R28,1)*[1]社会!$R$10","v":0},{"$f":"COUNTIF([1]社会!S28,1)*[1]社会!$S$10","v":0},{"$f":"COUNTIF([1]社会!T28,1)*[1]社会!$T$10","v":0},{"$f":"COUNTIF([1]社会!U28,1)*[1]社会!$U$10","v":0},{"$f":"COUNTIF([1]社会!V28,1)*[1]社会!$V$10","v":0},{"$f":"COUNTIF([1]社会!W28,1)*[1]社会!$W$10","v":0},{"$f":"COUNTIF([1]社会!X28,1)*[1]社会!$X$10","v":0},{"$f":"COUNTIF([1]社会!Y28,1)*[1]社会!$Y$10","v":0},{"$f":"COUNTIF([1]社会!Z28,1)*[1]社会!$Z$10","v":0},{"$f":"COUNTIF([1]社会!AA28,1)*[1]社会!$AA$10","v":0},{"$f":"COUNTIF([1]社会!AB28,1)*[1]社会!$AB$10","v":0},{"$f":"COUNTIF([1]社会!AC28,1)*[1]社会!$AC$10","v":0},{"$f":"COUNTIF([1]社会!AD28,1)*[1]社会!$AD$10","v":0},{"$f":"COUNTIF([1]社会!AE28,1)*[1]社会!$AE$10","v":0},{"$f":"COUNTIF([1]社会!AF28,1)*[1]社会!$AF$10","v":0},{"$f":"COUNTIF([1]社会!AG28,1)*[1]社会!$AG$10","v":0},{"$f":"COUNTIF([1]社会!AH28,1)*[1]社会!$AH$10","v":0},{"$f":"COUNTIF([1]社会!AI28,1)*[1]社会!$AI$10","v":0},{"$f":"COUNTIF([1]社会!AJ28,1)*[1]社会!$AJ$10","v":0},{"$f":"COUNTIF([1]社会!AK28,1)*[1]社会!$AK$10","v":0},{"$f":"COUNTIF([1]社会!AL28,1)*[1]社会!$AL$10","v":0},{"$f":"COUNTIF([1]社会!AM28,1)*[1]社会!$AM$10","v":0},{"$f":"COUNTIF([1]社会!AN28,1)*[1]社会!$AN$10","v":0},{"$f":"COUNTIF([1]社会!AO28,1)*[1]社会!$AO$10","v":0},{"$f":"COUNTIF([1]社会!AP28,1)*[1]社会!$AP$10","v":0},{"$f":"COUNTIF([1]社会!AQ28,1)*[1]社会!$AQ$10","v":0},{"$f":"COUNTIF([1]社会!AR28,1)*[1]社会!$AR$10","v":0},{"$f":"COUNTIF([1]社会!AS28,1)*[1]社会!$AS$10","v":0},{"$f":"COUNTIF([1]社会!AT28,1)*[1]社会!$AT$10","v":0},{"$f":"COUNTIF([1]社会!AU28,1)*[1]社会!$AU$10","v":0},{"$f":"COUNTIF([1]社会!AV28,1)*[1]社会!$AV$10","v":0},{"$f":"COUNTIF([1]社会!AW28,1)*[1]社会!$AW$10","v":0},{"$f":"COUNTIF([1]社会!AX28,1)*[1]社会!$AX$10","v":0},{"$f":"COUNTIF([1]社会!AY28,1)*[1]社会!$AY$10","v":0},{"$f":"COUNTIF([1]社会!AZ28,1)*[1]社会!$AZ$10","v":0},{"$f":"COUNTIF([1]社会!BA28,1)*[1]社会!$BA$10","v":0},{"$f":"COUNTIF([1]社会!BB28,1)*[1]社会!$BB$10","v":0},0,null,null,"18問",{"$f":"[1]社会!V58","v":0},null,"18問",57.699999999999996,null,18,5,"（1）","情報化した社会と産業の発展"]
[19,{"$f":"COUNTIF([1]社会!E29,1)*[1]社会!$E$10","v":0},{"$f":"COUNTIF([1]社会!F29,1)*[1]社会!$F$10","v":0},{"$f":"COUNTIF([1]社会!G29,1)*[1]社会!$G$10","v":0},{"$f":"COUNTIF([1]社会!H29,1)*[1]社会!$H$10","v":0},{"$f":"COUNTIF([1]社会!I29,1)*[1]社会!$I$10","v":0},{"$f":"COUNTIF([1]社会!J29,1)*[1]社会!$J$10","v":0},{"$f":"COUNTIF([1]社会!K29,1)*[1]社会!$K$10","v":0},{"$f":"COUNTIF([1]社会!L29,1)*[1]社会!$L$10","v":0},{"$f":"COUNTIF([1]社会!M29,1)*[1]社会!$M$10","v":0},{"$f":"COUNTIF([1]社会!N29,1)*[1]社会!$N$10","v":0},{"$f":"COUNTIF([1]社会!O29,1)*[1]社会!$O$10","v":0},{"$f":"COUNTIF([1]社会!P29,1)*[1]社会!$P$10","v":0},{"$f":"COUNTIF([1]社会!Q29,1)*[1]社会!$Q$10","v":0},{"$f":"COUNTIF([1]社会!R29,1)*[1]社会!$R$10","v":0},{"$f":"COUNTIF([1]社会!S29,1)*[1]社会!$S$10","v":0},{"$f":"COUNTIF([1]社会!T29,1)*[1]社会!$T$10","v":0},{"$f":"COUNTIF([1]社会!U29,1)*[1]社会!$U$10","v":0},{"$f":"COUNTIF([1]社会!V29,1)*[1]社会!$V$10","v":0},{"$f":"COUNTIF([1]社会!W29,1)*[1]社会!$W$10","v":0},{"$f":"COUNTIF([1]社会!X29,1)*[1]社会!$X$10","v":0},{"$f":"COUNTIF([1]社会!Y29,1)*[1]社会!$Y$10","v":0},{"$f":"COUNTIF([1]社会!Z29,1)*[1]社会!$Z$10","v":0},{"$f":"COUNTIF([1]社会!AA29,1)*[1]社会!$AA$10","v":0},{"$f":"COUNTIF([1]社会!AB29,1)*[1]社会!$AB$10","v":0},{"$f":"COUNTIF([1]社会!AC29,1)*[1]社会!$AC$10","v":0},{"$f":"COUNTIF([1]社会!AD29,1)*[1]社会!$AD$10","v":0},{"$f":"COUNTIF([1]社会!AE29,1)*[1]社会!$AE$10","v":0},{"$f":"COUNTIF([1]社会!AF29,1)*[1]社会!$AF$10","v":0},{"$f":"COUNTIF([1]社会!AG29,1)*[1]社会!$AG$10","v":0},{"$f":"COUNTIF([1]社会!AH29,1)*[1]社会!$AH$10","v":0},{"$f":"COUNTIF([1]社会!AI29,1)*[1]社会!$AI$10","v":0},{"$f":"COUNTIF([1]社会!AJ29,1)*[1]社会!$AJ$10","v":0},{"$f":"COUNTIF([1]社会!AK29,1)*[1]社会!$AK$10","v":0},{"$f":"COUNTIF([1]社会!AL29,1)*[1]社会!$AL$10","v":0},{"$f":"COUNTIF([1]社会!AM29,1)*[1]社会!$AM$10","v":0},{"$f":"COUNTIF([1]社会!AN29,1)*[1]社会!$AN$10","v":0},{"$f":"COUNTIF([1]社会!AO29,1)*[1]社会!$AO$10","v":0},{"$f":"COUNTIF([1]社会!AP29,1)*[1]社会!$AP$10","v":0},{"$f":"COUNTIF([1]社会!AQ29,1)*[1]社会!$AQ$10","v":0},{"$f":"COUNTIF([1]社会!AR29,1)*[1]社会!$AR$10","v":0},{"$f":"COUNTIF([1]社会!AS29,1)*[1]社会!$AS$10","v":0},{"$f":"COUNTIF([1]社会!AT29,1)*[1]社会!$AT$10","v":0},{"$f":"COUNTIF([1]社会!AU29,1)*[1]社会!$AU$10","v":0},{"$f":"COUNTIF([1]社会!AV29,1)*[1]社会!$AV$10","v":0},{"$f":"COUNTIF([1]社会!AW29,1)*[1]社会!$AW$10","v":0},{"$f":"COUNTIF([1]社会!AX29,1)*[1]社会!$AX$10","v":0},{"$f":"COUNTIF([1]社会!AY29,1)*[1]社会!$AY$10","v":0},{"$f":"COUNTIF([1]社会!AZ29,1)*[1]社会!$AZ$10","v":0},{"$f":"COUNTIF([1]社会!BA29,1)*[1]社会!$BA$10","v":0},{"$f":"COUNTIF([1]社会!BB29,1)*[1]社会!$BB$10","v":0},0,null,null,"19問",{"$f":"[1]社会!W58","v":0},null,"19問",52.800000000000004,null,19,5,"（2）","情報化した社会と産業の発展"]
[20,{"$f":"COUNTIF([1]社会!E30,1)*[1]社会!$E$10","v":0},{"$f":"COUNTIF([1]社会!F30,1)*[1]社会!$F$10","v":0},{"$f":"COUNTIF([1]社会!G30,1)*[1]社会!$G$10","v":0},{"$f":"COUNTIF([1]社会!H30,1)*[1]社会!$H$10","v":0},{"$f":"COUNTIF([1]社会!I30,1)*[1]社会!$I$10","v":0},{"$f":"COUNTIF([1]社会!J30,1)*[1]社会!$J$10","v":0},{"$f":"COUNTIF([1]社会!K30,1)*[1]社会!$K$10","v":0},{"$f":"COUNTIF([1]社会!L30,1)*[1]社会!$L$10","v":0},{"$f":"COUNTIF([1]社会!M30,1)*[1]社会!$M$10","v":0},{"$f":"COUNTIF([1]社会!N30,1)*[1]社会!$N$10","v":0},{"$f":"COUNTIF([1]社会!O30,1)*[1]社会!$O$10","v":0},{"$f":"COUNTIF([1]社会!P30,1)*[1]社会!$P$10","v":0},{"$f":"COUNTIF([1]社会!Q30,1)*[1]社会!$Q$10","v":0},{"$f":"COUNTIF([1]社会!R30,1)*[1]社会!$R$10","v":0},{"$f":"COUNTIF([1]社会!S30,1)*[1]社会!$S$10","v":0},{"$f":"COUNTIF([1]社会!T30,1)*[1]社会!$T$10","v":0},{"$f":"COUNTIF([1]社会!U30,1)*[1]社会!$U$10","v":0},{"$f":"COUNTIF([1]社会!V30,1)*[1]社会!$V$10","v":0},{"$f":"COUNTIF([1]社会!W30,1)*[1]社会!$W$10","v":0},{"$f":"COUNTIF([1]社会!X30,1)*[1]社会!$X$10","v":0},{"$f":"COUNTIF([1]社会!Y30,1)*[1]社会!$Y$10","v":0},{"$f":"COUNTIF([1]社会!Z30,1)*[1]社会!$Z$10","v":0},{"$f":"COUNTIF([1]社会!AA30,1)*[1]社会!$AA$10","v":0},{"$f":"COUNTIF([1]社会!AB30,1)*[1]社会!$AB$10","v":0},{"$f":"COUNTIF([1]社会!AC30,1)*[1]社会!$AC$10","v":0},{"$f":"COUNTIF([1]社会!AD30,1)*[1]社会!$AD$10","v":0},{"$f":"COUNTIF([1]社会!AE30,1)*[1]社会!$AE$10","v":0},{"$f":"COUNTIF([1]社会!AF30,1)*[1]社会!$AF$10","v":0},{"$f":"COUNTIF([1]社会!AG30,1)*[1]社会!$AG$10","v":0},{"$f":"COUNTIF([1]社会!AH30,1)*[1]社会!$AH$10","v":0},{"$f":"COUNTIF([1]社会!AI30,1)*[1]社会!$AI$10","v":0},{"$f":"COUNTIF([1]社会!AJ30,1)*[1]社会!$AJ$10","v":0},{"$f":"COUNTIF([1]社会!AK30,1)*[1]社会!$AK$10","v":0},{"$f":"COUNTIF([1]社会!AL30,1)*[1]社会!$AL$10","v":0},{"$f":"COUNTIF([1]社会!AM30,1)*[1]社会!$AM$10","v":0},{"$f":"COUNTIF([1]社会!AN30,1)*[1]社会!$AN$10","v":0},{"$f":"COUNTIF([1]社会!AO30,1)*[1]社会!$AO$10","v":0},{"$f":"COUNTIF([1]社会!AP30,1)*[1]社会!$AP$10","v":0},{"$f":"COUNTIF([1]社会!AQ30,1)*[1]社会!$AQ$10","v":0},{"$f":"COUNTIF([1]社会!AR30,1)*[1]社会!$AR$10","v":0},{"$f":"COUNTIF([1]社会!AS30,1)*[1]社会!$AS$10","v":0},{"$f":"COUNTIF([1]社会!AT30,1)*[1]社会!$AT$10","v":0},{"$f":"COUNTIF([1]社会!AU30,1)*[1]社会!$AU$10","v":0},{"$f":"COUNTIF([1]社会!AV30,1)*[1]社会!$AV$10","v":0},{"$f":"COUNTIF([1]社会!AW30,1)*[1]社会!$AW$10","v":0},{"$f":"COUNTIF([1]社会!AX30,1)*[1]社会!$AX$10","v":0},{"$f":"COUNTIF([1]社会!AY30,1)*[1]社会!$AY$10","v":0},{"$f":"COUNTIF([1]社会!AZ30,1)*[1]社会!$AZ$10","v":0},{"$f":"COUNTIF([1]社会!BA30,1)*[1]社会!$BA$10","v":0},{"$f":"COUNTIF([1]社会!BB30,1)*[1]社会!$BB$10","v":0},0,null,null,"20問",{"$f":"[1]社会!X58","v":0},null,"20問",27.900000000000002,null,20,5,"（3）","情報化した社会と産業の発展"]
[21,{"$f":"COUNTIF([1]社会!E31,1)*[1]社会!$E$10","v":0},{"$f":"COUNTIF([1]社会!F31,1)*[1]社会!$F$10","v":0},{"$f":"COUNTIF([1]社会!G31,1)*[1]社会!$G$10","v":0},{"$f":"COUNTIF([1]社会!H31,1)*[1]社会!$H$10","v":0},{"$f":"COUNTIF([1]社会!I31,1)*[1]社会!$I$10","v":0},{"$f":"COUNTIF([1]社会!J31,1)*[1]社会!$J$10","v":0},{"$f":"COUNTIF([1]社会!K31,1)*[1]社会!$K$10","v":0},{"$f":"COUNTIF([1]社会!L31,1)*[1]社会!$L$10","v":0},{"$f":"COUNTIF([1]社会!M31,1)*[1]社会!$M$10","v":0},{"$f":"COUNTIF([1]社会!N31,1)*[1]社会!$N$10","v":0},{"$f":"COUNTIF([1]社会!O31,1)*[1]社会!$O$10","v":0},{"$f":"COUNTIF([1]社会!P31,1)*[1]社会!$P$10","v":0},{"$f":"COUNTIF([1]社会!Q31,1)*[1]社会!$Q$10","v":0},{"$f":"COUNTIF([1]社会!R31,1)*[1]社会!$R$10","v":0},{"$f":"COUNTIF([1]社会!S31,1)*[1]社会!$S$10","v":0},{"$f":"COUNTIF([1]社会!T31,1)*[1]社会!$T$10","v":0},{"$f":"COUNTIF([1]社会!U31,1)*[1]社会!$U$10","v":0},{"$f":"COUNTIF([1]社会!V31,1)*[1]社会!$V$10","v":0},{"$f":"COUNTIF([1]社会!W31,1)*[1]社会!$W$10","v":0},{"$f":"COUNTIF([1]社会!X31,1)*[1]社会!$X$10","v":0},{"$f":"COUNTIF([1]社会!Y31,1)*[1]社会!$Y$10","v":0},{"$f":"COUNTIF([1]社会!Z31,1)*[1]社会!$Z$10","v":0},{"$f":"COUNTIF([1]社会!AA31,1)*[1]社会!$AA$10","v":0},{"$f":"COUNTIF([1]社会!AB31,1)*[1]社会!$AB$10","v":0},{"$f":"COUNTIF([1]社会!AC31,1)*[1]社会!$AC$10","v":0},{"$f":"COUNTIF([1]社会!AD31,1)*[1]社会!$AD$10","v":0},{"$f":"COUNTIF([1]社会!AE31,1)*[1]社会!$AE$10","v":0},{"$f":"COUNTIF([1]社会!AF31,1)*[1]社会!$AF$10","v":0},{"$f":"COUNTIF([1]社会!AG31,1)*[1]社会!$AG$10","v":0},{"$f":"COUNTIF([1]社会!AH31,1)*[1]社会!$AH$10","v":0},{"$f":"COUNTIF([1]社会!AI31,1)*[1]社会!$AI$10","v":0},{"$f":"COUNTIF([1]社会!AJ31,1)*[1]社会!$AJ$10","v":0},{"$f":"COUNTIF([1]社会!AK31,1)*[1]社会!$AK$10","v":0},{"$f":"COUNTIF([1]社会!AL31,1)*[1]社会!$AL$10","v":0},{"$f":"COUNTIF([1]社会!AM31,1)*[1]社会!$AM$10","v":0},{"$f":"COUNTIF([1]社会!AN31,1)*[1]社会!$AN$10","v":0},{"$f":"COUNTIF([1]社会!AO31,1)*[1]社会!$AO$10","v":0},{"$f":"COUNTIF([1]社会!AP31,1)*[1]社会!$AP$10","v":0},{"$f":"COUNTIF([1]社会!AQ31,1)*[1]社会!$AQ$10","v":0},{"$f":"COUNTIF([1]社会!AR31,1)*[1]社会!$AR$10","v":0},{"$f":"COUNTIF([1]社会!AS31,1)*[1]社会!$AS$10","v":0},{"$f":"COUNTIF([1]社会!AT31,1)*[1]社会!$AT$10","v":0},{"$f":"COUNTIF([1]社会!AU31,1)*[1]社会!$AU$10","v":0},{"$f":"COUNTIF([1]社会!AV31,1)*[1]社会!$AV$10","v":0},{"$f":"COUNTIF([1]社会!AW31,1)*[1]社会!$AW$10","v":0},{"$f":"COUNTIF([1]社会!AX31,1)*[1]社会!$AX$10","v":0},{"$f":"COUNTIF([1]社会!AY31,1)*[1]社会!$AY$10","v":0},{"$f":"COUNTIF([1]社会!AZ31,1)*[1]社会!$AZ$10","v":0},{"$f":"COUNTIF([1]社会!BA31,1)*[1]社会!$BA$10","v":0},{"$f":"COUNTIF([1]社会!BB31,1)*[1]社会!$BB$10","v":0},0,null,null,"21問",{"$f":"[1]社会!Y58","v":0},null,"21問",89.2,null,21,5,"（4）","情報化した社会と産業の発展"]
[22,{"$f":"COUNTIF([1]社会!E32,1)*[1]社会!$E$10","v":0},{"$f":"COUNTIF([1]社会!F32,1)*[1]社会!$F$10","v":0},{"$f":"COUNTIF([1]社会!G32,1)*[1]社会!$G$10","v":0},{"$f":"COUNTIF([1]社会!H32,1)*[1]社会!$H$10","v":0},{"$f":"COUNTIF([1]社会!I32,1)*[1]社会!$I$10","v":0},{"$f":"COUNTIF([1]社会!J32,1)*[1]社会!$J$10","v":0},{"$f":"COUNTIF([1]社会!K32,1)*[1]社会!$K$10","v":0},{"$f":"COUNTIF([1]社会!L32,1)*[1]社会!$L$10","v":0},{"$f":"COUNTIF([1]社会!M32,1)*[1]社会!$M$10","v":0},{"$f":"COUNTIF([1]社会!N32,1)*[1]社会!$N$10","v":0},{"$f":"COUNTIF([1]社会!O32,1)*[1]社会!$O$10","v":0},{"$f":"COUNTIF([1]社会!P32,1)*[1]社会!$P$10","v":0},{"$f":"COUNTIF([1]社会!Q32,1)*[1]社会!$Q$10","v":0},{"$f":"COUNTIF([1]社会!R32,1)*[1]社会!$R$10","v":0},{"$f":"COUNTIF([1]社会!S32,1)*[1]社会!$S$10","v":0},{"$f":"COUNTIF([1]社会!T32,1)*[1]社会!$T$10","v":0},{"$f":"COUNTIF([1]社会!U32,1)*[1]社会!$U$10","v":0},{"$f":"COUNTIF([1]社会!V32,1)*[1]社会!$V$10","v":0},{"$f":"COUNTIF([1]社会!W32,1)*[1]社会!$W$10","v":0},{"$f":"COUNTIF([1]社会!X32,1)*[1]社会!$X$10","v":0},{"$f":"COUNTIF([1]社会!Y32,1)*[1]社会!$Y$10","v":0},{"$f":"COUNTIF([1]社会!Z32,1)*[1]社会!$Z$10","v":0},{"$f":"COUNTIF([1]社会!AA32,1)*[1]社会!$AA$10","v":0},{"$f":"COUNTIF([1]社会!AB32,1)*[1]社会!$AB$10","v":0},{"$f":"COUNTIF([1]社会!AC32,1)*[1]社会!$AC$10","v":0},{"$f":"COUNTIF([1]社会!AD32,1)*[1]社会!$AD$10","v":0},{"$f":"COUNTIF([1]社会!AE32,1)*[1]社会!$AE$10","v":0},{"$f":"COUNTIF([1]社会!AF32,1)*[1]社会!$AF$10","v":0},{"$f":"COUNTIF([1]社会!AG32,1)*[1]社会!$AG$10","v":0},{"$f":"COUNTIF([1]社会!AH32,1)*[1]社会!$AH$10","v":0},{"$f":"COUNTIF([1]社会!AI32,1)*[1]社会!$AI$10","v":0},{"$f":"COUNTIF([1]社会!AJ32,1)*[1]社会!$AJ$10","v":0},{"$f":"COUNTIF([1]社会!AK32,1)*[1]社会!$AK$10","v":0},{"$f":"COUNTIF([1]社会!AL32,1)*[1]社会!$AL$10","v":0},{"$f":"COUNTIF([1]社会!AM32,1)*[1]社会!$AM$10","v":0},{"$f":"COUNTIF([1]社会!AN32,1)*[1]社会!$AN$10","v":0},{"$f":"COUNTIF([1]社会!AO32,1)*[1]社会!$AO$10","v":0},{"$f":"COUNTIF([1]社会!AP32,1)*[1]社会!$AP$10","v":0},{"$f":"COUNTIF([1]社会!AQ32,1)*[1]社会!$AQ$10","v":0},{"$f":"COUNTIF([1]社会!AR32,1)*[1]社会!$AR$10","v":0},{"$f":"COUNTIF([1]社会!AS32,1)*[1]社会!$AS$10","v":0},{"$f":"COUNTIF([1]社会!AT32,1)*[1]社会!$AT$10","v":0},{"$f":"COUNTIF([1]社会!AU32,1)*[1]社会!$AU$10","v":0},{"$f":"COUNTIF([1]社会!AV32,1)*[1]社会!$AV$10","v":0},{"$f":"COUNTIF([1]社会!AW32,1)*[1]社会!$AW$10","v":0},{"$f":"COUNTIF([1]社会!AX32,1)*[1]社会!$AX$10","v":0},{"$f":"COUNTIF([1]社会!AY32,1)*[1]社会!$AY$10","v":0},{"$f":"COUNTIF([1]社会!AZ32,1)*[1]社会!$AZ$10","v":0},{"$f":"COUNTIF([1]社会!BA32,1)*[1]社会!$BA$10","v":0},{"$f":"COUNTIF([1]社会!BB32,1)*[1]社会!$BB$10","v":0},0,null,null,"22問",{"$f":"[1]社会!Z58","v":0},null,"22問",73.900000000000006,null,22,6,"（1）ABC","わたしたちの生活と環境"]
[23,{"$f":"COUNTIF([1]社会!E33,1)*[1]社会!$E$10","v":0},{"$f":"COUNTIF([1]社会!F33,1)*[1]社会!$F$10","v":0},{"$f":"COUNTIF([1]社会!G33,1)*[1]社会!$G$10","v":0},{"$f":"COUNTIF([1]社会!H33,1)*[1]社会!$H$10","v":0},{"$f":"COUNTIF([1]社会!I33,1)*[1]社会!$I$10","v":0},{"$f":"COUNTIF([1]社会!J33,1)*[1]社会!$J$10","v":0},{"$f":"COUNTIF([1]社会!K33,1)*[1]社会!$K$10","v":0},{"$f":"COUNTIF([1]社会!L33,1)*[1]社会!$L$10","v":0},{"$f":"COUNTIF([1]社会!M33,1)*[1]社会!$M$10","v":0},{"$f":"COUNTIF([1]社会!N33,1)*[1]社会!$N$10","v":0},{"$f":"COUNTIF([1]社会!O33,1)*[1]社会!$O$10","v":0},{"$f":"COUNTIF([1]社会!P33,1)*[1]社会!$P$10","v":0},{"$f":"COUNTIF([1]社会!Q33,1)*[1]社会!$Q$10","v":0},{"$f":"COUNTIF([1]社会!R33,1)*[1]社会!$R$10","v":0},{"$f":"COUNTIF([1]社会!S33,1)*[1]社会!$S$10","v":0},{"$f":"COUNTIF([1]社会!T33,1)*[1]社会!$T$10","v":0},{"$f":"COUNTIF([1]社会!U33,1)*[1]社会!$U$10","v":0},{"$f":"COUNTIF([1]社会!V33,1)*[1]社会!$V$10","v":0},{"$f":"COUNTIF([1]社会!W33,1)*[1]社会!$W$10","v":0},{"$f":"COUNTIF([1]社会!X33,1)*[1]社会!$X$10","v":0},{"$f":"COUNTIF([1]社会!Y33,1)*[1]社会!$Y$10","v":0},{"$f":"COUNTIF([1]社会!Z33,1)*[1]社会!$Z$10","v":0},{"$f":"COUNTIF([1]社会!AA33,1)*[1]社会!$AA$10","v":0},{"$f":"COUNTIF([1]社会!AB33,1)*[1]社会!$AB$10","v":0},{"$f":"COUNTIF([1]社会!AC33,1)*[1]社会!$AC$10","v":0},{"$f":"COUNTIF([1]社会!AD33,1)*[1]社会!$AD$10","v":0},{"$f":"COUNTIF([1]社会!AE33,1)*[1]社会!$AE$10","v":0},{"$f":"COUNTIF([1]社会!AF33,1)*[1]社会!$AF$10","v":0},{"$f":"COUNTIF([1]社会!AG33,1)*[1]社会!$AG$10","v":0},{"$f":"COUNTIF([1]社会!AH33,1)*[1]社会!$AH$10","v":0},{"$f":"COUNTIF([1]社会!AI33,1)*[1]社会!$AI$10","v":0},{"$f":"COUNTIF([1]社会!AJ33,1)*[1]社会!$AJ$10","v":0},{"$f":"COUNTIF([1]社会!AK33,1)*[1]社会!$AK$10","v":0},{"$f":"COUNTIF([1]社会!AL33,1)*[1]社会!$AL$10","v":0},{"$f":"COUNTIF([1]社会!AM33,1)*[1]社会!$AM$10","v":0},{"$f":"COUNTIF([1]社会!AN33,1)*[1]社会!$AN$10","v":0},{"$f":"COUNTIF([1]社会!AO33,1)*[1]社会!$AO$10","v":0},{"$f":"COUNTIF([1]社会!AP33,1)*[1]社会!$AP$10","v":0},{"$f":"COUNTIF([1]社会!AQ33,1)*[1]社会!$AQ$10","v":0},{"$f":"COUNTIF([1]社会!AR33,1)*[1]社会!$AR$10","v":0},{"$f":"COUNTIF([1]社会!AS33,1)*[1]社会!$AS$10","v":0},{"$f":"COUNTIF([1]社会!AT33,1)*[1]社会!$AT$10","v":0},{"$f":"COUNTIF([1]社会!AU33,1)*[1]社会!$AU$10","v":0},{"$f":"COUNTIF([1]社会!AV33,1)*[1]社会!$AV$10","v":0},{"$f":"COUNTIF([1]社会!AW33,1)*[1]社会!$AW$10","v":0},{"$f":"COUNTIF([1]社会!AX33,1)*[1]社会!$AX$10","v":0},{"$f":"COUNTIF([1]社会!AY33,1)*[1]社会!$AY$10","v":0},{"$f":"COUNTIF([1]社会!AZ33,1)*[1]社会!$AZ$10","v":0},{"$f":"COUNTIF([1]社会!BA33,1)*[1]社会!$BA$10","v":0},{"$f":"COUNTIF([1]社会!BB33,1)*[1]社会!$BB$10","v":0},0,null,null,"23問",{"$f":"[1]社会!AA58","v":0},null,"23問",60.3,null,23,6,"（2）","わたしたちの生活と環境"]
[24,{"$f":"COUNTIF([1]社会!E34,1)*[1]社会!$E$10","v":0},{"$f":"COUNTIF([1]社会!F34,1)*[1]社会!$F$10","v":0},{"$f":"COUNTIF([1]社会!G34,1)*[1]社会!$G$10","v":0},{"$f":"COUNTIF([1]社会!H34,1)*[1]社会!$H$10","v":0},{"$f":"COUNTIF([1]社会!I34,1)*[1]社会!$I$10","v":0},{"$f":"COUNTIF([1]社会!J34,1)*[1]社会!$J$10","v":0},{"$f":"COUNTIF([1]社会!K34,1)*[1]社会!$K$10","v":0},{"$f":"COUNTIF([1]社会!L34,1)*[1]社会!$L$10","v":0},{"$f":"COUNTIF([1]社会!M34,1)*[1]社会!$M$10","v":0},{"$f":"COUNTIF([1]社会!N34,1)*[1]社会!$N$10","v":0},{"$f":"COUNTIF([1]社会!O34,1)*[1]社会!$O$10","v":0},{"$f":"COUNTIF([1]社会!P34,1)*[1]社会!$P$10","v":0},{"$f":"COUNTIF([1]社会!Q34,1)*[1]社会!$Q$10","v":0},{"$f":"COUNTIF([1]社会!R34,1)*[1]社会!$R$10","v":0},{"$f":"COUNTIF([1]社会!S34,1)*[1]社会!$S$10","v":0},{"$f":"COUNTIF([1]社会!T34,1)*[1]社会!$T$10","v":0},{"$f":"COUNTIF([1]社会!U34,1)*[1]社会!$U$10","v":0},{"$f":"COUNTIF([1]社会!V34,1)*[1]社会!$V$10","v":0},{"$f":"COUNTIF([1]社会!W34,1)*[1]社会!$W$10","v":0},{"$f":"COUNTIF([1]社会!X34,1)*[1]社会!$X$10","v":0},{"$f":"COUNTIF([1]社会!Y34,1)*[1]社会!$Y$10","v":0},{"$f":"COUNTIF([1]社会!Z34,1)*[1]社会!$Z$10","v":0},{"$f":"COUNTIF([1]社会!AA34,1)*[1]社会!$AA$10","v":0},{"$f":"COUNTIF([1]社会!AB34,1)*[1]社会!$AB$10","v":0},{"$f":"COUNTIF([1]社会!AC34,1)*[1]社会!$AC$10","v":0},{"$f":"COUNTIF([1]社会!AD34,1)*[1]社会!$AD$10","v":0},{"$f":"COUNTIF([1]社会!AE34,1)*[1]社会!$AE$10","v":0},{"$f":"COUNTIF([1]社会!AF34,1)*[1]社会!$AF$10","v":0},{"$f":"COUNTIF([1]社会!AG34,1)*[1]社会!$AG$10","v":0},{"$f":"COUNTIF([1]社会!AH34,1)*[1]社会!$AH$10","v":0},{"$f":"COUNTIF([1]社会!AI34,1)*[1]社会!$AI$10","v":0},{"$f":"COUNTIF([1]社会!AJ34,1)*[1]社会!$AJ$10","v":0},{"$f":"COUNTIF([1]社会!AK34,1)*[1]社会!$AK$10","v":0},{"$f":"COUNTIF([1]社会!AL34,1)*[1]社会!$AL$10","v":0},{"$f":"COUNTIF([1]社会!AM34,1)*[1]社会!$AM$10","v":0},{"$f":"COUNTIF([1]社会!AN34,1)*[1]社会!$AN$10","v":0},{"$f":"COUNTIF([1]社会!AO34,1)*[1]社会!$AO$10","v":0},{"$f":"COUNTIF([1]社会!AP34,1)*[1]社会!$AP$10","v":0},{"$f":"COUNTIF([1]社会!AQ34,1)*[1]社会!$AQ$10","v":0},{"$f":"COUNTIF([1]社会!AR34,1)*[1]社会!$AR$10","v":0},{"$f":"COUNTIF([1]社会!AS34,1)*[1]社会!$AS$10","v":0},{"$f":"COUNTIF([1]社会!AT34,1)*[1]社会!$AT$10","v":0},{"$f":"COUNTIF([1]社会!AU34,1)*[1]社会!$AU$10","v":0},{"$f":"COUNTIF([1]社会!AV34,1)*[1]社会!$AV$10","v":0},{"$f":"COUNTIF([1]社会!AW34,1)*[1]社会!$AW$10","v":0},{"$f":"COUNTIF([1]社会!AX34,1)*[1]社会!$AX$10","v":0},{"$f":"COUNTIF([1]社会!AY34,1)*[1]社会!$AY$10","v":0},{"$f":"COUNTIF([1]社会!AZ34,1)*[1]社会!$AZ$10","v":0},{"$f":"COUNTIF([1]社会!BA34,1)*[1]社会!$BA$10","v":0},{"$f":"COUNTIF([1]社会!BB34,1)*[1]社会!$BB$10","v":0},0,null,null,"24問",{"$f":"[1]社会!AB58","v":0},null,"24問",47.699999999999996,null,24,6,"（3）あいうえ","わたしたちの生活と環境"]
[25,{"$f":"COUNTIF([1]社会!E35,1)*[1]社会!$E$10","v":0},{"$f":"COUNTIF([1]社会!F35,1)*[1]社会!$F$10","v":0},{"$f":"COUNTIF([1]社会!G35,1)*[1]社会!$G$10","v":0},{"$f":"COUNTIF([1]社会!H35,1)*[1]社会!$H$10","v":0},{"$f":"COUNTIF([1]社会!I35,1)*[1]社会!$I$10","v":0},{"$f":"COUNTIF([1]社会!J35,1)*[1]社会!$J$10","v":0},{"$f":"COUNTIF([1]社会!K35,1)*[1]社会!$K$10","v":0},{"$f":"COUNTIF([1]社会!L35,1)*[1]社会!$L$10","v":0},{"$f":"COUNTIF([1]社会!M35,1)*[1]社会!$M$10","v":0},{"$f":"COUNTIF([1]社会!N35,1)*[1]社会!$N$10","v":0},{"$f":"COUNTIF([1]社会!O35,1)*[1]社会!$O$10","v":0},{"$f":"COUNTIF([1]社会!P35,1)*[1]社会!$P$10","v":0},{"$f":"COUNTIF([1]社会!Q35,1)*[1]社会!$Q$10","v":0},{"$f":"COUNTIF([1]社会!R35,1)*[1]社会!$R$10","v":0},{"$f":"COUNTIF([1]社会!S35,1)*[1]社会!$S$10","v":0},{"$f":"COUNTIF([1]社会!T35,1)*[1]社会!$T$10","v":0},{"$f":"COUNTIF([1]社会!U35,1)*[1]社会!$U$10","v":0},{"$f":"COUNTIF([1]社会!V35,1)*[1]社会!$V$10","v":0},{"$f":"COUNTIF([1]社会!W35,1)*[1]社会!$W$10","v":0},{"$f":"COUNTIF([1]社会!X35,1)*[1]社会!$X$10","v":0},{"$f":"COUNTIF([1]社会!Y35,1)*[1]社会!$Y$10","v":0},{"$f":"COUNTIF([1]社会!Z35,1)*[1]社会!$Z$10","v":0},{"$f":"COUNTIF([1]社会!AA35,1)*[1]社会!$AA$10","v":0},{"$f":"COUNTIF([1]社会!AB35,1)*[1]社会!$AB$10","v":0},{"$f":"COUNTIF([1]社会!AC35,1)*[1]社会!$AC$10","v":0},{"$f":"COUNTIF([1]社会!AD35,1)*[1]社会!$AD$10","v":0},{"$f":"COUNTIF([1]社会!AE35,1)*[1]社会!$AE$10","v":0},{"$f":"COUNTIF([1]社会!AF35,1)*[1]社会!$AF$10","v":0},{"$f":"COUNTIF([1]社会!AG35,1)*[1]社会!$AG$10","v":0},{"$f":"COUNTIF([1]社会!AH35,1)*[1]社会!$AH$10","v":0},{"$f":"COUNTIF([1]社会!AI35,1)*[1]社会!$AI$10","v":0},{"$f":"COUNTIF([1]社会!AJ35,1)*[1]社会!$AJ$10","v":0},{"$f":"COUNTIF([1]社会!AK35,1)*[1]社会!$AK$10","v":0},{"$f":"COUNTIF([1]社会!AL35,1)*[1]社会!$AL$10","v":0},{"$f":"COUNTIF([1]社会!AM35,1)*[1]社会!$AM$10","v":0},{"$f":"COUNTIF([1]社会!AN35,1)*[1]社会!$AN$10","v":0},{"$f":"COUNTIF([1]社会!AO35,1)*[1]社会!$AO$10","v":0},{"$f":"COUNTIF([1]社会!AP35,1)*[1]社会!$AP$10","v":0},{"$f":"COUNTIF([1]社会!AQ35,1)*[1]社会!$AQ$10","v":0},{"$f":"COUNTIF([1]社会!AR35,1)*[1]社会!$AR$10","v":0},{"$f":"COUNTIF([1]社会!AS35,1)*[1]社会!$AS$10","v":0},{"$f":"COUNTIF([1]社会!AT35,1)*[1]社会!$AT$10","v":0},{"$f":"COUNTIF([1]社会!AU35,1)*[1]社会!$AU$10","v":0},{"$f":"COUNTIF([1]社会!AV35,1)*[1]社会!$AV$10","v":0},{"$f":"COUNTIF([1]社会!AW35,1)*[1]社会!$AW$10","v":0},{"$f":"COUNTIF([1]社会!AX35,1)*[1]社会!$AX$10","v":0},{"$f":"COUNTIF([1]社会!AY35,1)*[1]社会!$AY$10","v":0},{"$f":"COUNTIF([1]社会!AZ35,1)*[1]社会!$AZ$10","v":0},{"$f":"COUNTIF([1]社会!BA35,1)*[1]社会!$BA$10","v":0},{"$f":"COUNTIF([1]社会!BB35,1)*[1]社会!$BB$10","v":0},0,null,null,"25問",{"$f":"[1]社会!AC58","v":0},null,"25問",57.999999999999993,null,25,6,"（4）","わたしたちの生活と環境"]
[26,{"$f":"COUNTIF([1]社会!E36,1)*[1]社会!$E$10","v":0},{"$f":"COUNTIF([1]社会!F36,1)*[1]社会!$F$10","v":0},{"$f":"COUNTIF([1]社会!G36,1)*[1]社会!$G$10","v":0},{"$f":"COUNTIF([1]社会!H36,1)*[1]社会!$H$10","v":0},{"$f":"COUNTIF([1]社会!I36,1)*[1]社会!$I$10","v":0},{"$f":"COUNTIF([1]社会!J36,1)*[1]社会!$J$10","v":0},{"$f":"COUNTIF([1]社会!K36,1)*[1]社会!$K$10","v":0},{"$f":"COUNTIF([1]社会!L36,1)*[1]社会!$L$10","v":0},{"$f":"COUNTIF([1]社会!M36,1)*[1]社会!$M$10","v":0},{"$f":"COUNTIF([1]社会!N36,1)*[1]社会!$N$10","v":0},{"$f":"COUNTIF([1]社会!O36,1)*[1]社会!$O$10","v":0},{"$f":"COUNTIF([1]社会!P36,1)*[1]社会!$P$10","v":0},{"$f":"COUNTIF([1]社会!Q36,1)*[1]社会!$Q$10","v":0},{"$f":"COUNTIF([1]社会!R36,1)*[1]社会!$R$10","v":0},{"$f":"COUNTIF([1]社会!S36,1)*[1]社会!$S$10","v":0},{"$f":"COUNTIF([1]社会!T36,1)*[1]社会!$T$10","v":0},{"$f":"COUNTIF([1]社会!U36,1)*[1]社会!$U$10","v":0},{"$f":"COUNTIF([1]社会!V36,1)*[1]社会!$V$10","v":0},{"$f":"COUNTIF([1]社会!W36,1)*[1]社会!$W$10","v":0},{"$f":"COUNTIF([1]社会!X36,1)*[1]社会!$X$10","v":0},{"$f":"COUNTIF([1]社会!Y36,1)*[1]社会!$Y$10","v":0},{"$f":"COUNTIF([1]社会!Z36,1)*[1]社会!$Z$10","v":0},{"$f":"COUNTIF([1]社会!AA36,1)*[1]社会!$AA$10","v":0},{"$f":"COUNTIF([1]社会!AB36,1)*[1]社会!$AB$10","v":0},{"$f":"COUNTIF([1]社会!AC36,1)*[1]社会!$AC$10","v":0},{"$f":"COUNTIF([1]社会!AD36,1)*[1]社会!$AD$10","v":0},{"$f":"COUNTIF([1]社会!AE36,1)*[1]社会!$AE$10","v":0},{"$f":"COUNTIF([1]社会!AF36,1)*[1]社会!$AF$10","v":0},{"$f":"COUNTIF([1]社会!AG36,1)*[1]社会!$AG$10","v":0},{"$f":"COUNTIF([1]社会!AH36,1)*[1]社会!$AH$10","v":0},{"$f":"COUNTIF([1]社会!AI36,1)*[1]社会!$AI$10","v":0},{"$f":"COUNTIF([1]社会!AJ36,1)*[1]社会!$AJ$10","v":0},{"$f":"COUNTIF([1]社会!AK36,1)*[1]社会!$AK$10","v":0},{"$f":"COUNTIF([1]社会!AL36,1)*[1]社会!$AL$10","v":0},{"$f":"COUNTIF([1]社会!AM36,1)*[1]社会!$AM$10","v":0},{"$f":"COUNTIF([1]社会!AN36,1)*[1]社会!$AN$10","v":0},{"$f":"COUNTIF([1]社会!AO36,1)*[1]社会!$AO$10","v":0},{"$f":"COUNTIF([1]社会!AP36,1)*[1]社会!$AP$10","v":0},{"$f":"COUNTIF([1]社会!AQ36,1)*[1]社会!$AQ$10","v":0},{"$f":"COUNTIF([1]社会!AR36,1)*[1]社会!$AR$10","v":0},{"$f":"COUNTIF([1]社会!AS36,1)*[1]社会!$AS$10","v":0},{"$f":"COUNTIF([1]社会!AT36,1)*[1]社会!$AT$10","v":0},{"$f":"COUNTIF([1]社会!AU36,1)*[1]社会!$AU$10","v":0},{"$f":"COUNTIF([1]社会!AV36,1)*[1]社会!$AV$10","v":0},{"$f":"COUNTIF([1]社会!AW36,1)*[1]社会!$AW$10","v":0},{"$f":"COUNTIF([1]社会!AX36,1)*[1]社会!$AX$10","v":0},{"$f":"COUNTIF([1]社会!AY36,1)*[1]社会!$AY$10","v":0},{"$f":"COUNTIF([1]社会!AZ36,1)*[1]社会!$AZ$10","v":0},{"$f":"COUNTIF([1]社会!BA36,1)*[1]社会!$BA$10","v":0},{"$f":"COUNTIF([1]社会!BB36,1)*[1]社会!$BB$10","v":0},0,null,null,"26問",{"$f":"[1]社会!AD58","v":0},null,"26問",null,null,26]
[27,{"$f":"COUNTIF([1]社会!E37,1)*[1]社会!$E$10","v":0},{"$f":"COUNTIF([1]社会!F37,1)*[1]社会!$F$10","v":0},{"$f":"COUNTIF([1]社会!G37,1)*[1]社会!$G$10","v":0},{"$f":"COUNTIF([1]社会!H37,1)*[1]社会!$H$10","v":0},{"$f":"COUNTIF([1]社会!I37,1)*[1]社会!$I$10","v":0},{"$f":"COUNTIF([1]社会!J37,1)*[1]社会!$J$10","v":0},{"$f":"COUNTIF([1]社会!K37,1)*[1]社会!$K$10","v":0},{"$f":"COUNTIF([1]社会!L37,1)*[1]社会!$L$10","v":0},{"$f":"COUNTIF([1]社会!M37,1)*[1]社会!$M$10","v":0},{"$f":"COUNTIF([1]社会!N37,1)*[1]社会!$N$10","v":0},{"$f":"COUNTIF([1]社会!O37,1)*[1]社会!$O$10","v":0},{"$f":"COUNTIF([1]社会!P37,1)*[1]社会!$P$10","v":0},{"$f":"COUNTIF([1]社会!Q37,1)*[1]社会!$Q$10","v":0},{"$f":"COUNTIF([1]社会!R37,1)*[1]社会!$R$10","v":0},{"$f":"COUNTIF([1]社会!S37,1)*[1]社会!$S$10","v":0},{"$f":"COUNTIF([1]社会!T37,1)*[1]社会!$T$10","v":0},{"$f":"COUNTIF([1]社会!U37,1)*[1]社会!$U$10","v":0},{"$f":"COUNTIF([1]社会!V37,1)*[1]社会!$V$10","v":0},{"$f":"COUNTIF([1]社会!W37,1)*[1]社会!$W$10","v":0},{"$f":"COUNTIF([1]社会!X37,1)*[1]社会!$X$10","v":0},{"$f":"COUNTIF([1]社会!Y37,1)*[1]社会!$Y$10","v":0},{"$f":"COUNTIF([1]社会!Z37,1)*[1]社会!$Z$10","v":0},{"$f":"COUNTIF([1]社会!AA37,1)*[1]社会!$AA$10","v":0},{"$f":"COUNTIF([1]社会!AB37,1)*[1]社会!$AB$10","v":0},{"$f":"COUNTIF([1]社会!AC37,1)*[1]社会!$AC$10","v":0},{"$f":"COUNTIF([1]社会!AD37,1)*[1]社会!$AD$10","v":0},{"$f":"COUNTIF([1]社会!AE37,1)*[1]社会!$AE$10","v":0},{"$f":"COUNTIF([1]社会!AF37,1)*[1]社会!$AF$10","v":0},{"$f":"COUNTIF([1]社会!AG37,1)*[1]社会!$AG$10","v":0},{"$f":"COUNTIF([1]社会!AH37,1)*[1]社会!$AH$10","v":0},{"$f":"COUNTIF([1]社会!AI37,1)*[1]社会!$AI$10","v":0},{"$f":"COUNTIF([1]社会!AJ37,1)*[1]社会!$AJ$10","v":0},{"$f":"COUNTIF([1]社会!AK37,1)*[1]社会!$AK$10","v":0},{"$f":"COUNTIF([1]社会!AL37,1)*[1]社会!$AL$10","v":0},{"$f":"COUNTIF([1]社会!AM37,1)*[1]社会!$AM$10","v":0},{"$f":"COUNTIF([1]社会!AN37,1)*[1]社会!$AN$10","v":0},{"$f":"COUNTIF([1]社会!AO37,1)*[1]社会!$AO$10","v":0},{"$f":"COUNTIF([1]社会!AP37,1)*[1]社会!$AP$10","v":0},{"$f":"COUNTIF([1]社会!AQ37,1)*[1]社会!$AQ$10","v":0},{"$f":"COUNTIF([1]社会!AR37,1)*[1]社会!$AR$10","v":0},{"$f":"COUNTIF([1]社会!AS37,1)*[1]社会!$AS$10","v":0},{"$f":"COUNTIF([1]社会!AT37,1)*[1]社会!$AT$10","v":0},{"$f":"COUNTIF([1]社会!AU37,1)*[1]社会!$AU$10","v":0},{"$f":"COUNTIF([1]社会!AV37,1)*[1]社会!$AV$10","v":0},{"$f":"COUNTIF([1]社会!AW37,1)*[1]社会!$AW$10","v":0},{"$f":"COUNTIF([1]社会!AX37,1)*[1]社会!$AX$10","v":0},{"$f":"COUNTIF([1]社会!AY37,1)*[1]社会!$AY$10","v":0},{"$f":"COUNTIF([1]社会!AZ37,1)*[1]社会!$AZ$10","v":0},{"$f":"COUNTIF([1]社会!BA37,1)*[1]社会!$BA$10","v":0},{"$f":"COUNTIF([1]社会!BB37,1)*[1]社会!$BB$10","v":0},0,null,null,"27問",{"$f":"[1]社会!AE58","v":0},null,"27問",null,null,27]
[28,{"$f":"COUNTIF([1]社会!E38,1)*[1]社会!$E$10","v":0},{"$f":"COUNTIF([1]社会!F38,1)*[1]社会!$F$10","v":0},{"$f":"COUNTIF([1]社会!G38,1)*[1]社会!$G$10","v":0},{"$f":"COUNTIF([1]社会!H38,1)*[1]社会!$H$10","v":0},{"$f":"COUNTIF([1]社会!I38,1)*[1]社会!$I$10","v":0},{"$f":"COUNTIF([1]社会!J38,1)*[1]社会!$J$10","v":0},{"$f":"COUNTIF([1]社会!K38,1)*[1]社会!$K$10","v":0},{"$f":"COUNTIF([1]社会!L38,1)*[1]社会!$L$10","v":0},{"$f":"COUNTIF([1]社会!M38,1)*[1]社会!$M$10","v":0},{"$f":"COUNTIF([1]社会!N38,1)*[1]社会!$N$10","v":0},{"$f":"COUNTIF([1]社会!O38,1)*[1]社会!$O$10","v":0},{"$f":"COUNTIF([1]社会!P38,1)*[1]社会!$P$10","v":0},{"$f":"COUNTIF([1]社会!Q38,1)*[1]社会!$Q$10","v":0},{"$f":"COUNTIF([1]社会!R38,1)*[1]社会!$R$10","v":0},{"$f":"COUNTIF([1]社会!S38,1)*[1]社会!$S$10","v":0},{"$f":"COUNTIF([1]社会!T38,1)*[1]社会!$T$10","v":0},{"$f":"COUNTIF([1]社会!U38,1)*[1]社会!$U$10","v":0},{"$f":"COUNTIF([1]社会!V38,1)*[1]社会!$V$10","v":0},{"$f":"COUNTIF([1]社会!W38,1)*[1]社会!$W$10","v":0},{"$f":"COUNTIF([1]社会!X38,1)*[1]社会!$X$10","v":0},{"$f":"COUNTIF([1]社会!Y38,1)*[1]社会!$Y$10","v":0},{"$f":"COUNTIF([1]社会!Z38,1)*[1]社会!$Z$10","v":0},{"$f":"COUNTIF([1]社会!AA38,1)*[1]社会!$AA$10","v":0},{"$f":"COUNTIF([1]社会!AB38,1)*[1]社会!$AB$10","v":0},{"$f":"COUNTIF([1]社会!AC38,1)*[1]社会!$AC$10","v":0},{"$f":"COUNTIF([1]社会!AD38,1)*[1]社会!$AD$10","v":0},{"$f":"COUNTIF([1]社会!AE38,1)*[1]社会!$AE$10","v":0},{"$f":"COUNTIF([1]社会!AF38,1)*[1]社会!$AF$10","v":0},{"$f":"COUNTIF([1]社会!AG38,1)*[1]社会!$AG$10","v":0},{"$f":"COUNTIF([1]社会!AH38,1)*[1]社会!$AH$10","v":0},{"$f":"COUNTIF([1]社会!AI38,1)*[1]社会!$AI$10","v":0},{"$f":"COUNTIF([1]社会!AJ38,1)*[1]社会!$AJ$10","v":0},{"$f":"COUNTIF([1]社会!AK38,1)*[1]社会!$AK$10","v":0},{"$f":"COUNTIF([1]社会!AL38,1)*[1]社会!$AL$10","v":0},{"$f":"COUNTIF([1]社会!AM38,1)*[1]社会!$AM$10","v":0},{"$f":"COUNTIF([1]社会!AN38,1)*[1]社会!$AN$10","v":0},{"$f":"COUNTIF([1]社会!AO38,1)*[1]社会!$AO$10","v":0},{"$f":"COUNTIF([1]社会!AP38,1)*[1]社会!$AP$10","v":0},{"$f":"COUNTIF([1]社会!AQ38,1)*[1]社会!$AQ$10","v":0},{"$f":"COUNTIF([1]社会!AR38,1)*[1]社会!$AR$10","v":0},{"$f":"COUNTIF([1]社会!AS38,1)*[1]社会!$AS$10","v":0},{"$f":"COUNTIF([1]社会!AT38,1)*[1]社会!$AT$10","v":0},{"$f":"COUNTIF([1]社会!AU38,1)*[1]社会!$AU$10","v":0},{"$f":"COUNTIF([1]社会!AV38,1)*[1]社会!$AV$10","v":0},{"$f":"COUNTIF([1]社会!AW38,1)*[1]社会!$AW$10","v":0},{"$f":"COUNTIF([1]社会!AX38,1)*[1]社会!$AX$10","v":0},{"$f":"COUNTIF([1]社会!AY38,1)*[1]社会!$AY$10","v":0},{"$f":"COUNTIF([1]社会!AZ38,1)*[1]社会!$AZ$10","v":0},{"$f":"COUNTIF([1]社会!BA38,1)*[1]社会!$BA$10","v":0},{"$f":"COUNTIF([1]社会!BB38,1)*[1]社会!$BB$10","v":0},0,null,null,"28問",{"$f":"[1]社会!AF58","v":0},null,"28問",null,null,28]
[29,{"$f":"COUNTIF([1]社会!E39,1)*[1]社会!$E$10","v":0},{"$f":"COUNTIF([1]社会!F39,1)*[1]社会!$F$10","v":0},{"$f":"COUNTIF([1]社会!G39,1)*[1]社会!$G$10","v":0},{"$f":"COUNTIF([1]社会!H39,1)*[1]社会!$H$10","v":0},{"$f":"COUNTIF([1]社会!I39,1)*[1]社会!$I$10","v":0},{"$f":"COUNTIF([1]社会!J39,1)*[1]社会!$J$10","v":0},{"$f":"COUNTIF([1]社会!K39,1)*[1]社会!$K$10","v":0},{"$f":"COUNTIF([1]社会!L39,1)*[1]社会!$L$10","v":0},{"$f":"COUNTIF([1]社会!M39,1)*[1]社会!$M$10","v":0},{"$f":"COUNTIF([1]社会!N39,1)*[1]社会!$N$10","v":0},{"$f":"COUNTIF([1]社会!O39,1)*[1]社会!$O$10","v":0},{"$f":"COUNTIF([1]社会!P39,1)*[1]社会!$P$10","v":0},{"$f":"COUNTIF([1]社会!Q39,1)*[1]社会!$Q$10","v":0},{"$f":"COUNTIF([1]社会!R39,1)*[1]社会!$R$10","v":0},{"$f":"COUNTIF([1]社会!S39,1)*[1]社会!$S$10","v":0},{"$f":"COUNTIF([1]社会!T39,1)*[1]社会!$T$10","v":0},{"$f":"COUNTIF([1]社会!U39,1)*[1]社会!$U$10","v":0},{"$f":"COUNTIF([1]社会!V39,1)*[1]社会!$V$10","v":0},{"$f":"COUNTIF([1]社会!W39,1)*[1]社会!$W$10","v":0},{"$f":"COUNTIF([1]社会!X39,1)*[1]社会!$X$10","v":0},{"$f":"COUNTIF([1]社会!Y39,1)*[1]社会!$Y$10","v":0},{"$f":"COUNTIF([1]社会!Z39,1)*[1]社会!$Z$10","v":0},{"$f":"COUNTIF([1]社会!AA39,1)*[1]社会!$AA$10","v":0},{"$f":"COUNTIF([1]社会!AB39,1)*[1]社会!$AB$10","v":0},{"$f":"COUNTIF([1]社会!AC39,1)*[1]社会!$AC$10","v":0},{"$f":"COUNTIF([1]社会!AD39,1)*[1]社会!$AD$10","v":0},{"$f":"COUNTIF([1]社会!AE39,1)*[1]社会!$AE$10","v":0},{"$f":"COUNTIF([1]社会!AF39,1)*[1]社会!$AF$10","v":0},{"$f":"COUNTIF([1]社会!AG39,1)*[1]社会!$AG$10","v":0},{"$f":"COUNTIF([1]社会!AH39,1)*[1]社会!$AH$10","v":0},{"$f":"COUNTIF([1]社会!AI39,1)*[1]社会!$AI$10","v":0},{"$f":"COUNTIF([1]社会!AJ39,1)*[1]社会!$AJ$10","v":0},{"$f":"COUNTIF([1]社会!AK39,1)*[1]社会!$AK$10","v":0},{"$f":"COUNTIF([1]社会!AL39,1)*[1]社会!$AL$10","v":0},{"$f":"COUNTIF([1]社会!AM39,1)*[1]社会!$AM$10","v":0},{"$f":"COUNTIF([1]社会!AN39,1)*[1]社会!$AN$10","v":0},{"$f":"COUNTIF([1]社会!AO39,1)*[1]社会!$AO$10","v":0},{"$f":"COUNTIF([1]社会!AP39,1)*[1]社会!$AP$10","v":0},{"$f":"COUNTIF([1]社会!AQ39,1)*[1]社会!$AQ$10","v":0},{"$f":"COUNTIF([1]社会!AR39,1)*[1]社会!$AR$10","v":0},{"$f":"COUNTIF([1]社会!AS39,1)*[1]社会!$AS$10","v":0},{"$f":"COUNTIF([1]社会!AT39,1)*[1]社会!$AT$10","v":0},{"$f":"COUNTIF([1]社会!AU39,1)*[1]社会!$AU$10","v":0},{"$f":"COUNTIF([1]社会!AV39,1)*[1]社会!$AV$10","v":0},{"$f":"COUNTIF([1]社会!AW39,1)*[1]社会!$AW$10","v":0},{"$f":"COUNTIF([1]社会!AX39,1)*[1]社会!$AX$10","v":0},{"$f":"COUNTIF([1]社会!AY39,1)*[1]社会!$AY$10","v":0},{"$f":"COUNTIF([1]社会!AZ39,1)*[1]社会!$AZ$10","v":0},{"$f":"COUNTIF([1]社会!BA39,1)*[1]社会!$BA$10","v":0},{"$f":"COUNTIF([1]社会!BB39,1)*[1]社会!$BB$10","v":0},0,null,null,"29問",{"$f":"[1]社会!AG58","v":0},null,"29問",null,null,29]
[30,{"$f":"COUNTIF([1]社会!E40,1)*[1]社会!$E$10","v":0},{"$f":"COUNTIF([1]社会!F40,1)*[1]社会!$F$10","v":0},{"$f":"COUNTIF([1]社会!G40,1)*[1]社会!$G$10","v":0},{"$f":"COUNTIF([1]社会!H40,1)*[1]社会!$H$10","v":0},{"$f":"COUNTIF([1]社会!I40,1)*[1]社会!$I$10","v":0},{"$f":"COUNTIF([1]社会!J40,1)*[1]社会!$J$10","v":0},{"$f":"COUNTIF([1]社会!K40,1)*[1]社会!$K$10","v":0},{"$f":"COUNTIF([1]社会!L40,1)*[1]社会!$L$10","v":0},{"$f":"COUNTIF([1]社会!M40,1)*[1]社会!$M$10","v":0},{"$f":"COUNTIF([1]社会!N40,1)*[1]社会!$N$10","v":0},{"$f":"COUNTIF([1]社会!O40,1)*[1]社会!$O$10","v":0},{"$f":"COUNTIF([1]社会!P40,1)*[1]社会!$P$10","v":0},{"$f":"COUNTIF([1]社会!Q40,1)*[1]社会!$Q$10","v":0},{"$f":"COUNTIF([1]社会!R40,1)*[1]社会!$R$10","v":0},{"$f":"COUNTIF([1]社会!S40,1)*[1]社会!$S$10","v":0},{"$f":"COUNTIF([1]社会!T40,1)*[1]社会!$T$10","v":0},{"$f":"COUNTIF([1]社会!U40,1)*[1]社会!$U$10","v":0},{"$f":"COUNTIF([1]社会!V40,1)*[1]社会!$V$10","v":0},{"$f":"COUNTIF([1]社会!W40,1)*[1]社会!$W$10","v":0},{"$f":"COUNTIF([1]社会!X40,1)*[1]社会!$X$10","v":0},{"$f":"COUNTIF([1]社会!Y40,1)*[1]社会!$Y$10","v":0},{"$f":"COUNTIF([1]社会!Z40,1)*[1]社会!$Z$10","v":0},{"$f":"COUNTIF([1]社会!AA40,1)*[1]社会!$AA$10","v":0},{"$f":"COUNTIF([1]社会!AB40,1)*[1]社会!$AB$10","v":0},{"$f":"COUNTIF([1]社会!AC40,1)*[1]社会!$AC$10","v":0},{"$f":"COUNTIF([1]社会!AD40,1)*[1]社会!$AD$10","v":0},{"$f":"COUNTIF([1]社会!AE40,1)*[1]社会!$AE$10","v":0},{"$f":"COUNTIF([1]社会!AF40,1)*[1]社会!$AF$10","v":0},{"$f":"COUNTIF([1]社会!AG40,1)*[1]社会!$AG$10","v":0},{"$f":"COUNTIF([1]社会!AH40,1)*[1]社会!$AH$10","v":0},{"$f":"COUNTIF([1]社会!AI40,1)*[1]社会!$AI$10","v":0},{"$f":"COUNTIF([1]社会!AJ40,1)*[1]社会!$AJ$10","v":0},{"$f":"COUNTIF([1]社会!AK40,1)*[1]社会!$AK$10","v":0},{"$f":"COUNTIF([1]社会!AL40,1)*[1]社会!$AL$10","v":0},{"$f":"COUNTIF([1]社会!AM40,1)*[1]社会!$AM$10","v":0},{"$f":"COUNTIF([1]社会!AN40,1)*[1]社会!$AN$10","v":0},{"$f":"COUNTIF([1]社会!AO40,1)*[1]社会!$AO$10","v":0},{"$f":"COUNTIF([1]社会!AP40,1)*[1]社会!$AP$10","v":0},{"$f":"COUNTIF([1]社会!AQ40,1)*[1]社会!$AQ$10","v":0},{"$f":"COUNTIF([1]社会!AR40,1)*[1]社会!$AR$10","v":0},{"$f":"COUNTIF([1]社会!AS40,1)*[1]社会!$AS$10","v":0},{"$f":"COUNTIF([1]社会!AT40,1)*[1]社会!$AT$10","v":0},{"$f":"COUNTIF([1]社会!AU40,1)*[1]社会!$AU$10","v":0},{"$f":"COUNTIF([1]社会!AV40,1)*[1]社会!$AV$10","v":0},{"$f":"COUNTIF([1]社会!AW40,1)*[1]社会!$AW$10","v":0},{"$f":"COUNTIF([1]社会!AX40,1)*[1]社会!$AX$10","v":0},{"$f":"COUNTIF([1]社会!AY40,1)*[1]社会!$AY$10","v":0},{"$f":"COUNTIF([1]社会!AZ40,1)*[1]社会!$AZ$10","v":0},{"$f":"COUNTIF([1]社会!BA40,1)*[1]社会!$BA$10","v":0},{"$f":"COUNTIF([1]社会!BB40,1)*[1]社会!$BB$10","v":0},0,null,null,"30問",{"$f":"[1]社会!AH58","v":0},null,"30問",null,null,30]
[31,{"$f":"COUNTIF([1]社会!E41,1)*[1]社会!$E$10","v":0},{"$f":"COUNTIF([1]社会!F41,1)*[1]社会!$F$10","v":0},{"$f":"COUNTIF([1]社会!G41,1)*[1]社会!$G$10","v":0},{"$f":"COUNTIF([1]社会!H41,1)*[1]社会!$H$10","v":0},{"$f":"COUNTIF([1]社会!I41,1)*[1]社会!$I$10","v":0},{"$f":"COUNTIF([1]社会!J41,1)*[1]社会!$J$10","v":0},{"$f":"COUNTIF([1]社会!K41,1)*[1]社会!$K$10","v":0},{"$f":"COUNTIF([1]社会!L41,1)*[1]社会!$L$10","v":0},{"$f":"COUNTIF([1]社会!M41,1)*[1]社会!$M$10","v":0},{"$f":"COUNTIF([1]社会!N41,1)*[1]社会!$N$10","v":0},{"$f":"COUNTIF([1]社会!O41,1)*[1]社会!$O$10","v":0},{"$f":"COUNTIF([1]社会!P41,1)*[1]社会!$P$10","v":0},{"$f":"COUNTIF([1]社会!Q41,1)*[1]社会!$Q$10","v":0},{"$f":"COUNTIF([1]社会!R41,1)*[1]社会!$R$10","v":0},{"$f":"COUNTIF([1]社会!S41,1)*[1]社会!$S$10","v":0},{"$f":"COUNTIF([1]社会!T41,1)*[1]社会!$T$10","v":0},{"$f":"COUNTIF([1]社会!U41,1)*[1]社会!$U$10","v":0},{"$f":"COUNTIF([1]社会!V41,1)*[1]社会!$V$10","v":0},{"$f":"COUNTIF([1]社会!W41,1)*[1]社会!$W$10","v":0},{"$f":"COUNTIF([1]社会!X41,1)*[1]社会!$X$10","v":0},{"$f":"COUNTIF([1]社会!Y41,1)*[1]社会!$Y$10","v":0},{"$f":"COUNTIF([1]社会!Z41,1)*[1]社会!$Z$10","v":0},{"$f":"COUNTIF([1]社会!AA41,1)*[1]社会!$AA$10","v":0},{"$f":"COUNTIF([1]社会!AB41,1)*[1]社会!$AB$10","v":0},{"$f":"COUNTIF([1]社会!AC41,1)*[1]社会!$AC$10","v":0},{"$f":"COUNTIF([1]社会!AD41,1)*[1]社会!$AD$10","v":0},{"$f":"COUNTIF([1]社会!AE41,1)*[1]社会!$AE$10","v":0},{"$f":"COUNTIF([1]社会!AF41,1)*[1]社会!$AF$10","v":0},{"$f":"COUNTIF([1]社会!AG41,1)*[1]社会!$AG$10","v":0},{"$f":"COUNTIF([1]社会!AH41,1)*[1]社会!$AH$10","v":0},{"$f":"COUNTIF([1]社会!AI41,1)*[1]社会!$AI$10","v":0},{"$f":"COUNTIF([1]社会!AJ41,1)*[1]社会!$AJ$10","v":0},{"$f":"COUNTIF([1]社会!AK41,1)*[1]社会!$AK$10","v":0},{"$f":"COUNTIF([1]社会!AL41,1)*[1]社会!$AL$10","v":0},{"$f":"COUNTIF([1]社会!AM41,1)*[1]社会!$AM$10","v":0},{"$f":"COUNTIF([1]社会!AN41,1)*[1]社会!$AN$10","v":0},{"$f":"COUNTIF([1]社会!AO41,1)*[1]社会!$AO$10","v":0},{"$f":"COUNTIF([1]社会!AP41,1)*[1]社会!$AP$10","v":0},{"$f":"COUNTIF([1]社会!AQ41,1)*[1]社会!$AQ$10","v":0},{"$f":"COUNTIF([1]社会!AR41,1)*[1]社会!$AR$10","v":0},{"$f":"COUNTIF([1]社会!AS41,1)*[1]社会!$AS$10","v":0},{"$f":"COUNTIF([1]社会!AT41,1)*[1]社会!$AT$10","v":0},{"$f":"COUNTIF([1]社会!AU41,1)*[1]社会!$AU$10","v":0},{"$f":"COUNTIF([1]社会!AV41,1)*[1]社会!$AV$10","v":0},{"$f":"COUNTIF([1]社会!AW41,1)*[1]社会!$AW$10","v":0},{"$f":"COUNTIF([1]社会!AX41,1)*[1]社会!$AX$10","v":0},{"$f":"COUNTIF([1]社会!AY41,1)*[1]社会!$AY$10","v":0},{"$f":"COUNTIF([1]社会!AZ41,1)*[1]社会!$AZ$10","v":0},{"$f":"COUNTIF([1]社会!BA41,1)*[1]社会!$BA$10","v":0},{"$f":"COUNTIF([1]社会!BB41,1)*[1]社会!$BB$10","v":0},0,null,null,"31問",{"$f":"[1]社会!AI58","v":0},null,"31問",null,null,31]
[32,{"$f":"COUNTIF([1]社会!E42,1)*[1]社会!$E$10","v":0},{"$f":"COUNTIF([1]社会!F42,1)*[1]社会!$F$10","v":0},{"$f":"COUNTIF([1]社会!G42,1)*[1]社会!$G$10","v":0},{"$f":"COUNTIF([1]社会!H42,1)*[1]社会!$H$10","v":0},{"$f":"COUNTIF([1]社会!I42,1)*[1]社会!$I$10","v":0},{"$f":"COUNTIF([1]社会!J42,1)*[1]社会!$J$10","v":0},{"$f":"COUNTIF([1]社会!K42,1)*[1]社会!$K$10","v":0},{"$f":"COUNTIF([1]社会!L42,1)*[1]社会!$L$10","v":0},{"$f":"COUNTIF([1]社会!M42,1)*[1]社会!$M$10","v":0},{"$f":"COUNTIF([1]社会!N42,1)*[1]社会!$N$10","v":0},{"$f":"COUNTIF([1]社会!O42,1)*[1]社会!$O$10","v":0},{"$f":"COUNTIF([1]社会!P42,1)*[1]社会!$P$10","v":0},{"$f":"COUNTIF([1]社会!Q42,1)*[1]社会!$Q$10","v":0},{"$f":"COUNTIF([1]社会!R42,1)*[1]社会!$R$10","v":0},{"$f":"COUNTIF([1]社会!S42,1)*[1]社会!$S$10","v":0},{"$f":"COUNTIF([1]社会!T42,1)*[1]社会!$T$10","v":0},{"$f":"COUNTIF([1]社会!U42,1)*[1]社会!$U$10","v":0},{"$f":"COUNTIF([1]社会!V42,1)*[1]社会!$V$10","v":0},{"$f":"COUNTIF([1]社会!W42,1)*[1]社会!$W$10","v":0},{"$f":"COUNTIF([1]社会!X42,1)*[1]社会!$X$10","v":0},{"$f":"COUNTIF([1]社会!Y42,1)*[1]社会!$Y$10","v":0},{"$f":"COUNTIF([1]社会!Z42,1)*[1]社会!$Z$10","v":0},{"$f":"COUNTIF([1]社会!AA42,1)*[1]社会!$AA$10","v":0},{"$f":"COUNTIF([1]社会!AB42,1)*[1]社会!$AB$10","v":0},{"$f":"COUNTIF([1]社会!AC42,1)*[1]社会!$AC$10","v":0},{"$f":"COUNTIF([1]社会!AD42,1)*[1]社会!$AD$10","v":0},{"$f":"COUNTIF([1]社会!AE42,1)*[1]社会!$AE$10","v":0},{"$f":"COUNTIF([1]社会!AF42,1)*[1]社会!$AF$10","v":0},{"$f":"COUNTIF([1]社会!AG42,1)*[1]社会!$AG$10","v":0},{"$f":"COUNTIF([1]社会!AH42,1)*[1]社会!$AH$10","v":0},{"$f":"COUNTIF([1]社会!AI42,1)*[1]社会!$AI$10","v":0},{"$f":"COUNTIF([1]社会!AJ42,1)*[1]社会!$AJ$10","v":0},{"$f":"COUNTIF([1]社会!AK42,1)*[1]社会!$AK$10","v":0},{"$f":"COUNTIF([1]社会!AL42,1)*[1]社会!$AL$10","v":0},{"$f":"COUNTIF([1]社会!AM42,1)*[1]社会!$AM$10","v":0},{"$f":"COUNTIF([1]社会!AN42,1)*[1]社会!$AN$10","v":0},{"$f":"COUNTIF([1]社会!AO42,1)*[1]社会!$AO$10","v":0},{"$f":"COUNTIF([1]社会!AP42,1)*[1]社会!$AP$10","v":0},{"$f":"COUNTIF([1]社会!AQ42,1)*[1]社会!$AQ$10","v":0},{"$f":"COUNTIF([1]社会!AR42,1)*[1]社会!$AR$10","v":0},{"$f":"COUNTIF([1]社会!AS42,1)*[1]社会!$AS$10","v":0},{"$f":"COUNTIF([1]社会!AT42,1)*[1]社会!$AT$10","v":0},{"$f":"COUNTIF([1]社会!AU42,1)*[1]社会!$AU$10","v":0},{"$f":"COUNTIF([1]社会!AV42,1)*[1]社会!$AV$10","v":0},{"$f":"COUNTIF([1]社会!AW42,1)*[1]社会!$AW$10","v":0},{"$f":"COUNTIF([1]社会!AX42,1)*[1]社会!$AX$10","v":0},{"$f":"COUNTIF([1]社会!AY42,1)*[1]社会!$AY$10","v":0},{"$f":"COUNTIF([1]社会!AZ42,1)*[1]社会!$AZ$10","v":0},{"$f":"COUNTIF([1]社会!BA42,1)*[1]社会!$BA$10","v":0},{"$f":"COUNTIF([1]社会!BB42,1)*[1]社会!$BB$10","v":0},0,null,null,"32問",{"$f":"[1]社会!AJ58","v":0},null,"32問",null,null,32]
[33,{"$f":"COUNTIF([1]社会!E43,1)*[1]社会!$E$10","v":0},{"$f":"COUNTIF([1]社会!F43,1)*[1]社会!$F$10","v":0},{"$f":"COUNTIF([1]社会!G43,1)*[1]社会!$G$10","v":0},{"$f":"COUNTIF([1]社会!H43,1)*[1]社会!$H$10","v":0},{"$f":"COUNTIF([1]社会!I43,1)*[1]社会!$I$10","v":0},{"$f":"COUNTIF([1]社会!J43,1)*[1]社会!$J$10","v":0},{"$f":"COUNTIF([1]社会!K43,1)*[1]社会!$K$10","v":0},{"$f":"COUNTIF([1]社会!L43,1)*[1]社会!$L$10","v":0},{"$f":"COUNTIF([1]社会!M43,1)*[1]社会!$M$10","v":0},{"$f":"COUNTIF([1]社会!N43,1)*[1]社会!$N$10","v":0},{"$f":"COUNTIF([1]社会!O43,1)*[1]社会!$O$10","v":0},{"$f":"COUNTIF([1]社会!P43,1)*[1]社会!$P$10","v":0},{"$f":"COUNTIF([1]社会!Q43,1)*[1]社会!$Q$10","v":0},{"$f":"COUNTIF([1]社会!R43,1)*[1]社会!$R$10","v":0},{"$f":"COUNTIF([1]社会!S43,1)*[1]社会!$S$10","v":0},{"$f":"COUNTIF([1]社会!T43,1)*[1]社会!$T$10","v":0},{"$f":"COUNTIF([1]社会!U43,1)*[1]社会!$U$10","v":0},{"$f":"COUNTIF([1]社会!V43,1)*[1]社会!$V$10","v":0},{"$f":"COUNTIF([1]社会!W43,1)*[1]社会!$W$10","v":0},{"$f":"COUNTIF([1]社会!X43,1)*[1]社会!$X$10","v":0},{"$f":"COUNTIF([1]社会!Y43,1)*[1]社会!$Y$10","v":0},{"$f":"COUNTIF([1]社会!Z43,1)*[1]社会!$Z$10","v":0},{"$f":"COUNTIF([1]社会!AA43,1)*[1]社会!$AA$10","v":0},{"$f":"COUNTIF([1]社会!AB43,1)*[1]社会!$AB$10","v":0},{"$f":"COUNTIF([1]社会!AC43,1)*[1]社会!$AC$10","v":0},{"$f":"COUNTIF([1]社会!AD43,1)*[1]社会!$AD$10","v":0},{"$f":"COUNTIF([1]社会!AE43,1)*[1]社会!$AE$10","v":0},{"$f":"COUNTIF([1]社会!AF43,1)*[1]社会!$AF$10","v":0},{"$f":"COUNTIF([1]社会!AG43,1)*[1]社会!$AG$10","v":0},{"$f":"COUNTIF([1]社会!AH43,1)*[1]社会!$AH$10","v":0},{"$f":"COUNTIF([1]社会!AI43,1)*[1]社会!$AI$10","v":0},{"$f":"COUNTIF([1]社会!AJ43,1)*[1]社会!$AJ$10","v":0},{"$f":"COUNTIF([1]社会!AK43,1)*[1]社会!$AK$10","v":0},{"$f":"COUNTIF([1]社会!AL43,1)*[1]社会!$AL$10","v":0},{"$f":"COUNTIF([1]社会!AM43,1)*[1]社会!$AM$10","v":0},{"$f":"COUNTIF([1]社会!AN43,1)*[1]社会!$AN$10","v":0},{"$f":"COUNTIF([1]社会!AO43,1)*[1]社会!$AO$10","v":0},{"$f":"COUNTIF([1]社会!AP43,1)*[1]社会!$AP$10","v":0},{"$f":"COUNTIF([1]社会!AQ43,1)*[1]社会!$AQ$10","v":0},{"$f":"COUNTIF([1]社会!AR43,1)*[1]社会!$AR$10","v":0},{"$f":"COUNTIF([1]社会!AS43,1)*[1]社会!$AS$10","v":0},{"$f":"COUNTIF([1]社会!AT43,1)*[1]社会!$AT$10","v":0},{"$f":"COUNTIF([1]社会!AU43,1)*[1]社会!$AU$10","v":0},{"$f":"COUNTIF([1]社会!AV43,1)*[1]社会!$AV$10","v":0},{"$f":"COUNTIF([1]社会!AW43,1)*[1]社会!$AW$10","v":0},{"$f":"COUNTIF([1]社会!AX43,1)*[1]社会!$AX$10","v":0},{"$f":"COUNTIF([1]社会!AY43,1)*[1]社会!$AY$10","v":0},{"$f":"COUNTIF([1]社会!AZ43,1)*[1]社会!$AZ$10","v":0},{"$f":"COUNTIF([1]社会!BA43,1)*[1]社会!$BA$10","v":0},{"$f":"COUNTIF([1]社会!BB43,1)*[1]社会!$BB$10","v":0},0,null,null,"33問",{"$f":"[1]社会!AK58","v":0},null,"33問",null,null,33]
[34,{"$f":"COUNTIF([1]社会!E44,1)*[1]社会!$E$10","v":0},{"$f":"COUNTIF([1]社会!F44,1)*[1]社会!$F$10","v":0},{"$f":"COUNTIF([1]社会!G44,1)*[1]社会!$G$10","v":0},{"$f":"COUNTIF([1]社会!H44,1)*[1]社会!$H$10","v":0},{"$f":"COUNTIF([1]社会!I44,1)*[1]社会!$I$10","v":0},{"$f":"COUNTIF([1]社会!J44,1)*[1]社会!$J$10","v":0},{"$f":"COUNTIF([1]社会!K44,1)*[1]社会!$K$10","v":0},{"$f":"COUNTIF([1]社会!L44,1)*[1]社会!$L$10","v":0},{"$f":"COUNTIF([1]社会!M44,1)*[1]社会!$M$10","v":0},{"$f":"COUNTIF([1]社会!N44,1)*[1]社会!$N$10","v":0},{"$f":"COUNTIF([1]社会!O44,1)*[1]社会!$O$10","v":0},{"$f":"COUNTIF([1]社会!P44,1)*[1]社会!$P$10","v":0},{"$f":"COUNTIF([1]社会!Q44,1)*[1]社会!$Q$10","v":0},{"$f":"COUNTIF([1]社会!R44,1)*[1]社会!$R$10","v":0},{"$f":"COUNTIF([1]社会!S44,1)*[1]社会!$S$10","v":0},{"$f":"COUNTIF([1]社会!T44,1)*[1]社会!$T$10","v":0},{"$f":"COUNTIF([1]社会!U44,1)*[1]社会!$U$10","v":0},{"$f":"COUNTIF([1]社会!V44,1)*[1]社会!$V$10","v":0},{"$f":"COUNTIF([1]社会!W44,1)*[1]社会!$W$10","v":0},{"$f":"COUNTIF([1]社会!X44,1)*[1]社会!$X$10","v":0},{"$f":"COUNTIF([1]社会!Y44,1)*[1]社会!$Y$10","v":0},{"$f":"COUNTIF([1]社会!Z44,1)*[1]社会!$Z$10","v":0},{"$f":"COUNTIF([1]社会!AA44,1)*[1]社会!$AA$10","v":0},{"$f":"COUNTIF([1]社会!AB44,1)*[1]社会!$AB$10","v":0},{"$f":"COUNTIF([1]社会!AC44,1)*[1]社会!$AC$10","v":0},{"$f":"COUNTIF([1]社会!AD44,1)*[1]社会!$AD$10","v":0},{"$f":"COUNTIF([1]社会!AE44,1)*[1]社会!$AE$10","v":0},{"$f":"COUNTIF([1]社会!AF44,1)*[1]社会!$AF$10","v":0},{"$f":"COUNTIF([1]社会!AG44,1)*[1]社会!$AG$10","v":0},{"$f":"COUNTIF([1]社会!AH44,1)*[1]社会!$AH$10","v":0},{"$f":"COUNTIF([1]社会!AI44,1)*[1]社会!$AI$10","v":0},{"$f":"COUNTIF([1]社会!AJ44,1)*[1]社会!$AJ$10","v":0},{"$f":"COUNTIF([1]社会!AK44,1)*[1]社会!$AK$10","v":0},{"$f":"COUNTIF([1]社会!AL44,1)*[1]社会!$AL$10","v":0},{"$f":"COUNTIF([1]社会!AM44,1)*[1]社会!$AM$10","v":0},{"$f":"COUNTIF([1]社会!AN44,1)*[1]社会!$AN$10","v":0},{"$f":"COUNTIF([1]社会!AO44,1)*[1]社会!$AO$10","v":0},{"$f":"COUNTIF([1]社会!AP44,1)*[1]社会!$AP$10","v":0},{"$f":"COUNTIF([1]社会!AQ44,1)*[1]社会!$AQ$10","v":0},{"$f":"COUNTIF([1]社会!AR44,1)*[1]社会!$AR$10","v":0},{"$f":"COUNTIF([1]社会!AS44,1)*[1]社会!$AS$10","v":0},{"$f":"COUNTIF([1]社会!AT44,1)*[1]社会!$AT$10","v":0},{"$f":"COUNTIF([1]社会!AU44,1)*[1]社会!$AU$10","v":0},{"$f":"COUNTIF([1]社会!AV44,1)*[1]社会!$AV$10","v":0},{"$f":"COUNTIF([1]社会!AW44,1)*[1]社会!$AW$10","v":0},{"$f":"COUNTIF([1]社会!AX44,1)*[1]社会!$AX$10","v":0},{"$f":"COUNTIF([1]社会!AY44,1)*[1]社会!$AY$10","v":0},{"$f":"COUNTIF([1]社会!AZ44,1)*[1]社会!$AZ$10","v":0},{"$f":"COUNTIF([1]社会!BA44,1)*[1]社会!$BA$10","v":0},{"$f":"COUNTIF([1]社会!BB44,1)*[1]社会!$BB$10","v":0},0,null,null,"34問",{"$f":"[1]社会!AL58","v":0},null,"34問",null,null,34]
[35,{"$f":"COUNTIF([1]社会!E45,1)*[1]社会!$E$10","v":0},{"$f":"COUNTIF([1]社会!F45,1)*[1]社会!$F$10","v":0},{"$f":"COUNTIF([1]社会!G45,1)*[1]社会!$G$10","v":0},{"$f":"COUNTIF([1]社会!H45,1)*[1]社会!$H$10","v":0},{"$f":"COUNTIF([1]社会!I45,1)*[1]社会!$I$10","v":0},{"$f":"COUNTIF([1]社会!J45,1)*[1]社会!$J$10","v":0},{"$f":"COUNTIF([1]社会!K45,1)*[1]社会!$K$10","v":0},{"$f":"COUNTIF([1]社会!L45,1)*[1]社会!$L$10","v":0},{"$f":"COUNTIF([1]社会!M45,1)*[1]社会!$M$10","v":0},{"$f":"COUNTIF([1]社会!N45,1)*[1]社会!$N$10","v":0},{"$f":"COUNTIF([1]社会!O45,1)*[1]社会!$O$10","v":0},{"$f":"COUNTIF([1]社会!P45,1)*[1]社会!$P$10","v":0},{"$f":"COUNTIF([1]社会!Q45,1)*[1]社会!$Q$10","v":0},{"$f":"COUNTIF([1]社会!R45,1)*[1]社会!$R$10","v":0},{"$f":"COUNTIF([1]社会!S45,1)*[1]社会!$S$10","v":0},{"$f":"COUNTIF([1]社会!T45,1)*[1]社会!$T$10","v":0},{"$f":"COUNTIF([1]社会!U45,1)*[1]社会!$U$10","v":0},{"$f":"COUNTIF([1]社会!V45,1)*[1]社会!$V$10","v":0},{"$f":"COUNTIF([1]社会!W45,1)*[1]社会!$W$10","v":0},{"$f":"COUNTIF([1]社会!X45,1)*[1]社会!$X$10","v":0},{"$f":"COUNTIF([1]社会!Y45,1)*[1]社会!$Y$10","v":0},{"$f":"COUNTIF([1]社会!Z45,1)*[1]社会!$Z$10","v":0},{"$f":"COUNTIF([1]社会!AA45,1)*[1]社会!$AA$10","v":0},{"$f":"COUNTIF([1]社会!AB45,1)*[1]社会!$AB$10","v":0},{"$f":"COUNTIF([1]社会!AC45,1)*[1]社会!$AC$10","v":0},{"$f":"COUNTIF([1]社会!AD45,1)*[1]社会!$AD$10","v":0},{"$f":"COUNTIF([1]社会!AE45,1)*[1]社会!$AE$10","v":0},{"$f":"COUNTIF([1]社会!AF45,1)*[1]社会!$AF$10","v":0},{"$f":"COUNTIF([1]社会!AG45,1)*[1]社会!$AG$10","v":0},{"$f":"COUNTIF([1]社会!AH45,1)*[1]社会!$AH$10","v":0},{"$f":"COUNTIF([1]社会!AI45,1)*[1]社会!$AI$10","v":0},{"$f":"COUNTIF([1]社会!AJ45,1)*[1]社会!$AJ$10","v":0},{"$f":"COUNTIF([1]社会!AK45,1)*[1]社会!$AK$10","v":0},{"$f":"COUNTIF([1]社会!AL45,1)*[1]社会!$AL$10","v":0},{"$f":"COUNTIF([1]社会!AM45,1)*[1]社会!$AM$10","v":0},{"$f":"COUNTIF([1]社会!AN45,1)*[1]社会!$AN$10","v":0},{"$f":"COUNTIF([1]社会!AO45,1)*[1]社会!$AO$10","v":0},{"$f":"COUNTIF([1]社会!AP45,1)*[1]社会!$AP$10","v":0},{"$f":"COUNTIF([1]社会!AQ45,1)*[1]社会!$AQ$10","v":0},{"$f":"COUNTIF([1]社会!AR45,1)*[1]社会!$AR$10","v":0},{"$f":"COUNTIF([1]社会!AS45,1)*[1]社会!$AS$10","v":0},{"$f":"COUNTIF([1]社会!AT45,1)*[1]社会!$AT$10","v":0},{"$f":"COUNTIF([1]社会!AU45,1)*[1]社会!$AU$10","v":0},{"$f":"COUNTIF([1]社会!AV45,1)*[1]社会!$AV$10","v":0},{"$f":"COUNTIF([1]社会!AW45,1)*[1]社会!$AW$10","v":0},{"$f":"COUNTIF([1]社会!AX45,1)*[1]社会!$AX$10","v":0},{"$f":"COUNTIF([1]社会!AY45,1)*[1]社会!$AY$10","v":0},{"$f":"COUNTIF([1]社会!AZ45,1)*[1]社会!$AZ$10","v":0},{"$f":"COUNTIF([1]社会!BA45,1)*[1]社会!$BA$10","v":0},{"$f":"COUNTIF([1]社会!BB45,1)*[1]社会!$BB$10","v":0},0,null,null,"35問",{"$f":"[1]社会!AM58","v":0},null,"35問",null,null,35]
[36,{"$f":"COUNTIF([1]社会!E46,1)*[1]社会!$E$10","v":0},{"$f":"COUNTIF([1]社会!F46,1)*[1]社会!$F$10","v":0},{"$f":"COUNTIF([1]社会!G46,1)*[1]社会!$G$10","v":0},{"$f":"COUNTIF([1]社会!H46,1)*[1]社会!$H$10","v":0},{"$f":"COUNTIF([1]社会!I46,1)*[1]社会!$I$10","v":0},{"$f":"COUNTIF([1]社会!J46,1)*[1]社会!$J$10","v":0},{"$f":"COUNTIF([1]社会!K46,1)*[1]社会!$K$10","v":0},{"$f":"COUNTIF([1]社会!L46,1)*[1]社会!$L$10","v":0},{"$f":"COUNTIF([1]社会!M46,1)*[1]社会!$M$10","v":0},{"$f":"COUNTIF([1]社会!N46,1)*[1]社会!$N$10","v":0},{"$f":"COUNTIF([1]社会!O46,1)*[1]社会!$O$10","v":0},{"$f":"COUNTIF([1]社会!P46,1)*[1]社会!$P$10","v":0},{"$f":"COUNTIF([1]社会!Q46,1)*[1]社会!$Q$10","v":0},{"$f":"COUNTIF([1]社会!R46,1)*[1]社会!$R$10","v":0},{"$f":"COUNTIF([1]社会!S46,1)*[1]社会!$S$10","v":0},{"$f":"COUNTIF([1]社会!T46,1)*[1]社会!$T$10","v":0},{"$f":"COUNTIF([1]社会!U46,1)*[1]社会!$U$10","v":0},{"$f":"COUNTIF([1]社会!V46,1)*[1]社会!$V$10","v":0},{"$f":"COUNTIF([1]社会!W46,1)*[1]社会!$W$10","v":0},{"$f":"COUNTIF([1]社会!X46,1)*[1]社会!$X$10","v":0},{"$f":"COUNTIF([1]社会!Y46,1)*[1]社会!$Y$10","v":0},{"$f":"COUNTIF([1]社会!Z46,1)*[1]社会!$Z$10","v":0},{"$f":"COUNTIF([1]社会!AA46,1)*[1]社会!$AA$10","v":0},{"$f":"COUNTIF([1]社会!AB46,1)*[1]社会!$AB$10","v":0},{"$f":"COUNTIF([1]社会!AC46,1)*[1]社会!$AC$10","v":0},{"$f":"COUNTIF([1]社会!AD46,1)*[1]社会!$AD$10","v":0},{"$f":"COUNTIF([1]社会!AE46,1)*[1]社会!$AE$10","v":0},{"$f":"COUNTIF([1]社会!AF46,1)*[1]社会!$AF$10","v":0},{"$f":"COUNTIF([1]社会!AG46,1)*[1]社会!$AG$10","v":0},{"$f":"COUNTIF([1]社会!AH46,1)*[1]社会!$AH$10","v":0},{"$f":"COUNTIF([1]社会!AI46,1)*[1]社会!$AI$10","v":0},{"$f":"COUNTIF([1]社会!AJ46,1)*[1]社会!$AJ$10","v":0},{"$f":"COUNTIF([1]社会!AK46,1)*[1]社会!$AK$10","v":0},{"$f":"COUNTIF([1]社会!AL46,1)*[1]社会!$AL$10","v":0},{"$f":"COUNTIF([1]社会!AM46,1)*[1]社会!$AM$10","v":0},{"$f":"COUNTIF([1]社会!AN46,1)*[1]社会!$AN$10","v":0},{"$f":"COUNTIF([1]社会!AO46,1)*[1]社会!$AO$10","v":0},{"$f":"COUNTIF([1]社会!AP46,1)*[1]社会!$AP$10","v":0},{"$f":"COUNTIF([1]社会!AQ46,1)*[1]社会!$AQ$10","v":0},{"$f":"COUNTIF([1]社会!AR46,1)*[1]社会!$AR$10","v":0},{"$f":"COUNTIF([1]社会!AS46,1)*[1]社会!$AS$10","v":0},{"$f":"COUNTIF([1]社会!AT46,1)*[1]社会!$AT$10","v":0},{"$f":"COUNTIF([1]社会!AU46,1)*[1]社会!$AU$10","v":0},{"$f":"COUNTIF([1]社会!AV46,1)*[1]社会!$AV$10","v":0},{"$f":"COUNTIF([1]社会!AW46,1)*[1]社会!$AW$10","v":0},{"$f":"COUNTIF([1]社会!AX46,1)*[1]社会!$AX$10","v":0},{"$f":"COUNTIF([1]社会!AY46,1)*[1]社会!$AY$10","v":0},{"$f":"COUNTIF([1]社会!AZ46,1)*[1]社会!$AZ$10","v":0},{"$f":"COUNTIF([1]社会!BA46,1)*[1]社会!$BA$10","v":0},{"$f":"COUNTIF([1]社会!BB46,1)*[1]社会!$BB$10","v":0},0,null,null,"36問",{"$f":"[1]社会!AN58","v":0},null,"36問",null,null,36]
[37,{"$f":"COUNTIF([1]社会!E47,1)*[1]社会!$E$10","v":0},{"$f":"COUNTIF([1]社会!F47,1)*[1]社会!$F$10","v":0},{"$f":"COUNTIF([1]社会!G47,1)*[1]社会!$G$10","v":0},{"$f":"COUNTIF([1]社会!H47,1)*[1]社会!$H$10","v":0},{"$f":"COUNTIF([1]社会!I47,1)*[1]社会!$I$10","v":0},{"$f":"COUNTIF([1]社会!J47,1)*[1]社会!$J$10","v":0},{"$f":"COUNTIF([1]社会!K47,1)*[1]社会!$K$10","v":0},{"$f":"COUNTIF([1]社会!L47,1)*[1]社会!$L$10","v":0},{"$f":"COUNTIF([1]社会!M47,1)*[1]社会!$M$10","v":0},{"$f":"COUNTIF([1]社会!N47,1)*[1]社会!$N$10","v":0},{"$f":"COUNTIF([1]社会!O47,1)*[1]社会!$O$10","v":0},{"$f":"COUNTIF([1]社会!P47,1)*[1]社会!$P$10","v":0},{"$f":"COUNTIF([1]社会!Q47,1)*[1]社会!$Q$10","v":0},{"$f":"COUNTIF([1]社会!R47,1)*[1]社会!$R$10","v":0},{"$f":"COUNTIF([1]社会!S47,1)*[1]社会!$S$10","v":0},{"$f":"COUNTIF([1]社会!T47,1)*[1]社会!$T$10","v":0},{"$f":"COUNTIF([1]社会!U47,1)*[1]社会!$U$10","v":0},{"$f":"COUNTIF([1]社会!V47,1)*[1]社会!$V$10","v":0},{"$f":"COUNTIF([1]社会!W47,1)*[1]社会!$W$10","v":0},{"$f":"COUNTIF([1]社会!X47,1)*[1]社会!$X$10","v":0},{"$f":"COUNTIF([1]社会!Y47,1)*[1]社会!$Y$10","v":0},{"$f":"COUNTIF([1]社会!Z47,1)*[1]社会!$Z$10","v":0},{"$f":"COUNTIF([1]社会!AA47,1)*[1]社会!$AA$10","v":0},{"$f":"COUNTIF([1]社会!AB47,1)*[1]社会!$AB$10","v":0},{"$f":"COUNTIF([1]社会!AC47,1)*[1]社会!$AC$10","v":0},{"$f":"COUNTIF([1]社会!AD47,1)*[1]社会!$AD$10","v":0},{"$f":"COUNTIF([1]社会!AE47,1)*[1]社会!$AE$10","v":0},{"$f":"COUNTIF([1]社会!AF47,1)*[1]社会!$AF$10","v":0},{"$f":"COUNTIF([1]社会!AG47,1)*[1]社会!$AG$10","v":0},{"$f":"COUNTIF([1]社会!AH47,1)*[1]社会!$AH$10","v":0},{"$f":"COUNTIF([1]社会!AI47,1)*[1]社会!$AI$10","v":0},{"$f":"COUNTIF([1]社会!AJ47,1)*[1]社会!$AJ$10","v":0},{"$f":"COUNTIF([1]社会!AK47,1)*[1]社会!$AK$10","v":0},{"$f":"COUNTIF([1]社会!AL47,1)*[1]社会!$AL$10","v":0},{"$f":"COUNTIF([1]社会!AM47,1)*[1]社会!$AM$10","v":0},{"$f":"COUNTIF([1]社会!AN47,1)*[1]社会!$AN$10","v":0},{"$f":"COUNTIF([1]社会!AO47,1)*[1]社会!$AO$10","v":0},{"$f":"COUNTIF([1]社会!AP47,1)*[1]社会!$AP$10","v":0},{"$f":"COUNTIF([1]社会!AQ47,1)*[1]社会!$AQ$10","v":0},{"$f":"COUNTIF([1]社会!AR47,1)*[1]社会!$AR$10","v":0},{"$f":"COUNTIF([1]社会!AS47,1)*[1]社会!$AS$10","v":0},{"$f":"COUNTIF([1]社会!AT47,1)*[1]社会!$AT$10","v":0},{"$f":"COUNTIF([1]社会!AU47,1)*[1]社会!$AU$10","v":0},{"$f":"COUNTIF([1]社会!AV47,1)*[1]社会!$AV$10","v":0},{"$f":"COUNTIF([1]社会!AW47,1)*[1]社会!$AW$10","v":0},{"$f":"COUNTIF([1]社会!AX47,1)*[1]社会!$AX$10","v":0},{"$f":"COUNTIF([1]社会!AY47,1)*[1]社会!$AY$10","v":0},{"$f":"COUNTIF([1]社会!AZ47,1)*[1]社会!$AZ$10","v":0},{"$f":"COUNTIF([1]社会!BA47,1)*[1]社会!$BA$10","v":0},{"$f":"COUNTIF([1]社会!BB47,1)*[1]社会!$BB$10","v":0},0,null,null,"37問",{"$f":"[1]社会!AO58","v":0},null,"37問",null,null,37]
[38,{"$f":"COUNTIF([1]社会!E48,1)*[1]社会!$E$10","v":0},{"$f":"COUNTIF([1]社会!F48,1)*[1]社会!$F$10","v":0},{"$f":"COUNTIF([1]社会!G48,1)*[1]社会!$G$10","v":0},{"$f":"COUNTIF([1]社会!H48,1)*[1]社会!$H$10","v":0},{"$f":"COUNTIF([1]社会!I48,1)*[1]社会!$I$10","v":0},{"$f":"COUNTIF([1]社会!J48,1)*[1]社会!$J$10","v":0},{"$f":"COUNTIF([1]社会!K48,1)*[1]社会!$K$10","v":0},{"$f":"COUNTIF([1]社会!L48,1)*[1]社会!$L$10","v":0},{"$f":"COUNTIF([1]社会!M48,1)*[1]社会!$M$10","v":0},{"$f":"COUNTIF([1]社会!N48,1)*[1]社会!$N$10","v":0},{"$f":"COUNTIF([1]社会!O48,1)*[1]社会!$O$10","v":0},{"$f":"COUNTIF([1]社会!P48,1)*[1]社会!$P$10","v":0},{"$f":"COUNTIF([1]社会!Q48,1)*[1]社会!$Q$10","v":0},{"$f":"COUNTIF([1]社会!R48,1)*[1]社会!$R$10","v":0},{"$f":"COUNTIF([1]社会!S48,1)*[1]社会!$S$10","v":0},{"$f":"COUNTIF([1]社会!T48,1)*[1]社会!$T$10","v":0},{"$f":"COUNTIF([1]社会!U48,1)*[1]社会!$U$10","v":0},{"$f":"COUNTIF([1]社会!V48,1)*[1]社会!$V$10","v":0},{"$f":"COUNTIF([1]社会!W48,1)*[1]社会!$W$10","v":0},{"$f":"COUNTIF([1]社会!X48,1)*[1]社会!$X$10","v":0},{"$f":"COUNTIF([1]社会!Y48,1)*[1]社会!$Y$10","v":0},{"$f":"COUNTIF([1]社会!Z48,1)*[1]社会!$Z$10","v":0},{"$f":"COUNTIF([1]社会!AA48,1)*[1]社会!$AA$10","v":0},{"$f":"COUNTIF([1]社会!AB48,1)*[1]社会!$AB$10","v":0},{"$f":"COUNTIF([1]社会!AC48,1)*[1]社会!$AC$10","v":0},{"$f":"COUNTIF([1]社会!AD48,1)*[1]社会!$AD$10","v":0},{"$f":"COUNTIF([1]社会!AE48,1)*[1]社会!$AE$10","v":0},{"$f":"COUNTIF([1]社会!AF48,1)*[1]社会!$AF$10","v":0},{"$f":"COUNTIF([1]社会!AG48,1)*[1]社会!$AG$10","v":0},{"$f":"COUNTIF([1]社会!AH48,1)*[1]社会!$AH$10","v":0},{"$f":"COUNTIF([1]社会!AI48,1)*[1]社会!$AI$10","v":0},{"$f":"COUNTIF([1]社会!AJ48,1)*[1]社会!$AJ$10","v":0},{"$f":"COUNTIF([1]社会!AK48,1)*[1]社会!$AK$10","v":0},{"$f":"COUNTIF([1]社会!AL48,1)*[1]社会!$AL$10","v":0},{"$f":"COUNTIF([1]社会!AM48,1)*[1]社会!$AM$10","v":0},{"$f":"COUNTIF([1]社会!AN48,1)*[1]社会!$AN$10","v":0},{"$f":"COUNTIF([1]社会!AO48,1)*[1]社会!$AO$10","v":0},{"$f":"COUNTIF([1]社会!AP48,1)*[1]社会!$AP$10","v":0},{"$f":"COUNTIF([1]社会!AQ48,1)*[1]社会!$AQ$10","v":0},{"$f":"COUNTIF([1]社会!AR48,1)*[1]社会!$AR$10","v":0},{"$f":"COUNTIF([1]社会!AS48,1)*[1]社会!$AS$10","v":0},{"$f":"COUNTIF([1]社会!AT48,1)*[1]社会!$AT$10","v":0},{"$f":"COUNTIF([1]社会!AU48,1)*[1]社会!$AU$10","v":0},{"$f":"COUNTIF([1]社会!AV48,1)*[1]社会!$AV$10","v":0},{"$f":"COUNTIF([1]社会!AW48,1)*[1]社会!$AW$10","v":0},{"$f":"COUNTIF([1]社会!AX48,1)*[1]社会!$AX$10","v":0},{"$f":"COUNTIF([1]社会!AY48,1)*[1]社会!$AY$10","v":0},{"$f":"COUNTIF([1]社会!AZ48,1)*[1]社会!$AZ$10","v":0},{"$f":"COUNTIF([1]社会!BA48,1)*[1]社会!$BA$10","v":0},{"$f":"COUNTIF([1]社会!BB48,1)*[1]社会!$BB$10","v":0},0,null,null,"38問",{"$f":"[1]社会!AP58","v":0},null,"38問",null,null,38]
[39,{"$f":"COUNTIF([1]社会!E49,1)*[1]社会!$E$10","v":0},{"$f":"COUNTIF([1]社会!F49,1)*[1]社会!$F$10","v":0},{"$f":"COUNTIF([1]社会!G49,1)*[1]社会!$G$10","v":0},{"$f":"COUNTIF([1]社会!H49,1)*[1]社会!$H$10","v":0},{"$f":"COUNTIF([1]社会!I49,1)*[1]社会!$I$10","v":0},{"$f":"COUNTIF([1]社会!J49,1)*[1]社会!$J$10","v":0},{"$f":"COUNTIF([1]社会!K49,1)*[1]社会!$K$10","v":0},{"$f":"COUNTIF([1]社会!L49,1)*[1]社会!$L$10","v":0},{"$f":"COUNTIF([1]社会!M49,1)*[1]社会!$M$10","v":0},{"$f":"COUNTIF([1]社会!N49,1)*[1]社会!$N$10","v":0},{"$f":"COUNTIF([1]社会!O49,1)*[1]社会!$O$10","v":0},{"$f":"COUNTIF([1]社会!P49,1)*[1]社会!$P$10","v":0},{"$f":"COUNTIF([1]社会!Q49,1)*[1]社会!$Q$10","v":0},{"$f":"COUNTIF([1]社会!R49,1)*[1]社会!$R$10","v":0},{"$f":"COUNTIF([1]社会!S49,1)*[1]社会!$S$10","v":0},{"$f":"COUNTIF([1]社会!T49,1)*[1]社会!$T$10","v":0},{"$f":"COUNTIF([1]社会!U49,1)*[1]社会!$U$10","v":0},{"$f":"COUNTIF([1]社会!V49,1)*[1]社会!$V$10","v":0},{"$f":"COUNTIF([1]社会!W49,1)*[1]社会!$W$10","v":0},{"$f":"COUNTIF([1]社会!X49,1)*[1]社会!$X$10","v":0},{"$f":"COUNTIF([1]社会!Y49,1)*[1]社会!$Y$10","v":0},{"$f":"COUNTIF([1]社会!Z49,1)*[1]社会!$Z$10","v":0},{"$f":"COUNTIF([1]社会!AA49,1)*[1]社会!$AA$10","v":0},{"$f":"COUNTIF([1]社会!AB49,1)*[1]社会!$AB$10","v":0},{"$f":"COUNTIF([1]社会!AC49,1)*[1]社会!$AC$10","v":0},{"$f":"COUNTIF([1]社会!AD49,1)*[1]社会!$AD$10","v":0},{"$f":"COUNTIF([1]社会!AE49,1)*[1]社会!$AE$10","v":0},{"$f":"COUNTIF([1]社会!AF49,1)*[1]社会!$AF$10","v":0},{"$f":"COUNTIF([1]社会!AG49,1)*[1]社会!$AG$10","v":0},{"$f":"COUNTIF([1]社会!AH49,1)*[1]社会!$AH$10","v":0},{"$f":"COUNTIF([1]社会!AI49,1)*[1]社会!$AI$10","v":0},{"$f":"COUNTIF([1]社会!AJ49,1)*[1]社会!$AJ$10","v":0},{"$f":"COUNTIF([1]社会!AK49,1)*[1]社会!$AK$10","v":0},{"$f":"COUNTIF([1]社会!AL49,1)*[1]社会!$AL$10","v":0},{"$f":"COUNTIF([1]社会!AM49,1)*[1]社会!$AM$10","v":0},{"$f":"COUNTIF([1]社会!AN49,1)*[1]社会!$AN$10","v":0},{"$f":"COUNTIF([1]社会!AO49,1)*[1]社会!$AO$10","v":0},{"$f":"COUNTIF([1]社会!AP49,1)*[1]社会!$AP$10","v":0},{"$f":"COUNTIF([1]社会!AQ49,1)*[1]社会!$AQ$10","v":0},{"$f":"COUNTIF([1]社会!AR49,1)*[1]社会!$AR$10","v":0},{"$f":"COUNTIF([1]社会!AS49,1)*[1]社会!$AS$10","v":0},{"$f":"COUNTIF([1]社会!AT49,1)*[1]社会!$AT$10","v":0},{"$f":"COUNTIF([1]社会!AU49,1)*[1]社会!$AU$10","v":0},{"$f":"COUNTIF([1]社会!AV49,1)*[1]社会!$AV$10","v":0},{"$f":"COUNTIF([1]社会!AW49,1)*[1]社会!$AW$10","v":0},{"$f":"COUNTIF([1]社会!AX49,1)*[1]社会!$AX$10","v":0},{"$f":"COUNTIF([1]社会!AY49,1)*[1]社会!$AY$10","v":0},{"$f":"COUNTIF([1]社会!AZ49,1)*[1]社会!$AZ$10","v":0},{"$f":"COUNTIF([1]社会!BA49,1)*[1]社会!$BA$10","v":0},{"$f":"COUNTIF([1]社会!BB49,1)*[1]社会!$BB$10","v":0},0,null,null,"39問",{"$f":"[1]社会!AQ58","v":0},null,"39問",null,null,39]
[40,{"$f":"COUNTIF([1]社会!E50,1)*[1]社会!$E$10","v":0},{"$f":"COUNTIF([1]社会!F50,1)*[1]社会!$F$10","v":0},{"$f":"COUNTIF([1]社会!G50,1)*[1]社会!$G$10","v":0},{"$f":"COUNTIF([1]社会!H50,1)*[1]社会!$H$10","v":0},{"$f":"COUNTIF([1]社会!I50,1)*[1]社会!$I$10","v":0},{"$f":"COUNTIF([1]社会!J50,1)*[1]社会!$J$10","v":0},{"$f":"COUNTIF([1]社会!K50,1)*[1]社会!$K$10","v":0},{"$f":"COUNTIF([1]社会!L50,1)*[1]社会!$L$10","v":0},{"$f":"COUNTIF([1]社会!M50,1)*[1]社会!$M$10","v":0},{"$f":"COUNTIF([1]社会!N50,1)*[1]社会!$N$10","v":0},{"$f":"COUNTIF([1]社会!O50,1)*[1]社会!$O$10","v":0},{"$f":"COUNTIF([1]社会!P50,1)*[1]社会!$P$10","v":0},{"$f":"COUNTIF([1]社会!Q50,1)*[1]社会!$Q$10","v":0},{"$f":"COUNTIF([1]社会!R50,1)*[1]社会!$R$10","v":0},{"$f":"COUNTIF([1]社会!S50,1)*[1]社会!$S$10","v":0},{"$f":"COUNTIF([1]社会!T50,1)*[1]社会!$T$10","v":0},{"$f":"COUNTIF([1]社会!U50,1)*[1]社会!$U$10","v":0},{"$f":"COUNTIF([1]社会!V50,1)*[1]社会!$V$10","v":0},{"$f":"COUNTIF([1]社会!W50,1)*[1]社会!$W$10","v":0},{"$f":"COUNTIF([1]社会!X50,1)*[1]社会!$X$10","v":0},{"$f":"COUNTIF([1]社会!Y50,1)*[1]社会!$Y$10","v":0},{"$f":"COUNTIF([1]社会!Z50,1)*[1]社会!$Z$10","v":0},{"$f":"COUNTIF([1]社会!AA50,1)*[1]社会!$AA$10","v":0},{"$f":"COUNTIF([1]社会!AB50,1)*[1]社会!$AB$10","v":0},{"$f":"COUNTIF([1]社会!AC50,1)*[1]社会!$AC$10","v":0},{"$f":"COUNTIF([1]社会!AD50,1)*[1]社会!$AD$10","v":0},{"$f":"COUNTIF([1]社会!AE50,1)*[1]社会!$AE$10","v":0},{"$f":"COUNTIF([1]社会!AF50,1)*[1]社会!$AF$10","v":0},{"$f":"COUNTIF([1]社会!AG50,1)*[1]社会!$AG$10","v":0},{"$f":"COUNTIF([1]社会!AH50,1)*[1]社会!$AH$10","v":0},{"$f":"COUNTIF([1]社会!AI50,1)*[1]社会!$AI$10","v":0},{"$f":"COUNTIF([1]社会!AJ50,1)*[1]社会!$AJ$10","v":0},{"$f":"COUNTIF([1]社会!AK50,1)*[1]社会!$AK$10","v":0},{"$f":"COUNTIF([1]社会!AL50,1)*[1]社会!$AL$10","v":0},{"$f":"COUNTIF([1]社会!AM50,1)*[1]社会!$AM$10","v":0},{"$f":"COUNTIF([1]社会!AN50,1)*[1]社会!$AN$10","v":0},{"$f":"COUNTIF([1]社会!AO50,1)*[1]社会!$AO$10","v":0},{"$f":"COUNTIF([1]社会!AP50,1)*[1]社会!$AP$10","v":0},{"$f":"COUNTIF([1]社会!AQ50,1)*[1]社会!$AQ$10","v":0},{"$f":"COUNTIF([1]社会!AR50,1)*[1]社会!$AR$10","v":0},{"$f":"COUNTIF([1]社会!AS50,1)*[1]社会!$AS$10","v":0},{"$f":"COUNTIF([1]社会!AT50,1)*[1]社会!$AT$10","v":0},{"$f":"COUNTIF([1]社会!AU50,1)*[1]社会!$AU$10","v":0},{"$f":"COUNTIF([1]社会!AV50,1)*[1]社会!$AV$10","v":0},{"$f":"COUNTIF([1]社会!AW50,1)*[1]社会!$AW$10","v":0},{"$f":"COUNTIF([1]社会!AX50,1)*[1]社会!$AX$10","v":0},{"$f":"COUNTIF([1]社会!AY50,1)*[1]社会!$AY$10","v":0},{"$f":"COUNTIF([1]社会!AZ50,1)*[1]社会!$AZ$10","v":0},{"$f":"COUNTIF([1]社会!BA50,1)*[1]社会!$BA$10","v":0},{"$f":"COUNTIF([1]社会!BB50,1)*[1]社会!$BB$10","v":0},0,null,null,"40問",{"$f":"[1]社会!AR58","v":0},null,"40問",null,null,40]
[41,{"$f":"COUNTIF([1]社会!E51,1)*[1]社会!$E$10","v":0},{"$f":"COUNTIF([1]社会!F51,1)*[1]社会!$F$10","v":0},{"$f":"COUNTIF([1]社会!G51,1)*[1]社会!$G$10","v":0},{"$f":"COUNTIF([1]社会!H51,1)*[1]社会!$H$10","v":0},{"$f":"COUNTIF([1]社会!I51,1)*[1]社会!$I$10","v":0},{"$f":"COUNTIF([1]社会!J51,1)*[1]社会!$J$10","v":0},{"$f":"COUNTIF([1]社会!K51,1)*[1]社会!$K$10","v":0},{"$f":"COUNTIF([1]社会!L51,1)*[1]社会!$L$10","v":0},{"$f":"COUNTIF([1]社会!M51,1)*[1]社会!$M$10","v":0},{"$f":"COUNTIF([1]社会!N51,1)*[1]社会!$N$10","v":0},{"$f":"COUNTIF([1]社会!O51,1)*[1]社会!$O$10","v":0},{"$f":"COUNTIF([1]社会!P51,1)*[1]社会!$P$10","v":0},{"$f":"COUNTIF([1]社会!Q51,1)*[1]社会!$Q$10","v":0},{"$f":"COUNTIF([1]社会!R51,1)*[1]社会!$R$10","v":0},{"$f":"COUNTIF([1]社会!S51,1)*[1]社会!$S$10","v":0},{"$f":"COUNTIF([1]社会!T51,1)*[1]社会!$T$10","v":0},{"$f":"COUNTIF([1]社会!U51,1)*[1]社会!$U$10","v":0},{"$f":"COUNTIF([1]社会!V51,1)*[1]社会!$V$10","v":0},{"$f":"COUNTIF([1]社会!W51,1)*[1]社会!$W$10","v":0},{"$f":"COUNTIF([1]社会!X51,1)*[1]社会!$X$10","v":0},{"$f":"COUNTIF([1]社会!Y51,1)*[1]社会!$Y$10","v":0},{"$f":"COUNTIF([1]社会!Z51,1)*[1]社会!$Z$10","v":0},{"$f":"COUNTIF([1]社会!AA51,1)*[1]社会!$AA$10","v":0},{"$f":"COUNTIF([1]社会!AB51,1)*[1]社会!$AB$10","v":0},{"$f":"COUNTIF([1]社会!AC51,1)*[1]社会!$AC$10","v":0},{"$f":"COUNTIF([1]社会!AD51,1)*[1]社会!$AD$10","v":0},{"$f":"COUNTIF([1]社会!AE51,1)*[1]社会!$AE$10","v":0},{"$f":"COUNTIF([1]社会!AF51,1)*[1]社会!$AF$10","v":0},{"$f":"COUNTIF([1]社会!AG51,1)*[1]社会!$AG$10","v":0},{"$f":"COUNTIF([1]社会!AH51,1)*[1]社会!$AH$10","v":0},{"$f":"COUNTIF([1]社会!AI51,1)*[1]社会!$AI$10","v":0},{"$f":"COUNTIF([1]社会!AJ51,1)*[1]社会!$AJ$10","v":0},{"$f":"COUNTIF([1]社会!AK51,1)*[1]社会!$AK$10","v":0},{"$f":"COUNTIF([1]社会!AL51,1)*[1]社会!$AL$10","v":0},{"$f":"COUNTIF([1]社会!AM51,1)*[1]社会!$AM$10","v":0},{"$f":"COUNTIF([1]社会!AN51,1)*[1]社会!$AN$10","v":0},{"$f":"COUNTIF([1]社会!AO51,1)*[1]社会!$AO$10","v":0},{"$f":"COUNTIF([1]社会!AP51,1)*[1]社会!$AP$10","v":0},{"$f":"COUNTIF([1]社会!AQ51,1)*[1]社会!$AQ$10","v":0},{"$f":"COUNTIF([1]社会!AR51,1)*[1]社会!$AR$10","v":0},{"$f":"COUNTIF([1]社会!AS51,1)*[1]社会!$AS$10","v":0},{"$f":"COUNTIF([1]社会!AT51,1)*[1]社会!$AT$10","v":0},{"$f":"COUNTIF([1]社会!AU51,1)*[1]社会!$AU$10","v":0},{"$f":"COUNTIF([1]社会!AV51,1)*[1]社会!$AV$10","v":0},{"$f":"COUNTIF([1]社会!AW51,1)*[1]社会!$AW$10","v":0},{"$f":"COUNTIF([1]社会!AX51,1)*[1]社会!$AX$10","v":0},{"$f":"COUNTIF([1]社会!AY51,1)*[1]社会!$AY$10","v":0},{"$f":"COUNTIF([1]社会!AZ51,1)*[1]社会!$AZ$10","v":0},{"$f":"COUNTIF([1]社会!BA51,1)*[1]社会!$BA$10","v":0},{"$f":"COUNTIF([1]社会!BB51,1)*[1]社会!$BB$10","v":0},0,null,null,"41問",{"$f":"[1]社会!AS58","v":0},null,"41問",null,null,41]
[42,{"$f":"COUNTIF([1]社会!E52,1)*[1]社会!$E$10","v":0},{"$f":"COUNTIF([1]社会!F52,1)*[1]社会!$F$10","v":0},{"$f":"COUNTIF([1]社会!G52,1)*[1]社会!$G$10","v":0},{"$f":"COUNTIF([1]社会!H52,1)*[1]社会!$H$10","v":0},{"$f":"COUNTIF([1]社会!I52,1)*[1]社会!$I$10","v":0},{"$f":"COUNTIF([1]社会!J52,1)*[1]社会!$J$10","v":0},{"$f":"COUNTIF([1]社会!K52,1)*[1]社会!$K$10","v":0},{"$f":"COUNTIF([1]社会!L52,1)*[1]社会!$L$10","v":0},{"$f":"COUNTIF([1]社会!M52,1)*[1]社会!$M$10","v":0},{"$f":"COUNTIF([1]社会!N52,1)*[1]社会!$N$10","v":0},{"$f":"COUNTIF([1]社会!O52,1)*[1]社会!$O$10","v":0},{"$f":"COUNTIF([1]社会!P52,1)*[1]社会!$P$10","v":0},{"$f":"COUNTIF([1]社会!Q52,1)*[1]社会!$Q$10","v":0},{"$f":"COUNTIF([1]社会!R52,1)*[1]社会!$R$10","v":0},{"$f":"COUNTIF([1]社会!S52,1)*[1]社会!$S$10","v":0},{"$f":"COUNTIF([1]社会!T52,1)*[1]社会!$T$10","v":0},{"$f":"COUNTIF([1]社会!U52,1)*[1]社会!$U$10","v":0},{"$f":"COUNTIF([1]社会!V52,1)*[1]社会!$V$10","v":0},{"$f":"COUNTIF([1]社会!W52,1)*[1]社会!$W$10","v":0},{"$f":"COUNTIF([1]社会!X52,1)*[1]社会!$X$10","v":0},{"$f":"COUNTIF([1]社会!Y52,1)*[1]社会!$Y$10","v":0},{"$f":"COUNTIF([1]社会!Z52,1)*[1]社会!$Z$10","v":0},{"$f":"COUNTIF([1]社会!AA52,1)*[1]社会!$AA$10","v":0},{"$f":"COUNTIF([1]社会!AB52,1)*[1]社会!$AB$10","v":0},{"$f":"COUNTIF([1]社会!AC52,1)*[1]社会!$AC$10","v":0},{"$f":"COUNTIF([1]社会!AD52,1)*[1]社会!$AD$10","v":0},{"$f":"COUNTIF([1]社会!AE52,1)*[1]社会!$AE$10","v":0},{"$f":"COUNTIF([1]社会!AF52,1)*[1]社会!$AF$10","v":0},{"$f":"COUNTIF([1]社会!AG52,1)*[1]社会!$AG$10","v":0},{"$f":"COUNTIF([1]社会!AH52,1)*[1]社会!$AH$10","v":0},{"$f":"COUNTIF([1]社会!AI52,1)*[1]社会!$AI$10","v":0},{"$f":"COUNTIF([1]社会!AJ52,1)*[1]社会!$AJ$10","v":0},{"$f":"COUNTIF([1]社会!AK52,1)*[1]社会!$AK$10","v":0},{"$f":"COUNTIF([1]社会!AL52,1)*[1]社会!$AL$10","v":0},{"$f":"COUNTIF([1]社会!AM52,1)*[1]社会!$AM$10","v":0},{"$f":"COUNTIF([1]社会!AN52,1)*[1]社会!$AN$10","v":0},{"$f":"COUNTIF([1]社会!AO52,1)*[1]社会!$AO$10","v":0},{"$f":"COUNTIF([1]社会!AP52,1)*[1]社会!$AP$10","v":0},{"$f":"COUNTIF([1]社会!AQ52,1)*[1]社会!$AQ$10","v":0},{"$f":"COUNTIF([1]社会!AR52,1)*[1]社会!$AR$10","v":0},{"$f":"COUNTIF([1]社会!AS52,1)*[1]社会!$AS$10","v":0},{"$f":"COUNTIF([1]社会!AT52,1)*[1]社会!$AT$10","v":0},{"$f":"COUNTIF([1]社会!AU52,1)*[1]社会!$AU$10","v":0},{"$f":"COUNTIF([1]社会!AV52,1)*[1]社会!$AV$10","v":0},{"$f":"COUNTIF([1]社会!AW52,1)*[1]社会!$AW$10","v":0},{"$f":"COUNTIF([1]社会!AX52,1)*[1]社会!$AX$10","v":0},{"$f":"COUNTIF([1]社会!AY52,1)*[1]社会!$AY$10","v":0},{"$f":"COUNTIF([1]社会!AZ52,1)*[1]社会!$AZ$10","v":0},{"$f":"COUNTIF([1]社会!BA52,1)*[1]社会!$BA$10","v":0},{"$f":"COUNTIF([1]社会!BB52,1)*[1]社会!$BB$10","v":0},0,null,null,"42問",{"$f":"[1]社会!AT58","v":0},null,"42問",null,null,42]
[43,{"$f":"COUNTIF([1]社会!E53,1)*[1]社会!$E$10","v":0},{"$f":"COUNTIF([1]社会!F53,1)*[1]社会!$F$10","v":0},{"$f":"COUNTIF([1]社会!G53,1)*[1]社会!$G$10","v":0},{"$f":"COUNTIF([1]社会!H53,1)*[1]社会!$H$10","v":0},{"$f":"COUNTIF([1]社会!I53,1)*[1]社会!$I$10","v":0},{"$f":"COUNTIF([1]社会!J53,1)*[1]社会!$J$10","v":0},{"$f":"COUNTIF([1]社会!K53,1)*[1]社会!$K$10","v":0},{"$f":"COUNTIF([1]社会!L53,1)*[1]社会!$L$10","v":0},{"$f":"COUNTIF([1]社会!M53,1)*[1]社会!$M$10","v":0},{"$f":"COUNTIF([1]社会!N53,1)*[1]社会!$N$10","v":0},{"$f":"COUNTIF([1]社会!O53,1)*[1]社会!$O$10","v":0},{"$f":"COUNTIF([1]社会!P53,1)*[1]社会!$P$10","v":0},{"$f":"COUNTIF([1]社会!Q53,1)*[1]社会!$Q$10","v":0},{"$f":"COUNTIF([1]社会!R53,1)*[1]社会!$R$10","v":0},{"$f":"COUNTIF([1]社会!S53,1)*[1]社会!$S$10","v":0},{"$f":"COUNTIF([1]社会!T53,1)*[1]社会!$T$10","v":0},{"$f":"COUNTIF([1]社会!U53,1)*[1]社会!$U$10","v":0},{"$f":"COUNTIF([1]社会!V53,1)*[1]社会!$V$10","v":0},{"$f":"COUNTIF([1]社会!W53,1)*[1]社会!$W$10","v":0},{"$f":"COUNTIF([1]社会!X53,1)*[1]社会!$X$10","v":0},{"$f":"COUNTIF([1]社会!Y53,1)*[1]社会!$Y$10","v":0},{"$f":"COUNTIF([1]社会!Z53,1)*[1]社会!$Z$10","v":0},{"$f":"COUNTIF([1]社会!AA53,1)*[1]社会!$AA$10","v":0},{"$f":"COUNTIF([1]社会!AB53,1)*[1]社会!$AB$10","v":0},{"$f":"COUNTIF([1]社会!AC53,1)*[1]社会!$AC$10","v":0},{"$f":"COUNTIF([1]社会!AD53,1)*[1]社会!$AD$10","v":0},{"$f":"COUNTIF([1]社会!AE53,1)*[1]社会!$AE$10","v":0},{"$f":"COUNTIF([1]社会!AF53,1)*[1]社会!$AF$10","v":0},{"$f":"COUNTIF([1]社会!AG53,1)*[1]社会!$AG$10","v":0},{"$f":"COUNTIF([1]社会!AH53,1)*[1]社会!$AH$10","v":0},{"$f":"COUNTIF([1]社会!AI53,1)*[1]社会!$AI$10","v":0},{"$f":"COUNTIF([1]社会!AJ53,1)*[1]社会!$AJ$10","v":0},{"$f":"COUNTIF([1]社会!AK53,1)*[1]社会!$AK$10","v":0},{"$f":"COUNTIF([1]社会!AL53,1)*[1]社会!$AL$10","v":0},{"$f":"COUNTIF([1]社会!AM53,1)*[1]社会!$AM$10","v":0},{"$f":"COUNTIF([1]社会!AN53,1)*[1]社会!$AN$10","v":0},{"$f":"COUNTIF([1]社会!AO53,1)*[1]社会!$AO$10","v":0},{"$f":"COUNTIF([1]社会!AP53,1)*[1]社会!$AP$10","v":0},{"$f":"COUNTIF([1]社会!AQ53,1)*[1]社会!$AQ$10","v":0},{"$f":"COUNTIF([1]社会!AR53,1)*[1]社会!$AR$10","v":0},{"$f":"COUNTIF([1]社会!AS53,1)*[1]社会!$AS$10","v":0},{"$f":"COUNTIF([1]社会!AT53,1)*[1]社会!$AT$10","v":0},{"$f":"COUNTIF([1]社会!AU53,1)*[1]社会!$AU$10","v":0},{"$f":"COUNTIF([1]社会!AV53,1)*[1]社会!$AV$10","v":0},{"$f":"COUNTIF([1]社会!AW53,1)*[1]社会!$AW$10","v":0},{"$f":"COUNTIF([1]社会!AX53,1)*[1]社会!$AX$10","v":0},{"$f":"COUNTIF([1]社会!AY53,1)*[1]社会!$AY$10","v":0},{"$f":"COUNTIF([1]社会!AZ53,1)*[1]社会!$AZ$10","v":0},{"$f":"COUNTIF([1]社会!BA53,1)*[1]社会!$BA$10","v":0},{"$f":"COUNTIF([1]社会!BB53,1)*[1]社会!$BB$10","v":0},0,null,null,"43問",{"$f":"[1]社会!AU58","v":0},null,"43問",null,null,43]
[44,{"$f":"COUNTIF([1]社会!E54,1)*[1]社会!$E$10","v":0},{"$f":"COUNTIF([1]社会!F54,1)*[1]社会!$F$10","v":0},{"$f":"COUNTIF([1]社会!G54,1)*[1]社会!$G$10","v":0},{"$f":"COUNTIF([1]社会!H54,1)*[1]社会!$H$10","v":0},{"$f":"COUNTIF([1]社会!I54,1)*[1]社会!$I$10","v":0},{"$f":"COUNTIF([1]社会!J54,1)*[1]社会!$J$10","v":0},{"$f":"COUNTIF([1]社会!K54,1)*[1]社会!$K$10","v":0},{"$f":"COUNTIF([1]社会!L54,1)*[1]社会!$L$10","v":0},{"$f":"COUNTIF([1]社会!M54,1)*[1]社会!$M$10","v":0},{"$f":"COUNTIF([1]社会!N54,1)*[1]社会!$N$10","v":0},{"$f":"COUNTIF([1]社会!O54,1)*[1]社会!$O$10","v":0},{"$f":"COUNTIF([1]社会!P54,1)*[1]社会!$P$10","v":0},{"$f":"COUNTIF([1]社会!Q54,1)*[1]社会!$Q$10","v":0},{"$f":"COUNTIF([1]社会!R54,1)*[1]社会!$R$10","v":0},{"$f":"COUNTIF([1]社会!S54,1)*[1]社会!$S$10","v":0},{"$f":"COUNTIF([1]社会!T54,1)*[1]社会!$T$10","v":0},{"$f":"COUNTIF([1]社会!U54,1)*[1]社会!$U$10","v":0},{"$f":"COUNTIF([1]社会!V54,1)*[1]社会!$V$10","v":0},{"$f":"COUNTIF([1]社会!W54,1)*[1]社会!$W$10","v":0},{"$f":"COUNTIF([1]社会!X54,1)*[1]社会!$X$10","v":0},{"$f":"COUNTIF([1]社会!Y54,1)*[1]社会!$Y$10","v":0},{"$f":"COUNTIF([1]社会!Z54,1)*[1]社会!$Z$10","v":0},{"$f":"COUNTIF([1]社会!AA54,1)*[1]社会!$AA$10","v":0},{"$f":"COUNTIF([1]社会!AB54,1)*[1]社会!$AB$10","v":0},{"$f":"COUNTIF([1]社会!AC54,1)*[1]社会!$AC$10","v":0},{"$f":"COUNTIF([1]社会!AD54,1)*[1]社会!$AD$10","v":0},{"$f":"COUNTIF([1]社会!AE54,1)*[1]社会!$AE$10","v":0},{"$f":"COUNTIF([1]社会!AF54,1)*[1]社会!$AF$10","v":0},{"$f":"COUNTIF([1]社会!AG54,1)*[1]社会!$AG$10","v":0},{"$f":"COUNTIF([1]社会!AH54,1)*[1]社会!$AH$10","v":0},{"$f":"COUNTIF([1]社会!AI54,1)*[1]社会!$AI$10","v":0},{"$f":"COUNTIF([1]社会!AJ54,1)*[1]社会!$AJ$10","v":0},{"$f":"COUNTIF([1]社会!AK54,1)*[1]社会!$AK$10","v":0},{"$f":"COUNTIF([1]社会!AL54,1)*[1]社会!$AL$10","v":0},{"$f":"COUNTIF([1]社会!AM54,1)*[1]社会!$AM$10","v":0},{"$f":"COUNTIF([1]社会!AN54,1)*[1]社会!$AN$10","v":0},{"$f":"COUNTIF([1]社会!AO54,1)*[1]社会!$AO$10","v":0},{"$f":"COUNTIF([1]社会!AP54,1)*[1]社会!$AP$10","v":0},{"$f":"COUNTIF([1]社会!AQ54,1)*[1]社会!$AQ$10","v":0},{"$f":"COUNTIF([1]社会!AR54,1)*[1]社会!$AR$10","v":0},{"$f":"COUNTIF([1]社会!AS54,1)*[1]社会!$AS$10","v":0},{"$f":"COUNTIF([1]社会!AT54,1)*[1]社会!$AT$10","v":0},{"$f":"COUNTIF([1]社会!AU54,1)*[1]社会!$AU$10","v":0},{"$f":"COUNTIF([1]社会!AV54,1)*[1]社会!$AV$10","v":0},{"$f":"COUNTIF([1]社会!AW54,1)*[1]社会!$AW$10","v":0},{"$f":"COUNTIF([1]社会!AX54,1)*[1]社会!$AX$10","v":0},{"$f":"COUNTIF([1]社会!AY54,1)*[1]社会!$AY$10","v":0},{"$f":"COUNTIF([1]社会!AZ54,1)*[1]社会!$AZ$10","v":0},{"$f":"COUNTIF([1]社会!BA54,1)*[1]社会!$BA$10","v":0},{"$f":"COUNTIF([1]社会!BB54,1)*[1]社会!$BB$10","v":0},0,null,null,"44問",{"$f":"[1]社会!AV58","v":0},null,"44問",null,null,44]
[45,{"$f":"COUNTIF([1]社会!E55,1)*[1]社会!$E$10","v":0},{"$f":"COUNTIF([1]社会!F55,1)*[1]社会!$F$10","v":0},{"$f":"COUNTIF([1]社会!G55,1)*[1]社会!$G$10","v":0},{"$f":"COUNTIF([1]社会!H55,1)*[1]社会!$H$10","v":0},{"$f":"COUNTIF([1]社会!I55,1)*[1]社会!$I$10","v":0},{"$f":"COUNTIF([1]社会!J55,1)*[1]社会!$J$10","v":0},{"$f":"COUNTIF([1]社会!K55,1)*[1]社会!$K$10","v":0},{"$f":"COUNTIF([1]社会!L55,1)*[1]社会!$L$10","v":0},{"$f":"COUNTIF([1]社会!M55,1)*[1]社会!$M$10","v":0},{"$f":"COUNTIF([1]社会!N55,1)*[1]社会!$N$10","v":0},{"$f":"COUNTIF([1]社会!O55,1)*[1]社会!$O$10","v":0},{"$f":"COUNTIF([1]社会!P55,1)*[1]社会!$P$10","v":0},{"$f":"COUNTIF([1]社会!Q55,1)*[1]社会!$Q$10","v":0},{"$f":"COUNTIF([1]社会!R55,1)*[1]社会!$R$10","v":0},{"$f":"COUNTIF([1]社会!S55,1)*[1]社会!$S$10","v":0},{"$f":"COUNTIF([1]社会!T55,1)*[1]社会!$T$10","v":0},{"$f":"COUNTIF([1]社会!U55,1)*[1]社会!$U$10","v":0},{"$f":"COUNTIF([1]社会!V55,1)*[1]社会!$V$10","v":0},{"$f":"COUNTIF([1]社会!W55,1)*[1]社会!$W$10","v":0},{"$f":"COUNTIF([1]社会!X55,1)*[1]社会!$X$10","v":0},{"$f":"COUNTIF([1]社会!Y55,1)*[1]社会!$Y$10","v":0},{"$f":"COUNTIF([1]社会!Z55,1)*[1]社会!$Z$10","v":0},{"$f":"COUNTIF([1]社会!AA55,1)*[1]社会!$AA$10","v":0},{"$f":"COUNTIF([1]社会!AB55,1)*[1]社会!$AB$10","v":0},{"$f":"COUNTIF([1]社会!AC55,1)*[1]社会!$AC$10","v":0},{"$f":"COUNTIF([1]社会!AD55,1)*[1]社会!$AD$10","v":0},{"$f":"COUNTIF([1]社会!AE55,1)*[1]社会!$AE$10","v":0},{"$f":"COUNTIF([1]社会!AF55,1)*[1]社会!$AF$10","v":0},{"$f":"COUNTIF([1]社会!AG55,1)*[1]社会!$AG$10","v":0},{"$f":"COUNTIF([1]社会!AH55,1)*[1]社会!$AH$10","v":0},{"$f":"COUNTIF([1]社会!AI55,1)*[1]社会!$AI$10","v":0},{"$f":"COUNTIF([1]社会!AJ55,1)*[1]社会!$AJ$10","v":0},{"$f":"COUNTIF([1]社会!AK55,1)*[1]社会!$AK$10","v":0},{"$f":"COUNTIF([1]社会!AL55,1)*[1]社会!$AL$10","v":0},{"$f":"COUNTIF([1]社会!AM55,1)*[1]社会!$AM$10","v":0},{"$f":"COUNTIF([1]社会!AN55,1)*[1]社会!$AN$10","v":0},{"$f":"COUNTIF([1]社会!AO55,1)*[1]社会!$AO$10","v":0},{"$f":"COUNTIF([1]社会!AP55,1)*[1]社会!$AP$10","v":0},{"$f":"COUNTIF([1]社会!AQ55,1)*[1]社会!$AQ$10","v":0},{"$f":"COUNTIF([1]社会!AR55,1)*[1]社会!$AR$10","v":0},{"$f":"COUNTIF([1]社会!AS55,1)*[1]社会!$AS$10","v":0},{"$f":"COUNTIF([1]社会!AT55,1)*[1]社会!$AT$10","v":0},{"$f":"COUNTIF([1]社会!AU55,1)*[1]社会!$AU$10","v":0},{"$f":"COUNTIF([1]社会!AV55,1)*[1]社会!$AV$10","v":0},{"$f":"COUNTIF([1]社会!AW55,1)*[1]社会!$AW$10","v":0},{"$f":"COUNTIF([1]社会!AX55,1)*[1]社会!$AX$10","v":0},{"$f":"COUNTIF([1]社会!AY55,1)*[1]社会!$AY$10","v":0},{"$f":"COUNTIF([1]社会!AZ55,1)*[1]社会!$AZ$10","v":0},{"$f":"COUNTIF([1]社会!BA55,1)*[1]社会!$BA$10","v":0},{"$f":"COUNTIF([1]社会!BB55,1)*[1]社会!$BB$10","v":0},0,null,null,"45問",{"$f":"[1]社会!AW58","v":0},null,"45問",null,null,45]
[null,null,null,null,null,null,null,null,null,null,null,null,null,null,null,null,null,null,null,null,null,null,null,null,null,null,null,null,null,null,null,null,null,null,null,null,null,null,null,null,null,null,null,null,null,null,null,null,null,null,null,null,null,null,"46問",{"$f":"[1]社会!AX58","v":0},null,"46問",null,null,46]
[null,null,null,null,null,null,null,null,null,null,null,null,null,null,null,null,null,null,null,null,null,null,null,null,null,null,null,null,null,null,null,null,null,null,null,null,null,null,null,null,null,null,null,null,null,null,null,null,null,null,null,null,null,null,"47問",{"$f":"[1]社会!AY58","v":0},null,"47問",null,null,47]
["数",1,2,3,4,5,6,7,8,9,10,11,12,13,14,15,16,17,18,19,20,21,22,23,24,25,26,27,28,29,30,31,32,33,34,35,36,37,38,39,40,41,42,43,44,45,46,47,48,49,50,null,null,null,"48問",{"$f":"[1]社会!AZ58","v":0},null,"48問",null,null,48]
["正答",{"$f":"[1]社会!E58","v":0},{"$f":"[1]社会!F58","v":0},{"$f":"[1]社会!G58","v":0},{"$f":"[1]社会!H58","v":0},{"$f":"[1]社会!I58","v":0},{"$f":"[1]社会!J58","v":0},{"$f":"[1]社会!K58","v":0},{"$f":"[1]社会!L58","v":0},{"$f":"[1]社会!M58","v":0},{"$f":"[1]社会!N58","v":0},{"$f":"[1]社会!O58","v":0},{"$f":"[1]社会!P58","v":0},{"$f":"[1]社会!Q58","v":0},{"$f":"[1]社会!R58","v":0},{"$f":"[1]社会!S58","v":0},{"$f":"[1]社会!T58","v":0},{"$f":"[1]社会!U58","v":0},{"$f":"[1]社会!V58","v":0},{"$f":"[1]社会!W58","v":0},{"$f":"[1]社会!X58","v":0},{"$f":"[1]社会!Y58","v":0},{"$f":"[1]社会!Z58","v":0},{"$f":"[1]社会!AA58","v":0},{"$f":"[1]社会!AB58","v":0},{"$f":"[1]社会!AC58","v":0},{"$f":"[1]社会!AD58","v":0},{"$f":"[1]社会!AE58","v":0},{"$f":"[1]社会!AF58","v":0},{"$f":"[1]社会!AG58","v":0},{"$f":"[1]社会!AH58","v":0},{"$f":"[1]社会!AI58","v":0},{"$f":"[1]社会!AJ58","v":0},{"$f":"[1]社会!AK58","v":0},{"$f":"[1]社会!AL58","v":0},{"$f":"[1]社会!AM58","v":0},{"$f":"[1]社会!AN58","v":0},{"$f":"[1]社会!AO58","v":0},{"$f":"[1]社会!AP58","v":0},{"$f":"[1]社会!AQ58","v":0},{"$f":"[1]社会!AR58","v":0},{"$f":"[1]社会!AS58","v":0},{"$f":"[1]社会!AT58","v":0},{"$f":"[1]社会!AU58","v":0},{"$f":"[1]社会!AV58","v":0},{"$f":"[1]社会!AW58","v":0},{"$f":"[1]社会!AX58","v":0},{"$f":"[1]社会!AY58","v":0},{"$f":"[1]社会!AZ58","v":0},{"$f":"[1]社会!BA58","v":0},{"$f":"[1]社会!BB58","v":0},null,null,null,"49問",{"$f":"[1]社会!BA58","v":0},null,"49問",null,null,49]
["誤答",{"$f":"[1]社会!E59","v":0},{"$f":"[1]社会!F59","v":0},{"$f":"[1]社会!G59","v":0},{"$f":"[1]社会!H59","v":0},{"$f":"[1]社会!I59","v":0},{"$f":"[1]社会!J59","v":0},{"$f":"[1]社会!K59","v":0},{"$f":"[1]社会!L59","v":0},{"$f":"[1]社会!M59","v":0},{"$f":"[1]社会!N59","v":0},{"$f":"[1]社会!O59","v":0},{"$f":"[1]社会!P59","v":0},{"$f":"[1]社会!Q59","v":0},{"$f":"[1]社会!R59","v":0},{"$f":"[1]社会!S59","v":0},{"$f":"[1]社会!T59","v":0},{"$f":"[1]社会!U59","v":0},{"$f":"[1]社会!V59","v":0},{"$f":"[1]社会!W59","v":0},{"$f":"[1]社会!X59","v":0},{"$f":"[1]社会!Y59","v":0},{"$f":"[1]社会!Z59","v":0},{"$f":"[1]社会!AA59","v":0},{"$f":"[1]社会!AB59","v":0},{"$f":"[1]社会!AC59","v":0},{"$f":"[1]社会!AD59","v":0},{"$f":"[1]社会!AE59","v":0},{"$f":"[1]社会!AF59","v":0},{"$f":"[1]社会!AG59","v":0},{"$f":"[1]社会!AH59","v":0},{"$f":"[1]社会!AI59","v":0},{"$f":"[1]社会!AJ59","v":0},{"$f":"[1]社会!AK59","v":0},{"$f":"[1]社会!AL59","v":0},{"$f":"[1]社会!AM59","v":0},{"$f":"[1]社会!AN59","v":0},{"$f":"[1]社会!AO59","v":0},{"$f":"[1]社会!AP59","v":0},{"$f":"[1]社会!AQ59","v":0},{"$f":"[1]社会!AR59","v":0},{"$f":"[1]社会!AS59","v":0},{"$f":"[1]社会!AT59","v":0},{"$f":"[1]社会!AU59","v":0},{"$f":"[1]社会!AV59","v":0},{"$f":"[1]社会!AW59","v":0},{"$f":"[1]社会!AX59","v":0},{"$f":"[1]社会!AY59","v":0},{"$f":"[1]社会!AZ59","v":0},{"$f":"[1]社会!BA59","v":0},{"$f":"[1]社会!BB59","v":0},null,null,null,"50問",{"$f":"[1]社会!BB58","v":0},null,"50問",null,null,50]
["無答",{"$f":"[1]社会!E60","v":0},{"$f":"[1]社会!F60","v":0},{"$f":"[1]社会!G60","v":0},{"$f":"[1]社会!H60","v":0},{"$f":"[1]社会!I60","v":0},{"$f":"[1]社会!J60","v":0},{"$f":"[1]社会!K60","v":0},{"$f":"[1]社会!L60","v":0},{"$f":"[1]社会!M60","v":0},{"$f":"[1]社会!N60","v":0},{"$f":"[1]社会!O60","v":0},{"$f":"[1]社会!P60","v":0},{"$f":"[1]社会!Q60","v":0},{"$f":"[1]社会!R60","v":0},{"$f":"[1]社会!S60","v":0},{"$f":"[1]社会!T60","v":0},{"$f":"[1]社会!U60","v":0},{"$f":"[1]社会!V60","v":0},{"$f":"[1]社会!W60","v":0},{"$f":"[1]社会!X60","v":0},{"$f":"[1]社会!Y60","v":0},{"$f":"[1]社会!Z60","v":0},{"$f":"[1]社会!AA60","v":0},{"$f":"[1]社会!AB60","v":0},{"$f":"[1]社会!AC60","v":0},{"$f":"[1]社会!AD60","v":0},{"$f":"[1]社会!AE60","v":0},{"$f":"[1]社会!AF60","v":0},{"$f":"[1]社会!AG60","v":0},{"$f":"[1]社会!AH60","v":0},{"$f":"[1]社会!AI60","v":0},{"$f":"[1]社会!AJ60","v":0},{"$f":"[1]社会!AK60","v":0},{"$f":"[1]社会!AL60","v":0},{"$f":"[1]社会!AM60","v":0},{"$f":"[1]社会!AN60","v":0},{"$f":"[1]社会!AO60","v":0},{"$f":"[1]社会!AP60","v":0},{"$f":"[1]社会!AQ60","v":0},{"$f":"[1]社会!AR60","v":0},{"$f":"[1]社会!AS60","v":0},{"$f":"[1]社会!AT60","v":0},{"$f":"[1]社会!AU60","v":0},{"$f":"[1]社会!AV60","v":0},{"$f":"[1]社会!AW60","v":0},{"$f":"[1]社会!AX60","v":0},{"$f":"[1]社会!AY60","v":0},{"$f":"[1]社会!AZ60","v":0},{"$f":"[1]社会!BA60","v":0},{"$f":"[1]社会!BB60","v":0},null,null,null,"児童数合計",{"$f":"L1","v":0},null,"合計",{"$f":"SUM(BG3:BG53)","v":1610.9000000000003}]
["合計",{"$f":"[1]社会!E61","v":0},{"$f":"[1]社会!F61","v":0},{"$f":"[1]社会!G61","v":0},{"$f":"[1]社会!H61","v":0},{"$f":"[1]社会!I61","v":0},{"$f":"[1]社会!J61","v":0},{"$f":"[1]社会!K61","v":0},{"$f":"[1]社会!L61","v":0},{"$f":"[1]社会!M61","v":0},{"$f":"[1]社会!N61","v":0},{"$f":"[1]社会!O61","v":0},{"$f":"[1]社会!P61","v":0},{"$f":"[1]社会!Q61","v":0},{"$f":"[1]社会!R61","v":0},{"$f":"[1]社会!S61","v":0},{"$f":"[1]社会!T61","v":0},{"$f":"[1]社会!U61","v":0},{"$f":"[1]社会!V61","v":0},{"$f":"[1]社会!W61","v":0},{"$f":"[1]社会!X61","v":0},{"$f":"[1]社会!Y61","v":0},{"$f":"[1]社会!Z61","v":0},{"$f":"[1]社会!AA61","v":0},{"$f":"[1]社会!AB61","v":0},{"$f":"[1]社会!AC61","v":0},{"$f":"[1]社会!AD61","v":0},{"$f":"[1]社会!AE61","v":0},{"$f":"[1]社会!AF61","v":0},{"$f":"[1]社会!AG61","v":0},{"$f":"[1]社会!AH61","v":0},{"$f":"[1]社会!AI61","v":0},{"$f":"[1]社会!AJ61","v":0},{"$f":"[1]社会!AK61","v":0},{"$f":"[1]社会!AL61","v":0},{"$f":"[1]社会!AM61","v":0},{"$f":"[1]社会!AN61","v":0},{"$f":"[1]社会!AO61","v":0},{"$f":"[1]社会!AP61","v":0},{"$f":"[1]社会!AQ61","v":0},{"$f":"[1]社会!AR61","v":0},{"$f":"[1]社会!AS61","v":0},{"$f":"[1]社会!AT61","v":0},{"$f":"[1]社会!AU61","v":0},{"$f":"[1]社会!AV61","v":0},{"$f":"[1]社会!AW61","v":0},{"$f":"[1]社会!AX61","v":0},{"$f":"[1]社会!AY61","v":0},{"$f":"[1]社会!AZ61","v":0},{"$f":"[1]社会!BA61","v":0},{"$f":"[1]社会!BB61","v":0}]
["６年社会",{"$f":"[1]社会!E9","v":"知・技"},{"$f":"[1]社会!F9","v":"知・技"},{"$f":"[1]社会!G9","v":"知・技"},{"$f":"[1]社会!H9","v":"知・技"},{"$f":"[1]社会!I9","v":"思判表"},{"$f":"[1]社会!J9","v":"知・技"},{"$f":"[1]社会!K9","v":"知・技"},{"$f":"[1]社会!L9","v":"知・技"},{"$f":"[1]社会!M9","v":"思判表"},{"$f":"[1]社会!N9","v":"知・技"},{"$f":"[1]社会!O9","v":"知・技"},{"$f":"[1]社会!P9","v":"知・技"},{"$f":"[1]社会!Q9","v":"思判表"},{"$f":"[1]社会!R9","v":"知・技"},{"$f":"[1]社会!S9","v":"思判表"},{"$f":"[1]社会!T9","v":"知・技"},{"$f":"[1]社会!U9","v":"思判表"},{"$f":"[1]社会!V9","v":"知・技"},{"$f":"[1]社会!W9","v":"知・技"},{"$f":"[1]社会!X9","v":"思判表"},{"$f":"[1]社会!Y9","v":"知・技"},{"$f":"[1]社会!Z9","v":"知・技"},{"$f":"[1]社会!AA9","v":"知・技"},{"$f":"[1]社会!AB9","v":"知・技"},{"$f":"[1]社会!AC9","v":"思判表"},{"$f":"[1]社会!AD9","v":0},{"$f":"[1]社会!AE9","v":0},{"$f":"[1]社会!AF9","v":0},{"$f":"[1]社会!AG9","v":0},{"$f":"[1]社会!AH9","v":0},{"$f":"[1]社会!AI9","v":0},{"$f":"[1]社会!AJ9","v":0},{"$f":"[1]社会!AK9","v":0},{"$f":"[1]社会!AL9","v":0},{"$f":"[1]社会!AM9","v":0}]
["富山県\n割合％",1,2,3,4,5,6,7,8,9,10,11,12,13,14,15,16,17,18,19,20,21,22,23,24,25,26,27,28,29,30,31,32,33,34,35,36,37,38,39,40,41,42,43,44,45,46,47,48,49,50]
["正答率",0.78300000000000003,0.52300000000000002,0.28999999999999998,0.78300000000000003,0.33800000000000002,0.35899999999999999,0.68899999999999995,0.65500000000000003,0.55400000000000005,0.73199999999999998,1,0.92100000000000004,0.84099999999999997,0.70599999999999996,0.53500000000000003,0.83899999999999997,0.88600000000000001,0.57699999999999996,0.52800000000000002,0.27900000000000003,0.89200000000000002,0.73899999999999999,0.60299999999999998,0.47699999999999998,0.57999999999999996]
["誤答率",0.21099999999999999,0.33900000000000002,0.46899999999999997,0.21,0.52100000000000002,0.39300000000000002,0.30499999999999999,0.33700000000000002,0.38700000000000001,0.25900000000000001,0,7.0000000000000007E-2,0.14499999999999999,0.20399999999999999,0.34300000000000003,0.14199999999999999,0.105,0.41199999999999998,0.45500000000000002,0.621,8.5000000000000006E-2,0.24299999999999999,0.26100000000000001,0.47499999999999998,0.28599999999999998]
["無答率",6.0000000000000053E-3,0.1379999999999999,0.2410000000000001,7.0000000000000062E-3,0.14100000000000001,0.248,6.0000000000000053E-3,8.0000000000000071E-3,5.8999999999999941E-2,9.000000000000008E-3,0,8.999999999999897E-3,1.4000000000000012E-2,9.000000000000008E-2,0.12199999999999989,1.9000000000000017E-2,9.000000000000008E-3,1.1000000000000121E-2,1.6999999999999904E-2,9.9999999999999978E-2,2.300000000000002E-2,1.8000000000000016E-2,0.13600000000000001,4.8000000000000043E-2,0.13400000000000012]
["合計",{"$f":"SUM(B58:B60)","v":1},1,1,1,1,1,1,1,1,1,1,1,1,1,1,1,1,1,1,1,1,1,1,1,1,0,0,0,0,0,0,0,0,0,0,0,0,0,0,0,0,0,0,0,0,0,0,0,0,0]
[]
["観点別正答数",null,null,null,null,null,null,null,null,null,null,null,null,null,null,null,null,null,null,null,null,null,null,null,null,null,null,null,null,null,null,null,null,null,null,null,null,null,null,null,null,null,null,null,null,null,null,null,null,null,null,"計","数","割合",{"$f":"A63","v":"観点別正答数"}]
[{"$f":"[1]社会!BF35","v":"思判表"},{"$f":"IF(COUNTIF(B3,$A$64),SUM(B52),0)","v":0},0,0,0,0,0,0,0,0,0,0,0,0,0,0,0,0,0,0,0,0,0,0,0,0,0,0,0,0,0,0,0,{"$f":"IF(COUNTIF(AH3,$A$64),SUM(AH52),0)","v":0},0,0,0,0,0,0,0,0,0,0,0,0,0,0,0,0,0,{"$f":"SUM(B64:AY64)","v":0},{"$f":"COUNTIF($B$3:$AY$3,A64)","v":7},{"$f":"AZ64/BA64/$L$1","v":{"$error":"#DIV/0!"}},{"$f":"A64","v":"思判表"}]
[{"$f":"[1]社会!BF36","v":"知・技"},{"$f":"IF(COUNTIF(B3,$A$65),SUM(B52),0)","v":0},0,0,0,0,0,0,0,0,0,0,0,0,0,0,0,0,0,0,0,0,0,0,0,0,0,0,0,0,0,0,0,0,0,0,0,0,0,0,0,0,0,0,0,0,0,0,0,0,0,{"$f":"SUM(B65:AY65)","v":0},{"$f":"COUNTIF($B$3:$AY$3,A65)","v":18},{"$f":"AZ65/BA65/$L$1","v":{"$error":"#DIV/0!"}},"知・技"]
[{"$f":"[1]社会!BF37","v":"-"},{"$f":"IF(COUNTIF(B3,$A$66),SUM(B52),0)","v":0},0,0,0,0,0,0,0,0,0,0,0,0,0,0,0,0,0,0,0,0,0,0,0,0,0,0,0,0,0,0,0,0,0,0,0,0,0,0,0,0,0,0,0,0,0,0,0,0,0,{"$f":"SUM(B66:AY66)","v":0},{"$f":"COUNTIF($B$3:$AY$3,A66)","v":0},{"$f":"AZ66/BA66/$L$1","v":{"$error":"#DIV/0!"}},"-"]
[{"$f":"[1]社会!BF38","v":"-"},{"$f":"IF(COUNTIF(B3,$A$67),SUM(B52),0)","v":0},0,0,0,0,0,0,0,0,0,0,0,0,0,0,0,0,0,0,0,0,0,0,0,0,0,0,0,0,0,0,0,0,0,0,0,0,0,0,0,0,0,0,0,0,0,0,0,0,0,{"$f":"SUM(B67:AY67)","v":0},{"$f":"COUNTIF($B$3:$AY$3,A67)","v":0},{"$f":"AZ67/BA67/$L$1","v":{"$error":"#DIV/0!"}},"-"]
[{"$f":"[1]社会!BF39","v":"-"},{"$f":"IF(COUNTIF(B3,$A$68),SUM(B52),0)","v":0},0,0,0,0,0,0,0,0,0,0,0,0,0,0,0,0,0,0,0,0,0,0,0,0,0,0,0,0,0,0,0,0,0,0,0,0,0,0,0,0,0,0,0,0,0,0,0,0,0,{"$f":"SUM(B68:AY68)","v":0},{"$f":"COUNTIF($B$3:$AY$3,A68)","v":0},{"$f":"AZ68/BA68/$L$1","v":{"$error":"#DIV/0!"}},"-"]
[]
["観点別誤答数",null,null,null,null,null,null,null,null,null,null,null,null,null,null,null,null,null,null,null,null,null,null,null,null,null,null,null,null,null,null,null,null,null,null,null,null,null,null,null,null,null,null,null,null,null,null,null,null,null,null,null,null,null,"観点別誤答数"]
[{"$f":"A64","v":"思判表"},{"$f":"IF(COUNTIF(B3,$A$64),SUM(B53),0)","v":0},0,0,0,0,0,0,0,0,0,0,0,0,0,0,0,0,0,0,0,0,0,0,0,0,0,0,0,0,0,0,0,0,0,0,0,0,0,0,0,0,0,0,0,0,0,0,0,0,0,{"$f":"SUM(B71:AY71)","v":0},{"$f":"BA64","v":7},{"$f":"AZ71/BA71/$L$1","v":{"$error":"#DIV/0!"}},"思判表"]
[{"$f":"A65","v":"知・技"},{"$f":"IF(COUNTIF(B3,$A$65),SUM(B53),0)","v":0},0,0,0,0,0,0,0,0,0,0,0,0,0,0,0,0,0,0,0,0,0,0,0,0,0,0,0,0,0,0,0,0,0,0,0,0,0,0,0,0,0,0,0,0,0,0,0,0,0,{"$f":"SUM(B72:AY72)","v":0},{"$f":"BA65","v":18},{"$f":"AZ72/BA72/$L$1","v":{"$error":"#DIV/0!"}},"知・技"]
[{"$f":"A66","v":"-"},{"$f":"IF(COUNTIF(B3,$A$66),SUM(B53),0)","v":0},0,0,0,0,0,0,0,0,0,0,0,0,0,0,0,0,0,0,0,0,0,0,0,0,0,0,0,0,0,0,0,0,0,0,0,0,0,0,0,0,0,0,0,0,0,0,0,0,0,{"$f":"SUM(B73:AY73)","v":0},{"$f":"BA66","v":0},{"$f":"AZ73/BA73/$L$1","v":{"$error":"#DIV/0!"}},"-"]
[{"$f":"A67","v":"-"},{"$f":"IF(COUNTIF(B3,$A$67),SUM(B53),0)","v":0},0,0,0,0,0,0,0,0,0,0,0,0,0,0,0,0,0,0,0,0,0,0,0,0,0,0,0,0,0,0,0,0,0,0,0,0,0,0,0,0,0,0,0,0,0,0,0,0,0,{"$f":"SUM(B74:AY74)","v":0},{"$f":"BA67","v":0},{"$f":"AZ74/BA74/$L$1","v":{"$error":"#DIV/0!"}},"-"]
[{"$f":"A68","v":"-"},{"$f":"IF(COUNTIF(B3,$A$68),SUM(B53),0)","v":0},0,0,0,0,0,0,0,0,0,0,0,0,0,0,0,0,0,0,0,0,0,0,0,0,0,0,0,0,0,0,0,0,0,0,0,0,0,0,0,0,0,0,0,0,0,0,0,0,0,{"$f":"SUM(B75:AY75)","v":0},{"$f":"BA68","v":0},{"$f":"AZ75/BA75/$L$1","v":{"$error":"#DIV/0!"}},"-"]
[]
["観点別無答数",null,null,null,null,null,null,null,null,null,null,null,null,null,null,null,null,null,null,null,null,null,null,null,null,null,null,null,null,null,null,null,null,null,null,null,null,null,null,null,null,null,null,null,null,null,null,null,null,null,null,null,null,null,"観点別無答数"]
[{"$f":"A64","v":"思判表"},{"$f":"IF(COUNTIF(B3,$A$64),SUM(B54),0)","v":0},0,0,0,0,0,0,0,0,0,0,0,0,0,0,0,0,0,0,0,0,0,0,0,0,0,0,0,0,0,0,0,0,0,0,0,0,0,0,0,0,0,0,0,0,0,0,0,0,0,{"$f":"SUM(B78:AY78)","v":0},{"$f":"BA64","v":7},{"$f":"AZ78/BA78/$L$1","v":{"$error":"#DIV/0!"}},"思判表"]
[{"$f":"A65","v":"知・技"},{"$f":"IF(COUNTIF(B3,$A$65),SUM(B54),0)","v":0},0,0,0,0,0,0,0,0,0,0,0,0,0,0,0,0,0,0,0,0,0,0,0,0,0,0,0,0,0,0,0,0,0,0,0,0,0,0,0,0,0,0,0,0,0,0,0,0,0,{"$f":"SUM(B79:AY79)","v":0},{"$f":"BA65","v":18},{"$f":"AZ79/BA79/$L$1","v":{"$error":"#DIV/0!"}},"知・技"]
[{"$f":"A66","v":"-"},{"$f":"IF(COUNTIF(B3,$A$66),SUM(B54),0)","v":0},0,0,0,0,0,0,0,0,0,0,0,0,0,0,0,0,0,0,0,0,0,0,0,0,0,0,0,0,0,0,0,0,0,0,0,0,0,0,0,0,0,0,0,0,0,0,0,0,0,{"$f":"SUM(B80:AY80)","v":0},{"$f":"BA66","v":0},{"$f":"AZ80/BA80/$L$1","v":{"$error":"#DIV/0!"}},"-"]
[{"$f":"A67","v":"-"},{"$f":"IF(COUNTIF(B3,$A$67),SUM(B54),0)","v":0},0,0,0,0,0,0,0,0,0,0,0,0,0,0,0,0,0,0,0,0,0,0,0,0,0,0,0,0,0,0,0,0,0,0,0,0,0,0,0,0,0,0,0,0,0,0,0,0,0,{"$f":"SUM(B81:AY81)","v":0},{"$f":"BA67","v":0},{"$f":"AZ81/BA81/$L$1","v":{"$error":"#DIV/0!"}},"-"]
[{"$f":"A68","v":"-"},{"$f":"IF(COUNTIF(B3,$A$68),SUM(B54),0)","v":0},0,0,0,0,0,0,0,0,0,0,0,0,0,0,0,0,0,0,0,0,0,0,0,0,0,0,0,0,0,0,0,0,0,0,0,0,0,0,0,0,0,0,0,0,0,0,0,0,0,{"$f":"SUM(B82:AY82)","v":0},{"$f":"BA68","v":0},{"$f":"AZ82/BA82/$L$1","v":{"$error":"#DIV/0!"}},"-"]

{"sheet":"算数表紙","index":18,"n_rows":6,"n_cols":2,"rows_kept":6,"cut":false,"hidden":false,"merged":[]}
[]
["算数の結果の分析"]
[]
[null,"最初にデータコピーをクリックして、算数のデータを入力したファイルを選択してください。"]
[]
[null,"選択ボタン一覧（色で囲んであるところをクリックしてください。）"]

{"sheet":"①算数の平均正答数②算数の平均正答率","index":19,"n_rows":27,"n_cols":15,"rows_kept":27,"cut":false,"hidden":false,"merged":[[4,0,4,1],[10,0,10,2],[19,1,19,3],[24,1,24,3],[19,15,19,21],[11,0,11,2],[12,0,12,2],[13,0,13,2],[16,0,16,2],[14,0,14,2],[15,0,15,2]]}
["①算数の平均正答数②算数の平均正答率"]
[]
[]
["集計対象"]
["児童数"]
[{"$f":"算数!AB1","v":0},"人"]
[]
["観点別集計結果"]
[null,null,null,null,null,null,null,null,null,null,null,null,null,null,"1900-01-01"]
["算数",null,null,null,null,null,null,null,null,null,null,null,null,null,"1900-01-01"]
["観点",null,null,"対象設問数\n（問）","富山県\n平均正答率\n（％）","自校\n平均正答率\n（％）","自校\n平均正答数\n（問）",null,null,"自校\n平均正答率\n（％）",null,null,"自校\n平均正答数\n（問）"]
[{"$f":"算数!BG35","v":"知識・技能"},null,null,{"$f":"算数得点!BA64","v":18},{"$f":"IF(ISERR(算数!F76)*100,0,(算数!F76)*100)","v":59.244444444444447},{"$f":"IF(ISERR(算数!F71)*100,0,(算数!F71)*100)","v":0},{"$f":"IF(ISERR(D12*F12)/100,\"\",(D12*F12)/100)","v":0},null,60,50,null,null,{"$f":"IF(J12=\"\",\"\",D12*J12/100)","v":9}]
[{"$f":"算数!BG36","v":"思考・判断・表現"},null,null,{"$f":"算数得点!BA65","v":7},{"$f":"IF(ISERR(算数!K76)*100,0,(算数!K76)*100)","v":43.085714285714289},{"$f":"IF(ISERR(算数!K71)*100,0,(算数!K71)*100)","v":0},{"$f":"IF(ISERR(D13*F13)/100,\"\",(D13*F13)/100)","v":0},null,60,50,null,null,{"$f":"IF(J13=\"\",\"\",D13*J13/100)","v":3.5}]
[{"$f":"算数!BG37","v":"-"},null,null,{"$f":"算数得点!BA66","v":0},{"$f":"IF(ISERR(算数!P76)*100,0,(算数!P76)*100)","v":0},{"$f":"IF(ISERR(算数!P71)*100,0,(算数!P71)*100)","v":0},{"$f":"IF(ISERR(D14*F14)/100,\"\",(D14*F14)/100)","v":0},null,60,50,null,null,{"$f":"IF(J14=\"\",\"\",D14*J14/100)","v":0}]
[{"$f":"算数!BG38","v":"-"},null,null,{"$f":"算数得点!BA67","v":0},{"$f":"IF(ISERR(算数!U76)*100,0,(算数!U76)*100)","v":0},{"$f":"IF(ISERR(算数!U71)*100,0,(算数!U71)*100)","v":0},{"$f":"IF(ISERR(D15*F15)/100,\"\",(D15*F15)/100)","v":0}]
[{"$f":"算数!BG39","v":"-"},null,null,{"$f":"算数得点!BA68","v":0},{"$f":"IF(ISERR(算数!Z76)*100,0,(算数!Z76)*100)","v":0},{"$f":"IF(ISERR(算数!Z71)*100,0,(算数!Z71)*100)","v":0},{"$f":"IF(ISERR(D16*F16)/100,\"\",(D16*F16)/100)","v":0}]
["設問数・平均正答率・平均正答数",null,null,{"$f":"SUM(D12:D16)","v":25},{"$f":"SUM(E12:E16)/算数!BG41","v":51.165079365079364},{"$f":"SUM(F12:F16)/算数!BG41","v":0},{"$f":"D17*F17/100","v":0},null,0,0,"観点数",null,{"$f":"IF(J17=\"\",\"\",#REF!*J17/100)","v":{"$error":"#REF!"}},{"$f":"算数!BG41","v":2}]
[]
["◆算数"]
[null,"　　　　平均正答数"]
[null,"富山県（ア）","自校(イ)","県との差（イーア）"]
[{"$f":"\"算数　\"&算数!AX1&\"問\"","v":"算数　25問"},{"$f":"D17*E17/100","v":12.791269841269841},{"$f":"G17","v":0},{"$f":"C22-B22","v":-12.791269841269841}]
[]
[]
[null," 平均正答率"]
[null,"富山県(ア)","自校（イ）"," 県との差(イーア)"]
[{"$f":"\"算数　\"&算数!AX1&\"問\"","v":"算数　25問"},{"$f":"E17","v":51.165079365079364},{"$f":"F17","v":0},{"$f":"C27-B27","v":-51.165079365079364}]

{"sheet":"③算数の正答数別分布","index":20,"n_rows":59,"n_cols":7,"rows_kept":59,"cut":false,"hidden":false,"merged":[[6,0,6,1]]}
["③算数の正答数別分布"]
[]
["問題数",{"$f":"算数!AX1","v":25}]
[]
[]
["◆算数",null,null,"◆算数"]
["正答数別の児童数(人)",null,null,"正答数","富山県％（ア）","自校％(イ)"," 県との差(イーア)"]
["0問",{"$f":"算数得点!BD3","v":0},null,"0問",{"$f":"算数得点!BG3","v":0},{"$f":"IF(B8=\"\",\"\",B8/B$59*100)","v":{"$error":"#DIV/0!"}},{"$f":"IF($F8=\"\",\"\",$F8-$E8)","v":{"$error":"#DIV/0!"}}]
["1問",{"$f":"算数得点!BD4","v":0},null,"1問",{"$f":"算数得点!BG4","v":93.7},{"$error":"#DIV/0!"},{"$error":"#DIV/0!"}]
["2問",{"$f":"算数得点!BD5","v":0},null,"2問",{"$f":"算数得点!BG5","v":55.7},{"$error":"#DIV/0!"},{"$error":"#DIV/0!"}]
["3問",{"$f":"算数得点!BD6","v":0},null,"3問",{"$f":"算数得点!BG6","v":65.100000000000009},{"$error":"#DIV/0!"},{"$error":"#DIV/0!"}]
["4問",{"$f":"算数得点!BD7","v":0},null,"4問",{"$f":"算数得点!BG7","v":47.699999999999996},{"$error":"#DIV/0!"},{"$error":"#DIV/0!"}]
["5問",{"$f":"算数得点!BD8","v":0},null,"5問",{"$f":"算数得点!BG8","v":54.7},{"$error":"#DIV/0!"},{"$error":"#DIV/0!"}]
["6問",{"$f":"算数得点!BD9","v":0},null,"6問",{"$f":"算数得点!BG9","v":54.800000000000004},{"$error":"#DIV/0!"},{"$error":"#DIV/0!"}]
["7問",{"$f":"算数得点!BD10","v":0},null,"7問",{"$f":"算数得点!BG10","v":75.5},{"$error":"#DIV/0!"},{"$error":"#DIV/0!"}]
["8問",{"$f":"算数得点!BD11","v":0},null,"8問",{"$f":"算数得点!BG11","v":65.3},{"$error":"#DIV/0!"},{"$error":"#DIV/0!"}]
["9問",{"$f":"算数得点!BD12","v":0},null,"9問",{"$f":"算数得点!BG12","v":50.3},{"$error":"#DIV/0!"},{"$error":"#DIV/0!"}]
["10問",{"$f":"算数得点!BD13","v":0},null,"10問",{"$f":"算数得点!BG13","v":34.300000000000004},{"$error":"#DIV/0!"},{"$error":"#DIV/0!"}]
["11問",{"$f":"算数得点!BD14","v":0},null,"11問",{"$f":"算数得点!BG14","v":83.399999999999991},{"$error":"#DIV/0!"},{"$error":"#DIV/0!"}]
["12問",{"$f":"算数得点!BD15","v":0},null,"12問",{"$f":"算数得点!BG15","v":44.1},{"$error":"#DIV/0!"},{"$error":"#DIV/0!"}]
["13問",{"$f":"算数得点!BD16","v":0},null,"13問",{"$f":"算数得点!BG16","v":28.599999999999998},{"$error":"#DIV/0!"},{"$error":"#DIV/0!"}]
["14問",{"$f":"算数得点!BD17","v":0},null,"14問",{"$f":"算数得点!BG17","v":44},{"$error":"#DIV/0!"},{"$error":"#DIV/0!"}]
["15問",{"$f":"算数得点!BD18","v":0},null,"15問",{"$f":"算数得点!BG18","v":44.5},{"$error":"#DIV/0!"},{"$error":"#DIV/0!"}]
["16問",{"$f":"算数得点!BD19","v":0},null,"16問",{"$f":"算数得点!BG19","v":89},{"$error":"#DIV/0!"},{"$error":"#DIV/0!"}]
["17問",{"$f":"算数得点!BD20","v":0},null,"17問",{"$f":"算数得点!BG20","v":32.700000000000003},{"$error":"#DIV/0!"},{"$error":"#DIV/0!"}]
["18問",{"$f":"算数得点!BD21","v":0},null,"18問",{"$f":"算数得点!BG21","v":53.800000000000004},{"$error":"#DIV/0!"},{"$error":"#DIV/0!"}]
["19問",{"$f":"算数得点!BD22","v":0},null,"19問",{"$f":"算数得点!BG22","v":49.3},{"$error":"#DIV/0!"},{"$error":"#DIV/0!"}]
["20問",{"$f":"算数得点!BD23","v":0},null,"20問",{"$f":"算数得点!BG23","v":32.1},{"$error":"#DIV/0!"},{"$error":"#DIV/0!"}]
["21問",{"$f":"算数得点!BD24","v":0},null,"21問",{"$f":"算数得点!BG24","v":20.3},{"$error":"#DIV/0!"},{"$error":"#DIV/0!"}]
["22問",{"$f":"算数得点!BD25","v":0},null,"22問",{"$f":"算数得点!BG25","v":56.599999999999994},{"$error":"#DIV/0!"},{"$error":"#DIV/0!"}]
["23問",{"$f":"算数得点!BD26","v":0},null,"23問",{"$f":"算数得点!BG26","v":78.900000000000006},{"$error":"#DIV/0!"},{"$error":"#DIV/0!"}]
["24問",{"$f":"算数得点!BD27","v":0},null,"24問",{"$f":"算数得点!BG27","v":55.400000000000006},{"$error":"#DIV/0!"},{"$error":"#DIV/0!"}]
["25問",{"$f":"算数得点!BD28","v":0},null,"25問",{"$f":"算数得点!BG28","v":58.199999999999996},{"$error":"#DIV/0!"},{"$error":"#DIV/0!"}]
["26問",{"$f":"算数得点!BD29","v":0},null,"26問",{"$f":"算数得点!BG29","v":0},{"$error":"#DIV/0!"},{"$error":"#DIV/0!"}]
["27問",{"$f":"算数得点!BD30","v":0},null,"27問",{"$f":"算数得点!BG30","v":0},{"$error":"#DIV/0!"},{"$error":"#DIV/0!"}]
["28問",{"$f":"算数得点!BD31","v":0},null,"28問",{"$f":"算数得点!BG31","v":0},{"$error":"#DIV/0!"},{"$error":"#DIV/0!"}]
["29問",{"$f":"算数得点!BD32","v":0},null,"29問",{"$f":"算数得点!BG32","v":0},{"$error":"#DIV/0!"},{"$error":"#DIV/0!"}]
["30問",{"$f":"算数得点!BD33","v":0},null,"30問",{"$f":"算数得点!BG33","v":0},{"$error":"#DIV/0!"},{"$error":"#DIV/0!"}]
["31問",{"$f":"算数得点!BD34","v":0},null,"31問",{"$f":"算数得点!BG34","v":0},{"$error":"#DIV/0!"},{"$error":"#DIV/0!"}]
["32問",{"$f":"算数得点!BD35","v":0},null,"32問",{"$f":"算数得点!BG35","v":0},{"$f":"IF(B40=\"\",\"\",B40/B$59*100)","v":{"$error":"#DIV/0!"}},{"$f":"IF($F40=\"\",\"\",$F40-$E40)","v":{"$error":"#DIV/0!"}}]
["33問",{"$f":"算数得点!BD36","v":0},null,"33問",{"$f":"算数得点!BG36","v":0},{"$error":"#DIV/0!"},{"$error":"#DIV/0!"}]
["34問",{"$f":"算数得点!BD37","v":0},null,"34問",{"$f":"算数得点!BG37","v":0},{"$error":"#DIV/0!"},{"$error":"#DIV/0!"}]
["35問",{"$f":"算数得点!BD38","v":0},null,"35問",{"$f":"算数得点!BG38","v":0},{"$error":"#DIV/0!"},{"$error":"#DIV/0!"}]
["36問",{"$f":"算数得点!BD39","v":0},null,"36問",{"$f":"算数得点!BG39","v":0},{"$error":"#DIV/0!"},{"$error":"#DIV/0!"}]
["37問",{"$f":"算数得点!BD40","v":0},null,"37問",{"$f":"算数得点!BG40","v":0},{"$error":"#DIV/0!"},{"$error":"#DIV/0!"}]
["38問",{"$f":"算数得点!BD41","v":0},null,"38問",{"$f":"算数得点!BG41","v":0},{"$error":"#DIV/0!"},{"$error":"#DIV/0!"}]
["39問",{"$f":"算数得点!BD42","v":0},null,"39問",{"$f":"算数得点!BG42","v":0},{"$error":"#DIV/0!"},{"$error":"#DIV/0!"}]
["40問",{"$f":"算数得点!BD43","v":0},null,"40問",{"$f":"算数得点!BG43","v":0},{"$error":"#DIV/0!"},{"$error":"#DIV/0!"}]
["41問",{"$f":"算数得点!BD44","v":0},null,"41問",{"$f":"算数得点!BG44","v":0},{"$error":"#DIV/0!"},{"$error":"#DIV/0!"}]
["42問",{"$f":"算数得点!BD45","v":0},null,"42問",{"$f":"算数得点!BG45","v":0},{"$error":"#DIV/0!"},{"$error":"#DIV/0!"}]
["43問",{"$f":"算数得点!BD46","v":0},null,"43問",{"$f":"算数得点!BG46","v":0},{"$error":"#DIV/0!"},{"$error":"#DIV/0!"}]
["44問",{"$f":"算数得点!BD47","v":0},null,"44問",{"$f":"算数得点!BG47","v":0},{"$error":"#DIV/0!"},{"$error":"#DIV/0!"}]
["45問",{"$f":"算数得点!BD48","v":0},null,"45問",{"$f":"算数得点!BG48","v":0},{"$error":"#DIV/0!"},{"$error":"#DIV/0!"}]
["46問",{"$f":"算数得点!BD49","v":0},null,"46問",{"$f":"算数得点!BG49","v":0},{"$error":"#DIV/0!"},{"$error":"#DIV/0!"}]
["47問",{"$f":"算数得点!BD50","v":0},null,"47問",{"$f":"算数得点!BG50","v":0},{"$error":"#DIV/0!"},{"$error":"#DIV/0!"}]
["48問",{"$f":"算数得点!BD51","v":0},null,"48問",{"$f":"算数得点!BG51","v":0},{"$error":"#DIV/0!"},{"$error":"#DIV/0!"}]
["49問",{"$f":"算数得点!BD52","v":0},null,"49問",{"$f":"算数得点!BG52","v":0},{"$error":"#DIV/0!"},{"$error":"#DIV/0!"}]
["50問",{"$f":"算数得点!BD53","v":0},null,"50問",{"$f":"算数得点!BG53","v":0},{"$error":"#DIV/0!"},{"$error":"#DIV/0!"}]
["児童数合計",{"$f":"算数得点!BD54","v":0},null,"合計",{"$f":"算数得点!BG54","v":1368},{"$f":"SUM(F8:F58)","v":{"$error":"#DIV/0!"}}]

{"sheet":"④算数の問題別正答率","index":21,"n_rows":57,"n_cols":19,"rows_kept":57,"cut":false,"hidden":false,"merged":[[4,13,4,15],[4,3,5,3],[4,16,4,18],[4,0,5,0],[4,2,5,2],[4,4,4,7],[4,8,4,12],[4,1,5,1]]}
["④算数の問題別正答率"]
[]
[null,null,"問題数",{"$f":"算数!AX1","v":25}]
["◆算数"]
["問題通し番号","問題\n番号","小問題","問題の領域","学習指導要領の領域等",null,null,null,"観点",null,null,null,null,"問題形式",null,null,"正答率"]
[null,null,null,null,null,null,null,null,{"$f":"算数!BG35","v":"知識・技能"},{"$f":"算数!BG36","v":"思考・判断・表現"},{"$f":"算数!BG37","v":"-"},{"$f":"算数!BG38","v":"-"},{"$f":"算数!BG39","v":"-"},"選択式","短答式","記述式","富山県（ア）","自校（イ）","富山県との差（イ-ア)"]
[1,{"$f":"算数得点!BJ4","v":1},{"$f":"算数得点!BK4","v":"（１）"},{"$f":"算数得点!BL4","v":"数と計算"},null,null,null,null,{"$f":"IF(算数!$E$9=算数!$BF$35,\"○\",\"\")","v":"○"},{"$f":"IF(算数!$E$9=算数!$BF$36,\"○\",\"\")","v":""},{"$f":"IF(算数!$E$9=算数!$BF$37,\"○\",\"\")","v":""},{"$f":"IF(算数!$E$9=算数!$BF$38,\"○\",\"\")","v":""},{"$f":"IF(算数!$E$9=算数!$BF$39,\"○\",\"\")","v":""},null,null,null,{"$f":"算数得点!B$58*100","v":93.7},{"$f":"算数!E$64*100","v":{"$error":"#DIV/0!"}},{"$f":"IF($R7=\"\",\"\",$R7-$Q7)","v":{"$error":"#DIV/0!"}}]
[2,{"$f":"算数得点!BJ5","v":1},{"$f":"算数得点!BK5","v":"（２）"},{"$f":"算数得点!BL5","v":"数と計算"},null,null,null,null,{"$f":"IF(算数!$F$9=算数!$BF$35,\"○\",\"\")","v":"○"},{"$f":"IF(算数!$F$9=算数!$BF$36,\"○\",\"\")","v":""},{"$f":"IF(算数!$F$9=算数!$BF$37,\"○\",\"\")","v":""},{"$f":"IF(算数!$F$9=算数!$BF$38,\"○\",\"\")","v":""},{"$f":"IF(算数!$F$9=算数!$BF$39,\"○\",\"\")","v":""},null,null,null,{"$f":"算数得点!C$58*100","v":55.7},{"$f":"算数!F$64*100","v":{"$error":"#DIV/0!"}},{"$error":"#DIV/0!"}]
[3,{"$f":"算数得点!BJ6","v":1},{"$f":"算数得点!BK6","v":"（３）"},{"$f":"算数得点!BL6","v":"数と計算"},null,null,null,null,{"$f":"IF(算数!$G$9=算数!$BF$35,\"○\",\"\")","v":"○"},{"$f":"IF(算数!$G$9=算数!$BF$36,\"○\",\"\")","v":""},{"$f":"IF(算数!$G$9=算数!$BF$37,\"○\",\"\")","v":""},{"$f":"IF(算数!$G$9=算数!$BF$38,\"○\",\"\")","v":""},{"$f":"IF(算数!$G$9=算数!$BF$39,\"○\",\"\")","v":""},null,null,null,{"$f":"算数得点!D$58*100","v":65.100000000000009},{"$f":"算数!G$64*100","v":{"$error":"#DIV/0!"}},{"$error":"#DIV/0!"}]
[4,{"$f":"算数得点!BJ7","v":1},{"$f":"算数得点!BK7","v":"（４）"},{"$f":"算数得点!BL7","v":"数と計算"},null,null,null,null,{"$f":"IF(算数!$H$9=算数!$BF$35,\"○\",\"\")","v":"○"},{"$f":"IF(算数!$H$9=算数!$BF$36,\"○\",\"\")","v":""},{"$f":"IF(算数!$H$9=算数!$BF$37,\"○\",\"\")","v":""},{"$f":"IF(算数!$H$9=算数!$BF$38,\"○\",\"\")","v":""},{"$f":"IF(算数!$H$9=算数!$BF$39,\"○\",\"\")","v":""},null,null,null,{"$f":"算数得点!E$58*100","v":47.699999999999996},{"$f":"算数!H$64*100","v":{"$error":"#DIV/0!"}},{"$error":"#DIV/0!"}]
[5,{"$f":"算数得点!BJ8","v":1},{"$f":"算数得点!BK8","v":"（５）"},{"$f":"算数得点!BL8","v":"数と計算"},null,null,null,null,{"$f":"IF(算数!$I$9=算数!$BF$35,\"○\",\"\")","v":"○"},{"$f":"IF(算数!$I$9=算数!$BF$36,\"○\",\"\")","v":""},{"$f":"IF(算数!$I$9=算数!$BF$37,\"○\",\"\")","v":""},{"$f":"IF(算数!$I$9=算数!$BF$38,\"○\",\"\")","v":""},{"$f":"IF(算数!$I$9=算数!$BF$39,\"○\",\"\")","v":""},null,null,null,{"$f":"算数得点!F$58*100","v":54.7},{"$f":"算数!I$64*100","v":{"$error":"#DIV/0!"}},{"$error":"#DIV/0!"}]
[6,{"$f":"算数得点!BJ9","v":2},{"$f":"算数得点!BK9","v":"（１）"},{"$f":"算数得点!BL9","v":"図形"},null,null,null,null,{"$f":"IF(算数!$J$9=算数!$BF$35,\"○\",\"\")","v":"○"},{"$f":"IF(算数!$J$9=算数!$BF$36,\"○\",\"\")","v":""},{"$f":"IF(算数!$J$9=算数!$BF$37,\"○\",\"\")","v":""},{"$f":"IF(算数!$J$9=算数!$BF$38,\"○\",\"\")","v":""},{"$f":"IF(算数!$J$9=算数!$BF$39,\"○\",\"\")","v":""},null,null,null,{"$f":"算数得点!G$58*100","v":54.800000000000004},{"$f":"算数!J$64*100","v":{"$error":"#DIV/0!"}},{"$error":"#DIV/0!"}]
[7,{"$f":"算数得点!BJ10","v":2},{"$f":"算数得点!BK10","v":"（２）"},{"$f":"算数得点!BL10","v":"図形"},null,null,null,null,{"$f":"IF(算数!$K$9=算数!$BF$35,\"○\",\"\")","v":"○"},{"$f":"IF(算数!$K$9=算数!$BF$36,\"○\",\"\")","v":""},{"$f":"IF(算数!$K$9=算数!$BF$37,\"○\",\"\")","v":""},{"$f":"IF(算数!$K$9=算数!$BF$38,\"○\",\"\")","v":""},{"$f":"IF(算数!$K$9=算数!$BF$39,\"○\",\"\")","v":""},null,null,null,{"$f":"算数得点!H$58*100","v":75.5},{"$f":"算数!K$64*100","v":{"$error":"#DIV/0!"}},{"$error":"#DIV/0!"}]
[8,{"$f":"算数得点!BJ11","v":3},{"$f":"算数得点!BK11","v":"（１）"},{"$f":"算数得点!BL11","v":"数と計算"},null,null,null,null,{"$f":"IF(算数!$L$9=算数!$BF$35,\"○\",\"\")","v":"○"},{"$f":"IF(算数!$L$9=算数!$BF$36,\"○\",\"\")","v":""},{"$f":"IF(算数!$L$9=算数!$BF$37,\"○\",\"\")","v":""},{"$f":"IF(算数!$L$9=算数!$BF$38,\"○\",\"\")","v":""},{"$f":"IF(算数!$L$9=算数!$BF$39,\"○\",\"\")","v":""},null,null,null,{"$f":"算数得点!I$58*100","v":65.3},{"$f":"算数!L$64*100","v":{"$error":"#DIV/0!"}},{"$error":"#DIV/0!"}]
[9,{"$f":"算数得点!BJ12","v":3},{"$f":"算数得点!BK12","v":"（２）"},{"$f":"算数得点!BL12","v":"数と計算"},null,null,null,null,{"$f":"IF(算数!$M$9=算数!$BF$35,\"○\",\"\")","v":"○"},{"$f":"IF(算数!$M$9=算数!$BF$36,\"○\",\"\")","v":""},{"$f":"IF(算数!$M$9=算数!$BF$37,\"○\",\"\")","v":""},{"$f":"IF(算数!$M$9=算数!$BF$38,\"○\",\"\")","v":""},{"$f":"IF(算数!$M$9=算数!$BF$39,\"○\",\"\")","v":""},null,null,null,{"$f":"算数得点!J$58*100","v":50.3},{"$f":"算数!M$64*100","v":{"$error":"#DIV/0!"}},{"$error":"#DIV/0!"}]
[10,{"$f":"算数得点!BJ13","v":4},{"$f":"算数得点!BK13","v":0},{"$f":"算数得点!BL13","v":"変化と関係"},null,null,null,null,{"$f":"IF(算数!$N$9=算数!$BF$35,\"○\",\"\")","v":""},{"$f":"IF(算数!$N$9=算数!$BF$36,\"○\",\"\")","v":"○"},{"$f":"IF(算数!$N$9=算数!$BF$37,\"○\",\"\")","v":""},{"$f":"IF(算数!$N$9=算数!$BF$38,\"○\",\"\")","v":""},{"$f":"IF(算数!$N$9=算数!$BF$39,\"○\",\"\")","v":""},null,null,null,{"$f":"算数得点!K$58*100","v":34.300000000000004},{"$f":"算数!N$64*100","v":{"$error":"#DIV/0!"}},{"$error":"#DIV/0!"}]
[11,{"$f":"算数得点!BJ14","v":5},{"$f":"算数得点!BK14","v":0},{"$f":"算数得点!BL14","v":"データの活用"},null,null,null,null,{"$f":"IF(算数!$O$9=算数!$BF$35,\"○\",\"\")","v":"○"},{"$f":"IF(算数!$O$9=算数!$BF$36,\"○\",\"\")","v":""},{"$f":"IF(算数!$O$9=算数!$BF$37,\"○\",\"\")","v":""},{"$f":"IF(算数!$O$9=算数!$BF$38,\"○\",\"\")","v":""},{"$f":"IF(算数!$O$9=算数!$BF$39,\"○\",\"\")","v":""},null,null,null,{"$f":"算数得点!L$58*100","v":83.399999999999991},{"$f":"算数!O$64*100","v":{"$error":"#DIV/0!"}},{"$error":"#DIV/0!"}]
[12,{"$f":"算数得点!BJ15","v":6},{"$f":"算数得点!BK15","v":0},{"$f":"算数得点!BL15","v":"数と計算"},null,null,null,null,{"$f":"IF(算数!$P$9=算数!$BF$35,\"○\",\"\")","v":""},{"$f":"IF(算数!$P$9=算数!$BF$36,\"○\",\"\")","v":"○"},{"$f":"IF(算数!$P$9=算数!$BF$37,\"○\",\"\")","v":""},{"$f":"IF(算数!$P$9=算数!$BF$38,\"○\",\"\")","v":""},{"$f":"IF(算数!$P$9=算数!$BF$39,\"○\",\"\")","v":""},null,null,null,{"$f":"算数得点!M$58*100","v":44.1},{"$f":"算数!P$64*100","v":{"$error":"#DIV/0!"}},{"$error":"#DIV/0!"}]
[13,{"$f":"算数得点!BJ16","v":7},{"$f":"算数得点!BK16","v":0},{"$f":"算数得点!BL16","v":"図形"},null,null,null,null,{"$f":"IF(算数!$Q$9=算数!$BF$35,\"○\",\"\")","v":"○"},{"$f":"IF(算数!$Q$9=算数!$BF$36,\"○\",\"\")","v":""},{"$f":"IF(算数!$Q$9=算数!$BF$37,\"○\",\"\")","v":""},{"$f":"IF(算数!$Q$9=算数!$BF$38,\"○\",\"\")","v":""},{"$f":"IF(算数!$Q$9=算数!$BF$39,\"○\",\"\")","v":""},null,null,null,{"$f":"算数得点!N$58*100","v":28.599999999999998},{"$f":"算数!Q$64*100","v":{"$error":"#DIV/0!"}},{"$error":"#DIV/0!"}]
[14,{"$f":"算数得点!BJ17","v":8},{"$f":"算数得点!BK17","v":"（１）"},{"$f":"算数得点!BL17","v":"データの活用"},null,null,null,null,{"$f":"IF(算数!$R$9=算数!$BF$35,\"○\",\"\")","v":"○"},{"$f":"IF(算数!$R$9=算数!$BF$36,\"○\",\"\")","v":""},{"$f":"IF(算数!$R$9=算数!$BF$37,\"○\",\"\")","v":""},{"$f":"IF(算数!$R$9=算数!$BF$38,\"○\",\"\")","v":""},{"$f":"IF(算数!$R$9=算数!$BF$39,\"○\",\"\")","v":""},null,null,null,{"$f":"算数得点!O$58*100","v":44},{"$f":"算数!R$64*100","v":{"$error":"#DIV/0!"}},{"$error":"#DIV/0!"}]
[15,{"$f":"算数得点!BJ18","v":8},{"$f":"算数得点!BK18","v":"（２）"},{"$f":"算数得点!BL18","v":"データの活用"},null,null,null,null,{"$f":"IF(算数!$S$9=算数!$BF$35,\"○\",\"\")","v":"○"},{"$f":"IF(算数!$S$9=算数!$BF$36,\"○\",\"\")","v":""},{"$f":"IF(算数!$S$9=算数!$BF$37,\"○\",\"\")","v":""},{"$f":"IF(算数!$S$9=算数!$BF$38,\"○\",\"\")","v":""},{"$f":"IF(算数!$S$9=算数!$BF$39,\"○\",\"\")","v":""},null,null,null,{"$f":"算数得点!P$58*100","v":44.5},{"$f":"算数!S$64*100","v":{"$error":"#DIV/0!"}},{"$error":"#DIV/0!"}]
[16,{"$f":"算数得点!BJ19","v":9},{"$f":"算数得点!BK19","v":"（１）"},{"$f":"算数得点!BL19","v":"変化と関係"},null,null,null,null,{"$f":"IF(算数!$T$9=算数!$BF$35,\"○\",\"\")","v":"○"},{"$f":"IF(算数!$T$9=算数!$BF$36,\"○\",\"\")","v":""},{"$f":"IF(算数!$T$9=算数!$BF$37,\"○\",\"\")","v":""},{"$f":"IF(算数!$T$9=算数!$BF$38,\"○\",\"\")","v":""},{"$f":"IF(算数!$T$9=算数!$BF$39,\"○\",\"\")","v":""},null,null,null,{"$f":"算数得点!Q$58*100","v":89},{"$f":"算数!T$64*100","v":{"$error":"#DIV/0!"}},{"$error":"#DIV/0!"}]
[17,{"$f":"算数得点!BJ20","v":9},{"$f":"算数得点!BK20","v":"（２）"},{"$f":"算数得点!BL20","v":"変化と関係"},null,null,null,null,{"$f":"IF(算数!$U$9=算数!$BF$35,\"○\",\"\")","v":""},{"$f":"IF(算数!$U$9=算数!$BF$36,\"○\",\"\")","v":"○"},{"$f":"IF(算数!$U$9=算数!$BF$37,\"○\",\"\")","v":""},{"$f":"IF(算数!$U$9=算数!$BF$38,\"○\",\"\")","v":""},{"$f":"IF(算数!$U$9=算数!$BF$39,\"○\",\"\")","v":""},null,null,null,{"$f":"算数得点!R$58*100","v":32.700000000000003},{"$f":"算数!U$64*100","v":{"$error":"#DIV/0!"}},{"$error":"#DIV/0!"}]
[18,{"$f":"算数得点!BJ21","v":9},{"$f":"算数得点!BK21","v":"（３）"},{"$f":"算数得点!BL21","v":"変化と関係"},null,null,null,null,{"$f":"IF(算数!$V$9=算数!$BF$35,\"○\",\"\")","v":"○"},{"$f":"IF(算数!$V$9=算数!$BF$36,\"○\",\"\")","v":""},{"$f":"IF(算数!$V$9=算数!$BF$37,\"○\",\"\")","v":""},{"$f":"IF(算数!$V$9=算数!$BF$38,\"○\",\"\")","v":""},{"$f":"IF(算数!$V$9=算数!$BF$39,\"○\",\"\")","v":""},null,null,null,{"$f":"算数得点!S$58*100","v":53.800000000000004},{"$f":"算数!V$64*100","v":{"$error":"#DIV/0!"}},{"$error":"#DIV/0!"}]
[19,{"$f":"算数得点!BJ22","v":10},{"$f":"算数得点!BK22","v":"（１）"},{"$f":"算数得点!BL22","v":"変化と関係"},null,null,null,null,{"$f":"IF(算数!$W$9=算数!$BF$35,\"○\",\"\")","v":"○"},{"$f":"IF(算数!$W$9=算数!$BF$36,\"○\",\"\")","v":""},{"$f":"IF(算数!$W$9=算数!$BF$37,\"○\",\"\")","v":""},{"$f":"IF(算数!$W$9=算数!$BF$38,\"○\",\"\")","v":""},{"$f":"IF(算数!$W$9=算数!$BF$39,\"○\",\"\")","v":""},null,null,null,{"$f":"算数得点!T$58*100","v":49.3},{"$f":"算数!W$64*100","v":{"$error":"#DIV/0!"}},{"$error":"#DIV/0!"}]
[20,{"$f":"算数得点!BJ23","v":10},{"$f":"算数得点!BK23","v":"（２）"},{"$f":"算数得点!BL23","v":"変化と関係"},null,null,null,null,{"$f":"IF(算数!$X$9=算数!$BF$35,\"○\",\"\")","v":"○"},{"$f":"IF(算数!$X$9=算数!$BF$36,\"○\",\"\")","v":""},{"$f":"IF(算数!$X$9=算数!$BF$37,\"○\",\"\")","v":""},{"$f":"IF(算数!$X$9=算数!$BF$38,\"○\",\"\")","v":""},{"$f":"IF(算数!$X$9=算数!$BF$39,\"○\",\"\")","v":""},null,null,null,{"$f":"算数得点!U$58*100","v":32.1},{"$f":"算数!X$64*100","v":{"$error":"#DIV/0!"}},{"$error":"#DIV/0!"}]
[21,{"$f":"算数得点!BJ24","v":11},{"$f":"算数得点!BK24","v":0},{"$f":"算数得点!BL24","v":"数と計算"},null,null,null,null,{"$f":"IF(算数!$Y$9=算数!$BF$35,\"○\",\"\")","v":""},{"$f":"IF(算数!$Y$9=算数!$BF$36,\"○\",\"\")","v":"○"},{"$f":"IF(算数!$Y$9=算数!$BF$37,\"○\",\"\")","v":""},{"$f":"IF(算数!$Y$9=算数!$BF$38,\"○\",\"\")","v":""},{"$f":"IF(算数!$Y$9=算数!$BF$39,\"○\",\"\")","v":""},null,null,null,{"$f":"算数得点!V$58*100","v":20.3},{"$f":"算数!Y$64*100","v":{"$error":"#DIV/0!"}},{"$error":"#DIV/0!"}]
[22,{"$f":"算数得点!BJ25","v":12},{"$f":"算数得点!BK25","v":0},{"$f":"算数得点!BL25","v":"図形"},null,null,null,null,{"$f":"IF(算数!$Z$9=算数!$BF$35,\"○\",\"\")","v":""},{"$f":"IF(算数!$Z$9=算数!$BF$36,\"○\",\"\")","v":"○"},{"$f":"IF(算数!$Z$9=算数!$BF$37,\"○\",\"\")","v":""},{"$f":"IF(算数!$Z$9=算数!$BF$38,\"○\",\"\")","v":""},{"$f":"IF(算数!$Z$9=算数!$BF$39,\"○\",\"\")","v":""},null,null,null,{"$f":"算数得点!W$58*100","v":56.599999999999994},{"$f":"算数!Z$64*100","v":{"$error":"#DIV/0!"}},{"$error":"#DIV/0!"}]
[23,{"$f":"算数得点!BJ26","v":13},{"$f":"算数得点!BK26","v":"（１）"},{"$f":"算数得点!BL26","v":"数と計算"},null,null,null,null,{"$f":"IF(算数!$AA$9=算数!$BF$35,\"○\",\"\")","v":"○"},{"$f":"IF(算数!$AA$9=算数!$BF$36,\"○\",\"\")","v":""},{"$f":"IF(算数!$AA$9=算数!$BF$37,\"○\",\"\")","v":""},{"$f":"IF(算数!$AA$9=算数!$BF$38,\"○\",\"\")","v":""},{"$f":"IF(算数!$AA$9=算数!$BF$39,\"○\",\"\")","v":""},null,null,null,{"$f":"算数得点!X$58*100","v":78.900000000000006},{"$f":"算数!AA$64*100","v":{"$error":"#DIV/0!"}},{"$error":"#DIV/0!"}]
[24,{"$f":"算数得点!BJ27","v":13},{"$f":"算数得点!BK27","v":"（２）"},{"$f":"算数得点!BL27","v":"変化と関係"},null,null,null,null,{"$f":"IF(算数!$AB$9=算数!$BF$35,\"○\",\"\")","v":""},{"$f":"IF(算数!$AB$9=算数!$BF$36,\"○\",\"\")","v":"○"},{"$f":"IF(算数!$AB$9=算数!$BF$37,\"○\",\"\")","v":""},{"$f":"IF(算数!$AB$9=算数!$BF$38,\"○\",\"\")","v":""},{"$f":"IF(算数!$AB$9=算数!$BF$39,\"○\",\"\")","v":""},null,null,null,{"$f":"算数得点!Y$58*100","v":55.400000000000006},{"$f":"算数!AB$64*100","v":{"$error":"#DIV/0!"}},{"$error":"#DIV/0!"}]
[25,{"$f":"算数得点!BJ28","v":13},{"$f":"算数得点!BK28","v":"（２）"},{"$f":"算数得点!BL28","v":"変化と関係"},null,null,null,null,{"$f":"IF(算数!$AC$9=算数!$BF$35,\"○\",\"\")","v":""},{"$f":"IF(算数!$AC$9=算数!$BF$36,\"○\",\"\")","v":"○"},{"$f":"IF(算数!$AC$9=算数!$BF$37,\"○\",\"\")","v":""},{"$f":"IF(算数!$AC$9=算数!$BF$38,\"○\",\"\")","v":""},{"$f":"IF(算数!$AC$9=算数!$BF$39,\"○\",\"\")","v":""},null,null,null,{"$f":"算数得点!Z$58*100","v":58.199999999999996},{"$f":"算数!AC$64*100","v":{"$error":"#DIV/0!"}},{"$error":"#DIV/0!"}]
[26,{"$f":"算数得点!BJ29","v":0},{"$f":"算数得点!BK29","v":0},{"$f":"算数得点!BL29","v":0},null,null,null,null,{"$f":"IF(算数!$AD$9=算数!$BF$35,\"○\",\"\")","v":""},{"$f":"IF(算数!$AD$9=算数!$BF$36,\"○\",\"\")","v":""},{"$f":"IF(算数!$AD$9=算数!$BF$37,\"○\",\"\")","v":""},{"$f":"IF(算数!$AD$9=算数!$BF$38,\"○\",\"\")","v":""},{"$f":"IF(算数!$AD$9=算数!$BF$39,\"○\",\"\")","v":""},null,null,null,{"$f":"算数得点!AA$58*100","v":0},{"$f":"算数!AD$64*100","v":{"$error":"#DIV/0!"}},{"$f":"IF($R32=\"\",\"\",$R32-$Q32)","v":{"$error":"#DIV/0!"}}]
[27,{"$f":"算数得点!BJ30","v":0},{"$f":"算数得点!BK30","v":0},{"$f":"算数得点!BL30","v":0},null,null,null,null,{"$f":"IF(算数!$AE$9=算数!$BF$35,\"○\",\"\")","v":""},{"$f":"IF(算数!$AE$9=算数!$BF$36,\"○\",\"\")","v":""},{"$f":"IF(算数!$AE$9=算数!$BF$37,\"○\",\"\")","v":""},{"$f":"IF(算数!$AE$9=算数!$BF$38,\"○\",\"\")","v":""},{"$f":"IF(算数!$AE$9=算数!$BF$39,\"○\",\"\")","v":""},null,null,null,{"$f":"算数得点!AB$58*100","v":0},{"$f":"算数!AE$64*100","v":{"$error":"#DIV/0!"}},{"$f":"IF($R33=\"\",\"\",$R33-$Q33)","v":{"$error":"#DIV/0!"}}]
[28,{"$f":"算数得点!BJ31","v":0},{"$f":"算数得点!BK31","v":0},{"$f":"算数得点!BL31","v":0},null,null,null,null,{"$f":"IF(算数!$AF$9=算数!$BF$35,\"○\",\"\")","v":""},{"$f":"IF(算数!$AF$9=算数!$BF$36,\"○\",\"\")","v":""},{"$f":"IF(算数!$AF$9=算数!$BF$37,\"○\",\"\")","v":""},{"$f":"IF(算数!$AF$9=算数!$BF$38,\"○\",\"\")","v":""},{"$f":"IF(算数!$AF$9=算数!$BF$39,\"○\",\"\")","v":""},null,null,null,{"$f":"算数得点!AC$58*100","v":0},{"$f":"算数!AF$64*100","v":{"$error":"#DIV/0!"}},{"$f":"IF($R34=\"\",\"\",$R34-$Q34)","v":{"$error":"#DIV/0!"}}]
[29,{"$f":"算数得点!BJ32","v":0},{"$f":"算数得点!BK32","v":0},{"$f":"算数得点!BL32","v":0},null,null,null,null,{"$f":"IF(算数!$AG$9=算数!$BF$35,\"○\",\"\")","v":""},{"$f":"IF(算数!$AG$9=算数!$BF$36,\"○\",\"\")","v":""},{"$f":"IF(算数!$AG$9=算数!$BF$37,\"○\",\"\")","v":""},{"$f":"IF(算数!$AG$9=算数!$BF$38,\"○\",\"\")","v":""},{"$f":"IF(算数!$AG$9=算数!$BF$39,\"○\",\"\")","v":""},null,null,null,{"$f":"算数得点!AD$58*100","v":0},{"$f":"算数!AG$64*100","v":{"$error":"#DIV/0!"}},{"$error":"#DIV/0!"}]
[30,{"$f":"算数得点!BJ33","v":0},{"$f":"算数得点!BK33","v":0},{"$f":"算数得点!BL33","v":0},null,null,null,null,{"$f":"IF(算数!$AH$9=算数!$BF$35,\"○\",\"\")","v":""},{"$f":"IF(算数!$AH$9=算数!$BF$36,\"○\",\"\")","v":""},{"$f":"IF(算数!$AH$9=算数!$BF$37,\"○\",\"\")","v":""},{"$f":"IF(算数!$AH$9=算数!$BF$38,\"○\",\"\")","v":""},{"$f":"IF(算数!$AH$9=算数!$BF$39,\"○\",\"\")","v":""},null,null,null,{"$f":"算数得点!AE$58*100","v":0},{"$f":"算数!AH$64*100","v":{"$error":"#DIV/0!"}},{"$error":"#DIV/0!"}]
[31,{"$f":"算数得点!BJ34","v":0},{"$f":"算数得点!BK34","v":0},{"$f":"算数得点!BL34","v":0},null,null,null,null,{"$f":"IF(算数!$AI$9=算数!$BF$35,\"○\",\"\")","v":""},{"$f":"IF(算数!$AI$9=算数!$BF$36,\"○\",\"\")","v":""},{"$f":"IF(算数!$AI$9=算数!$BF$37,\"○\",\"\")","v":""},{"$f":"IF(算数!$AI$9=算数!$BF$38,\"○\",\"\")","v":""},{"$f":"IF(算数!$AI$9=算数!$BF$39,\"○\",\"\")","v":""},null,null,null,{"$f":"算数得点!AF$58*100","v":0},{"$f":"算数!AI$64*100","v":{"$error":"#DIV/0!"}},{"$error":"#DIV/0!"}]
[32,{"$f":"算数得点!BJ35","v":0},{"$f":"算数得点!BK35","v":0},{"$f":"算数得点!BL35","v":0},null,null,null,null,{"$f":"IF(算数!$AJ$9=算数!$BF$35,\"○\",\"\")","v":""},{"$f":"IF(算数!$AJ$9=算数!$BF$36,\"○\",\"\")","v":""},{"$f":"IF(算数!$AJ$9=算数!$BF$37,\"○\",\"\")","v":""},{"$f":"IF(算数!$AJ$9=算数!$BF$38,\"○\",\"\")","v":""},{"$f":"IF(算数!$AJ$9=算数!$BF$39,\"○\",\"\")","v":""},null,null,null,{"$f":"算数得点!AG$58*100","v":0},{"$f":"算数!AJ$64*100","v":{"$error":"#DIV/0!"}},{"$error":"#DIV/0!"}]
[33,{"$f":"算数得点!BJ36","v":0},{"$f":"算数得点!BK36","v":0},{"$f":"算数得点!BL36","v":0},null,null,null,null,{"$f":"IF(算数!$AK$9=算数!$BF$35,\"○\",\"\")","v":""},{"$f":"IF(算数!$AK$9=算数!$BF$36,\"○\",\"\")","v":""},{"$f":"IF(算数!$AK$9=算数!$BF$37,\"○\",\"\")","v":""},{"$f":"IF(算数!$AK$9=算数!$BF$38,\"○\",\"\")","v":""},{"$f":"IF(算数!$AK$9=算数!$BF$39,\"○\",\"\")","v":""},null,null,null,{"$f":"算数得点!AH$58*100","v":0},{"$f":"算数!AK$64*100","v":{"$error":"#DIV/0!"}},{"$f":"IF($R39=\"\",\"\",$R39-$Q39)","v":{"$error":"#DIV/0!"}}]
[34,{"$f":"算数得点!BJ37","v":0},{"$f":"算数得点!BK37","v":0},{"$f":"算数得点!BL37","v":0},null,null,null,null,{"$f":"IF(算数!$AL$9=算数!$BF$35,\"○\",\"\")","v":""},{"$f":"IF(算数!$AL$9=算数!$BF$36,\"○\",\"\")","v":""},{"$f":"IF(算数!$AL$9=算数!$BF$37,\"○\",\"\")","v":""},{"$f":"IF(算数!$AL$9=算数!$BF$38,\"○\",\"\")","v":""},{"$f":"IF(算数!$AL$9=算数!$BF$39,\"○\",\"\")","v":""},null,null,null,{"$f":"算数得点!AI$58*100","v":0},{"$f":"算数!AL$64*100","v":{"$error":"#DIV/0!"}},{"$error":"#DIV/0!"}]
[35,{"$f":"算数得点!BJ38","v":0},{"$f":"算数得点!BK38","v":0},{"$f":"算数得点!BL38","v":0},null,null,null,null,{"$f":"IF(算数!$AM$9=算数!$BF$35,\"○\",\"\")","v":""},{"$f":"IF(算数!$AM$9=算数!$BF$36,\"○\",\"\")","v":""},{"$f":"IF(算数!$AM$9=算数!$BF$37,\"○\",\"\")","v":""},{"$f":"IF(算数!$AM$9=算数!$BF$38,\"○\",\"\")","v":""},{"$f":"IF(算数!$AM$9=算数!$BF$39,\"○\",\"\")","v":""},null,null,null,{"$f":"算数得点!AJ$58*100","v":0},{"$f":"算数!AM$64*100","v":{"$error":"#DIV/0!"}},{"$error":"#DIV/0!"}]
[36,{"$f":"算数得点!BJ39","v":0},{"$f":"算数得点!BK39","v":0},{"$f":"算数得点!BL39","v":0},null,null,null,null,{"$f":"IF(算数!$AN$9=算数!$BF$35,\"○\",\"\")","v":""},{"$f":"IF(算数!$AN$9=算数!$BF$36,\"○\",\"\")","v":""},{"$f":"IF(算数!$AN$9=算数!$BF$37,\"○\",\"\")","v":""},{"$f":"IF(算数!$AN$9=算数!$BF$38,\"○\",\"\")","v":""},{"$f":"IF(算数!$AN$9=算数!$BF$39,\"○\",\"\")","v":""},null,null,null,{"$f":"算数得点!AK$58*100","v":0},{"$f":"算数!AN$64*100","v":{"$error":"#DIV/0!"}},{"$error":"#DIV/0!"}]
[37,{"$f":"算数得点!BJ40","v":0},{"$f":"算数得点!BK40","v":0},{"$f":"算数得点!BL40","v":0},null,null,null,null,{"$f":"IF(算数!$AO$9=算数!$BF$35,\"○\",\"\")","v":""},{"$f":"IF(算数!$AO$9=算数!$BF$36,\"○\",\"\")","v":""},{"$f":"IF(算数!$AO$9=算数!$BF$37,\"○\",\"\")","v":""},{"$f":"IF(算数!$AO$9=算数!$BF$38,\"○\",\"\")","v":""},{"$f":"IF(算数!$AO$9=算数!$BF$39,\"○\",\"\")","v":""},null,null,null,{"$f":"算数得点!AL$58*100","v":0},{"$f":"算数!AO$64*100","v":{"$error":"#DIV/0!"}},{"$error":"#DIV/0!"}]
[38,{"$f":"算数得点!BJ41","v":0},{"$f":"算数得点!BK41","v":0},{"$f":"算数得点!BL41","v":0},null,null,null,null,{"$f":"IF(算数!$AP$9=算数!$BF$35,\"○\",\"\")","v":""},{"$f":"IF(算数!$AP$9=算数!$BF$36,\"○\",\"\")","v":""},{"$f":"IF(算数!$AP$9=算数!$BF$37,\"○\",\"\")","v":""},{"$f":"IF(算数!$AP$9=算数!$BF$38,\"○\",\"\")","v":""},{"$f":"IF(算数!$AP$9=算数!$BF$39,\"○\",\"\")","v":""},null,null,null,{"$f":"算数得点!AM$58*100","v":0},{"$f":"算数!AP$64*100","v":{"$error":"#DIV/0!"}},{"$error":"#DIV/0!"}]
[39,{"$f":"算数得点!BJ42","v":0},{"$f":"算数得点!BK42","v":0},{"$f":"算数得点!BL42","v":0},null,null,null,null,{"$f":"IF(算数!$AQ$9=算数!$BF$35,\"○\",\"\")","v":""},{"$f":"IF(算数!$AQ$9=算数!$BF$36,\"○\",\"\")","v":""},{"$f":"IF(算数!$AQ$9=算数!$BF$37,\"○\",\"\")","v":""},{"$f":"IF(算数!$AQ$9=算数!$BF$38,\"○\",\"\")","v":""},{"$f":"IF(算数!$AQ$9=算数!$BF$39,\"○\",\"\")","v":""},null,null,null,{"$f":"算数得点!AN$58*100","v":0},{"$f":"算数!AQ$64*100","v":{"$error":"#DIV/0!"}},{"$error":"#DIV/0!"}]
[40,{"$f":"算数得点!BJ43","v":0},{"$f":"算数得点!BK43","v":0},{"$f":"算数得点!BL43","v":0},null,null,null,null,{"$f":"IF(算数!$AR$9=算数!$BF$35,\"○\",\"\")","v":""},{"$f":"IF(算数!$AR$9=算数!$BF$36,\"○\",\"\")","v":""},{"$f":"IF(算数!$AR$9=算数!$BF$37,\"○\",\"\")","v":""},{"$f":"IF(算数!$AR$9=算数!$BF$38,\"○\",\"\")","v":""},{"$f":"IF(算数!$AR$9=算数!$BF$39,\"○\",\"\")","v":""},null,null,null,{"$f":"算数得点!AO$58*100","v":0},{"$f":"算数!AR$64*100","v":{"$error":"#DIV/0!"}},{"$error":"#DIV/0!"}]
[41,{"$f":"算数得点!BJ44","v":0},{"$f":"算数得点!BK44","v":0},{"$f":"算数得点!BL44","v":0},null,null,null,null,{"$f":"IF(算数!$AS$9=算数!$BF$35,\"○\",\"\")","v":""},{"$f":"IF(算数!$AS$9=算数!$BF$36,\"○\",\"\")","v":""},{"$f":"IF(算数!$AS$9=算数!$BF$37,\"○\",\"\")","v":""},{"$f":"IF(算数!$AS$9=算数!$BF$38,\"○\",\"\")","v":""},{"$f":"IF(算数!$AS$9=算数!$BF$39,\"○\",\"\")","v":""},null,null,null,{"$f":"算数得点!AP$58*100","v":0},{"$f":"算数!AS$64*100","v":{"$error":"#DIV/0!"}},{"$error":"#DIV/0!"}]
[42,{"$f":"算数得点!BJ45","v":0},{"$f":"算数得点!BK45","v":0},{"$f":"算数得点!BL45","v":0},null,null,null,null,{"$f":"IF(算数!$AT$9=算数!$BF$35,\"○\",\"\")","v":""},{"$f":"IF(算数!$AT$9=算数!$BF$36,\"○\",\"\")","v":""},{"$f":"IF(算数!$AT$9=算数!$BF$37,\"○\",\"\")","v":""},{"$f":"IF(算数!$AT$9=算数!$BF$38,\"○\",\"\")","v":""},{"$f":"IF(算数!$AT$9=算数!$BF$39,\"○\",\"\")","v":""},null,null,null,{"$f":"算数得点!AQ$58*100","v":0},{"$f":"算数!AT$64*100","v":{"$error":"#DIV/0!"}},{"$error":"#DIV/0!"}]
[43,{"$f":"算数得点!BJ46","v":0},{"$f":"算数得点!BK46","v":0},{"$f":"算数得点!BL46","v":0},null,null,null,null,{"$f":"IF(算数!$AU$9=算数!$BF$35,\"○\",\"\")","v":""},{"$f":"IF(算数!$AU$9=算数!$BF$36,\"○\",\"\")","v":""},{"$f":"IF(算数!$AU$9=算数!$BF$37,\"○\",\"\")","v":""},{"$f":"IF(算数!$AU$9=算数!$BF$38,\"○\",\"\")","v":""},{"$f":"IF(算数!$AU$9=算数!$BF$39,\"○\",\"\")","v":""},null,null,null,{"$f":"算数得点!AR$58*100","v":0},{"$f":"算数!AU$64*100","v":{"$error":"#DIV/0!"}},{"$error":"#DIV/0!"}]
[44,{"$f":"算数得点!BJ47","v":0},{"$f":"算数得点!BK47","v":0},{"$f":"算数得点!BL47","v":0},null,null,null,null,{"$f":"IF(算数!$AV$9=算数!$BF$35,\"○\",\"\")","v":""},{"$f":"IF(算数!$AV$9=算数!$BF$36,\"○\",\"\")","v":""},{"$f":"IF(算数!$AV$9=算数!$BF$37,\"○\",\"\")","v":""},{"$f":"IF(算数!$AV$9=算数!$BF$38,\"○\",\"\")","v":""},{"$f":"IF(算数!$AV$9=算数!$BF$39,\"○\",\"\")","v":""},null,null,null,{"$f":"算数得点!AS$58*100","v":0},{"$f":"算数!AV$64*100","v":{"$error":"#DIV/0!"}},{"$error":"#DIV/0!"}]
[45,{"$f":"算数得点!BJ48","v":0},{"$f":"算数得点!BK48","v":0},{"$f":"算数得点!BL48","v":0},null,null,null,null,{"$f":"IF(算数!$AW$9=算数!$BF$35,\"○\",\"\")","v":""},{"$f":"IF(算数!$AW$9=算数!$BF$36,\"○\",\"\")","v":""},{"$f":"IF(算数!$AW$9=算数!$BF$37,\"○\",\"\")","v":""},{"$f":"IF(算数!$AW$9=算数!$BF$38,\"○\",\"\")","v":""},{"$f":"IF(算数!$AW$9=算数!$BF$39,\"○\",\"\")","v":""},null,null,null,{"$f":"算数得点!AT$58*100","v":0},{"$f":"算数!AW$64*100","v":{"$error":"#DIV/0!"}},{"$error":"#DIV/0!"}]
[46,{"$f":"算数得点!BJ49","v":0},{"$f":"算数得点!BK49","v":0},{"$f":"算数得点!BL49","v":0},null,null,null,null,{"$f":"IF(算数!$AX$9=算数!$BF$35,\"○\",\"\")","v":""},{"$f":"IF(算数!$AX$9=算数!$BF$36,\"○\",\"\")","v":""},{"$f":"IF(算数!$AX$9=算数!$BF$37,\"○\",\"\")","v":""},{"$f":"IF(算数!$AX$9=算数!$BF$38,\"○\",\"\")","v":""},{"$f":"IF(算数!$AX$9=算数!$BF$39,\"○\",\"\")","v":""},null,null,null,{"$f":"算数得点!AU$58*100","v":0},{"$f":"算数!AX$64*100","v":{"$error":"#DIV/0!"}},{"$error":"#DIV/0!"}]
[47,{"$f":"算数得点!BJ50","v":0},{"$f":"算数得点!BK50","v":0},{"$f":"算数得点!BL50","v":0},null,null,null,null,{"$f":"IF(算数!$AY$9=算数!$BF$35,\"○\",\"\")","v":""},{"$f":"IF(算数!$AY$9=算数!$BF$36,\"○\",\"\")","v":""},{"$f":"IF(算数!$AY$9=算数!$BF$37,\"○\",\"\")","v":""},{"$f":"IF(算数!$AY$9=算数!$BF$38,\"○\",\"\")","v":""},{"$f":"IF(算数!$AY$9=算数!$BF$39,\"○\",\"\")","v":""},null,null,null,{"$f":"算数得点!AV$58*100","v":0},{"$f":"算数!AY$64*100","v":{"$error":"#DIV/0!"}},{"$error":"#DIV/0!"}]
[48,{"$f":"算数得点!BJ51","v":0},{"$f":"算数得点!BK51","v":0},{"$f":"算数得点!BL51","v":0},null,null,null,null,{"$f":"IF(算数!$AZ$9=算数!$BF$35,\"○\",\"\")","v":""},{"$f":"IF(算数!$AZ$9=算数!$BF$36,\"○\",\"\")","v":""},{"$f":"IF(算数!$AZ$9=算数!$BF$37,\"○\",\"\")","v":""},{"$f":"IF(算数!$AZ$9=算数!$BF$38,\"○\",\"\")","v":""},{"$f":"IF(算数!$AZ$9=算数!$BF$39,\"○\",\"\")","v":""},null,null,null,{"$f":"算数得点!AW$58*100","v":0},{"$f":"算数!AZ$64*100","v":{"$error":"#DIV/0!"}},{"$error":"#DIV/0!"}]
[49,{"$f":"算数得点!BJ52","v":0},{"$f":"算数得点!BK52","v":0},{"$f":"算数得点!BL52","v":0},null,null,null,null,{"$f":"IF(算数!$BA$9=算数!$BF$35,\"○\",\"\")","v":""},{"$f":"IF(算数!$BA$9=算数!$BF$36,\"○\",\"\")","v":""},{"$f":"IF(算数!$BA$9=算数!$BF$37,\"○\",\"\")","v":""},{"$f":"IF(算数!$BA$9=算数!$BF$38,\"○\",\"\")","v":""},{"$f":"IF(算数!$BA$9=算数!$BF$39,\"○\",\"\")","v":""},null,null,null,{"$f":"算数得点!AX$58*100","v":0},{"$f":"算数!BA$64*100","v":{"$error":"#DIV/0!"}},{"$error":"#DIV/0!"}]
[50,{"$f":"算数得点!BJ53","v":0},{"$f":"算数得点!BK53","v":0},{"$f":"算数得点!BL53","v":0},null,null,null,null,{"$f":"IF(算数!$BB$9=算数!$BF$35,\"○\",\"\")","v":""},{"$f":"IF(算数!$BB$9=算数!$BF$36,\"○\",\"\")","v":""},{"$f":"IF(算数!$BB$9=算数!$BF$37,\"○\",\"\")","v":""},{"$f":"IF(算数!$BB$9=算数!$BF$38,\"○\",\"\")","v":""},{"$f":"IF(算数!$BB$9=算数!$BF$39,\"○\",\"\")","v":""},null,null,null,{"$f":"算数得点!AY$58*100","v":0},{"$f":"算数!BB$64*100","v":{"$error":"#DIV/0!"}},{"$error":"#DIV/0!"}]
["平均",null,null,null,null,null,null,null,null,null,null,null,null,null,null,null,{"$f":"①算数の平均正答数②算数の平均正答率!B27","v":51.165079365079364},{"$f":"①算数の平均正答数②算数の平均正答率!C27","v":0},{"$f":"①算数の平均正答数②算数の平均正答率!D27","v":-51.165079365079364}]

{"sheet":"⑤算数の問題別誤答率","index":22,"n_rows":57,"n_cols":19,"rows_kept":57,"cut":false,"hidden":false,"merged":[[4,13,4,15],[4,3,5,3],[4,16,4,18],[4,0,5,0],[4,2,5,2],[4,4,4,7],[4,8,4,12],[4,1,5,1]]}
["⑤算数の問題別誤答率"]
[]
[null,null,"問題数",{"$f":"算数!AX1","v":25}]
["◆算数"]
["問題通し番号","問題\n番号","小問題","問題の領域","学習指導要領の領域等",null,null,null,"観点",null,null,null,null,"問題形式",null,null,"誤答率"]
[null,null,null,null,null,null,null,null,{"$f":"算数!BG35","v":"知識・技能"},{"$f":"算数!BG36","v":"思考・判断・表現"},{"$f":"算数!BG37","v":"-"},{"$f":"算数!BG38","v":"-"},{"$f":"算数!BG39","v":"-"},"選択式","短答式","記述式","富山県（ア）","自校（イ）","富山県との差（イ-ア)"]
[1,{"$f":"算数得点!BJ4","v":1},{"$f":"算数得点!BK4","v":"（１）"},{"$f":"算数得点!BL4","v":"数と計算"},null,null,null,null,{"$f":"IF(算数!$E$9=算数!$BF$35,\"○\",\"\")","v":"○"},{"$f":"IF(算数!$E$9=算数!$BF$36,\"○\",\"\")","v":""},{"$f":"IF(算数!$E$9=算数!$BF$37,\"○\",\"\")","v":""},{"$f":"IF(算数!$E$9=算数!$BF$38,\"○\",\"\")","v":""},{"$f":"IF(算数!$E$9=算数!$BF$39,\"○\",\"\")","v":""},null,null,null,{"$f":"算数得点!B$59*100","v":6.3},{"$f":"算数!E$65*100","v":{"$error":"#DIV/0!"}},{"$f":"IF($R7=\"\",\"\",$R7-$Q7)","v":{"$error":"#DIV/0!"}}]
[2,{"$f":"算数得点!BJ5","v":1},{"$f":"算数得点!BK5","v":"（２）"},{"$f":"算数得点!BL5","v":"数と計算"},null,null,null,null,{"$f":"IF(算数!$F$9=算数!$BF$35,\"○\",\"\")","v":"○"},{"$f":"IF(算数!$F$9=算数!$BF$36,\"○\",\"\")","v":""},{"$f":"IF(算数!$F$9=算数!$BF$37,\"○\",\"\")","v":""},{"$f":"IF(算数!$F$9=算数!$BF$38,\"○\",\"\")","v":""},{"$f":"IF(算数!$F$9=算数!$BF$39,\"○\",\"\")","v":""},null,null,null,{"$f":"算数得点!C$59*100","v":44.2},{"$f":"算数!F$65*100","v":{"$error":"#DIV/0!"}},{"$error":"#DIV/0!"}]
[3,{"$f":"算数得点!BJ6","v":1},{"$f":"算数得点!BK6","v":"（３）"},{"$f":"算数得点!BL6","v":"数と計算"},null,null,null,null,{"$f":"IF(算数!$G$9=算数!$BF$35,\"○\",\"\")","v":"○"},{"$f":"IF(算数!$G$9=算数!$BF$36,\"○\",\"\")","v":""},{"$f":"IF(算数!$G$9=算数!$BF$37,\"○\",\"\")","v":""},{"$f":"IF(算数!$G$9=算数!$BF$38,\"○\",\"\")","v":""},{"$f":"IF(算数!$G$9=算数!$BF$39,\"○\",\"\")","v":""},null,null,null,{"$f":"算数得点!D$59*100","v":30.5},{"$f":"算数!G$65*100","v":{"$error":"#DIV/0!"}},{"$error":"#DIV/0!"}]
[4,{"$f":"算数得点!BJ7","v":1},{"$f":"算数得点!BK7","v":"（４）"},{"$f":"算数得点!BL7","v":"数と計算"},null,null,null,null,{"$f":"IF(算数!$H$9=算数!$BF$35,\"○\",\"\")","v":"○"},{"$f":"IF(算数!$H$9=算数!$BF$36,\"○\",\"\")","v":""},{"$f":"IF(算数!$H$9=算数!$BF$37,\"○\",\"\")","v":""},{"$f":"IF(算数!$H$9=算数!$BF$38,\"○\",\"\")","v":""},{"$f":"IF(算数!$H$9=算数!$BF$39,\"○\",\"\")","v":""},null,null,null,{"$f":"算数得点!E$59*100","v":49},{"$f":"算数!H$65*100","v":{"$error":"#DIV/0!"}},{"$error":"#DIV/0!"}]
[5,{"$f":"算数得点!BJ8","v":1},{"$f":"算数得点!BK8","v":"（５）"},{"$f":"算数得点!BL8","v":"数と計算"},null,null,null,null,{"$f":"IF(算数!$I$9=算数!$BF$35,\"○\",\"\")","v":"○"},{"$f":"IF(算数!$I$9=算数!$BF$36,\"○\",\"\")","v":""},{"$f":"IF(算数!$I$9=算数!$BF$37,\"○\",\"\")","v":""},{"$f":"IF(算数!$I$9=算数!$BF$38,\"○\",\"\")","v":""},{"$f":"IF(算数!$I$9=算数!$BF$39,\"○\",\"\")","v":""},null,null,null,{"$f":"算数得点!F$59*100","v":38.5},{"$f":"算数!I$65*100","v":{"$error":"#DIV/0!"}},{"$error":"#DIV/0!"}]
[6,{"$f":"算数得点!BJ9","v":2},{"$f":"算数得点!BK9","v":"（１）"},{"$f":"算数得点!BL9","v":"図形"},null,null,null,null,{"$f":"IF(算数!$J$9=算数!$BF$35,\"○\",\"\")","v":"○"},{"$f":"IF(算数!$J$9=算数!$BF$36,\"○\",\"\")","v":""},{"$f":"IF(算数!$J$9=算数!$BF$37,\"○\",\"\")","v":""},{"$f":"IF(算数!$J$9=算数!$BF$38,\"○\",\"\")","v":""},{"$f":"IF(算数!$J$9=算数!$BF$39,\"○\",\"\")","v":""},null,null,null,{"$f":"算数得点!G$59*100","v":42.4},{"$f":"算数!J$65*100","v":{"$error":"#DIV/0!"}},{"$error":"#DIV/0!"}]
[7,{"$f":"算数得点!BJ10","v":2},{"$f":"算数得点!BK10","v":"（２）"},{"$f":"算数得点!BL10","v":"図形"},null,null,null,null,{"$f":"IF(算数!$K$9=算数!$BF$35,\"○\",\"\")","v":"○"},{"$f":"IF(算数!$K$9=算数!$BF$36,\"○\",\"\")","v":""},{"$f":"IF(算数!$K$9=算数!$BF$37,\"○\",\"\")","v":""},{"$f":"IF(算数!$K$9=算数!$BF$38,\"○\",\"\")","v":""},{"$f":"IF(算数!$K$9=算数!$BF$39,\"○\",\"\")","v":""},null,null,null,{"$f":"算数得点!H$59*100","v":21.8},{"$f":"算数!K$65*100","v":{"$error":"#DIV/0!"}},{"$error":"#DIV/0!"}]
[8,{"$f":"算数得点!BJ11","v":3},{"$f":"算数得点!BK11","v":"（１）"},{"$f":"算数得点!BL11","v":"数と計算"},null,null,null,null,{"$f":"IF(算数!$L$9=算数!$BF$35,\"○\",\"\")","v":"○"},{"$f":"IF(算数!$L$9=算数!$BF$36,\"○\",\"\")","v":""},{"$f":"IF(算数!$L$9=算数!$BF$37,\"○\",\"\")","v":""},{"$f":"IF(算数!$L$9=算数!$BF$38,\"○\",\"\")","v":""},{"$f":"IF(算数!$L$9=算数!$BF$39,\"○\",\"\")","v":""},null,null,null,{"$f":"算数得点!I$59*100","v":27.3},{"$f":"算数!L$65*100","v":{"$error":"#DIV/0!"}},{"$error":"#DIV/0!"}]
[9,{"$f":"算数得点!BJ12","v":3},{"$f":"算数得点!BK12","v":"（２）"},{"$f":"算数得点!BL12","v":"数と計算"},null,null,null,null,{"$f":"IF(算数!$M$9=算数!$BF$35,\"○\",\"\")","v":"○"},{"$f":"IF(算数!$M$9=算数!$BF$36,\"○\",\"\")","v":""},{"$f":"IF(算数!$M$9=算数!$BF$37,\"○\",\"\")","v":""},{"$f":"IF(算数!$M$9=算数!$BF$38,\"○\",\"\")","v":""},{"$f":"IF(算数!$M$9=算数!$BF$39,\"○\",\"\")","v":""},null,null,null,{"$f":"算数得点!J$59*100","v":42.199999999999996},{"$f":"算数!M$65*100","v":{"$error":"#DIV/0!"}},{"$error":"#DIV/0!"}]
[10,{"$f":"算数得点!BJ13","v":4},{"$f":"算数得点!BK13","v":0},{"$f":"算数得点!BL13","v":"変化と関係"},null,null,null,null,{"$f":"IF(算数!$N$9=算数!$BF$35,\"○\",\"\")","v":""},{"$f":"IF(算数!$N$9=算数!$BF$36,\"○\",\"\")","v":"○"},{"$f":"IF(算数!$N$9=算数!$BF$37,\"○\",\"\")","v":""},{"$f":"IF(算数!$N$9=算数!$BF$38,\"○\",\"\")","v":""},{"$f":"IF(算数!$N$9=算数!$BF$39,\"○\",\"\")","v":""},null,null,null,{"$f":"算数得点!K$59*100","v":63.6},{"$f":"算数!N$65*100","v":{"$error":"#DIV/0!"}},{"$error":"#DIV/0!"}]
[11,{"$f":"算数得点!BJ14","v":5},{"$f":"算数得点!BK14","v":0},{"$f":"算数得点!BL14","v":"データの活用"},null,null,null,null,{"$f":"IF(算数!$O$9=算数!$BF$35,\"○\",\"\")","v":"○"},{"$f":"IF(算数!$O$9=算数!$BF$36,\"○\",\"\")","v":""},{"$f":"IF(算数!$O$9=算数!$BF$37,\"○\",\"\")","v":""},{"$f":"IF(算数!$O$9=算数!$BF$38,\"○\",\"\")","v":""},{"$f":"IF(算数!$O$9=算数!$BF$39,\"○\",\"\")","v":""},null,null,null,{"$f":"算数得点!L$59*100","v":12.9},{"$f":"算数!O$65*100","v":{"$error":"#DIV/0!"}},{"$error":"#DIV/0!"}]
[12,{"$f":"算数得点!BJ15","v":6},{"$f":"算数得点!BK15","v":0},{"$f":"算数得点!BL15","v":"数と計算"},null,null,null,null,{"$f":"IF(算数!$P$9=算数!$BF$35,\"○\",\"\")","v":""},{"$f":"IF(算数!$P$9=算数!$BF$36,\"○\",\"\")","v":"○"},{"$f":"IF(算数!$P$9=算数!$BF$37,\"○\",\"\")","v":""},{"$f":"IF(算数!$P$9=算数!$BF$38,\"○\",\"\")","v":""},{"$f":"IF(算数!$P$9=算数!$BF$39,\"○\",\"\")","v":""},null,null,null,{"$f":"算数得点!M$59*100","v":45.800000000000004},{"$f":"算数!P$65*100","v":{"$error":"#DIV/0!"}},{"$error":"#DIV/0!"}]
[13,{"$f":"算数得点!BJ16","v":7},{"$f":"算数得点!BK16","v":0},{"$f":"算数得点!BL16","v":"図形"},null,null,null,null,{"$f":"IF(算数!$Q$9=算数!$BF$35,\"○\",\"\")","v":"○"},{"$f":"IF(算数!$Q$9=算数!$BF$36,\"○\",\"\")","v":""},{"$f":"IF(算数!$Q$9=算数!$BF$37,\"○\",\"\")","v":""},{"$f":"IF(算数!$Q$9=算数!$BF$38,\"○\",\"\")","v":""},{"$f":"IF(算数!$Q$9=算数!$BF$39,\"○\",\"\")","v":""},null,null,null,{"$f":"算数得点!N$59*100","v":67.100000000000009},{"$f":"算数!Q$65*100","v":{"$error":"#DIV/0!"}},{"$error":"#DIV/0!"}]
[14,{"$f":"算数得点!BJ17","v":8},{"$f":"算数得点!BK17","v":"（１）"},{"$f":"算数得点!BL17","v":"データの活用"},null,null,null,null,{"$f":"IF(算数!$R$9=算数!$BF$35,\"○\",\"\")","v":"○"},{"$f":"IF(算数!$R$9=算数!$BF$36,\"○\",\"\")","v":""},{"$f":"IF(算数!$R$9=算数!$BF$37,\"○\",\"\")","v":""},{"$f":"IF(算数!$R$9=算数!$BF$38,\"○\",\"\")","v":""},{"$f":"IF(算数!$R$9=算数!$BF$39,\"○\",\"\")","v":""},null,null,null,{"$f":"算数得点!O$59*100","v":55.000000000000007},{"$f":"算数!R$65*100","v":{"$error":"#DIV/0!"}},{"$error":"#DIV/0!"}]
[15,{"$f":"算数得点!BJ18","v":8},{"$f":"算数得点!BK18","v":"（２）"},{"$f":"算数得点!BL18","v":"データの活用"},null,null,null,null,{"$f":"IF(算数!$S$9=算数!$BF$35,\"○\",\"\")","v":"○"},{"$f":"IF(算数!$S$9=算数!$BF$36,\"○\",\"\")","v":""},{"$f":"IF(算数!$S$9=算数!$BF$37,\"○\",\"\")","v":""},{"$f":"IF(算数!$S$9=算数!$BF$38,\"○\",\"\")","v":""},{"$f":"IF(算数!$S$9=算数!$BF$39,\"○\",\"\")","v":""},null,null,null,{"$f":"算数得点!P$59*100","v":49.1},{"$f":"算数!S$65*100","v":{"$error":"#DIV/0!"}},{"$error":"#DIV/0!"}]
[16,{"$f":"算数得点!BJ19","v":9},{"$f":"算数得点!BK19","v":"（１）"},{"$f":"算数得点!BL19","v":"変化と関係"},null,null,null,null,{"$f":"IF(算数!$T$9=算数!$BF$35,\"○\",\"\")","v":"○"},{"$f":"IF(算数!$T$9=算数!$BF$36,\"○\",\"\")","v":""},{"$f":"IF(算数!$T$9=算数!$BF$37,\"○\",\"\")","v":""},{"$f":"IF(算数!$T$9=算数!$BF$38,\"○\",\"\")","v":""},{"$f":"IF(算数!$T$9=算数!$BF$39,\"○\",\"\")","v":""},null,null,null,{"$f":"算数得点!Q$59*100","v":9.9},{"$f":"算数!T$65*100","v":{"$error":"#DIV/0!"}},{"$error":"#DIV/0!"}]
[17,{"$f":"算数得点!BJ20","v":9},{"$f":"算数得点!BK20","v":"（２）"},{"$f":"算数得点!BL20","v":"変化と関係"},null,null,null,null,{"$f":"IF(算数!$U$9=算数!$BF$35,\"○\",\"\")","v":""},{"$f":"IF(算数!$U$9=算数!$BF$36,\"○\",\"\")","v":"○"},{"$f":"IF(算数!$U$9=算数!$BF$37,\"○\",\"\")","v":""},{"$f":"IF(算数!$U$9=算数!$BF$38,\"○\",\"\")","v":""},{"$f":"IF(算数!$U$9=算数!$BF$39,\"○\",\"\")","v":""},null,null,null,{"$f":"算数得点!R$59*100","v":56.899999999999991},{"$f":"算数!U$65*100","v":{"$error":"#DIV/0!"}},{"$error":"#DIV/0!"}]
[18,{"$f":"算数得点!BJ21","v":9},{"$f":"算数得点!BK21","v":"（３）"},{"$f":"算数得点!BL21","v":"変化と関係"},null,null,null,null,{"$f":"IF(算数!$V$9=算数!$BF$35,\"○\",\"\")","v":"○"},{"$f":"IF(算数!$V$9=算数!$BF$36,\"○\",\"\")","v":""},{"$f":"IF(算数!$V$9=算数!$BF$37,\"○\",\"\")","v":""},{"$f":"IF(算数!$V$9=算数!$BF$38,\"○\",\"\")","v":""},{"$f":"IF(算数!$V$9=算数!$BF$39,\"○\",\"\")","v":""},null,null,null,{"$f":"算数得点!S$59*100","v":42.699999999999996},{"$f":"算数!V$65*100","v":{"$error":"#DIV/0!"}},{"$error":"#DIV/0!"}]
[19,{"$f":"算数得点!BJ22","v":10},{"$f":"算数得点!BK22","v":"（１）"},{"$f":"算数得点!BL22","v":"変化と関係"},null,null,null,null,{"$f":"IF(算数!$W$9=算数!$BF$35,\"○\",\"\")","v":"○"},{"$f":"IF(算数!$W$9=算数!$BF$36,\"○\",\"\")","v":""},{"$f":"IF(算数!$W$9=算数!$BF$37,\"○\",\"\")","v":""},{"$f":"IF(算数!$W$9=算数!$BF$38,\"○\",\"\")","v":""},{"$f":"IF(算数!$W$9=算数!$BF$39,\"○\",\"\")","v":""},null,null,null,{"$f":"算数得点!T$59*100","v":49.3},{"$f":"算数!W$65*100","v":{"$error":"#DIV/0!"}},{"$error":"#DIV/0!"}]
[20,{"$f":"算数得点!BJ23","v":10},{"$f":"算数得点!BK23","v":"（２）"},{"$f":"算数得点!BL23","v":"変化と関係"},null,null,null,null,{"$f":"IF(算数!$X$9=算数!$BF$35,\"○\",\"\")","v":"○"},{"$f":"IF(算数!$X$9=算数!$BF$36,\"○\",\"\")","v":""},{"$f":"IF(算数!$X$9=算数!$BF$37,\"○\",\"\")","v":""},{"$f":"IF(算数!$X$9=算数!$BF$38,\"○\",\"\")","v":""},{"$f":"IF(算数!$X$9=算数!$BF$39,\"○\",\"\")","v":""},null,null,null,{"$f":"算数得点!U$59*100","v":66.100000000000009},{"$f":"算数!X$65*100","v":{"$error":"#DIV/0!"}},{"$error":"#DIV/0!"}]
[21,{"$f":"算数得点!BJ24","v":11},{"$f":"算数得点!BK24","v":0},{"$f":"算数得点!BL24","v":"数と計算"},null,null,null,null,{"$f":"IF(算数!$Y$9=算数!$BF$35,\"○\",\"\")","v":""},{"$f":"IF(算数!$Y$9=算数!$BF$36,\"○\",\"\")","v":"○"},{"$f":"IF(算数!$Y$9=算数!$BF$37,\"○\",\"\")","v":""},{"$f":"IF(算数!$Y$9=算数!$BF$38,\"○\",\"\")","v":""},{"$f":"IF(算数!$Y$9=算数!$BF$39,\"○\",\"\")","v":""},null,null,null,{"$f":"算数得点!V$59*100","v":74.3},{"$f":"算数!Y$65*100","v":{"$error":"#DIV/0!"}},{"$error":"#DIV/0!"}]
[22,{"$f":"算数得点!BJ25","v":12},{"$f":"算数得点!BK25","v":0},{"$f":"算数得点!BL25","v":"図形"},null,null,null,null,{"$f":"IF(算数!$Z$9=算数!$BF$35,\"○\",\"\")","v":""},{"$f":"IF(算数!$Z$9=算数!$BF$36,\"○\",\"\")","v":"○"},{"$f":"IF(算数!$Z$9=算数!$BF$37,\"○\",\"\")","v":""},{"$f":"IF(算数!$Z$9=算数!$BF$38,\"○\",\"\")","v":""},{"$f":"IF(算数!$Z$9=算数!$BF$39,\"○\",\"\")","v":""},null,null,null,{"$f":"算数得点!W$59*100","v":41.8},{"$f":"算数!Z$65*100","v":{"$error":"#DIV/0!"}},{"$error":"#DIV/0!"}]
[23,{"$f":"算数得点!BJ26","v":13},{"$f":"算数得点!BK26","v":"（１）"},{"$f":"算数得点!BL26","v":"数と計算"},null,null,null,null,{"$f":"IF(算数!$AA$9=算数!$BF$35,\"○\",\"\")","v":"○"},{"$f":"IF(算数!$AA$9=算数!$BF$36,\"○\",\"\")","v":""},{"$f":"IF(算数!$AA$9=算数!$BF$37,\"○\",\"\")","v":""},{"$f":"IF(算数!$AA$9=算数!$BF$38,\"○\",\"\")","v":""},{"$f":"IF(算数!$AA$9=算数!$BF$39,\"○\",\"\")","v":""},null,null,null,{"$f":"算数得点!X$59*100","v":17.100000000000001},{"$f":"算数!AA$65*100","v":{"$error":"#DIV/0!"}},{"$error":"#DIV/0!"}]
[24,{"$f":"算数得点!BJ27","v":13},{"$f":"算数得点!BK27","v":"（２）"},{"$f":"算数得点!BL27","v":"変化と関係"},null,null,null,null,{"$f":"IF(算数!$AB$9=算数!$BF$35,\"○\",\"\")","v":""},{"$f":"IF(算数!$AB$9=算数!$BF$36,\"○\",\"\")","v":"○"},{"$f":"IF(算数!$AB$9=算数!$BF$37,\"○\",\"\")","v":""},{"$f":"IF(算数!$AB$9=算数!$BF$38,\"○\",\"\")","v":""},{"$f":"IF(算数!$AB$9=算数!$BF$39,\"○\",\"\")","v":""},null,null,null,{"$f":"算数得点!Y$59*100","v":38.299999999999997},{"$f":"算数!AB$65*100","v":{"$error":"#DIV/0!"}},{"$error":"#DIV/0!"}]
[25,{"$f":"算数得点!BJ28","v":13},{"$f":"算数得点!BK28","v":"（２）"},{"$f":"算数得点!BL28","v":"変化と関係"},null,null,null,null,{"$f":"IF(算数!$AC$9=算数!$BF$35,\"○\",\"\")","v":""},{"$f":"IF(算数!$AC$9=算数!$BF$36,\"○\",\"\")","v":"○"},{"$f":"IF(算数!$AC$9=算数!$BF$37,\"○\",\"\")","v":""},{"$f":"IF(算数!$AC$9=算数!$BF$38,\"○\",\"\")","v":""},{"$f":"IF(算数!$AC$9=算数!$BF$39,\"○\",\"\")","v":""},null,null,null,{"$f":"算数得点!Z$59*100","v":35.9},{"$f":"算数!AC$65*100","v":{"$error":"#DIV/0!"}},{"$error":"#DIV/0!"}]
[26,{"$f":"算数得点!BJ29","v":0},{"$f":"算数得点!BK29","v":0},{"$f":"算数得点!BL29","v":0},null,null,null,null,{"$f":"IF(算数!$AD$9=算数!$BF$35,\"○\",\"\")","v":""},{"$f":"IF(算数!$AD$9=算数!$BF$36,\"○\",\"\")","v":""},{"$f":"IF(算数!$AD$9=算数!$BF$37,\"○\",\"\")","v":""},{"$f":"IF(算数!$AD$9=算数!$BF$38,\"○\",\"\")","v":""},{"$f":"IF(算数!$AD$9=算数!$BF$39,\"○\",\"\")","v":""},null,null,null,{"$f":"算数得点!AA$59*100","v":0},{"$f":"算数!AD$65*100","v":{"$error":"#DIV/0!"}},{"$f":"IF($R32=\"\",\"\",$R32-$Q32)","v":{"$error":"#DIV/0!"}}]
[27,{"$f":"算数得点!BJ30","v":0},{"$f":"算数得点!BK30","v":0},{"$f":"算数得点!BL30","v":0},null,null,null,null,{"$f":"IF(算数!$AE$9=算数!$BF$35,\"○\",\"\")","v":""},{"$f":"IF(算数!$AE$9=算数!$BF$36,\"○\",\"\")","v":""},{"$f":"IF(算数!$AE$9=算数!$BF$37,\"○\",\"\")","v":""},{"$f":"IF(算数!$AE$9=算数!$BF$38,\"○\",\"\")","v":""},{"$f":"IF(算数!$AE$9=算数!$BF$39,\"○\",\"\")","v":""},null,null,null,{"$f":"算数得点!AB$59*100","v":0},{"$f":"算数!AE$65*100","v":{"$error":"#DIV/0!"}},{"$f":"IF($R33=\"\",\"\",$R33-$Q33)","v":{"$error":"#DIV/0!"}}]
[28,{"$f":"算数得点!BJ31","v":0},{"$f":"算数得点!BK31","v":0},{"$f":"算数得点!BL31","v":0},null,null,null,null,{"$f":"IF(算数!$AF$9=算数!$BF$35,\"○\",\"\")","v":""},{"$f":"IF(算数!$AF$9=算数!$BF$36,\"○\",\"\")","v":""},{"$f":"IF(算数!$AF$9=算数!$BF$37,\"○\",\"\")","v":""},{"$f":"IF(算数!$AF$9=算数!$BF$38,\"○\",\"\")","v":""},{"$f":"IF(算数!$AF$9=算数!$BF$39,\"○\",\"\")","v":""},null,null,null,{"$f":"算数得点!AC$59*100","v":0},{"$f":"算数!AF$65*100","v":{"$error":"#DIV/0!"}},{"$f":"IF($R34=\"\",\"\",$R34-$Q34)","v":{"$error":"#DIV/0!"}}]
[29,{"$f":"算数得点!BJ32","v":0},{"$f":"算数得点!BK32","v":0},{"$f":"算数得点!BL32","v":0},null,null,null,null,{"$f":"IF(算数!$AG$9=算数!$BF$35,\"○\",\"\")","v":""},{"$f":"IF(算数!$AG$9=算数!$BF$36,\"○\",\"\")","v":""},{"$f":"IF(算数!$AG$9=算数!$BF$37,\"○\",\"\")","v":""},{"$f":"IF(算数!$AG$9=算数!$BF$38,\"○\",\"\")","v":""},{"$f":"IF(算数!$AG$9=算数!$BF$39,\"○\",\"\")","v":""},null,null,null,{"$f":"算数得点!AD$59*100","v":0},{"$f":"算数!AG$65*100","v":{"$error":"#DIV/0!"}},{"$error":"#DIV/0!"}]
[30,{"$f":"算数得点!BJ33","v":0},{"$f":"算数得点!BK33","v":0},{"$f":"算数得点!BL33","v":0},null,null,null,null,{"$f":"IF(算数!$AH$9=算数!$BF$35,\"○\",\"\")","v":""},{"$f":"IF(算数!$AH$9=算数!$BF$36,\"○\",\"\")","v":""},{"$f":"IF(算数!$AH$9=算数!$BF$37,\"○\",\"\")","v":""},{"$f":"IF(算数!$AH$9=算数!$BF$38,\"○\",\"\")","v":""},{"$f":"IF(算数!$AH$9=算数!$BF$39,\"○\",\"\")","v":""},null,null,null,{"$f":"算数得点!AE$59*100","v":0},{"$f":"算数!AH$65*100","v":{"$error":"#DIV/0!"}},{"$error":"#DIV/0!"}]
[31,{"$f":"算数得点!BJ34","v":0},{"$f":"算数得点!BK34","v":0},{"$f":"算数得点!BL34","v":0},null,null,null,null,{"$f":"IF(算数!$AI$9=算数!$BF$35,\"○\",\"\")","v":""},{"$f":"IF(算数!$AI$9=算数!$BF$36,\"○\",\"\")","v":""},{"$f":"IF(算数!$AI$9=算数!$BF$37,\"○\",\"\")","v":""},{"$f":"IF(算数!$AI$9=算数!$BF$38,\"○\",\"\")","v":""},{"$f":"IF(算数!$AI$9=算数!$BF$39,\"○\",\"\")","v":""},null,null,null,{"$f":"算数得点!AF$59*100","v":0},{"$f":"算数!AI$65*100","v":{"$error":"#DIV/0!"}},{"$error":"#DIV/0!"}]
[32,{"$f":"算数得点!BJ35","v":0},{"$f":"算数得点!BK35","v":0},{"$f":"算数得点!BL35","v":0},null,null,null,null,{"$f":"IF(算数!$AJ$9=算数!$BF$35,\"○\",\"\")","v":""},{"$f":"IF(算数!$AJ$9=算数!$BF$36,\"○\",\"\")","v":""},{"$f":"IF(算数!$AJ$9=算数!$BF$37,\"○\",\"\")","v":""},{"$f":"IF(算数!$AJ$9=算数!$BF$38,\"○\",\"\")","v":""},{"$f":"IF(算数!$AJ$9=算数!$BF$39,\"○\",\"\")","v":""},null,null,null,{"$f":"算数得点!AG$59*100","v":0},{"$f":"算数!AJ$65*100","v":{"$error":"#DIV/0!"}},{"$error":"#DIV/0!"}]
[33,{"$f":"算数得点!BJ36","v":0},{"$f":"算数得点!BK36","v":0},{"$f":"算数得点!BL36","v":0},null,null,null,null,{"$f":"IF(算数!$AK$9=算数!$BF$35,\"○\",\"\")","v":""},{"$f":"IF(算数!$AK$9=算数!$BF$36,\"○\",\"\")","v":""},{"$f":"IF(算数!$AK$9=算数!$BF$37,\"○\",\"\")","v":""},{"$f":"IF(算数!$AK$9=算数!$BF$38,\"○\",\"\")","v":""},{"$f":"IF(算数!$AK$9=算数!$BF$39,\"○\",\"\")","v":""},null,null,null,{"$f":"算数得点!AH$59*100","v":0},{"$f":"算数!AK$65*100","v":{"$error":"#DIV/0!"}},{"$f":"IF($R39=\"\",\"\",$R39-$Q39)","v":{"$error":"#DIV/0!"}}]
[34,{"$f":"算数得点!BJ37","v":0},{"$f":"算数得点!BK37","v":0},{"$f":"算数得点!BL37","v":0},null,null,null,null,{"$f":"IF(算数!$AL$9=算数!$BF$35,\"○\",\"\")","v":""},{"$f":"IF(算数!$AL$9=算数!$BF$36,\"○\",\"\")","v":""},{"$f":"IF(算数!$AL$9=算数!$BF$37,\"○\",\"\")","v":""},{"$f":"IF(算数!$AL$9=算数!$BF$38,\"○\",\"\")","v":""},{"$f":"IF(算数!$AL$9=算数!$BF$39,\"○\",\"\")","v":""},null,null,null,{"$f":"算数得点!AI$59*100","v":0},{"$f":"算数!AL$65*100","v":{"$error":"#DIV/0!"}},{"$error":"#DIV/0!"}]
[35,{"$f":"算数得点!BJ38","v":0},{"$f":"算数得点!BK38","v":0},{"$f":"算数得点!BL38","v":0},null,null,null,null,{"$f":"IF(算数!$AM$9=算数!$BF$35,\"○\",\"\")","v":""},{"$f":"IF(算数!$AM$9=算数!$BF$36,\"○\",\"\")","v":""},{"$f":"IF(算数!$AM$9=算数!$BF$37,\"○\",\"\")","v":""},{"$f":"IF(算数!$AM$9=算数!$BF$38,\"○\",\"\")","v":""},{"$f":"IF(算数!$AM$9=算数!$BF$39,\"○\",\"\")","v":""},null,null,null,{"$f":"算数得点!AJ$59*100","v":0},{"$f":"算数!AM$65*100","v":{"$error":"#DIV/0!"}},{"$error":"#DIV/0!"}]
[36,{"$f":"算数得点!BJ39","v":0},{"$f":"算数得点!BK39","v":0},{"$f":"算数得点!BL39","v":0},null,null,null,null,{"$f":"IF(算数!$AN$9=算数!$BF$35,\"○\",\"\")","v":""},{"$f":"IF(算数!$AN$9=算数!$BF$36,\"○\",\"\")","v":""},{"$f":"IF(算数!$AN$9=算数!$BF$37,\"○\",\"\")","v":""},{"$f":"IF(算数!$AN$9=算数!$BF$38,\"○\",\"\")","v":""},{"$f":"IF(算数!$AN$9=算数!$BF$39,\"○\",\"\")","v":""},null,null,null,{"$f":"算数得点!AK$59*100","v":0},{"$f":"算数!AN$65*100","v":{"$error":"#DIV/0!"}},{"$error":"#DIV/0!"}]
[37,{"$f":"算数得点!BJ40","v":0},{"$f":"算数得点!BK40","v":0},{"$f":"算数得点!BL40","v":0},null,null,null,null,{"$f":"IF(算数!$AO$9=算数!$BF$35,\"○\",\"\")","v":""},{"$f":"IF(算数!$AO$9=算数!$BF$36,\"○\",\"\")","v":""},{"$f":"IF(算数!$AO$9=算数!$BF$37,\"○\",\"\")","v":""},{"$f":"IF(算数!$AO$9=算数!$BF$38,\"○\",\"\")","v":""},{"$f":"IF(算数!$AO$9=算数!$BF$39,\"○\",\"\")","v":""},null,null,null,{"$f":"算数得点!AL$59*100","v":0},{"$f":"算数!AO$65*100","v":{"$error":"#DIV/0!"}},{"$error":"#DIV/0!"}]
[38,{"$f":"算数得点!BJ41","v":0},{"$f":"算数得点!BK41","v":0},{"$f":"算数得点!BL41","v":0},null,null,null,null,{"$f":"IF(算数!$AP$9=算数!$BF$35,\"○\",\"\")","v":""},{"$f":"IF(算数!$AP$9=算数!$BF$36,\"○\",\"\")","v":""},{"$f":"IF(算数!$AP$9=算数!$BF$37,\"○\",\"\")","v":""},{"$f":"IF(算数!$AP$9=算数!$BF$38,\"○\",\"\")","v":""},{"$f":"IF(算数!$AP$9=算数!$BF$39,\"○\",\"\")","v":""},null,null,null,{"$f":"算数得点!AM$59*100","v":0},{"$f":"算数!AP$65*100","v":{"$error":"#DIV/0!"}},{"$error":"#DIV/0!"}]
[39,{"$f":"算数得点!BJ42","v":0},{"$f":"算数得点!BK42","v":0},{"$f":"算数得点!BL42","v":0},null,null,null,null,{"$f":"IF(算数!$AQ$9=算数!$BF$35,\"○\",\"\")","v":""},{"$f":"IF(算数!$AQ$9=算数!$BF$36,\"○\",\"\")","v":""},{"$f":"IF(算数!$AQ$9=算数!$BF$37,\"○\",\"\")","v":""},{"$f":"IF(算数!$AQ$9=算数!$BF$38,\"○\",\"\")","v":""},{"$f":"IF(算数!$AQ$9=算数!$BF$39,\"○\",\"\")","v":""},null,null,null,{"$f":"算数得点!AN$59*100","v":0},{"$f":"算数!AQ$65*100","v":{"$error":"#DIV/0!"}},{"$error":"#DIV/0!"}]
[40,{"$f":"算数得点!BJ43","v":0},{"$f":"算数得点!BK43","v":0},{"$f":"算数得点!BL43","v":0},null,null,null,null,{"$f":"IF(算数!$AR$9=算数!$BF$35,\"○\",\"\")","v":""},{"$f":"IF(算数!$AR$9=算数!$BF$36,\"○\",\"\")","v":""},{"$f":"IF(算数!$AR$9=算数!$BF$37,\"○\",\"\")","v":""},{"$f":"IF(算数!$AR$9=算数!$BF$38,\"○\",\"\")","v":""},{"$f":"IF(算数!$AR$9=算数!$BF$39,\"○\",\"\")","v":""},null,null,null,{"$f":"算数得点!AO$59*100","v":0},{"$f":"算数!AR$65*100","v":{"$error":"#DIV/0!"}},{"$error":"#DIV/0!"}]
[41,{"$f":"算数得点!BJ44","v":0},{"$f":"算数得点!BK44","v":0},{"$f":"算数得点!BL44","v":0},null,null,null,null,{"$f":"IF(算数!$AS$9=算数!$BF$35,\"○\",\"\")","v":""},{"$f":"IF(算数!$AS$9=算数!$BF$36,\"○\",\"\")","v":""},{"$f":"IF(算数!$AS$9=算数!$BF$37,\"○\",\"\")","v":""},{"$f":"IF(算数!$AS$9=算数!$BF$38,\"○\",\"\")","v":""},{"$f":"IF(算数!$AS$9=算数!$BF$39,\"○\",\"\")","v":""},null,null,null,{"$f":"算数得点!AP$59*100","v":0},{"$f":"算数!AS$65*100","v":{"$error":"#DIV/0!"}},{"$error":"#DIV/0!"}]
[42,{"$f":"算数得点!BJ45","v":0},{"$f":"算数得点!BK45","v":0},{"$f":"算数得点!BL45","v":0},null,null,null,null,{"$f":"IF(算数!$AT$9=算数!$BF$35,\"○\",\"\")","v":""},{"$f":"IF(算数!$AT$9=算数!$BF$36,\"○\",\"\")","v":""},{"$f":"IF(算数!$AT$9=算数!$BF$37,\"○\",\"\")","v":""},{"$f":"IF(算数!$AT$9=算数!$BF$38,\"○\",\"\")","v":""},{"$f":"IF(算数!$AT$9=算数!$BF$39,\"○\",\"\")","v":""},null,null,null,{"$f":"算数得点!AQ$59*100","v":0},{"$f":"算数!AT$65*100","v":{"$error":"#DIV/0!"}},{"$error":"#DIV/0!"}]
[43,{"$f":"算数得点!BJ46","v":0},{"$f":"算数得点!BK46","v":0},{"$f":"算数得点!BL46","v":0},null,null,null,null,{"$f":"IF(算数!$AU$9=算数!$BF$35,\"○\",\"\")","v":""},{"$f":"IF(算数!$AU$9=算数!$BF$36,\"○\",\"\")","v":""},{"$f":"IF(算数!$AU$9=算数!$BF$37,\"○\",\"\")","v":""},{"$f":"IF(算数!$AU$9=算数!$BF$38,\"○\",\"\")","v":""},{"$f":"IF(算数!$AU$9=算数!$BF$39,\"○\",\"\")","v":""},null,null,null,{"$f":"算数得点!AR$59*100","v":0},{"$f":"算数!AU$65*100","v":{"$error":"#DIV/0!"}},{"$error":"#DIV/0!"}]
[44,{"$f":"算数得点!BJ47","v":0},{"$f":"算数得点!BK47","v":0},{"$f":"算数得点!BL47","v":0},null,null,null,null,{"$f":"IF(算数!$AV$9=算数!$BF$35,\"○\",\"\")","v":""},{"$f":"IF(算数!$AV$9=算数!$BF$36,\"○\",\"\")","v":""},{"$f":"IF(算数!$AV$9=算数!$BF$37,\"○\",\"\")","v":""},{"$f":"IF(算数!$AV$9=算数!$BF$38,\"○\",\"\")","v":""},{"$f":"IF(算数!$AV$9=算数!$BF$39,\"○\",\"\")","v":""},null,null,null,{"$f":"算数得点!AS$59*100","v":0},{"$f":"算数!AV$65*100","v":{"$error":"#DIV/0!"}},{"$error":"#DIV/0!"}]
[45,{"$f":"算数得点!BJ48","v":0},{"$f":"算数得点!BK48","v":0},{"$f":"算数得点!BL48","v":0},null,null,null,null,{"$f":"IF(算数!$AW$9=算数!$BF$35,\"○\",\"\")","v":""},{"$f":"IF(算数!$AW$9=算数!$BF$36,\"○\",\"\")","v":""},{"$f":"IF(算数!$AW$9=算数!$BF$37,\"○\",\"\")","v":""},{"$f":"IF(算数!$AW$9=算数!$BF$38,\"○\",\"\")","v":""},{"$f":"IF(算数!$AW$9=算数!$BF$39,\"○\",\"\")","v":""},null,null,null,{"$f":"算数得点!AT$59*100","v":0},{"$f":"算数!AW$65*100","v":{"$error":"#DIV/0!"}},{"$error":"#DIV/0!"}]
[46,{"$f":"算数得点!BJ49","v":0},{"$f":"算数得点!BK49","v":0},{"$f":"算数得点!BL49","v":0},null,null,null,null,{"$f":"IF(算数!$AX$9=算数!$BF$35,\"○\",\"\")","v":""},{"$f":"IF(算数!$AX$9=算数!$BF$36,\"○\",\"\")","v":""},{"$f":"IF(算数!$AX$9=算数!$BF$37,\"○\",\"\")","v":""},{"$f":"IF(算数!$AX$9=算数!$BF$38,\"○\",\"\")","v":""},{"$f":"IF(算数!$AX$9=算数!$BF$39,\"○\",\"\")","v":""},null,null,null,{"$f":"算数得点!AU$59*100","v":0},{"$f":"算数!AX$65*100","v":{"$error":"#DIV/0!"}},{"$error":"#DIV/0!"}]
[47,{"$f":"算数得点!BJ50","v":0},{"$f":"算数得点!BK50","v":0},{"$f":"算数得点!BL50","v":0},null,null,null,null,{"$f":"IF(算数!$AY$9=算数!$BF$35,\"○\",\"\")","v":""},{"$f":"IF(算数!$AY$9=算数!$BF$36,\"○\",\"\")","v":""},{"$f":"IF(算数!$AY$9=算数!$BF$37,\"○\",\"\")","v":""},{"$f":"IF(算数!$AY$9=算数!$BF$38,\"○\",\"\")","v":""},{"$f":"IF(算数!$AY$9=算数!$BF$39,\"○\",\"\")","v":""},null,null,null,{"$f":"算数得点!AV$59*100","v":0},{"$f":"算数!AY$65*100","v":{"$error":"#DIV/0!"}},{"$error":"#DIV/0!"}]
[48,{"$f":"算数得点!BJ51","v":0},{"$f":"算数得点!BK51","v":0},{"$f":"算数得点!BL51","v":0},null,null,null,null,{"$f":"IF(算数!$AZ$9=算数!$BF$35,\"○\",\"\")","v":""},{"$f":"IF(算数!$AZ$9=算数!$BF$36,\"○\",\"\")","v":""},{"$f":"IF(算数!$AZ$9=算数!$BF$37,\"○\",\"\")","v":""},{"$f":"IF(算数!$AZ$9=算数!$BF$38,\"○\",\"\")","v":""},{"$f":"IF(算数!$AZ$9=算数!$BF$39,\"○\",\"\")","v":""},null,null,null,{"$f":"算数得点!AW$59*100","v":0},{"$f":"算数!AZ$65*100","v":{"$error":"#DIV/0!"}},{"$error":"#DIV/0!"}]
[49,{"$f":"算数得点!BJ52","v":0},{"$f":"算数得点!BK52","v":0},{"$f":"算数得点!BL52","v":0},null,null,null,null,{"$f":"IF(算数!$BA$9=算数!$BF$35,\"○\",\"\")","v":""},{"$f":"IF(算数!$BA$9=算数!$BF$36,\"○\",\"\")","v":""},{"$f":"IF(算数!$BA$9=算数!$BF$37,\"○\",\"\")","v":""},{"$f":"IF(算数!$BA$9=算数!$BF$38,\"○\",\"\")","v":""},{"$f":"IF(算数!$BA$9=算数!$BF$39,\"○\",\"\")","v":""},null,null,null,{"$f":"算数得点!AX$59*100","v":0},{"$f":"算数!BA$65*100","v":{"$error":"#DIV/0!"}},{"$error":"#DIV/0!"}]
[50,{"$f":"算数得点!BJ53","v":0},{"$f":"算数得点!BK53","v":0},{"$f":"算数得点!BL53","v":0},null,null,null,null,{"$f":"IF(算数!$BB$9=算数!$BF$35,\"○\",\"\")","v":""},{"$f":"IF(算数!$BB$9=算数!$BF$36,\"○\",\"\")","v":""},{"$f":"IF(算数!$BB$9=算数!$BF$37,\"○\",\"\")","v":""},{"$f":"IF(算数!$BB$9=算数!$BF$38,\"○\",\"\")","v":""},{"$f":"IF(算数!$BB$9=算数!$BF$39,\"○\",\"\")","v":""},null,null,null,{"$f":"算数得点!AY$59*100","v":0},{"$f":"算数!BB$65*100","v":{"$error":"#DIV/0!"}},{"$error":"#DIV/0!"}]
["平均"]

{"sheet":"⑥算数の問題別無解答率","index":23,"n_rows":57,"n_cols":19,"rows_kept":57,"cut":false,"hidden":false,"merged":[[4,13,4,15],[4,3,5,3],[4,16,4,18],[4,0,5,0],[4,2,5,2],[4,4,4,7],[4,8,4,12],[4,1,5,1]]}
["⑥算数の問題別無解答率"]
[]
[null,null,"問題数",{"$f":"算数!AX1","v":25}]
["◆算数"]
["問題通し番号","問題\n番号","小問題","問題の領域","学習指導要領の領域等",null,null,null,"観点",null,null,null,null,"問題形式",null,null,"無解答率"]
[null,null,null,null,null,null,null,null,{"$f":"算数!BG35","v":"知識・技能"},{"$f":"算数!BG36","v":"思考・判断・表現"},{"$f":"算数!BG37","v":"-"},{"$f":"算数!BG38","v":"-"},{"$f":"算数!BG39","v":"-"},"選択式","短答式","記述式","富山県（ア）","自校（イ）","富山県との差（イ-ア)"]
[1,{"$f":"算数得点!BJ4","v":1},{"$f":"算数得点!BK4","v":"（１）"},{"$f":"算数得点!BL4","v":"数と計算"},null,null,null,null,{"$f":"IF(算数!$E$9=算数!$BF$35,\"○\",\"\")","v":"○"},{"$f":"IF(算数!$E$9=算数!$BF$36,\"○\",\"\")","v":""},{"$f":"IF(算数!$E$9=算数!$BF$37,\"○\",\"\")","v":""},{"$f":"IF(算数!$E$9=算数!$BF$38,\"○\",\"\")","v":""},{"$f":"IF(算数!$E$9=算数!$BF$39,\"○\",\"\")","v":""},null,null,null,{"$f":"算数得点!B$60*100","v":0},{"$f":"算数!E$66*100","v":{"$error":"#DIV/0!"}},{"$f":"IF($R7=\"\",\"\",$R7-$Q7)","v":{"$error":"#DIV/0!"}}]
[2,{"$f":"算数得点!BJ5","v":1},{"$f":"算数得点!BK5","v":"（２）"},{"$f":"算数得点!BL5","v":"数と計算"},null,null,null,null,{"$f":"IF(算数!$F$9=算数!$BF$35,\"○\",\"\")","v":"○"},{"$f":"IF(算数!$F$9=算数!$BF$36,\"○\",\"\")","v":""},{"$f":"IF(算数!$F$9=算数!$BF$37,\"○\",\"\")","v":""},{"$f":"IF(算数!$F$9=算数!$BF$38,\"○\",\"\")","v":""},{"$f":"IF(算数!$F$9=算数!$BF$39,\"○\",\"\")","v":""},null,null,null,{"$f":"算数得点!C$60*100","v":9.9999999999988987E-2},{"$f":"算数!F$66*100","v":{"$error":"#DIV/0!"}},{"$error":"#DIV/0!"}]
[3,{"$f":"算数得点!BJ6","v":1},{"$f":"算数得点!BK6","v":"（３）"},{"$f":"算数得点!BL6","v":"数と計算"},null,null,null,null,{"$f":"IF(算数!$G$9=算数!$BF$35,\"○\",\"\")","v":"○"},{"$f":"IF(算数!$G$9=算数!$BF$36,\"○\",\"\")","v":""},{"$f":"IF(算数!$G$9=算数!$BF$37,\"○\",\"\")","v":""},{"$f":"IF(算数!$G$9=算数!$BF$38,\"○\",\"\")","v":""},{"$f":"IF(算数!$G$9=算数!$BF$39,\"○\",\"\")","v":""},null,null,null,{"$f":"算数得点!D$60*100","v":4.4000000000000039},{"$f":"算数!G$66*100","v":{"$error":"#DIV/0!"}},{"$error":"#DIV/0!"}]
[4,{"$f":"算数得点!BJ7","v":1},{"$f":"算数得点!BK7","v":"（４）"},{"$f":"算数得点!BL7","v":"数と計算"},null,null,null,null,{"$f":"IF(算数!$H$9=算数!$BF$35,\"○\",\"\")","v":"○"},{"$f":"IF(算数!$H$9=算数!$BF$36,\"○\",\"\")","v":""},{"$f":"IF(算数!$H$9=算数!$BF$37,\"○\",\"\")","v":""},{"$f":"IF(算数!$H$9=算数!$BF$38,\"○\",\"\")","v":""},{"$f":"IF(算数!$H$9=算数!$BF$39,\"○\",\"\")","v":""},null,null,null,{"$f":"算数得点!E$60*100","v":3.3000000000000029},{"$f":"算数!H$66*100","v":{"$error":"#DIV/0!"}},{"$error":"#DIV/0!"}]
[5,{"$f":"算数得点!BJ8","v":1},{"$f":"算数得点!BK8","v":"（５）"},{"$f":"算数得点!BL8","v":"数と計算"},null,null,null,null,{"$f":"IF(算数!$I$9=算数!$BF$35,\"○\",\"\")","v":"○"},{"$f":"IF(算数!$I$9=算数!$BF$36,\"○\",\"\")","v":""},{"$f":"IF(算数!$I$9=算数!$BF$37,\"○\",\"\")","v":""},{"$f":"IF(算数!$I$9=算数!$BF$38,\"○\",\"\")","v":""},{"$f":"IF(算数!$I$9=算数!$BF$39,\"○\",\"\")","v":""},null,null,null,{"$f":"算数得点!F$60*100","v":6.7999999999999954},{"$f":"算数!I$66*100","v":{"$error":"#DIV/0!"}},{"$error":"#DIV/0!"}]
[6,{"$f":"算数得点!BJ9","v":2},{"$f":"算数得点!BK9","v":"（１）"},{"$f":"算数得点!BL9","v":"図形"},null,null,null,null,{"$f":"IF(算数!$J$9=算数!$BF$35,\"○\",\"\")","v":"○"},{"$f":"IF(算数!$J$9=算数!$BF$36,\"○\",\"\")","v":""},{"$f":"IF(算数!$J$9=算数!$BF$37,\"○\",\"\")","v":""},{"$f":"IF(算数!$J$9=算数!$BF$38,\"○\",\"\")","v":""},{"$f":"IF(算数!$J$9=算数!$BF$39,\"○\",\"\")","v":""},null,null,null,{"$f":"算数得点!G$60*100","v":2.8000000000000025},{"$f":"算数!J$66*100","v":{"$error":"#DIV/0!"}},{"$error":"#DIV/0!"}]
[7,{"$f":"算数得点!BJ10","v":2},{"$f":"算数得点!BK10","v":"（２）"},{"$f":"算数得点!BL10","v":"図形"},null,null,null,null,{"$f":"IF(算数!$K$9=算数!$BF$35,\"○\",\"\")","v":"○"},{"$f":"IF(算数!$K$9=算数!$BF$36,\"○\",\"\")","v":""},{"$f":"IF(算数!$K$9=算数!$BF$37,\"○\",\"\")","v":""},{"$f":"IF(算数!$K$9=算数!$BF$38,\"○\",\"\")","v":""},{"$f":"IF(算数!$K$9=算数!$BF$39,\"○\",\"\")","v":""},null,null,null,{"$f":"算数得点!H$60*100","v":2.7000000000000024},{"$f":"算数!K$66*100","v":{"$error":"#DIV/0!"}},{"$error":"#DIV/0!"}]
[8,{"$f":"算数得点!BJ11","v":3},{"$f":"算数得点!BK11","v":"（１）"},{"$f":"算数得点!BL11","v":"数と計算"},null,null,null,null,{"$f":"IF(算数!$L$9=算数!$BF$35,\"○\",\"\")","v":"○"},{"$f":"IF(算数!$L$9=算数!$BF$36,\"○\",\"\")","v":""},{"$f":"IF(算数!$L$9=算数!$BF$37,\"○\",\"\")","v":""},{"$f":"IF(算数!$L$9=算数!$BF$38,\"○\",\"\")","v":""},{"$f":"IF(算数!$L$9=算数!$BF$39,\"○\",\"\")","v":""},null,null,null,{"$f":"算数得点!I$60*100","v":7.399999999999995},{"$f":"算数!L$66*100","v":{"$error":"#DIV/0!"}},{"$error":"#DIV/0!"}]
[9,{"$f":"算数得点!BJ12","v":3},{"$f":"算数得点!BK12","v":"（２）"},{"$f":"算数得点!BL12","v":"数と計算"},null,null,null,null,{"$f":"IF(算数!$M$9=算数!$BF$35,\"○\",\"\")","v":"○"},{"$f":"IF(算数!$M$9=算数!$BF$36,\"○\",\"\")","v":""},{"$f":"IF(算数!$M$9=算数!$BF$37,\"○\",\"\")","v":""},{"$f":"IF(算数!$M$9=算数!$BF$38,\"○\",\"\")","v":""},{"$f":"IF(算数!$M$9=算数!$BF$39,\"○\",\"\")","v":""},null,null,null,{"$f":"算数得点!J$60*100","v":7.4999999999999956},{"$f":"算数!M$66*100","v":{"$error":"#DIV/0!"}},{"$error":"#DIV/0!"}]
[10,{"$f":"算数得点!BJ13","v":4},{"$f":"算数得点!BK13","v":0},{"$f":"算数得点!BL13","v":"変化と関係"},null,null,null,null,{"$f":"IF(算数!$N$9=算数!$BF$35,\"○\",\"\")","v":""},{"$f":"IF(算数!$N$9=算数!$BF$36,\"○\",\"\")","v":"○"},{"$f":"IF(算数!$N$9=算数!$BF$37,\"○\",\"\")","v":""},{"$f":"IF(算数!$N$9=算数!$BF$38,\"○\",\"\")","v":""},{"$f":"IF(算数!$N$9=算数!$BF$39,\"○\",\"\")","v":""},null,null,null,{"$f":"算数得点!K$60*100","v":2.0999999999999908},{"$f":"算数!N$66*100","v":{"$error":"#DIV/0!"}},{"$error":"#DIV/0!"}]
[11,{"$f":"算数得点!BJ14","v":5},{"$f":"算数得点!BK14","v":0},{"$f":"算数得点!BL14","v":"データの活用"},null,null,null,null,{"$f":"IF(算数!$O$9=算数!$BF$35,\"○\",\"\")","v":"○"},{"$f":"IF(算数!$O$9=算数!$BF$36,\"○\",\"\")","v":""},{"$f":"IF(算数!$O$9=算数!$BF$37,\"○\",\"\")","v":""},{"$f":"IF(算数!$O$9=算数!$BF$38,\"○\",\"\")","v":""},{"$f":"IF(算数!$O$9=算数!$BF$39,\"○\",\"\")","v":""},null,null,null,{"$f":"算数得点!L$60*100","v":3.7000000000000033},{"$f":"算数!O$66*100","v":{"$error":"#DIV/0!"}},{"$error":"#DIV/0!"}]
[12,{"$f":"算数得点!BJ15","v":6},{"$f":"算数得点!BK15","v":0},{"$f":"算数得点!BL15","v":"数と計算"},null,null,null,null,{"$f":"IF(算数!$P$9=算数!$BF$35,\"○\",\"\")","v":""},{"$f":"IF(算数!$P$9=算数!$BF$36,\"○\",\"\")","v":"○"},{"$f":"IF(算数!$P$9=算数!$BF$37,\"○\",\"\")","v":""},{"$f":"IF(算数!$P$9=算数!$BF$38,\"○\",\"\")","v":""},{"$f":"IF(算数!$P$9=算数!$BF$39,\"○\",\"\")","v":""},null,null,null,{"$f":"算数得点!M$60*100","v":10.099999999999998},{"$f":"算数!P$66*100","v":{"$error":"#DIV/0!"}},{"$error":"#DIV/0!"}]
[13,{"$f":"算数得点!BJ16","v":7},{"$f":"算数得点!BK16","v":0},{"$f":"算数得点!BL16","v":"図形"},null,null,null,null,{"$f":"IF(算数!$Q$9=算数!$BF$35,\"○\",\"\")","v":"○"},{"$f":"IF(算数!$Q$9=算数!$BF$36,\"○\",\"\")","v":""},{"$f":"IF(算数!$Q$9=算数!$BF$37,\"○\",\"\")","v":""},{"$f":"IF(算数!$Q$9=算数!$BF$38,\"○\",\"\")","v":""},{"$f":"IF(算数!$Q$9=算数!$BF$39,\"○\",\"\")","v":""},null,null,null,{"$f":"算数得点!N$60*100","v":4.2999999999999927},{"$f":"算数!Q$66*100","v":{"$error":"#DIV/0!"}},{"$error":"#DIV/0!"}]
[14,{"$f":"算数得点!BJ17","v":8},{"$f":"算数得点!BK17","v":"（１）"},{"$f":"算数得点!BL17","v":"データの活用"},null,null,null,null,{"$f":"IF(算数!$R$9=算数!$BF$35,\"○\",\"\")","v":"○"},{"$f":"IF(算数!$R$9=算数!$BF$36,\"○\",\"\")","v":""},{"$f":"IF(算数!$R$9=算数!$BF$37,\"○\",\"\")","v":""},{"$f":"IF(算数!$R$9=算数!$BF$38,\"○\",\"\")","v":""},{"$f":"IF(算数!$R$9=算数!$BF$39,\"○\",\"\")","v":""},null,null,null,{"$f":"算数得点!O$60*100","v":1.0000000000000009},{"$f":"算数!R$66*100","v":{"$error":"#DIV/0!"}},{"$error":"#DIV/0!"}]
[15,{"$f":"算数得点!BJ18","v":8},{"$f":"算数得点!BK18","v":"（２）"},{"$f":"算数得点!BL18","v":"データの活用"},null,null,null,null,{"$f":"IF(算数!$S$9=算数!$BF$35,\"○\",\"\")","v":"○"},{"$f":"IF(算数!$S$9=算数!$BF$36,\"○\",\"\")","v":""},{"$f":"IF(算数!$S$9=算数!$BF$37,\"○\",\"\")","v":""},{"$f":"IF(算数!$S$9=算数!$BF$38,\"○\",\"\")","v":""},{"$f":"IF(算数!$S$9=算数!$BF$39,\"○\",\"\")","v":""},null,null,null,{"$f":"算数得点!P$60*100","v":6.4000000000000057},{"$f":"算数!S$66*100","v":{"$error":"#DIV/0!"}},{"$error":"#DIV/0!"}]
[16,{"$f":"算数得点!BJ19","v":9},{"$f":"算数得点!BK19","v":"（１）"},{"$f":"算数得点!BL19","v":"変化と関係"},null,null,null,null,{"$f":"IF(算数!$T$9=算数!$BF$35,\"○\",\"\")","v":"○"},{"$f":"IF(算数!$T$9=算数!$BF$36,\"○\",\"\")","v":""},{"$f":"IF(算数!$T$9=算数!$BF$37,\"○\",\"\")","v":""},{"$f":"IF(算数!$T$9=算数!$BF$38,\"○\",\"\")","v":""},{"$f":"IF(算数!$T$9=算数!$BF$39,\"○\",\"\")","v":""},null,null,null,{"$f":"算数得点!Q$60*100","v":1.100000000000001},{"$f":"算数!T$66*100","v":{"$error":"#DIV/0!"}},{"$error":"#DIV/0!"}]
[17,{"$f":"算数得点!BJ20","v":9},{"$f":"算数得点!BK20","v":"（２）"},{"$f":"算数得点!BL20","v":"変化と関係"},null,null,null,null,{"$f":"IF(算数!$U$9=算数!$BF$35,\"○\",\"\")","v":""},{"$f":"IF(算数!$U$9=算数!$BF$36,\"○\",\"\")","v":"○"},{"$f":"IF(算数!$U$9=算数!$BF$37,\"○\",\"\")","v":""},{"$f":"IF(算数!$U$9=算数!$BF$38,\"○\",\"\")","v":""},{"$f":"IF(算数!$U$9=算数!$BF$39,\"○\",\"\")","v":""},null,null,null,{"$f":"算数得点!R$60*100","v":10.400000000000009},{"$f":"算数!U$66*100","v":{"$error":"#DIV/0!"}},{"$error":"#DIV/0!"}]
[18,{"$f":"算数得点!BJ21","v":9},{"$f":"算数得点!BK21","v":"（３）"},{"$f":"算数得点!BL21","v":"変化と関係"},null,null,null,null,{"$f":"IF(算数!$V$9=算数!$BF$35,\"○\",\"\")","v":"○"},{"$f":"IF(算数!$V$9=算数!$BF$36,\"○\",\"\")","v":""},{"$f":"IF(算数!$V$9=算数!$BF$37,\"○\",\"\")","v":""},{"$f":"IF(算数!$V$9=算数!$BF$38,\"○\",\"\")","v":""},{"$f":"IF(算数!$V$9=算数!$BF$39,\"○\",\"\")","v":""},null,null,null,{"$f":"算数得点!S$60*100","v":3.499999999999992},{"$f":"算数!V$66*100","v":{"$error":"#DIV/0!"}},{"$error":"#DIV/0!"}]
[19,{"$f":"算数得点!BJ22","v":10},{"$f":"算数得点!BK22","v":"（１）"},{"$f":"算数得点!BL22","v":"変化と関係"},null,null,null,null,{"$f":"IF(算数!$W$9=算数!$BF$35,\"○\",\"\")","v":"○"},{"$f":"IF(算数!$W$9=算数!$BF$36,\"○\",\"\")","v":""},{"$f":"IF(算数!$W$9=算数!$BF$37,\"○\",\"\")","v":""},{"$f":"IF(算数!$W$9=算数!$BF$38,\"○\",\"\")","v":""},{"$f":"IF(算数!$W$9=算数!$BF$39,\"○\",\"\")","v":""},null,null,null,{"$f":"算数得点!T$60*100","v":1.4000000000000012},{"$f":"算数!W$66*100","v":{"$error":"#DIV/0!"}},{"$error":"#DIV/0!"}]
[20,{"$f":"算数得点!BJ23","v":10},{"$f":"算数得点!BK23","v":"（２）"},{"$f":"算数得点!BL23","v":"変化と関係"},null,null,null,null,{"$f":"IF(算数!$X$9=算数!$BF$35,\"○\",\"\")","v":"○"},{"$f":"IF(算数!$X$9=算数!$BF$36,\"○\",\"\")","v":""},{"$f":"IF(算数!$X$9=算数!$BF$37,\"○\",\"\")","v":""},{"$f":"IF(算数!$X$9=算数!$BF$38,\"○\",\"\")","v":""},{"$f":"IF(算数!$X$9=算数!$BF$39,\"○\",\"\")","v":""},null,null,null,{"$f":"算数得点!U$60*100","v":1.8000000000000016},{"$f":"算数!X$66*100","v":{"$error":"#DIV/0!"}},{"$error":"#DIV/0!"}]
[21,{"$f":"算数得点!BJ24","v":11},{"$f":"算数得点!BK24","v":0},{"$f":"算数得点!BL24","v":"数と計算"},null,null,null,null,{"$f":"IF(算数!$Y$9=算数!$BF$35,\"○\",\"\")","v":""},{"$f":"IF(算数!$Y$9=算数!$BF$36,\"○\",\"\")","v":"○"},{"$f":"IF(算数!$Y$9=算数!$BF$37,\"○\",\"\")","v":""},{"$f":"IF(算数!$Y$9=算数!$BF$38,\"○\",\"\")","v":""},{"$f":"IF(算数!$Y$9=算数!$BF$39,\"○\",\"\")","v":""},null,null,null,{"$f":"算数得点!V$60*100","v":5.4000000000000048},{"$f":"算数!Y$66*100","v":{"$error":"#DIV/0!"}},{"$error":"#DIV/0!"}]
[22,{"$f":"算数得点!BJ25","v":12},{"$f":"算数得点!BK25","v":0},{"$f":"算数得点!BL25","v":"図形"},null,null,null,null,{"$f":"IF(算数!$Z$9=算数!$BF$35,\"○\",\"\")","v":""},{"$f":"IF(算数!$Z$9=算数!$BF$36,\"○\",\"\")","v":"○"},{"$f":"IF(算数!$Z$9=算数!$BF$37,\"○\",\"\")","v":""},{"$f":"IF(算数!$Z$9=算数!$BF$38,\"○\",\"\")","v":""},{"$f":"IF(算数!$Z$9=算数!$BF$39,\"○\",\"\")","v":""},null,null,null,{"$f":"算数得点!W$60*100","v":1.6000000000000014},{"$f":"算数!Z$66*100","v":{"$error":"#DIV/0!"}},{"$error":"#DIV/0!"}]
[23,{"$f":"算数得点!BJ26","v":13},{"$f":"算数得点!BK26","v":"（１）"},{"$f":"算数得点!BL26","v":"数と計算"},null,null,null,null,{"$f":"IF(算数!$AA$9=算数!$BF$35,\"○\",\"\")","v":"○"},{"$f":"IF(算数!$AA$9=算数!$BF$36,\"○\",\"\")","v":""},{"$f":"IF(算数!$AA$9=算数!$BF$37,\"○\",\"\")","v":""},{"$f":"IF(算数!$AA$9=算数!$BF$38,\"○\",\"\")","v":""},{"$f":"IF(算数!$AA$9=算数!$BF$39,\"○\",\"\")","v":""},null,null,null,{"$f":"算数得点!X$60*100","v":3.9999999999999925},{"$f":"算数!AA$66*100","v":{"$error":"#DIV/0!"}},{"$error":"#DIV/0!"}]
[24,{"$f":"算数得点!BJ27","v":13},{"$f":"算数得点!BK27","v":"（２）"},{"$f":"算数得点!BL27","v":"変化と関係"},null,null,null,null,{"$f":"IF(算数!$AB$9=算数!$BF$35,\"○\",\"\")","v":""},{"$f":"IF(算数!$AB$9=算数!$BF$36,\"○\",\"\")","v":"○"},{"$f":"IF(算数!$AB$9=算数!$BF$37,\"○\",\"\")","v":""},{"$f":"IF(算数!$AB$9=算数!$BF$38,\"○\",\"\")","v":""},{"$f":"IF(算数!$AB$9=算数!$BF$39,\"○\",\"\")","v":""},null,null,null,{"$f":"算数得点!Y$60*100","v":6.2999999999999945},{"$f":"算数!AB$66*100","v":{"$error":"#DIV/0!"}},{"$error":"#DIV/0!"}]
[25,{"$f":"算数得点!BJ28","v":13},{"$f":"算数得点!BK28","v":"（２）"},{"$f":"算数得点!BL28","v":"変化と関係"},null,null,null,null,{"$f":"IF(算数!$AC$9=算数!$BF$35,\"○\",\"\")","v":""},{"$f":"IF(算数!$AC$9=算数!$BF$36,\"○\",\"\")","v":"○"},{"$f":"IF(算数!$AC$9=算数!$BF$37,\"○\",\"\")","v":""},{"$f":"IF(算数!$AC$9=算数!$BF$38,\"○\",\"\")","v":""},{"$f":"IF(算数!$AC$9=算数!$BF$39,\"○\",\"\")","v":""},null,null,null,{"$f":"算数得点!Z$60*100","v":5.9000000000000057},{"$f":"算数!AC$66*100","v":{"$error":"#DIV/0!"}},{"$error":"#DIV/0!"}]
[26,{"$f":"算数得点!BJ29","v":0},{"$f":"算数得点!BK29","v":0},{"$f":"算数得点!BL29","v":0},null,null,null,null,{"$f":"IF(算数!$AD$9=算数!$BF$35,\"○\",\"\")","v":""},{"$f":"IF(算数!$AD$9=算数!$BF$36,\"○\",\"\")","v":""},{"$f":"IF(算数!$AD$9=算数!$BF$37,\"○\",\"\")","v":""},{"$f":"IF(算数!$AD$9=算数!$BF$38,\"○\",\"\")","v":""},{"$f":"IF(算数!$AD$9=算数!$BF$39,\"○\",\"\")","v":""},null,null,null,{"$f":"算数得点!AA$60*100","v":0},{"$f":"算数!AD$66*100","v":{"$error":"#DIV/0!"}},{"$f":"IF($R32=\"\",\"\",$R32-$Q32)","v":{"$error":"#DIV/0!"}}]
[27,{"$f":"算数得点!BJ30","v":0},{"$f":"算数得点!BK30","v":0},{"$f":"算数得点!BL30","v":0},null,null,null,null,{"$f":"IF(算数!$AE$9=算数!$BF$35,\"○\",\"\")","v":""},{"$f":"IF(算数!$AE$9=算数!$BF$36,\"○\",\"\")","v":""},{"$f":"IF(算数!$AE$9=算数!$BF$37,\"○\",\"\")","v":""},{"$f":"IF(算数!$AE$9=算数!$BF$38,\"○\",\"\")","v":""},{"$f":"IF(算数!$AE$9=算数!$BF$39,\"○\",\"\")","v":""},null,null,null,{"$f":"算数得点!AB$60*100","v":0},{"$f":"算数!AE$66*100","v":{"$error":"#DIV/0!"}},{"$f":"IF($R33=\"\",\"\",$R33-$Q33)","v":{"$error":"#DIV/0!"}}]
[28,{"$f":"算数得点!BJ31","v":0},{"$f":"算数得点!BK31","v":0},{"$f":"算数得点!BL31","v":0},null,null,null,null,{"$f":"IF(算数!$AF$9=算数!$BF$35,\"○\",\"\")","v":""},{"$f":"IF(算数!$AF$9=算数!$BF$36,\"○\",\"\")","v":""},{"$f":"IF(算数!$AF$9=算数!$BF$37,\"○\",\"\")","v":""},{"$f":"IF(算数!$AF$9=算数!$BF$38,\"○\",\"\")","v":""},{"$f":"IF(算数!$AF$9=算数!$BF$39,\"○\",\"\")","v":""},null,null,null,{"$f":"算数得点!AC$60*100","v":0},{"$f":"算数!AF$66*100","v":{"$error":"#DIV/0!"}},{"$f":"IF($R34=\"\",\"\",$R34-$Q34)","v":{"$error":"#DIV/0!"}}]
[29,{"$f":"算数得点!BJ32","v":0},{"$f":"算数得点!BK32","v":0},{"$f":"算数得点!BL32","v":0},null,null,null,null,{"$f":"IF(算数!$AG$9=算数!$BF$35,\"○\",\"\")","v":""},{"$f":"IF(算数!$AG$9=算数!$BF$36,\"○\",\"\")","v":""},{"$f":"IF(算数!$AG$9=算数!$BF$37,\"○\",\"\")","v":""},{"$f":"IF(算数!$AG$9=算数!$BF$38,\"○\",\"\")","v":""},{"$f":"IF(算数!$AG$9=算数!$BF$39,\"○\",\"\")","v":""},null,null,null,{"$f":"算数得点!AD$60*100","v":0},{"$f":"算数!AG$66*100","v":{"$error":"#DIV/0!"}},{"$error":"#DIV/0!"}]
[30,{"$f":"算数得点!BJ33","v":0},{"$f":"算数得点!BK33","v":0},{"$f":"算数得点!BL33","v":0},null,null,null,null,{"$f":"IF(算数!$AH$9=算数!$BF$35,\"○\",\"\")","v":""},{"$f":"IF(算数!$AH$9=算数!$BF$36,\"○\",\"\")","v":""},{"$f":"IF(算数!$AH$9=算数!$BF$37,\"○\",\"\")","v":""},{"$f":"IF(算数!$AH$9=算数!$BF$38,\"○\",\"\")","v":""},{"$f":"IF(算数!$AH$9=算数!$BF$39,\"○\",\"\")","v":""},null,null,null,{"$f":"算数得点!AE$60*100","v":0},{"$f":"算数!AH$66*100","v":{"$error":"#DIV/0!"}},{"$error":"#DIV/0!"}]
[31,{"$f":"算数得点!BJ34","v":0},{"$f":"算数得点!BK34","v":0},{"$f":"算数得点!BL34","v":0},null,null,null,null,{"$f":"IF(算数!$AI$9=算数!$BF$35,\"○\",\"\")","v":""},{"$f":"IF(算数!$AI$9=算数!$BF$36,\"○\",\"\")","v":""},{"$f":"IF(算数!$AI$9=算数!$BF$37,\"○\",\"\")","v":""},{"$f":"IF(算数!$AI$9=算数!$BF$38,\"○\",\"\")","v":""},{"$f":"IF(算数!$AI$9=算数!$BF$39,\"○\",\"\")","v":""},null,null,null,{"$f":"算数得点!AF$60*100","v":0},{"$f":"算数!AI$66*100","v":{"$error":"#DIV/0!"}},{"$error":"#DIV/0!"}]
[32,{"$f":"算数得点!BJ35","v":0},{"$f":"算数得点!BK35","v":0},{"$f":"算数得点!BL35","v":0},null,null,null,null,{"$f":"IF(算数!$AJ$9=算数!$BF$35,\"○\",\"\")","v":""},{"$f":"IF(算数!$AJ$9=算数!$BF$36,\"○\",\"\")","v":""},{"$f":"IF(算数!$AJ$9=算数!$BF$37,\"○\",\"\")","v":""},{"$f":"IF(算数!$AJ$9=算数!$BF$38,\"○\",\"\")","v":""},{"$f":"IF(算数!$AJ$9=算数!$BF$39,\"○\",\"\")","v":""},null,null,null,{"$f":"算数得点!AG$60*100","v":0},{"$f":"算数!AJ$66*100","v":{"$error":"#DIV/0!"}},{"$error":"#DIV/0!"}]
[33,{"$f":"算数得点!BJ36","v":0},{"$f":"算数得点!BK36","v":0},{"$f":"算数得点!BL36","v":0},null,null,null,null,{"$f":"IF(算数!$AK$9=算数!$BF$35,\"○\",\"\")","v":""},{"$f":"IF(算数!$AK$9=算数!$BF$36,\"○\",\"\")","v":""},{"$f":"IF(算数!$AK$9=算数!$BF$37,\"○\",\"\")","v":""},{"$f":"IF(算数!$AK$9=算数!$BF$38,\"○\",\"\")","v":""},{"$f":"IF(算数!$AK$9=算数!$BF$39,\"○\",\"\")","v":""},null,null,null,{"$f":"算数得点!AH$60*100","v":0},{"$f":"算数!AK$66*100","v":{"$error":"#DIV/0!"}},{"$f":"IF($R39=\"\",\"\",$R39-$Q39)","v":{"$error":"#DIV/0!"}}]
[34,{"$f":"算数得点!BJ37","v":0},{"$f":"算数得点!BK37","v":0},{"$f":"算数得点!BL37","v":0},null,null,null,null,{"$f":"IF(算数!$AL$9=算数!$BF$35,\"○\",\"\")","v":""},{"$f":"IF(算数!$AL$9=算数!$BF$36,\"○\",\"\")","v":""},{"$f":"IF(算数!$AL$9=算数!$BF$37,\"○\",\"\")","v":""},{"$f":"IF(算数!$AL$9=算数!$BF$38,\"○\",\"\")","v":""},{"$f":"IF(算数!$AL$9=算数!$BF$39,\"○\",\"\")","v":""},null,null,null,{"$f":"算数得点!AI$60*100","v":0},{"$f":"算数!AL$66*100","v":{"$error":"#DIV/0!"}},{"$error":"#DIV/0!"}]
[35,{"$f":"算数得点!BJ38","v":0},{"$f":"算数得点!BK38","v":0},{"$f":"算数得点!BL38","v":0},null,null,null,null,{"$f":"IF(算数!$AM$9=算数!$BF$35,\"○\",\"\")","v":""},{"$f":"IF(算数!$AM$9=算数!$BF$36,\"○\",\"\")","v":""},{"$f":"IF(算数!$AM$9=算数!$BF$37,\"○\",\"\")","v":""},{"$f":"IF(算数!$AM$9=算数!$BF$38,\"○\",\"\")","v":""},{"$f":"IF(算数!$AM$9=算数!$BF$39,\"○\",\"\")","v":""},null,null,null,{"$f":"算数得点!AJ$60*100","v":0},{"$f":"算数!AM$66*100","v":{"$error":"#DIV/0!"}},{"$error":"#DIV/0!"}]
[36,{"$f":"算数得点!BJ39","v":0},{"$f":"算数得点!BK39","v":0},{"$f":"算数得点!BL39","v":0},null,null,null,null,{"$f":"IF(算数!$AN$9=算数!$BF$35,\"○\",\"\")","v":""},{"$f":"IF(算数!$AN$9=算数!$BF$36,\"○\",\"\")","v":""},{"$f":"IF(算数!$AN$9=算数!$BF$37,\"○\",\"\")","v":""},{"$f":"IF(算数!$AN$9=算数!$BF$38,\"○\",\"\")","v":""},{"$f":"IF(算数!$AN$9=算数!$BF$39,\"○\",\"\")","v":""},null,null,null,{"$f":"算数得点!AK$60*100","v":0},{"$f":"算数!AN$66*100","v":{"$error":"#DIV/0!"}},{"$error":"#DIV/0!"}]
[37,{"$f":"算数得点!BJ40","v":0},{"$f":"算数得点!BK40","v":0},{"$f":"算数得点!BL40","v":0},null,null,null,null,{"$f":"IF(算数!$AO$9=算数!$BF$35,\"○\",\"\")","v":""},{"$f":"IF(算数!$AO$9=算数!$BF$36,\"○\",\"\")","v":""},{"$f":"IF(算数!$AO$9=算数!$BF$37,\"○\",\"\")","v":""},{"$f":"IF(算数!$AO$9=算数!$BF$38,\"○\",\"\")","v":""},{"$f":"IF(算数!$AO$9=算数!$BF$39,\"○\",\"\")","v":""},null,null,null,{"$f":"算数得点!AL$60*100","v":0},{"$f":"算数!AO$66*100","v":{"$error":"#DIV/0!"}},{"$error":"#DIV/0!"}]
[38,{"$f":"算数得点!BJ41","v":0},{"$f":"算数得点!BK41","v":0},{"$f":"算数得点!BL41","v":0},null,null,null,null,{"$f":"IF(算数!$AP$9=算数!$BF$35,\"○\",\"\")","v":""},{"$f":"IF(算数!$AP$9=算数!$BF$36,\"○\",\"\")","v":""},{"$f":"IF(算数!$AP$9=算数!$BF$37,\"○\",\"\")","v":""},{"$f":"IF(算数!$AP$9=算数!$BF$38,\"○\",\"\")","v":""},{"$f":"IF(算数!$AP$9=算数!$BF$39,\"○\",\"\")","v":""},null,null,null,{"$f":"算数得点!AM$60*100","v":0},{"$f":"算数!AP$66*100","v":{"$error":"#DIV/0!"}},{"$error":"#DIV/0!"}]
[39,{"$f":"算数得点!BJ42","v":0},{"$f":"算数得点!BK42","v":0},{"$f":"算数得点!BL42","v":0},null,null,null,null,{"$f":"IF(算数!$AQ$9=算数!$BF$35,\"○\",\"\")","v":""},{"$f":"IF(算数!$AQ$9=算数!$BF$36,\"○\",\"\")","v":""},{"$f":"IF(算数!$AQ$9=算数!$BF$37,\"○\",\"\")","v":""},{"$f":"IF(算数!$AQ$9=算数!$BF$38,\"○\",\"\")","v":""},{"$f":"IF(算数!$AQ$9=算数!$BF$39,\"○\",\"\")","v":""},null,null,null,{"$f":"算数得点!AN$60*100","v":0},{"$f":"算数!AQ$66*100","v":{"$error":"#DIV/0!"}},{"$error":"#DIV/0!"}]
[40,{"$f":"算数得点!BJ43","v":0},{"$f":"算数得点!BK43","v":0},{"$f":"算数得点!BL43","v":0},null,null,null,null,{"$f":"IF(算数!$AR$9=算数!$BF$35,\"○\",\"\")","v":""},{"$f":"IF(算数!$AR$9=算数!$BF$36,\"○\",\"\")","v":""},{"$f":"IF(算数!$AR$9=算数!$BF$37,\"○\",\"\")","v":""},{"$f":"IF(算数!$AR$9=算数!$BF$38,\"○\",\"\")","v":""},{"$f":"IF(算数!$AR$9=算数!$BF$39,\"○\",\"\")","v":""},null,null,null,{"$f":"算数得点!AO$60*100","v":0},{"$f":"算数!AR$66*100","v":{"$error":"#DIV/0!"}},{"$error":"#DIV/0!"}]
[41,{"$f":"算数得点!BJ44","v":0},{"$f":"算数得点!BK44","v":0},{"$f":"算数得点!BL44","v":0},null,null,null,null,{"$f":"IF(算数!$AS$9=算数!$BF$35,\"○\",\"\")","v":""},{"$f":"IF(算数!$AS$9=算数!$BF$36,\"○\",\"\")","v":""},{"$f":"IF(算数!$AS$9=算数!$BF$37,\"○\",\"\")","v":""},{"$f":"IF(算数!$AS$9=算数!$BF$38,\"○\",\"\")","v":""},{"$f":"IF(算数!$AS$9=算数!$BF$39,\"○\",\"\")","v":""},null,null,null,{"$f":"算数得点!AP$60*100","v":0},{"$f":"算数!AS$66*100","v":{"$error":"#DIV/0!"}},{"$error":"#DIV/0!"}]
[42,{"$f":"算数得点!BJ45","v":0},{"$f":"算数得点!BK45","v":0},{"$f":"算数得点!BL45","v":0},null,null,null,null,{"$f":"IF(算数!$AT$9=算数!$BF$35,\"○\",\"\")","v":""},{"$f":"IF(算数!$AT$9=算数!$BF$36,\"○\",\"\")","v":""},{"$f":"IF(算数!$AT$9=算数!$BF$37,\"○\",\"\")","v":""},{"$f":"IF(算数!$AT$9=算数!$BF$38,\"○\",\"\")","v":""},{"$f":"IF(算数!$AT$9=算数!$BF$39,\"○\",\"\")","v":""},null,null,null,{"$f":"算数得点!AQ$60*100","v":0},{"$f":"算数!AT$66*100","v":{"$error":"#DIV/0!"}},{"$error":"#DIV/0!"}]
[43,{"$f":"算数得点!BJ46","v":0},{"$f":"算数得点!BK46","v":0},{"$f":"算数得点!BL46","v":0},null,null,null,null,{"$f":"IF(算数!$AU$9=算数!$BF$35,\"○\",\"\")","v":""},{"$f":"IF(算数!$AU$9=算数!$BF$36,\"○\",\"\")","v":""},{"$f":"IF(算数!$AU$9=算数!$BF$37,\"○\",\"\")","v":""},{"$f":"IF(算数!$AU$9=算数!$BF$38,\"○\",\"\")","v":""},{"$f":"IF(算数!$AU$9=算数!$BF$39,\"○\",\"\")","v":""},null,null,null,{"$f":"算数得点!AR$60*100","v":0},{"$f":"算数!AU$66*100","v":{"$error":"#DIV/0!"}},{"$error":"#DIV/0!"}]
[44,{"$f":"算数得点!BJ47","v":0},{"$f":"算数得点!BK47","v":0},{"$f":"算数得点!BL47","v":0},null,null,null,null,{"$f":"IF(算数!$AV$9=算数!$BF$35,\"○\",\"\")","v":""},{"$f":"IF(算数!$AV$9=算数!$BF$36,\"○\",\"\")","v":""},{"$f":"IF(算数!$AV$9=算数!$BF$37,\"○\",\"\")","v":""},{"$f":"IF(算数!$AV$9=算数!$BF$38,\"○\",\"\")","v":""},{"$f":"IF(算数!$AV$9=算数!$BF$39,\"○\",\"\")","v":""},null,null,null,{"$f":"算数得点!AS$60*100","v":0},{"$f":"算数!AV$66*100","v":{"$error":"#DIV/0!"}},{"$error":"#DIV/0!"}]
[45,{"$f":"算数得点!BJ48","v":0},{"$f":"算数得点!BK48","v":0},{"$f":"算数得点!BL48","v":0},null,null,null,null,{"$f":"IF(算数!$AW$9=算数!$BF$35,\"○\",\"\")","v":""},{"$f":"IF(算数!$AW$9=算数!$BF$36,\"○\",\"\")","v":""},{"$f":"IF(算数!$AW$9=算数!$BF$37,\"○\",\"\")","v":""},{"$f":"IF(算数!$AW$9=算数!$BF$38,\"○\",\"\")","v":""},{"$f":"IF(算数!$AW$9=算数!$BF$39,\"○\",\"\")","v":""},null,null,null,{"$f":"算数得点!AT$60*100","v":0},{"$f":"算数!AW$66*100","v":{"$error":"#DIV/0!"}},{"$error":"#DIV/0!"}]
[46,{"$f":"算数得点!BJ49","v":0},{"$f":"算数得点!BK49","v":0},{"$f":"算数得点!BL49","v":0},null,null,null,null,{"$f":"IF(算数!$AX$9=算数!$BF$35,\"○\",\"\")","v":""},{"$f":"IF(算数!$AX$9=算数!$BF$36,\"○\",\"\")","v":""},{"$f":"IF(算数!$AX$9=算数!$BF$37,\"○\",\"\")","v":""},{"$f":"IF(算数!$AX$9=算数!$BF$38,\"○\",\"\")","v":""},{"$f":"IF(算数!$AX$9=算数!$BF$39,\"○\",\"\")","v":""},null,null,null,{"$f":"算数得点!AU$60*100","v":0},{"$f":"算数!AX$66*100","v":{"$error":"#DIV/0!"}},{"$error":"#DIV/0!"}]
[47,{"$f":"算数得点!BJ50","v":0},{"$f":"算数得点!BK50","v":0},{"$f":"算数得点!BL50","v":0},null,null,null,null,{"$f":"IF(算数!$AY$9=算数!$BF$35,\"○\",\"\")","v":""},{"$f":"IF(算数!$AY$9=算数!$BF$36,\"○\",\"\")","v":""},{"$f":"IF(算数!$AY$9=算数!$BF$37,\"○\",\"\")","v":""},{"$f":"IF(算数!$AY$9=算数!$BF$38,\"○\",\"\")","v":""},{"$f":"IF(算数!$AY$9=算数!$BF$39,\"○\",\"\")","v":""},null,null,null,{"$f":"算数得点!AV$60*100","v":0},{"$f":"算数!AY$66*100","v":{"$error":"#DIV/0!"}},{"$error":"#DIV/0!"}]
[48,{"$f":"算数得点!BJ51","v":0},{"$f":"算数得点!BK51","v":0},{"$f":"算数得点!BL51","v":0},null,null,null,null,{"$f":"IF(算数!$AZ$9=算数!$BF$35,\"○\",\"\")","v":""},{"$f":"IF(算数!$AZ$9=算数!$BF$36,\"○\",\"\")","v":""},{"$f":"IF(算数!$AZ$9=算数!$BF$37,\"○\",\"\")","v":""},{"$f":"IF(算数!$AZ$9=算数!$BF$38,\"○\",\"\")","v":""},{"$f":"IF(算数!$AZ$9=算数!$BF$39,\"○\",\"\")","v":""},null,null,null,{"$f":"算数得点!AW$60*100","v":0},{"$f":"算数!AZ$66*100","v":{"$error":"#DIV/0!"}},{"$error":"#DIV/0!"}]
[49,{"$f":"算数得点!BJ52","v":0},{"$f":"算数得点!BK52","v":0},{"$f":"算数得点!BL52","v":0},null,null,null,null,{"$f":"IF(算数!$BA$9=算数!$BF$35,\"○\",\"\")","v":""},{"$f":"IF(算数!$BA$9=算数!$BF$36,\"○\",\"\")","v":""},{"$f":"IF(算数!$BA$9=算数!$BF$37,\"○\",\"\")","v":""},{"$f":"IF(算数!$BA$9=算数!$BF$38,\"○\",\"\")","v":""},{"$f":"IF(算数!$BA$9=算数!$BF$39,\"○\",\"\")","v":""},null,null,null,{"$f":"算数得点!AX$60*100","v":0},{"$f":"算数!BA$66*100","v":{"$error":"#DIV/0!"}},{"$error":"#DIV/0!"}]
[50,{"$f":"算数得点!BJ53","v":0},{"$f":"算数得点!BK53","v":0},{"$f":"算数得点!BL53","v":0},null,null,null,null,{"$f":"IF(算数!$BB$9=算数!$BF$35,\"○\",\"\")","v":""},{"$f":"IF(算数!$BB$9=算数!$BF$36,\"○\",\"\")","v":""},{"$f":"IF(算数!$BB$9=算数!$BF$37,\"○\",\"\")","v":""},{"$f":"IF(算数!$BB$9=算数!$BF$38,\"○\",\"\")","v":""},{"$f":"IF(算数!$BB$9=算数!$BF$39,\"○\",\"\")","v":""},null,null,null,{"$f":"算数得点!AY$60*100","v":0},{"$f":"算数!BB$66*100","v":{"$error":"#DIV/0!"}},{"$error":"#DIV/0!"}]
["平均"]

{"sheet":"⑦算数の平均点⑧算数の得点別分布","index":24,"n_rows":25,"n_cols":4,"rows_kept":25,"cut":false,"hidden":false,"merged":[[5,1,5,3]]}
["⑦算数の平均点⑧算数の得点別分布"]
[]
[]
[]
["◆算数"]
[null,"　　　　平均点"]
[null,"富山県（ア）","自校(イ)","県との差（イーア）"]
["算数",{"$f":"算数!BJ23","v":54.7},{"$f":"算数!BG23","v":{"$error":"#DIV/0!"}},{"$f":"C8-B8","v":{"$error":"#DIV/0!"}}]
[]
[]
[]
["◆算数"]
["得点分布","富山県％（ア）","自校％(イ)"," 県との差(イーア)"]
["0点",{"$f":"算数!BJ20","v":0.3},{"$f":"算数!BH20*100","v":{"$error":"#DIV/0!"}},{"$f":"IF($C14=\"\",\"\",$C14-$B14)","v":{"$error":"#DIV/0!"}}]
["１～９点",{"$f":"算数!BJ19","v":2.2000000000000002},{"$f":"算数!BH19*100","v":{"$error":"#DIV/0!"}},{"$f":"IF($C15=\"\",\"\",$C15-$B15)","v":{"$error":"#DIV/0!"}}]
["１０～１９点",{"$f":"算数!BJ18","v":5.2},{"$f":"算数!BH18*100","v":{"$error":"#DIV/0!"}},{"$error":"#DIV/0!"}]
["２０～２９点",{"$f":"算数!BJ17","v":10.9},{"$f":"算数!BH17*100","v":{"$error":"#DIV/0!"}},{"$error":"#DIV/0!"}]
["３０～３９点",{"$f":"算数!BJ16","v":8},{"$f":"算数!BH16*100","v":{"$error":"#DIV/0!"}},{"$error":"#DIV/0!"}]
["４０～４９点",{"$f":"算数!BJ15","v":16.5},{"$f":"算数!BH15*100","v":{"$error":"#DIV/0!"}},{"$error":"#DIV/0!"}]
["５０～５９点",{"$f":"算数!BJ14","v":10.7},{"$f":"算数!BH14*100","v":{"$error":"#DIV/0!"}},{"$error":"#DIV/0!"}]
["６０～６９点",{"$f":"算数!BJ13","v":14.4},{"$f":"算数!BH13*100","v":{"$error":"#DIV/0!"}},{"$error":"#DIV/0!"}]
["７０～７９点",{"$f":"算数!BJ12","v":11.9},{"$f":"算数!BH12*100","v":{"$error":"#DIV/0!"}},{"$error":"#DIV/0!"}]
["８０～８９点",{"$f":"算数!BJ11","v":13.5},{"$f":"算数!BH11*100","v":{"$error":"#DIV/0!"}},{"$error":"#DIV/0!"}]
["９０～９９点",{"$f":"算数!BJ10","v":5.4},{"$f":"算数!BH10*100","v":{"$error":"#DIV/0!"}},{"$error":"#DIV/0!"}]
["100点",{"$f":"算数!BJ9","v":0.9},{"$f":"算数!BH9*100","v":{"$error":"#DIV/0!"}},{"$error":"#DIV/0!"}]

{"sheet":"算数","index":25,"n_rows":76,"n_cols":62,"rows_kept":76,"cut":false,"hidden":false,"merged":[[6,61,7,61],[21,60,22,60],[0,49,0,53],[3,0,7,1],[3,2,3,3],[4,2,5,3],[6,2,6,3],[7,2,7,3],[0,11,0,17],[0,22,0,26],[0,27,0,31],[0,33,0,37],[0,38,0,42],[0,44,0,48],[18,0,18,1],[8,0,9,1],[8,54,9,54],[8,55,9,55],[10,0,10,1],[11,0,11,1],[12,0,12,1],[13,0,13,1],[14,0,14,1],[15,0,15,1],[16,0,16,1],[17,0,17,1],[30,0,30,1],[19,0,19,1],[20,0,20,1],[21,0,21,1],[22,0,22,1],[23,0,23,1],[24,0,24,1],[25,0,25,1],[26,0,26,1],[27,0,27,1],[28,0,28,1],[29,0,29,1],[42,0,42,1],[31,0,31,1],[32,0,32,1],[33,0,33,1],[34,0,34,1],[35,0,35,1],[36,0,36,1],[37,0,37,1],[38,0,38,1],[39,0,39,1],[40,0,40,1],[41,0,41,1],[54,0,54,1],[43,0,43,1],[44,0,44,1],[45,0,45,1],[46,0,46,1],[47,0,47,1],[48,0,48,1],[49,0,49,1],[50,0,50,1],[51,0,51,1],[52,0,52,1],[53,0,53,1],[70,5,70,7],[70,10,70,12],[70,15,70,17],[70,20,70,22],[70,25,70,27],[69,5,69,7],[69,10,69,12],[69,15,69,17],[69,20,69,22],[69,25,69,27],[75,20,75,22],[75,25,75,27],[72,15,72,17],[72,20,72,22],[72,25,72,27],[73,20,73,22],[73,25,73,27],[72,5,72,7],[72,10,72,12],[75,5,75,7],[75,10,75,12],[75,15,75,17],[73,5,73,7],[73,10,73,12],[73,15,73,17],[71,5,71,7],[71,10,71,12],[71,15,71,17],[71,20,71,22],[71,25,71,27],[34,58,34,59],[36,58,36,59],[37,58,37,59],[38,58,38,59],[35,58,35,59]]}
["６年算数（正誤）",null,null,null,null,null,null,null,"クラス名",null,null,{"$f":"[1]国語!$L$1","v":0},null,null,null,null,null,null,null,null,null,null,"受検者数",null,null,null,null,{"$f":"BG30","v":0},null,null,null,null,null,"配点合計",null,null,null,null,{"$f":"SUM(E10:BB10)","v":100},null,null,null,null,null,"問題数",null,null,null,null,{"$f":"COUNT(E10:BB10)","v":25}]
["※『男女』の欄には、男子「0」及び女子「1」を入力してください。"]
["※正答を「1」、誤答を「2」、無答を「3」で入力してください。"]
[null,null,"問題№",null,1,1,1,1,1,2,2,3,3,4,5,6,7,8,8,9,9,9,10,10,11,12,13,13,13]
[null,null,"小問№",null,"⑴","⑵","⑶","⑷","⑸","⑴","⑵","⑴","⑵",null,null,null,null,"⑴","⑵","⑴","⑵","⑶","⑴","⑵",null,null,"⑴","⑵","⑵"]
[]
[null,null,"◎…活用する力をみる問題\n★…経年比較問題\n※…複数学年共通問題",null,"※","★",null,null,null,null,null,null,null,null,null,null,null,null,null,null,null,null,null,null,"※","★","◎","◎","◎",null,null,null,null,null,null,null,null,null,null,null,null,null,null,null,null,null,null,null,null,null,null,null,null,null,null,null,null,null,null,null,null,"富山県の\n分布率％"]
[null,null,"通し番号",null,1,2,3,4,5,6,7,8,9,10,11,12,13,14,15,16,17,18,19,20,21,22,23,24,25,26,27,28,29,30,31,32,33,34,35,36,37,38,39,40,41,42,43,44,45,46,47,48,49,50,null,null,null,"得点分布","分布人数","分布率"]
["№",null,"男　  名","観点","知・技","知・技","知・技","知・技","知・技","知・技","知・技","知・技","知・技","思判表","知・技","思判表","知・技","知・技","知・技","知・技","思判表","知・技","知・技","知・技","思判表","思判表","知・技","思判表","思判表",null,null,null,null,null,null,null,null,null,null,null,null,null,null,null,null,null,null,null,null,null,null,null,null,null,"計算結果","正答数",null,100,{"$f":"COUNTIF(BC11:BC55,100)","v":0},{"$f":"BG9/BG$21","v":{"$error":"#DIV/0!"}},null,0.9]
[null,null,"女　  前","配点",4,4,4,4,4,4,4,4,4,4,4,4,4,4,4,4,4,4,4,4,4,4,4,4,4,null,null,null,null,null,null,null,null,null,null,null,null,null,null,null,null,null,null,null,null,null,null,null,null,null,null,null,null,"90～99",{"$f":"COUNTIF(BC11:BC55,99)+COUNTIF(BC11:BC55,98)+COUNTIF(BC11:BC55,97)+COUNTIF(BC11:BC55,96)+COUNTIF(BC11:BC55,95)+COUNTIF(BC11:BC55,94)+COUNTIF(BC11:BC55,93)+COUNTIF(BC11:BC55,92)+COUNTIF(BC11:BC55,91)+COUNTIF(BC11:BC55,90)","v":0},{"$f":"BG10/BG$21","v":{"$error":"#DIV/0!"}},null,5.4]
[1,null,null,null,null,null,null,null,null,null,null,null,null,null,null,null,null,null,null,null,null,null,null,null,null,null,null,null,null,null,null,null,null,null,null,null,null,null,null,null,null,null,null,null,null,null,null,null,null,null,null,null,null,null,{"$f":"[1]算数得点!AZ4","v":0},{"$f":"COUNTIF(E11:BB11,1)","v":0},null,"80～89",{"$f":"COUNTIF(BC11:BC55,89)+COUNTIF(BC11:BC55,88)+COUNTIF(BC11:BC55,87)+COUNTIF(BC11:BC55,86)+COUNTIF(BC11:BC55,85)+COUNTIF(BC11:BC55,84)+COUNTIF(BC11:BC55,83)+COUNTIF(BC11:BC55,82)+COUNTIF(BC11:BC55,81)+COUNTIF(BC11:BC55,80)","v":0},{"$error":"#DIV/0!"},null,13.5]
[2,null,null,null,null,null,null,null,null,null,null,null,null,null,null,null,null,null,null,null,null,null,null,null,null,null,null,null,null,null,null,null,null,null,null,null,null,null,null,null,null,null,null,null,null,null,null,null,null,null,null,null,null,null,{"$f":"[1]算数得点!AZ5","v":0},{"$f":"COUNTIF(E12:BB12,1)","v":0},null,"70～79",{"$f":"COUNTIF(BC11:BC55,79)+COUNTIF(BC11:BC55,78)+COUNTIF(BC11:BC55,77)+COUNTIF(BC11:BC55,76)+COUNTIF(BC11:BC55,75)+COUNTIF(BC11:BC55,74)+COUNTIF(BC11:BC55,73)+COUNTIF(BC11:BC55,72)+COUNTIF(BC11:BC55,71)+COUNTIF(BC11:BC55,70)","v":0},{"$error":"#DIV/0!"},null,11.9]
[3,null,null,null,null,null,null,null,null,null,null,null,null,null,null,null,null,null,null,null,null,null,null,null,null,null,null,null,null,null,null,null,null,null,null,null,null,null,null,null,null,null,null,null,null,null,null,null,null,null,null,null,null,null,{"$f":"[1]算数得点!AZ6","v":0},0,null,"60～69",{"$f":"COUNTIF(BC11:BC55,69)+COUNTIF(BC11:BC55,68)+COUNTIF(BC11:BC55,67)+COUNTIF(BC11:BC55,66)+COUNTIF(BC11:BC55,65)+COUNTIF(BC11:BC55,64)+COUNTIF(BC11:BC55,63)+COUNTIF(BC11:BC55,62)+COUNTIF(BC11:BC55,61)+COUNTIF(BC11:BC55,60)","v":0},{"$error":"#DIV/0!"},null,14.4]
[4,null,null,null,null,null,null,null,null,null,null,null,null,null,null,null,null,null,null,null,null,null,null,null,null,null,null,null,null,null,null,null,null,null,null,null,null,null,null,null,null,null,null,null,null,null,null,null,null,null,null,null,null,null,{"$f":"[1]算数得点!AZ7","v":0},0,null,"50～59",{"$f":"COUNTIF(BC11:BC55,59)+COUNTIF(BC11:BC55,58)+COUNTIF(BC11:BC55,57)+COUNTIF(BC11:BC55,56)+COUNTIF(BC11:BC55,55)+COUNTIF(BC11:BC55,54)+COUNTIF(BC11:BC55,53)+COUNTIF(BC11:BC55,52)+COUNTIF(BC11:BC55,51)+COUNTIF(BC11:BC55,50)","v":0},{"$error":"#DIV/0!"},null,10.7]
[5,null,null,null,null,null,null,null,null,null,null,null,null,null,null,null,null,null,null,null,null,null,null,null,null,null,null,null,null,null,null,null,null,null,null,null,null,null,null,null,null,null,null,null,null,null,null,null,null,null,null,null,null,null,{"$f":"[1]算数得点!AZ8","v":0},0,null,"40～49",{"$f":"COUNTIF(BC11:BC55,49)+COUNTIF(BC11:BC55,48)+COUNTIF(BC11:BC55,47)+COUNTIF(BC11:BC55,46)+COUNTIF(BC11:BC55,45)+COUNTIF(BC11:BC55,44)+COUNTIF(BC11:BC55,43)+COUNTIF(BC11:BC55,42)+COUNTIF(BC11:BC55,41)+COUNTIF(BC11:BC55,40)","v":0},{"$error":"#DIV/0!"},null,16.5]
[6,null,null,null,null,null,null,null,null,null,null,null,null,null,null,null,null,null,null,null,null,null,null,null,null,null,null,null,null,null,null,null,null,null,null,null,null,null,null,null,null,null,null,null,null,null,null,null,null,null,null,null,null,null,{"$f":"[1]算数得点!AZ9","v":0},0,null,"30～39",{"$f":"COUNTIF(BC11:BC55,39)+COUNTIF(BC11:BC55,38)+COUNTIF(BC11:BC55,37)+COUNTIF(BC11:BC55,36)+COUNTIF(BC11:BC55,35)+COUNTIF(BC11:BC55,34)+COUNTIF(BC11:BC55,33)+COUNTIF(BC11:BC55,32)+COUNTIF(BC11:BC55,31)+COUNTIF(BC11:BC55,30)","v":0},{"$error":"#DIV/0!"},null,8]
[7,null,null,null,null,null,null,null,null,null,null,null,null,null,null,null,null,null,null,null,null,null,null,null,null,null,null,null,null,null,null,null,null,null,null,null,null,null,null,null,null,null,null,null,null,null,null,null,null,null,null,null,null,null,{"$f":"[1]算数得点!AZ10","v":0},0,null,"20～29",{"$f":"COUNTIF(BC11:BC55,29)+COUNTIF(BC11:BC55,28)+COUNTIF(BC11:BC55,27)+COUNTIF(BC11:BC55,26)+COUNTIF(BC11:BC55,25)+COUNTIF(BC11:BC55,24)+COUNTIF(BC11:BC55,23)+COUNTIF(BC11:BC55,22)+COUNTIF(BC11:BC55,21)+COUNTIF(BC11:BC55,20)","v":0},{"$error":"#DIV/0!"},null,10.9]
[8,null,null,null,null,null,null,null,null,null,null,null,null,null,null,null,null,null,null,null,null,null,null,null,null,null,null,null,null,null,null,null,null,null,null,null,null,null,null,null,null,null,null,null,null,null,null,null,null,null,null,null,null,null,{"$f":"[1]算数得点!AZ11","v":0},0,null,"10～19",{"$f":"COUNTIF(BC11:BC55,19)+COUNTIF(BC11:BC55,18)+COUNTIF(BC11:BC55,17)+COUNTIF(BC11:BC55,16)+COUNTIF(BC11:BC55,15)+COUNTIF(BC11:BC55,14)+COUNTIF(BC11:BC55,13)+COUNTIF(BC11:BC55,12)+COUNTIF(BC11:BC55,11)+COUNTIF(BC11:BC55,10)","v":0},{"$error":"#DIV/0!"},null,5.2]
[9,null,null,null,null,null,null,null,null,null,null,null,null,null,null,null,null,null,null,null,null,null,null,null,null,null,null,null,null,null,null,null,null,null,null,null,null,null,null,null,null,null,null,null,null,null,null,null,null,null,null,null,null,null,{"$f":"[1]算数得点!AZ12","v":0},0,null,"1 ～ 9",{"$f":"COUNTIF(BC11:BC55,9)+COUNTIF(BC11:BC55,8)+COUNTIF(BC11:BC55,7)+COUNTIF(BC11:BC55,6)+COUNTIF(BC11:BC55,5)+COUNTIF(BC11:BC55,4)+COUNTIF(BC11:BC55,3)+COUNTIF(BC11:BC55,2)+COUNTIF(BC11:BC55,1)","v":0},{"$error":"#DIV/0!"},null,2.2000000000000002]
[10,null,null,null,null,null,null,null,null,null,null,null,null,null,null,null,null,null,null,null,null,null,null,null,null,null,null,null,null,null,null,null,null,null,null,null,null,null,null,null,null,null,null,null,null,null,null,null,null,null,null,null,null,null,{"$f":"[1]算数得点!AZ13","v":0},0,null,0,{"$f":"BG30-SUM(BG9:BG19)","v":0},{"$error":"#DIV/0!"},null,0.3]
[11,null,null,null,null,null,null,null,null,null,null,null,null,null,null,null,null,null,null,null,null,null,null,null,null,null,null,null,null,null,null,null,null,null,null,null,null,null,null,null,null,null,null,null,null,null,null,null,null,null,null,null,null,null,{"$f":"[1]算数得点!AZ14","v":0},0,null,"集計人数計",{"$f":"SUM(BG9:BG20)","v":0}]
[12,null,null,null,null,null,null,null,null,null,null,null,null,null,null,null,null,null,null,null,null,null,null,null,null,null,null,null,null,null,null,null,null,null,null,null,null,null,null,null,null,null,null,null,null,null,null,null,null,null,null,null,null,null,{"$f":"[1]算数得点!AZ15","v":0},0,null,"得点合計",{"$f":"SUM(BC11:BC55)","v":0},null,"富山県の\n平均点"]
[13,null,null,null,null,null,null,null,null,null,null,null,null,null,null,null,null,null,null,null,null,null,null,null,null,null,null,null,null,null,null,null,null,null,null,null,null,null,null,null,null,null,null,null,null,null,null,null,null,null,null,null,null,null,{"$f":"[1]算数得点!AZ16","v":0},0,null,"平均点",{"$f":"BG22/BG21","v":{"$error":"#DIV/0!"}},null,null,54.7]
[14,null,null,null,null,null,null,null,null,null,null,null,null,null,null,null,null,null,null,null,null,null,null,null,null,null,null,null,null,null,null,null,null,null,null,null,null,null,null,null,null,null,null,null,null,null,null,null,null,null,null,null,null,null,{"$f":"[1]算数得点!AZ17","v":0},0]
[15,null,null,null,null,null,null,null,null,null,null,null,null,null,null,null,null,null,null,null,null,null,null,null,null,null,null,null,null,null,null,null,null,null,null,null,null,null,null,null,null,null,null,null,null,null,null,null,null,null,null,null,null,null,{"$f":"[1]算数得点!AZ18","v":0},0]
[16,null,null,null,null,null,null,null,null,null,null,null,null,null,null,null,null,null,null,null,null,null,null,null,null,null,null,null,null,null,null,null,null,null,null,null,null,null,null,null,null,null,null,null,null,null,null,null,null,null,null,null,null,null,{"$f":"[1]算数得点!AZ19","v":0},0]
[17,null,null,null,null,null,null,null,null,null,null,null,null,null,null,null,null,null,null,null,null,null,null,null,null,null,null,null,null,null,null,null,null,null,null,null,null,null,null,null,null,null,null,null,null,null,null,null,null,null,null,null,null,null,{"$f":"[1]算数得点!AZ20","v":0},0,null,"男女別人数"]
[18,null,null,null,null,null,null,null,null,null,null,null,null,null,null,null,null,null,null,null,null,null,null,null,null,null,null,null,null,null,null,null,null,null,null,null,null,null,null,null,null,null,null,null,null,null,null,null,null,null,null,null,null,null,{"$f":"[1]算数得点!AZ21","v":0},0,null,"男　　子",{"$f":"COUNTIF(C11:C55,0)","v":0}]
[19,null,null,null,null,null,null,null,null,null,null,null,null,null,null,null,null,null,null,null,null,null,null,null,null,null,null,null,null,null,null,null,null,null,null,null,null,null,null,null,null,null,null,null,null,null,null,null,null,null,null,null,null,null,{"$f":"[1]算数得点!AZ22","v":0},0,null,"女　　子",{"$f":"COUNTIF(C11:C55,1)","v":0}]
[20,null,null,null,null,null,null,null,null,null,null,null,null,null,null,null,null,null,null,null,null,null,null,null,null,null,null,null,null,null,null,null,null,null,null,null,null,null,null,null,null,null,null,null,null,null,null,null,null,null,null,null,null,null,{"$f":"[1]算数得点!AZ23","v":0},0,null,"計",{"$f":"SUM(BG28:BG29)","v":0}]
[21,null,null,null,null,null,null,null,null,null,null,null,null,null,null,null,null,null,null,null,null,null,null,null,null,null,null,null,null,null,null,null,null,null,null,null,null,null,null,null,null,null,null,null,null,null,null,null,null,null,null,null,null,null,{"$f":"[1]算数得点!AZ24","v":0},0]
[22,null,null,null,null,null,null,null,null,null,null,null,null,null,null,null,null,null,null,null,null,null,null,null,null,null,null,null,null,null,null,null,null,null,null,null,null,null,null,null,null,null,null,null,null,null,null,null,null,null,null,null,null,null,{"$f":"[1]算数得点!AZ25","v":0},0]
[23,null,null,null,null,null,null,null,null,null,null,null,null,null,null,null,null,null,null,null,null,null,null,null,null,null,null,null,null,null,null,null,null,null,null,null,null,null,null,null,null,null,null,null,null,null,null,null,null,null,null,null,null,null,{"$f":"[1]算数得点!AZ26","v":0},0]
[24,null,null,null,null,null,null,null,null,null,null,null,null,null,null,null,null,null,null,null,null,null,null,null,null,null,null,null,null,null,null,null,null,null,null,null,null,null,null,null,null,null,null,null,null,null,null,null,null,null,null,null,null,null,{"$f":"[1]算数得点!AZ27","v":0},0,null,"観点別記号"]
[25,null,null,null,null,null,null,null,null,null,null,null,null,null,null,null,null,null,null,null,null,null,null,null,null,null,null,null,null,null,null,null,null,null,null,null,null,null,null,null,null,null,null,null,null,null,null,null,null,null,null,null,null,null,{"$f":"[1]算数得点!AZ28","v":0},0,null,"知・技","知識・技能"]
[26,null,null,null,null,null,null,null,null,null,null,null,null,null,null,null,null,null,null,null,null,null,null,null,null,null,null,null,null,null,null,null,null,null,null,null,null,null,null,null,null,null,null,null,null,null,null,null,null,null,null,null,null,null,{"$f":"[1]算数得点!AZ29","v":0},0,null,"思判表","思考・判断・表現"]
[27,null,null,null,null,null,null,null,null,null,null,null,null,null,null,null,null,null,null,null,null,null,null,null,null,null,null,null,null,null,null,null,null,null,null,null,null,null,null,null,null,null,null,null,null,null,null,null,null,null,null,null,null,null,{"$f":"[1]算数得点!AZ30","v":0},0,null,"-","-"]
[28,null,null,null,null,null,null,null,null,null,null,null,null,null,null,null,null,null,null,null,null,null,null,null,null,null,null,null,null,null,null,null,null,null,null,null,null,null,null,null,null,null,null,null,null,null,null,null,null,null,null,null,null,null,{"$f":"[1]算数得点!AZ31","v":0},0,null,"-","-"]
[29,null,null,null,null,null,null,null,null,null,null,null,null,null,null,null,null,null,null,null,null,null,null,null,null,null,null,null,null,null,null,null,null,null,null,null,null,null,null,null,null,null,null,null,null,null,null,null,null,null,null,null,null,null,{"$f":"[1]算数得点!AZ32","v":0},0,null,"-","-"]
[30,null,null,null,null,null,null,null,null,null,null,null,null,null,null,null,null,null,null,null,null,null,null,null,null,null,null,null,null,null,null,null,null,null,null,null,null,null,null,null,null,null,null,null,null,null,null,null,null,null,null,null,null,null,{"$f":"[1]算数得点!AZ33","v":0},0]
[31,null,null,null,null,null,null,null,null,null,null,null,null,null,null,null,null,null,null,null,null,null,null,null,null,null,null,null,null,null,null,null,null,null,null,null,null,null,null,null,null,null,null,null,null,null,null,null,null,null,null,null,null,null,{"$f":"[1]算数得点!AZ34","v":0},0,null,"観点数",{"$f":"SUMPRODUCT((BF35:BF39<>\"\")*1)-COUNTIF(BF35:BF39,\"-\")","v":2}]
[32,null,null,null,null,null,null,null,null,null,null,null,null,null,null,null,null,null,null,null,null,null,null,null,null,null,null,null,null,null,null,null,null,null,null,null,null,null,null,null,null,null,null,null,null,null,null,null,null,null,null,null,null,null,{"$f":"[1]算数得点!AZ35","v":0},0]
[33,null,null,null,null,null,null,null,null,null,null,null,null,null,null,null,null,null,null,null,null,null,null,null,null,null,null,null,null,null,null,null,null,null,null,null,null,null,null,null,null,null,null,null,null,null,null,null,null,null,null,null,null,null,{"$f":"[1]算数得点!AZ36","v":0},0]
[34,null,null,null,null,null,null,null,null,null,null,null,null,null,null,null,null,null,null,null,null,null,null,null,null,null,null,null,null,null,null,null,null,null,null,null,null,null,null,null,null,null,null,null,null,null,null,null,null,null,null,null,null,null,{"$f":"[1]算数得点!AZ37","v":0},0]
[35,null,null,null,null,null,null,null,null,null,null,null,null,null,null,null,null,null,null,null,null,null,null,null,null,null,null,null,null,null,null,null,null,null,null,null,null,null,null,null,null,null,null,null,null,null,null,null,null,null,null,null,null,null,{"$f":"[1]算数得点!AZ38","v":0},0]
[36,null,null,null,null,null,null,null,null,null,null,null,null,null,null,null,null,null,null,null,null,null,null,null,null,null,null,null,null,null,null,null,null,null,null,null,null,null,null,null,null,null,null,null,null,null,null,null,null,null,null,null,null,null,{"$f":"[1]算数得点!AZ39","v":0},0]
[37,null,null,null,null,null,null,null,null,null,null,null,null,null,null,null,null,null,null,null,null,null,null,null,null,null,null,null,null,null,null,null,null,null,null,null,null,null,null,null,null,null,null,null,null,null,null,null,null,null,null,null,null,null,{"$f":"[1]算数得点!AZ40","v":0},0]
[38,null,null,null,null,null,null,null,null,null,null,null,null,null,null,null,null,null,null,null,null,null,null,null,null,null,null,null,null,null,null,null,null,null,null,null,null,null,null,null,null,null,null,null,null,null,null,null,null,null,null,null,null,null,{"$f":"[1]算数得点!AZ41","v":0},0]
[39,null,null,null,null,null,null,null,null,null,null,null,null,null,null,null,null,null,null,null,null,null,null,null,null,null,null,null,null,null,null,null,null,null,null,null,null,null,null,null,null,null,null,null,null,null,null,null,null,null,null,null,null,null,{"$f":"[1]算数得点!AZ42","v":0},0]
[40,null,null,null,null,null,null,null,null,null,null,null,null,null,null,null,null,null,null,null,null,null,null,null,null,null,null,null,null,null,null,null,null,null,null,null,null,null,null,null,null,null,null,null,null,null,null,null,null,null,null,null,null,null,{"$f":"[1]算数得点!AZ43","v":0},0]
[41,null,null,null,null,null,null,null,null,null,null,null,null,null,null,null,null,null,null,null,null,null,null,null,null,null,null,null,null,null,null,null,null,null,null,null,null,null,null,null,null,null,null,null,null,null,null,null,null,null,null,null,null,null,{"$f":"[1]算数得点!AZ44","v":0},0]
[42,null,null,null,null,null,null,null,null,null,null,null,null,null,null,null,null,null,null,null,null,null,null,null,null,null,null,null,null,null,null,null,null,null,null,null,null,null,null,null,null,null,null,null,null,null,null,null,null,null,null,null,null,null,{"$f":"[1]算数得点!AZ45","v":0},0]
[43,null,null,null,null,null,null,null,null,null,null,null,null,null,null,null,null,null,null,null,null,null,null,null,null,null,null,null,null,null,null,null,null,null,null,null,null,null,null,null,null,null,null,null,null,null,null,null,null,null,null,null,null,null,{"$f":"[1]算数得点!AZ46","v":0},0]
[44,null,null,null,null,null,null,null,null,null,null,null,null,null,null,null,null,null,null,null,null,null,null,null,null,null,null,null,null,null,null,null,null,null,null,null,null,null,null,null,null,null,null,null,null,null,null,null,null,null,null,null,null,null,{"$f":"[1]算数得点!AZ47","v":0},0]
[45,null,null,null,null,null,null,null,null,null,null,null,null,null,null,null,null,null,null,null,null,null,null,null,null,null,null,null,null,null,null,null,null,null,null,null,null,null,null,null,null,null,null,null,null,null,null,null,null,null,null,null,null,null,{"$f":"[1]算数得点!AZ48","v":0},0]
[]
[null,null,"数",null,1,2,3,4,5,6,7,8,9,10,11,12,13,14,15,16,17,18,19,20,21,22,23,24,25,26,27,28,29,30,31,32,33,34,35,36,37,38,39,40,41,42,43,44,45,46,47,48,49,50]
[null,null,"正答",null,{"$f":"COUNTIF(E11:E55,1)","v":0},{"$f":"COUNTIF(F11:F55,1)","v":0},0,0,0,0,0,0,0,0,0,0,0,0,0,0,0,0,0,0,0,0,0,0,0,0,0,0,0,0,0,0,0,0,0,0,0,0,0,0,0,0,0,0,0,0,0,0,0,0]
[null,null,"誤答",null,{"$f":"COUNTIF(E11:E55,2)","v":0},{"$f":"COUNTIF(F11:F55,2)","v":0},0,0,0,0,0,0,0,0,0,0,0,0,0,0,0,0,0,0,0,0,0,0,0,0,0,0,0,0,0,0,0,0,0,0,0,0,0,0,0,0,0,0,0,0,0,0,0,0]
[null,null,"無答",null,{"$f":"COUNTIF(E11:E55,3)","v":0},{"$f":"COUNTIF(F11:F55,3)","v":0},0,0,0,0,0,0,0,0,0,0,0,0,0,0,0,0,0,0,0,0,0,0,0,0,0,0,0,0,0,0,0,0,0,0,0,0,0,0,0,0,0,0,0,0,0,0,0,0]
[null,null,"合計",null,{"$f":"SUM(E58:E60)","v":0},{"$f":"SUM(F58:F60)","v":0},0,0,0,0,0,0,0,0,0,0,0,0,0,0,0,0,0,0,0,0,0,0,0,0,0,0,0,0,0,0,0,0,0,0,0,0,0,0,0,0,0,0,0,0,0,0,0,0]
[]
[null,null,"割合",null,{"$f":"E57","v":1},2,3,4,5,6,7,8,9,10,11,12,13,14,15,16,17,18,19,20,21,22,23,24,25,26,27,28,29,30,31,32,33,34,35,36,37,38,39,40,41,42,43,44,45,46,47,48,49,50]
[null,null,{"$f":"C58","v":"正答"},null,{"$f":"E58/E61","v":{"$error":"#DIV/0!"}},{"$error":"#DIV/0!"},{"$error":"#DIV/0!"},{"$error":"#DIV/0!"},{"$error":"#DIV/0!"},{"$error":"#DIV/0!"},{"$error":"#DIV/0!"},{"$error":"#DIV/0!"},{"$error":"#DIV/0!"},{"$error":"#DIV/0!"},{"$error":"#DIV/0!"},{"$error":"#DIV/0!"},{"$error":"#DIV/0!"},{"$error":"#DIV/0!"},{"$error":"#DIV/0!"},{"$error":"#DIV/0!"},{"$error":"#DIV/0!"},{"$error":"#DIV/0!"},{"$error":"#DIV/0!"},{"$error":"#DIV/0!"},{"$error":"#DIV/0!"},{"$error":"#DIV/0!"},{"$error":"#DIV/0!"},{"$error":"#DIV/0!"},{"$error":"#DIV/0!"},{"$error":"#DIV/0!"},{"$error":"#DIV/0!"},{"$error":"#DIV/0!"},{"$error":"#DIV/0!"},{"$error":"#DIV/0!"},{"$error":"#DIV/0!"},{"$error":"#DIV/0!"},{"$error":"#DIV/0!"},{"$error":"#DIV/0!"},{"$error":"#DIV/0!"},{"$error":"#DIV/0!"},{"$error":"#DIV/0!"},{"$error":"#DIV/0!"},{"$error":"#DIV/0!"},{"$error":"#DIV/0!"},{"$error":"#DIV/0!"},{"$error":"#DIV/0!"},{"$error":"#DIV/0!"},{"$error":"#DIV/0!"},{"$error":"#DIV/0!"},{"$error":"#DIV/0!"},{"$error":"#DIV/0!"},{"$error":"#DIV/0!"},{"$error":"#DIV/0!"},{"$error":"#DIV/0!"}]
[null,null,{"$f":"C59","v":"誤答"},null,{"$f":"E59/E61","v":{"$error":"#DIV/0!"}},{"$error":"#DIV/0!"},{"$error":"#DIV/0!"},{"$error":"#DIV/0!"},{"$error":"#DIV/0!"},{"$error":"#DIV/0!"},{"$error":"#DIV/0!"},{"$error":"#DIV/0!"},{"$error":"#DIV/0!"},{"$error":"#DIV/0!"},{"$error":"#DIV/0!"},{"$error":"#DIV/0!"},{"$error":"#DIV/0!"},{"$error":"#DIV/0!"},{"$error":"#DIV/0!"},{"$error":"#DIV/0!"},{"$error":"#DIV/0!"},{"$error":"#DIV/0!"},{"$error":"#DIV/0!"},{"$error":"#DIV/0!"},{"$error":"#DIV/0!"},{"$error":"#DIV/0!"},{"$error":"#DIV/0!"},{"$error":"#DIV/0!"},{"$error":"#DIV/0!"},{"$error":"#DIV/0!"},{"$error":"#DIV/0!"},{"$error":"#DIV/0!"},{"$error":"#DIV/0!"},{"$error":"#DIV/0!"},{"$error":"#DIV/0!"},{"$error":"#DIV/0!"},{"$error":"#DIV/0!"},{"$error":"#DIV/0!"},{"$error":"#DIV/0!"},{"$error":"#DIV/0!"},{"$error":"#DIV/0!"},{"$error":"#DIV/0!"},{"$error":"#DIV/0!"},{"$error":"#DIV/0!"},{"$error":"#DIV/0!"},{"$error":"#DIV/0!"},{"$error":"#DIV/0!"},{"$error":"#DIV/0!"},{"$error":"#DIV/0!"},{"$error":"#DIV/0!"},{"$error":"#DIV/0!"},{"$error":"#DIV/0!"},{"$error":"#DIV/0!"},{"$error":"#DIV/0!"}]
[null,null,{"$f":"C60","v":"無答"},null,{"$f":"E60/E61","v":{"$error":"#DIV/0!"}},{"$error":"#DIV/0!"},{"$error":"#DIV/0!"},{"$error":"#DIV/0!"},{"$error":"#DIV/0!"},{"$error":"#DIV/0!"},{"$error":"#DIV/0!"},{"$error":"#DIV/0!"},{"$error":"#DIV/0!"},{"$error":"#DIV/0!"},{"$error":"#DIV/0!"},{"$error":"#DIV/0!"},{"$error":"#DIV/0!"},{"$error":"#DIV/0!"},{"$error":"#DIV/0!"},{"$error":"#DIV/0!"},{"$error":"#DIV/0!"},{"$error":"#DIV/0!"},{"$error":"#DIV/0!"},{"$error":"#DIV/0!"},{"$error":"#DIV/0!"},{"$error":"#DIV/0!"},{"$error":"#DIV/0!"},{"$error":"#DIV/0!"},{"$error":"#DIV/0!"},{"$error":"#DIV/0!"},{"$error":"#DIV/0!"},{"$error":"#DIV/0!"},{"$error":"#DIV/0!"},{"$error":"#DIV/0!"},{"$error":"#DIV/0!"},{"$error":"#DIV/0!"},{"$error":"#DIV/0!"},{"$error":"#DIV/0!"},{"$error":"#DIV/0!"},{"$error":"#DIV/0!"},{"$error":"#DIV/0!"},{"$error":"#DIV/0!"},{"$error":"#DIV/0!"},{"$error":"#DIV/0!"},{"$error":"#DIV/0!"},{"$error":"#DIV/0!"},{"$error":"#DIV/0!"},{"$error":"#DIV/0!"},{"$error":"#DIV/0!"},{"$error":"#DIV/0!"},{"$error":"#DIV/0!"},{"$error":"#DIV/0!"},{"$error":"#DIV/0!"},{"$error":"#DIV/0!"}]
[null,null,{"$f":"C61","v":"合計"},null,{"$f":"SUM(E64:E66)","v":{"$error":"#DIV/0!"}},{"$error":"#DIV/0!"},{"$error":"#DIV/0!"},{"$error":"#DIV/0!"},{"$error":"#DIV/0!"},{"$error":"#DIV/0!"},{"$error":"#DIV/0!"},{"$error":"#DIV/0!"},{"$error":"#DIV/0!"},{"$error":"#DIV/0!"},{"$error":"#DIV/0!"},{"$error":"#DIV/0!"},{"$error":"#DIV/0!"},{"$error":"#DIV/0!"},{"$error":"#DIV/0!"},{"$error":"#DIV/0!"},{"$error":"#DIV/0!"},{"$error":"#DIV/0!"},{"$error":"#DIV/0!"},{"$error":"#DIV/0!"},{"$error":"#DIV/0!"},{"$error":"#DIV/0!"},{"$error":"#DIV/0!"},{"$error":"#DIV/0!"},{"$error":"#DIV/0!"},{"$error":"#DIV/0!"},{"$error":"#DIV/0!"},{"$error":"#DIV/0!"},{"$error":"#DIV/0!"},{"$error":"#DIV/0!"},{"$error":"#DIV/0!"},{"$error":"#DIV/0!"},{"$error":"#DIV/0!"},{"$error":"#DIV/0!"},{"$error":"#DIV/0!"},{"$error":"#DIV/0!"},{"$error":"#DIV/0!"},{"$error":"#DIV/0!"},{"$error":"#DIV/0!"},{"$error":"#DIV/0!"},{"$error":"#DIV/0!"},{"$error":"#DIV/0!"},{"$error":"#DIV/0!"},{"$error":"#DIV/0!"},{"$error":"#DIV/0!"},{"$error":"#DIV/0!"},{"$error":"#DIV/0!"},{"$error":"#DIV/0!"},{"$error":"#DIV/0!"},{"$error":"#DIV/0!"}]
[]
[null,null,"観点別集計"]
[null,null,null,null,null,{"$f":"BF35","v":"知・技"},null,null,null,null,{"$f":"BF36","v":"思判表"},null,null,null,null,{"$f":"BF37","v":"-"},null,null,null,null,{"$f":"BF38","v":"-"},null,null,null,null,{"$f":"BF39","v":"-"}]
[null,null,"正答",null,null,{"$f":"[1]算数得点!BB64","v":{"$error":"#DIV/0!"}},null,null,null,null,{"$f":"[1]算数得点!BB65","v":{"$error":"#DIV/0!"}},null,null,null,null,{"$f":"[1]算数得点!BB66","v":{"$error":"#DIV/0!"}},null,null,null,null,{"$f":"[1]算数得点!BB67","v":{"$error":"#DIV/0!"}},null,null,null,null,{"$f":"[1]算数得点!BB68","v":{"$error":"#DIV/0!"}}]
[null,null,"誤答",null,null,{"$f":"[1]算数得点!BB71","v":{"$error":"#DIV/0!"}},null,null,null,null,{"$f":"[1]算数得点!BB72","v":{"$error":"#DIV/0!"}},null,null,null,null,{"$f":"[1]算数得点!BB73","v":{"$error":"#DIV/0!"}},null,null,null,null,{"$f":"[1]算数得点!BB74","v":{"$error":"#DIV/0!"}},null,null,null,null,{"$f":"[1]算数得点!BB75","v":{"$error":"#DIV/0!"}}]
[null,null,"無答",null,null,{"$f":"[1]算数得点!BB78","v":{"$error":"#DIV/0!"}},null,null,null,null,{"$f":"[1]算数得点!BB79","v":{"$error":"#DIV/0!"}},null,null,null,null,{"$f":"[1]算数得点!BB80","v":{"$error":"#DIV/0!"}},null,null,null,null,{"$f":"[1]算数得点!BB81","v":{"$error":"#DIV/0!"}},null,null,null,null,{"$f":"[1]算数得点!BB82","v":{"$error":"#DIV/0!"}}]
[null,null,"合計",null,null,{"$f":"SUM(F71:H73)","v":{"$error":"#DIV/0!"}},null,null,null,null,{"$f":"SUM(K71:M73)","v":{"$error":"#DIV/0!"}},null,null,null,null,{"$f":"SUM(P71:R73)","v":{"$error":"#DIV/0!"}},null,null,null,null,{"$f":"SUM(U71:W73)","v":{"$error":"#DIV/0!"}},null,null,null,null,{"$f":"SUM(Z71:AB73)","v":{"$error":"#DIV/0!"}}]
[]
[null,null,"富山県平均正答率％",null,null,{"$f":"[1]算数得点!BB85","v":0.59244444444444444},null,null,null,null,{"$f":"[1]算数得点!BB86","v":0.43085714285714288},null,null,null,null,{"$f":"[1]算数得点!BB87","v":{"$error":"#DIV/0!"}},null,null,null,null,{"$f":"[1]算数得点!BB88","v":{"$error":"#DIV/0!"}},null,null,null,null,{"$f":"[1]算数得点!BB89","v":{"$error":"#DIV/0!"}}]

{"sheet":"算数得点","index":26,"n_rows":82,"n_cols":64,"rows_kept":82,"cut":false,"hidden":false,"merged":[[1,62,2,62],[1,63,2,63],[0,6,0,10],[0,11,0,13],[1,54,1,55],[1,57,1,58],[1,60,2,60],[1,61,2,61]]}
["算数（得点）",null,null,null,null,null,"受検者数",null,null,null,null,{"$f":"[1]算数!$AB$1","v":0}]
["№",1,2,3,4,5,6,7,8,9,10,11,12,13,14,15,16,17,18,19,20,21,22,23,24,25,26,27,28,29,30,31,32,33,34,35,36,37,38,39,40,41,42,43,44,45,46,47,48,49,50,"得点",null,null,"正答数別の児童数(人)",null,null,"富山県正答数％",null,null,"通し\n番号","問題\n番号","小問\n番号","問題の領域"]
["観点",{"$f":"[1]算数!E9","v":"知・技"},{"$f":"[1]算数!F9","v":"知・技"},{"$f":"[1]算数!G9","v":"知・技"},{"$f":"[1]算数!H9","v":"知・技"},{"$f":"[1]算数!I9","v":"知・技"},{"$f":"[1]算数!J9","v":"知・技"},{"$f":"[1]算数!K9","v":"知・技"},{"$f":"[1]算数!L9","v":"知・技"},{"$f":"[1]算数!M9","v":"知・技"},{"$f":"[1]算数!N9","v":"思判表"},{"$f":"[1]算数!O9","v":"知・技"},{"$f":"[1]算数!P9","v":"思判表"},{"$f":"[1]算数!Q9","v":"知・技"},{"$f":"[1]算数!R9","v":"知・技"},{"$f":"[1]算数!S9","v":"知・技"},{"$f":"[1]算数!T9","v":"知・技"},{"$f":"[1]算数!U9","v":"思判表"},{"$f":"[1]算数!V9","v":"知・技"},{"$f":"[1]算数!W9","v":"知・技"},{"$f":"[1]算数!X9","v":"知・技"},{"$f":"[1]算数!Y9","v":"思判表"},{"$f":"[1]算数!Z9","v":"思判表"},{"$f":"[1]算数!AA9","v":"知・技"},{"$f":"[1]算数!AB9","v":"思判表"},{"$f":"[1]算数!AC9","v":"思判表"},{"$f":"[1]算数!AD9","v":0},{"$f":"[1]算数!AE9","v":0},{"$f":"[1]算数!AF9","v":0},{"$f":"[1]算数!AG9","v":0},{"$f":"[1]算数!AH9","v":0},{"$f":"[1]算数!AI9","v":0},{"$f":"[1]算数!AJ9","v":0},{"$f":"[1]算数!AK9","v":0},{"$f":"[1]算数!AL9","v":0},{"$f":"[1]算数!AM9","v":0},{"$f":"[1]算数!AN9","v":0},{"$f":"[1]算数!AO9","v":0},{"$f":"[1]算数!AP9","v":0},{"$f":"[1]算数!AQ9","v":0},{"$f":"[1]算数!AR9","v":0},{"$f":"[1]算数!AS9","v":0},{"$f":"[1]算数!AT9","v":0},{"$f":"[1]算数!AU9","v":0},{"$f":"[1]算数!AV9","v":0},{"$f":"[1]算数!AW9","v":0},{"$f":"[1]算数!AX9","v":0},{"$f":"[1]算数!AY9","v":0},{"$f":"[1]算数!AZ9","v":0},{"$f":"[1]算数!BA9","v":0},{"$f":"[1]算数!BB9","v":0},null,null,null,"0問",null,null,"0問"]
[1,{"$f":"COUNTIF([1]算数!E11,1)*[1]算数!$E$10","v":0},{"$f":"COUNTIF([1]算数!F11,1)*[1]算数!$F$10","v":0},{"$f":"COUNTIF([1]算数!G11,1)*[1]算数!$G$10","v":0},{"$f":"COUNTIF([1]算数!H11,1)*[1]算数!$H$10","v":0},{"$f":"COUNTIF([1]算数!I11,1)*[1]算数!$I$10","v":0},{"$f":"COUNTIF([1]算数!J11,1)*[1]算数!$J$10","v":0},{"$f":"COUNTIF([1]算数!K11,1)*[1]算数!$K$10","v":0},{"$f":"COUNTIF([1]算数!L11,1)*[1]算数!$L$10","v":0},{"$f":"COUNTIF([1]算数!M11,1)*[1]算数!$M$10","v":0},{"$f":"COUNTIF([1]算数!N11,1)*[1]算数!$N$10","v":0},{"$f":"COUNTIF([1]算数!O11,1)*[1]算数!$O$10","v":0},{"$f":"COUNTIF([1]算数!P11,1)*[1]算数!$K$10","v":0},{"$f":"COUNTIF([1]算数!Q11,1)*[1]算数!$K$10","v":0},{"$f":"COUNTIF([1]算数!R11,1)*[1]算数!$R$10","v":0},{"$f":"COUNTIF([1]算数!S11,1)*[1]算数!$S$10","v":0},{"$f":"COUNTIF([1]算数!T11,1)*[1]算数!$T$10","v":0},{"$f":"COUNTIF([1]算数!U11,1)*[1]算数!$U$10","v":0},{"$f":"COUNTIF([1]算数!V11,1)*[1]算数!$V$10","v":0},{"$f":"COUNTIF([1]算数!W11,1)*[1]算数!$W$10","v":0},{"$f":"COUNTIF([1]算数!X11,1)*[1]算数!$X$10","v":0},{"$f":"COUNTIF([1]算数!Y11,1)*[1]算数!$Y$10","v":0},{"$f":"COUNTIF([1]算数!Z11,1)*[1]算数!$Z$10","v":0},{"$f":"COUNTIF([1]算数!AA11,1)*[1]算数!$AA$10","v":0},{"$f":"COUNTIF([1]算数!AB11,1)*[1]算数!$AB$10","v":0},{"$f":"COUNTIF([1]算数!AC11,1)*[1]算数!$AC$10","v":0},{"$f":"COUNTIF([1]算数!AD11,1)*[1]算数!$AD$10","v":0},{"$f":"COUNTIF([1]算数!AE11,1)*[1]算数!$AE$10","v":0},{"$f":"COUNTIF([1]算数!AF11,1)*[1]算数!$AF$10","v":0},{"$f":"COUNTIF([1]算数!AG11,1)*[1]算数!$AG$10","v":0},{"$f":"COUNTIF([1]算数!AH11,1)*[1]算数!$AH$10","v":0},{"$f":"COUNTIF([1]算数!AI11,1)*[1]算数!$AI$10","v":0},{"$f":"COUNTIF([1]算数!AJ11,1)*[1]算数!$AJ$10","v":0},{"$f":"COUNTIF([1]算数!AK11,1)*[1]算数!$AK$10","v":0},{"$f":"COUNTIF([1]算数!AL11,1)*[1]算数!$AL$10","v":0},{"$f":"COUNTIF([1]算数!AM11,1)*[1]算数!$AM$10","v":0},{"$f":"COUNTIF([1]算数!AN11,1)*[1]算数!$AN$10","v":0},{"$f":"COUNTIF([1]算数!AO11,1)*[1]算数!$AO$10","v":0},{"$f":"COUNTIF([1]算数!AP11,1)*[1]算数!$AP$10","v":0},{"$f":"COUNTIF([1]算数!AQ11,1)*[1]算数!$AQ$10","v":0},{"$f":"COUNTIF([1]算数!AR11,1)*[1]算数!$AR$10","v":0},{"$f":"COUNTIF([1]算数!AS11,1)*[1]算数!$AS$10","v":0},{"$f":"COUNTIF([1]算数!AT11,1)*[1]算数!$AT$10","v":0},{"$f":"COUNTIF([1]算数!AU11,1)*[1]算数!$AU$10","v":0},{"$f":"COUNTIF([1]算数!AV11,1)*[1]算数!$AV$10","v":0},{"$f":"COUNTIF([1]算数!AW11,1)*[1]算数!$AW$10","v":0},{"$f":"COUNTIF([1]算数!AX11,1)*[1]算数!$AX$10","v":0},{"$f":"COUNTIF([1]算数!AY11,1)*[1]算数!$AY$10","v":0},{"$f":"COUNTIF([1]算数!AZ11,1)*[1]算数!$AZ$10","v":0},{"$f":"COUNTIF([1]算数!BA11,1)*[1]算数!$BA$10","v":0},{"$f":"COUNTIF([1]算数!BB11,1)*[1]算数!$BB$10","v":0},{"$f":"SUM(B4:AY4)","v":0},null,null,"1問",{"$f":"[1]算数!E58","v":0},null,"1問",93.7,null,1,1,"（１）","数と計算"]
[2,{"$f":"COUNTIF([1]算数!E12,1)*[1]算数!$E$10","v":0},{"$f":"COUNTIF([1]算数!F12,1)*[1]算数!$F$10","v":0},{"$f":"COUNTIF([1]算数!G12,1)*[1]算数!$G$10","v":0},{"$f":"COUNTIF([1]算数!H12,1)*[1]算数!$H$10","v":0},{"$f":"COUNTIF([1]算数!I12,1)*[1]算数!$I$10","v":0},{"$f":"COUNTIF([1]算数!J12,1)*[1]算数!$J$10","v":0},{"$f":"COUNTIF([1]算数!K12,1)*[1]算数!$K$10","v":0},{"$f":"COUNTIF([1]算数!L12,1)*[1]算数!$L$10","v":0},{"$f":"COUNTIF([1]算数!M12,1)*[1]算数!$M$10","v":0},{"$f":"COUNTIF([1]算数!N12,1)*[1]算数!$N$10","v":0},{"$f":"COUNTIF([1]算数!O12,1)*[1]算数!$O$10","v":0},{"$f":"COUNTIF([1]算数!P12,1)*[1]算数!$K$10","v":0},{"$f":"COUNTIF([1]算数!Q12,1)*[1]算数!$K$10","v":0},{"$f":"COUNTIF([1]算数!R12,1)*[1]算数!$R$10","v":0},{"$f":"COUNTIF([1]算数!S12,1)*[1]算数!$S$10","v":0},{"$f":"COUNTIF([1]算数!T12,1)*[1]算数!$T$10","v":0},{"$f":"COUNTIF([1]算数!U12,1)*[1]算数!$U$10","v":0},{"$f":"COUNTIF([1]算数!V12,1)*[1]算数!$V$10","v":0},{"$f":"COUNTIF([1]算数!W12,1)*[1]算数!$W$10","v":0},{"$f":"COUNTIF([1]算数!X12,1)*[1]算数!$X$10","v":0},{"$f":"COUNTIF([1]算数!Y12,1)*[1]算数!$Y$10","v":0},{"$f":"COUNTIF([1]算数!Z12,1)*[1]算数!$Z$10","v":0},{"$f":"COUNTIF([1]算数!AA12,1)*[1]算数!$AA$10","v":0},{"$f":"COUNTIF([1]算数!AB12,1)*[1]算数!$AB$10","v":0},{"$f":"COUNTIF([1]算数!AC12,1)*[1]算数!$AC$10","v":0},{"$f":"COUNTIF([1]算数!AD12,1)*[1]算数!$AD$10","v":0},{"$f":"COUNTIF([1]算数!AE12,1)*[1]算数!$AE$10","v":0},{"$f":"COUNTIF([1]算数!AF12,1)*[1]算数!$AF$10","v":0},{"$f":"COUNTIF([1]算数!AG12,1)*[1]算数!$AG$10","v":0},{"$f":"COUNTIF([1]算数!AH12,1)*[1]算数!$AH$10","v":0},{"$f":"COUNTIF([1]算数!AI12,1)*[1]算数!$AI$10","v":0},{"$f":"COUNTIF([1]算数!AJ12,1)*[1]算数!$AJ$10","v":0},{"$f":"COUNTIF([1]算数!AK12,1)*[1]算数!$AK$10","v":0},{"$f":"COUNTIF([1]算数!AL12,1)*[1]算数!$AL$10","v":0},{"$f":"COUNTIF([1]算数!AM12,1)*[1]算数!$AM$10","v":0},{"$f":"COUNTIF([1]算数!AN12,1)*[1]算数!$AN$10","v":0},{"$f":"COUNTIF([1]算数!AO12,1)*[1]算数!$AO$10","v":0},{"$f":"COUNTIF([1]算数!AP12,1)*[1]算数!$AP$10","v":0},{"$f":"COUNTIF([1]算数!AQ12,1)*[1]算数!$AQ$10","v":0},{"$f":"COUNTIF([1]算数!AR12,1)*[1]算数!$AR$10","v":0},{"$f":"COUNTIF([1]算数!AS12,1)*[1]算数!$AS$10","v":0},{"$f":"COUNTIF([1]算数!AT12,1)*[1]算数!$AT$10","v":0},{"$f":"COUNTIF([1]算数!AU12,1)*[1]算数!$AU$10","v":0},{"$f":"COUNTIF([1]算数!AV12,1)*[1]算数!$AV$10","v":0},{"$f":"COUNTIF([1]算数!AW12,1)*[1]算数!$AW$10","v":0},{"$f":"COUNTIF([1]算数!AX12,1)*[1]算数!$AX$10","v":0},{"$f":"COUNTIF([1]算数!AY12,1)*[1]算数!$AY$10","v":0},{"$f":"COUNTIF([1]算数!AZ12,1)*[1]算数!$AZ$10","v":0},{"$f":"COUNTIF([1]算数!BA12,1)*[1]算数!$BA$10","v":0},{"$f":"COUNTIF([1]算数!BB12,1)*[1]算数!$BB$10","v":0},{"$f":"SUM(B5:AY5)","v":0},null,null,"2問",{"$f":"[1]算数!F58","v":0},null,"2問",55.7,null,2,1,"（２）","数と計算"]
[3,{"$f":"COUNTIF([1]算数!E13,1)*[1]算数!$E$10","v":0},{"$f":"COUNTIF([1]算数!F13,1)*[1]算数!$F$10","v":0},{"$f":"COUNTIF([1]算数!G13,1)*[1]算数!$G$10","v":0},{"$f":"COUNTIF([1]算数!H13,1)*[1]算数!$H$10","v":0},{"$f":"COUNTIF([1]算数!I13,1)*[1]算数!$I$10","v":0},{"$f":"COUNTIF([1]算数!J13,1)*[1]算数!$J$10","v":0},{"$f":"COUNTIF([1]算数!K13,1)*[1]算数!$K$10","v":0},{"$f":"COUNTIF([1]算数!L13,1)*[1]算数!$L$10","v":0},{"$f":"COUNTIF([1]算数!M13,1)*[1]算数!$M$10","v":0},{"$f":"COUNTIF([1]算数!N13,1)*[1]算数!$N$10","v":0},{"$f":"COUNTIF([1]算数!O13,1)*[1]算数!$O$10","v":0},{"$f":"COUNTIF([1]算数!P13,1)*[1]算数!$K$10","v":0},{"$f":"COUNTIF([1]算数!Q13,1)*[1]算数!$K$10","v":0},{"$f":"COUNTIF([1]算数!R13,1)*[1]算数!$R$10","v":0},{"$f":"COUNTIF([1]算数!S13,1)*[1]算数!$S$10","v":0},{"$f":"COUNTIF([1]算数!T13,1)*[1]算数!$T$10","v":0},{"$f":"COUNTIF([1]算数!U13,1)*[1]算数!$U$10","v":0},{"$f":"COUNTIF([1]算数!V13,1)*[1]算数!$V$10","v":0},{"$f":"COUNTIF([1]算数!W13,1)*[1]算数!$W$10","v":0},{"$f":"COUNTIF([1]算数!X13,1)*[1]算数!$X$10","v":0},{"$f":"COUNTIF([1]算数!Y13,1)*[1]算数!$Y$10","v":0},{"$f":"COUNTIF([1]算数!Z13,1)*[1]算数!$Z$10","v":0},{"$f":"COUNTIF([1]算数!AA13,1)*[1]算数!$AA$10","v":0},{"$f":"COUNTIF([1]算数!AB13,1)*[1]算数!$AB$10","v":0},{"$f":"COUNTIF([1]算数!AC13,1)*[1]算数!$AC$10","v":0},{"$f":"COUNTIF([1]算数!AD13,1)*[1]算数!$AD$10","v":0},{"$f":"COUNTIF([1]算数!AE13,1)*[1]算数!$AE$10","v":0},{"$f":"COUNTIF([1]算数!AF13,1)*[1]算数!$AF$10","v":0},{"$f":"COUNTIF([1]算数!AG13,1)*[1]算数!$AG$10","v":0},{"$f":"COUNTIF([1]算数!AH13,1)*[1]算数!$AH$10","v":0},{"$f":"COUNTIF([1]算数!AI13,1)*[1]算数!$AI$10","v":0},{"$f":"COUNTIF([1]算数!AJ13,1)*[1]算数!$AJ$10","v":0},{"$f":"COUNTIF([1]算数!AK13,1)*[1]算数!$AK$10","v":0},{"$f":"COUNTIF([1]算数!AL13,1)*[1]算数!$AL$10","v":0},{"$f":"COUNTIF([1]算数!AM13,1)*[1]算数!$AM$10","v":0},{"$f":"COUNTIF([1]算数!AN13,1)*[1]算数!$AN$10","v":0},{"$f":"COUNTIF([1]算数!AO13,1)*[1]算数!$AO$10","v":0},{"$f":"COUNTIF([1]算数!AP13,1)*[1]算数!$AP$10","v":0},{"$f":"COUNTIF([1]算数!AQ13,1)*[1]算数!$AQ$10","v":0},{"$f":"COUNTIF([1]算数!AR13,1)*[1]算数!$AR$10","v":0},{"$f":"COUNTIF([1]算数!AS13,1)*[1]算数!$AS$10","v":0},{"$f":"COUNTIF([1]算数!AT13,1)*[1]算数!$AT$10","v":0},{"$f":"COUNTIF([1]算数!AU13,1)*[1]算数!$AU$10","v":0},{"$f":"COUNTIF([1]算数!AV13,1)*[1]算数!$AV$10","v":0},{"$f":"COUNTIF([1]算数!AW13,1)*[1]算数!$AW$10","v":0},{"$f":"COUNTIF([1]算数!AX13,1)*[1]算数!$AX$10","v":0},{"$f":"COUNTIF([1]算数!AY13,1)*[1]算数!$AY$10","v":0},{"$f":"COUNTIF([1]算数!AZ13,1)*[1]算数!$AZ$10","v":0},{"$f":"COUNTIF([1]算数!BA13,1)*[1]算数!$BA$10","v":0},{"$f":"COUNTIF([1]算数!BB13,1)*[1]算数!$BB$10","v":0},0,null,null,"3問",{"$f":"[1]算数!G58","v":0},null,"3問",65.100000000000009,null,3,1,"（３）","数と計算"]
[4,{"$f":"COUNTIF([1]算数!E14,1)*[1]算数!$E$10","v":0},{"$f":"COUNTIF([1]算数!F14,1)*[1]算数!$F$10","v":0},{"$f":"COUNTIF([1]算数!G14,1)*[1]算数!$G$10","v":0},{"$f":"COUNTIF([1]算数!H14,1)*[1]算数!$H$10","v":0},{"$f":"COUNTIF([1]算数!I14,1)*[1]算数!$I$10","v":0},{"$f":"COUNTIF([1]算数!J14,1)*[1]算数!$J$10","v":0},{"$f":"COUNTIF([1]算数!K14,1)*[1]算数!$K$10","v":0},{"$f":"COUNTIF([1]算数!L14,1)*[1]算数!$L$10","v":0},{"$f":"COUNTIF([1]算数!M14,1)*[1]算数!$M$10","v":0},{"$f":"COUNTIF([1]算数!N14,1)*[1]算数!$N$10","v":0},{"$f":"COUNTIF([1]算数!O14,1)*[1]算数!$O$10","v":0},{"$f":"COUNTIF([1]算数!P14,1)*[1]算数!$K$10","v":0},{"$f":"COUNTIF([1]算数!Q14,1)*[1]算数!$K$10","v":0},{"$f":"COUNTIF([1]算数!R14,1)*[1]算数!$R$10","v":0},{"$f":"COUNTIF([1]算数!S14,1)*[1]算数!$S$10","v":0},{"$f":"COUNTIF([1]算数!T14,1)*[1]算数!$T$10","v":0},{"$f":"COUNTIF([1]算数!U14,1)*[1]算数!$U$10","v":0},{"$f":"COUNTIF([1]算数!V14,1)*[1]算数!$V$10","v":0},{"$f":"COUNTIF([1]算数!W14,1)*[1]算数!$W$10","v":0},{"$f":"COUNTIF([1]算数!X14,1)*[1]算数!$X$10","v":0},{"$f":"COUNTIF([1]算数!Y14,1)*[1]算数!$Y$10","v":0},{"$f":"COUNTIF([1]算数!Z14,1)*[1]算数!$Z$10","v":0},{"$f":"COUNTIF([1]算数!AA14,1)*[1]算数!$AA$10","v":0},{"$f":"COUNTIF([1]算数!AB14,1)*[1]算数!$AB$10","v":0},{"$f":"COUNTIF([1]算数!AC14,1)*[1]算数!$AC$10","v":0},{"$f":"COUNTIF([1]算数!AD14,1)*[1]算数!$AD$10","v":0},{"$f":"COUNTIF([1]算数!AE14,1)*[1]算数!$AE$10","v":0},{"$f":"COUNTIF([1]算数!AF14,1)*[1]算数!$AF$10","v":0},{"$f":"COUNTIF([1]算数!AG14,1)*[1]算数!$AG$10","v":0},{"$f":"COUNTIF([1]算数!AH14,1)*[1]算数!$AH$10","v":0},{"$f":"COUNTIF([1]算数!AI14,1)*[1]算数!$AI$10","v":0},{"$f":"COUNTIF([1]算数!AJ14,1)*[1]算数!$AJ$10","v":0},{"$f":"COUNTIF([1]算数!AK14,1)*[1]算数!$AK$10","v":0},{"$f":"COUNTIF([1]算数!AL14,1)*[1]算数!$AL$10","v":0},{"$f":"COUNTIF([1]算数!AM14,1)*[1]算数!$AM$10","v":0},{"$f":"COUNTIF([1]算数!AN14,1)*[1]算数!$AN$10","v":0},{"$f":"COUNTIF([1]算数!AO14,1)*[1]算数!$AO$10","v":0},{"$f":"COUNTIF([1]算数!AP14,1)*[1]算数!$AP$10","v":0},{"$f":"COUNTIF([1]算数!AQ14,1)*[1]算数!$AQ$10","v":0},{"$f":"COUNTIF([1]算数!AR14,1)*[1]算数!$AR$10","v":0},{"$f":"COUNTIF([1]算数!AS14,1)*[1]算数!$AS$10","v":0},{"$f":"COUNTIF([1]算数!AT14,1)*[1]算数!$AT$10","v":0},{"$f":"COUNTIF([1]算数!AU14,1)*[1]算数!$AU$10","v":0},{"$f":"COUNTIF([1]算数!AV14,1)*[1]算数!$AV$10","v":0},{"$f":"COUNTIF([1]算数!AW14,1)*[1]算数!$AW$10","v":0},{"$f":"COUNTIF([1]算数!AX14,1)*[1]算数!$AX$10","v":0},{"$f":"COUNTIF([1]算数!AY14,1)*[1]算数!$AY$10","v":0},{"$f":"COUNTIF([1]算数!AZ14,1)*[1]算数!$AZ$10","v":0},{"$f":"COUNTIF([1]算数!BA14,1)*[1]算数!$BA$10","v":0},{"$f":"COUNTIF([1]算数!BB14,1)*[1]算数!$BB$10","v":0},0,null,null,"4問",{"$f":"[1]算数!H58","v":0},null,"4問",47.699999999999996,null,4,1,"（４）","数と計算"]
[5,{"$f":"COUNTIF([1]算数!E15,1)*[1]算数!$E$10","v":0},{"$f":"COUNTIF([1]算数!F15,1)*[1]算数!$F$10","v":0},{"$f":"COUNTIF([1]算数!G15,1)*[1]算数!$G$10","v":0},{"$f":"COUNTIF([1]算数!H15,1)*[1]算数!$H$10","v":0},{"$f":"COUNTIF([1]算数!I15,1)*[1]算数!$I$10","v":0},{"$f":"COUNTIF([1]算数!J15,1)*[1]算数!$J$10","v":0},{"$f":"COUNTIF([1]算数!K15,1)*[1]算数!$K$10","v":0},{"$f":"COUNTIF([1]算数!L15,1)*[1]算数!$L$10","v":0},{"$f":"COUNTIF([1]算数!M15,1)*[1]算数!$M$10","v":0},{"$f":"COUNTIF([1]算数!N15,1)*[1]算数!$N$10","v":0},{"$f":"COUNTIF([1]算数!O15,1)*[1]算数!$O$10","v":0},{"$f":"COUNTIF([1]算数!P15,1)*[1]算数!$K$10","v":0},{"$f":"COUNTIF([1]算数!Q15,1)*[1]算数!$K$10","v":0},{"$f":"COUNTIF([1]算数!R15,1)*[1]算数!$R$10","v":0},{"$f":"COUNTIF([1]算数!S15,1)*[1]算数!$S$10","v":0},{"$f":"COUNTIF([1]算数!T15,1)*[1]算数!$T$10","v":0},{"$f":"COUNTIF([1]算数!U15,1)*[1]算数!$U$10","v":0},{"$f":"COUNTIF([1]算数!V15,1)*[1]算数!$V$10","v":0},{"$f":"COUNTIF([1]算数!W15,1)*[1]算数!$W$10","v":0},{"$f":"COUNTIF([1]算数!X15,1)*[1]算数!$X$10","v":0},{"$f":"COUNTIF([1]算数!Y15,1)*[1]算数!$Y$10","v":0},{"$f":"COUNTIF([1]算数!Z15,1)*[1]算数!$Z$10","v":0},{"$f":"COUNTIF([1]算数!AA15,1)*[1]算数!$AA$10","v":0},{"$f":"COUNTIF([1]算数!AB15,1)*[1]算数!$AB$10","v":0},{"$f":"COUNTIF([1]算数!AC15,1)*[1]算数!$AC$10","v":0},{"$f":"COUNTIF([1]算数!AD15,1)*[1]算数!$AD$10","v":0},{"$f":"COUNTIF([1]算数!AE15,1)*[1]算数!$AE$10","v":0},{"$f":"COUNTIF([1]算数!AF15,1)*[1]算数!$AF$10","v":0},{"$f":"COUNTIF([1]算数!AG15,1)*[1]算数!$AG$10","v":0},{"$f":"COUNTIF([1]算数!AH15,1)*[1]算数!$AH$10","v":0},{"$f":"COUNTIF([1]算数!AI15,1)*[1]算数!$AI$10","v":0},{"$f":"COUNTIF([1]算数!AJ15,1)*[1]算数!$AJ$10","v":0},{"$f":"COUNTIF([1]算数!AK15,1)*[1]算数!$AK$10","v":0},{"$f":"COUNTIF([1]算数!AL15,1)*[1]算数!$AL$10","v":0},{"$f":"COUNTIF([1]算数!AM15,1)*[1]算数!$AM$10","v":0},{"$f":"COUNTIF([1]算数!AN15,1)*[1]算数!$AN$10","v":0},{"$f":"COUNTIF([1]算数!AO15,1)*[1]算数!$AO$10","v":0},{"$f":"COUNTIF([1]算数!AP15,1)*[1]算数!$AP$10","v":0},{"$f":"COUNTIF([1]算数!AQ15,1)*[1]算数!$AQ$10","v":0},{"$f":"COUNTIF([1]算数!AR15,1)*[1]算数!$AR$10","v":0},{"$f":"COUNTIF([1]算数!AS15,1)*[1]算数!$AS$10","v":0},{"$f":"COUNTIF([1]算数!AT15,1)*[1]算数!$AT$10","v":0},{"$f":"COUNTIF([1]算数!AU15,1)*[1]算数!$AU$10","v":0},{"$f":"COUNTIF([1]算数!AV15,1)*[1]算数!$AV$10","v":0},{"$f":"COUNTIF([1]算数!AW15,1)*[1]算数!$AW$10","v":0},{"$f":"COUNTIF([1]算数!AX15,1)*[1]算数!$AX$10","v":0},{"$f":"COUNTIF([1]算数!AY15,1)*[1]算数!$AY$10","v":0},{"$f":"COUNTIF([1]算数!AZ15,1)*[1]算数!$AZ$10","v":0},{"$f":"COUNTIF([1]算数!BA15,1)*[1]算数!$BA$10","v":0},{"$f":"COUNTIF([1]算数!BB15,1)*[1]算数!$BB$10","v":0},0,null,null,"5問",{"$f":"[1]算数!I58","v":0},null,"5問",54.7,null,5,1,"（５）","数と計算"]
[6,{"$f":"COUNTIF([1]算数!E16,1)*[1]算数!$E$10","v":0},{"$f":"COUNTIF([1]算数!F16,1)*[1]算数!$F$10","v":0},{"$f":"COUNTIF([1]算数!G16,1)*[1]算数!$G$10","v":0},{"$f":"COUNTIF([1]算数!H16,1)*[1]算数!$H$10","v":0},{"$f":"COUNTIF([1]算数!I16,1)*[1]算数!$I$10","v":0},{"$f":"COUNTIF([1]算数!J16,1)*[1]算数!$J$10","v":0},{"$f":"COUNTIF([1]算数!K16,1)*[1]算数!$K$10","v":0},{"$f":"COUNTIF([1]算数!L16,1)*[1]算数!$L$10","v":0},{"$f":"COUNTIF([1]算数!M16,1)*[1]算数!$M$10","v":0},{"$f":"COUNTIF([1]算数!N16,1)*[1]算数!$N$10","v":0},{"$f":"COUNTIF([1]算数!O16,1)*[1]算数!$O$10","v":0},{"$f":"COUNTIF([1]算数!P16,1)*[1]算数!$K$10","v":0},{"$f":"COUNTIF([1]算数!Q16,1)*[1]算数!$K$10","v":0},{"$f":"COUNTIF([1]算数!R16,1)*[1]算数!$R$10","v":0},{"$f":"COUNTIF([1]算数!S16,1)*[1]算数!$S$10","v":0},{"$f":"COUNTIF([1]算数!T16,1)*[1]算数!$T$10","v":0},{"$f":"COUNTIF([1]算数!U16,1)*[1]算数!$U$10","v":0},{"$f":"COUNTIF([1]算数!V16,1)*[1]算数!$V$10","v":0},{"$f":"COUNTIF([1]算数!W16,1)*[1]算数!$W$10","v":0},{"$f":"COUNTIF([1]算数!X16,1)*[1]算数!$X$10","v":0},{"$f":"COUNTIF([1]算数!Y16,1)*[1]算数!$Y$10","v":0},{"$f":"COUNTIF([1]算数!Z16,1)*[1]算数!$Z$10","v":0},{"$f":"COUNTIF([1]算数!AA16,1)*[1]算数!$AA$10","v":0},{"$f":"COUNTIF([1]算数!AB16,1)*[1]算数!$AB$10","v":0},{"$f":"COUNTIF([1]算数!AC16,1)*[1]算数!$AC$10","v":0},{"$f":"COUNTIF([1]算数!AD16,1)*[1]算数!$AD$10","v":0},{"$f":"COUNTIF([1]算数!AE16,1)*[1]算数!$AE$10","v":0},{"$f":"COUNTIF([1]算数!AF16,1)*[1]算数!$AF$10","v":0},{"$f":"COUNTIF([1]算数!AG16,1)*[1]算数!$AG$10","v":0},{"$f":"COUNTIF([1]算数!AH16,1)*[1]算数!$AH$10","v":0},{"$f":"COUNTIF([1]算数!AI16,1)*[1]算数!$AI$10","v":0},{"$f":"COUNTIF([1]算数!AJ16,1)*[1]算数!$AJ$10","v":0},{"$f":"COUNTIF([1]算数!AK16,1)*[1]算数!$AK$10","v":0},{"$f":"COUNTIF([1]算数!AL16,1)*[1]算数!$AL$10","v":0},{"$f":"COUNTIF([1]算数!AM16,1)*[1]算数!$AM$10","v":0},{"$f":"COUNTIF([1]算数!AN16,1)*[1]算数!$AN$10","v":0},{"$f":"COUNTIF([1]算数!AO16,1)*[1]算数!$AO$10","v":0},{"$f":"COUNTIF([1]算数!AP16,1)*[1]算数!$AP$10","v":0},{"$f":"COUNTIF([1]算数!AQ16,1)*[1]算数!$AQ$10","v":0},{"$f":"COUNTIF([1]算数!AR16,1)*[1]算数!$AR$10","v":0},{"$f":"COUNTIF([1]算数!AS16,1)*[1]算数!$AS$10","v":0},{"$f":"COUNTIF([1]算数!AT16,1)*[1]算数!$AT$10","v":0},{"$f":"COUNTIF([1]算数!AU16,1)*[1]算数!$AU$10","v":0},{"$f":"COUNTIF([1]算数!AV16,1)*[1]算数!$AV$10","v":0},{"$f":"COUNTIF([1]算数!AW16,1)*[1]算数!$AW$10","v":0},{"$f":"COUNTIF([1]算数!AX16,1)*[1]算数!$AX$10","v":0},{"$f":"COUNTIF([1]算数!AY16,1)*[1]算数!$AY$10","v":0},{"$f":"COUNTIF([1]算数!AZ16,1)*[1]算数!$AZ$10","v":0},{"$f":"COUNTIF([1]算数!BA16,1)*[1]算数!$BA$10","v":0},{"$f":"COUNTIF([1]算数!BB16,1)*[1]算数!$BB$10","v":0},0,null,null,"6問",{"$f":"[1]算数!J58","v":0},null,"6問",54.800000000000004,null,6,2,"（１）","図形"]
[7,{"$f":"COUNTIF([1]算数!E17,1)*[1]算数!$E$10","v":0},{"$f":"COUNTIF([1]算数!F17,1)*[1]算数!$F$10","v":0},{"$f":"COUNTIF([1]算数!G17,1)*[1]算数!$G$10","v":0},{"$f":"COUNTIF([1]算数!H17,1)*[1]算数!$H$10","v":0},{"$f":"COUNTIF([1]算数!I17,1)*[1]算数!$I$10","v":0},{"$f":"COUNTIF([1]算数!J17,1)*[1]算数!$J$10","v":0},{"$f":"COUNTIF([1]算数!K17,1)*[1]算数!$K$10","v":0},{"$f":"COUNTIF([1]算数!L17,1)*[1]算数!$L$10","v":0},{"$f":"COUNTIF([1]算数!M17,1)*[1]算数!$M$10","v":0},{"$f":"COUNTIF([1]算数!N17,1)*[1]算数!$N$10","v":0},{"$f":"COUNTIF([1]算数!O17,1)*[1]算数!$O$10","v":0},{"$f":"COUNTIF([1]算数!P17,1)*[1]算数!$K$10","v":0},{"$f":"COUNTIF([1]算数!Q17,1)*[1]算数!$K$10","v":0},{"$f":"COUNTIF([1]算数!R17,1)*[1]算数!$R$10","v":0},{"$f":"COUNTIF([1]算数!S17,1)*[1]算数!$S$10","v":0},{"$f":"COUNTIF([1]算数!T17,1)*[1]算数!$T$10","v":0},{"$f":"COUNTIF([1]算数!U17,1)*[1]算数!$U$10","v":0},{"$f":"COUNTIF([1]算数!V17,1)*[1]算数!$V$10","v":0},{"$f":"COUNTIF([1]算数!W17,1)*[1]算数!$W$10","v":0},{"$f":"COUNTIF([1]算数!X17,1)*[1]算数!$X$10","v":0},{"$f":"COUNTIF([1]算数!Y17,1)*[1]算数!$Y$10","v":0},{"$f":"COUNTIF([1]算数!Z17,1)*[1]算数!$Z$10","v":0},{"$f":"COUNTIF([1]算数!AA17,1)*[1]算数!$AA$10","v":0},{"$f":"COUNTIF([1]算数!AB17,1)*[1]算数!$AB$10","v":0},{"$f":"COUNTIF([1]算数!AC17,1)*[1]算数!$AC$10","v":0},{"$f":"COUNTIF([1]算数!AD17,1)*[1]算数!$AD$10","v":0},{"$f":"COUNTIF([1]算数!AE17,1)*[1]算数!$AE$10","v":0},{"$f":"COUNTIF([1]算数!AF17,1)*[1]算数!$AF$10","v":0},{"$f":"COUNTIF([1]算数!AG17,1)*[1]算数!$AG$10","v":0},{"$f":"COUNTIF([1]算数!AH17,1)*[1]算数!$AH$10","v":0},{"$f":"COUNTIF([1]算数!AI17,1)*[1]算数!$AI$10","v":0},{"$f":"COUNTIF([1]算数!AJ17,1)*[1]算数!$AJ$10","v":0},{"$f":"COUNTIF([1]算数!AK17,1)*[1]算数!$AK$10","v":0},{"$f":"COUNTIF([1]算数!AL17,1)*[1]算数!$AL$10","v":0},{"$f":"COUNTIF([1]算数!AM17,1)*[1]算数!$AM$10","v":0},{"$f":"COUNTIF([1]算数!AN17,1)*[1]算数!$AN$10","v":0},{"$f":"COUNTIF([1]算数!AO17,1)*[1]算数!$AO$10","v":0},{"$f":"COUNTIF([1]算数!AP17,1)*[1]算数!$AP$10","v":0},{"$f":"COUNTIF([1]算数!AQ17,1)*[1]算数!$AQ$10","v":0},{"$f":"COUNTIF([1]算数!AR17,1)*[1]算数!$AR$10","v":0},{"$f":"COUNTIF([1]算数!AS17,1)*[1]算数!$AS$10","v":0},{"$f":"COUNTIF([1]算数!AT17,1)*[1]算数!$AT$10","v":0},{"$f":"COUNTIF([1]算数!AU17,1)*[1]算数!$AU$10","v":0},{"$f":"COUNTIF([1]算数!AV17,1)*[1]算数!$AV$10","v":0},{"$f":"COUNTIF([1]算数!AW17,1)*[1]算数!$AW$10","v":0},{"$f":"COUNTIF([1]算数!AX17,1)*[1]算数!$AX$10","v":0},{"$f":"COUNTIF([1]算数!AY17,1)*[1]算数!$AY$10","v":0},{"$f":"COUNTIF([1]算数!AZ17,1)*[1]算数!$AZ$10","v":0},{"$f":"COUNTIF([1]算数!BA17,1)*[1]算数!$BA$10","v":0},{"$f":"COUNTIF([1]算数!BB17,1)*[1]算数!$BB$10","v":0},0,null,null,"7問",{"$f":"[1]算数!K58","v":0},null,"7問",75.5,null,7,2,"（２）","図形"]
[8,{"$f":"COUNTIF([1]算数!E18,1)*[1]算数!$E$10","v":0},{"$f":"COUNTIF([1]算数!F18,1)*[1]算数!$F$10","v":0},{"$f":"COUNTIF([1]算数!G18,1)*[1]算数!$G$10","v":0},{"$f":"COUNTIF([1]算数!H18,1)*[1]算数!$H$10","v":0},{"$f":"COUNTIF([1]算数!I18,1)*[1]算数!$I$10","v":0},{"$f":"COUNTIF([1]算数!J18,1)*[1]算数!$J$10","v":0},{"$f":"COUNTIF([1]算数!K18,1)*[1]算数!$K$10","v":0},{"$f":"COUNTIF([1]算数!L18,1)*[1]算数!$L$10","v":0},{"$f":"COUNTIF([1]算数!M18,1)*[1]算数!$M$10","v":0},{"$f":"COUNTIF([1]算数!N18,1)*[1]算数!$N$10","v":0},{"$f":"COUNTIF([1]算数!O18,1)*[1]算数!$O$10","v":0},{"$f":"COUNTIF([1]算数!P18,1)*[1]算数!$K$10","v":0},{"$f":"COUNTIF([1]算数!Q18,1)*[1]算数!$K$10","v":0},{"$f":"COUNTIF([1]算数!R18,1)*[1]算数!$R$10","v":0},{"$f":"COUNTIF([1]算数!S18,1)*[1]算数!$S$10","v":0},{"$f":"COUNTIF([1]算数!T18,1)*[1]算数!$T$10","v":0},{"$f":"COUNTIF([1]算数!U18,1)*[1]算数!$U$10","v":0},{"$f":"COUNTIF([1]算数!V18,1)*[1]算数!$V$10","v":0},{"$f":"COUNTIF([1]算数!W18,1)*[1]算数!$W$10","v":0},{"$f":"COUNTIF([1]算数!X18,1)*[1]算数!$X$10","v":0},{"$f":"COUNTIF([1]算数!Y18,1)*[1]算数!$Y$10","v":0},{"$f":"COUNTIF([1]算数!Z18,1)*[1]算数!$Z$10","v":0},{"$f":"COUNTIF([1]算数!AA18,1)*[1]算数!$AA$10","v":0},{"$f":"COUNTIF([1]算数!AB18,1)*[1]算数!$AB$10","v":0},{"$f":"COUNTIF([1]算数!AC18,1)*[1]算数!$AC$10","v":0},{"$f":"COUNTIF([1]算数!AD18,1)*[1]算数!$AD$10","v":0},{"$f":"COUNTIF([1]算数!AE18,1)*[1]算数!$AE$10","v":0},{"$f":"COUNTIF([1]算数!AF18,1)*[1]算数!$AF$10","v":0},{"$f":"COUNTIF([1]算数!AG18,1)*[1]算数!$AG$10","v":0},{"$f":"COUNTIF([1]算数!AH18,1)*[1]算数!$AH$10","v":0},{"$f":"COUNTIF([1]算数!AI18,1)*[1]算数!$AI$10","v":0},{"$f":"COUNTIF([1]算数!AJ18,1)*[1]算数!$AJ$10","v":0},{"$f":"COUNTIF([1]算数!AK18,1)*[1]算数!$AK$10","v":0},{"$f":"COUNTIF([1]算数!AL18,1)*[1]算数!$AL$10","v":0},{"$f":"COUNTIF([1]算数!AM18,1)*[1]算数!$AM$10","v":0},{"$f":"COUNTIF([1]算数!AN18,1)*[1]算数!$AN$10","v":0},{"$f":"COUNTIF([1]算数!AO18,1)*[1]算数!$AO$10","v":0},{"$f":"COUNTIF([1]算数!AP18,1)*[1]算数!$AP$10","v":0},{"$f":"COUNTIF([1]算数!AQ18,1)*[1]算数!$AQ$10","v":0},{"$f":"COUNTIF([1]算数!AR18,1)*[1]算数!$AR$10","v":0},{"$f":"COUNTIF([1]算数!AS18,1)*[1]算数!$AS$10","v":0},{"$f":"COUNTIF([1]算数!AT18,1)*[1]算数!$AT$10","v":0},{"$f":"COUNTIF([1]算数!AU18,1)*[1]算数!$AU$10","v":0},{"$f":"COUNTIF([1]算数!AV18,1)*[1]算数!$AV$10","v":0},{"$f":"COUNTIF([1]算数!AW18,1)*[1]算数!$AW$10","v":0},{"$f":"COUNTIF([1]算数!AX18,1)*[1]算数!$AX$10","v":0},{"$f":"COUNTIF([1]算数!AY18,1)*[1]算数!$AY$10","v":0},{"$f":"COUNTIF([1]算数!AZ18,1)*[1]算数!$AZ$10","v":0},{"$f":"COUNTIF([1]算数!BA18,1)*[1]算数!$BA$10","v":0},{"$f":"COUNTIF([1]算数!BB18,1)*[1]算数!$BB$10","v":0},0,null,null,"8問",{"$f":"[1]算数!L58","v":0},null,"8問",65.3,null,8,3,"（１）","数と計算"]
[9,{"$f":"COUNTIF([1]算数!E19,1)*[1]算数!$E$10","v":0},{"$f":"COUNTIF([1]算数!F19,1)*[1]算数!$F$10","v":0},{"$f":"COUNTIF([1]算数!G19,1)*[1]算数!$G$10","v":0},{"$f":"COUNTIF([1]算数!H19,1)*[1]算数!$H$10","v":0},{"$f":"COUNTIF([1]算数!I19,1)*[1]算数!$I$10","v":0},{"$f":"COUNTIF([1]算数!J19,1)*[1]算数!$J$10","v":0},{"$f":"COUNTIF([1]算数!K19,1)*[1]算数!$K$10","v":0},{"$f":"COUNTIF([1]算数!L19,1)*[1]算数!$L$10","v":0},{"$f":"COUNTIF([1]算数!M19,1)*[1]算数!$M$10","v":0},{"$f":"COUNTIF([1]算数!N19,1)*[1]算数!$N$10","v":0},{"$f":"COUNTIF([1]算数!O19,1)*[1]算数!$O$10","v":0},{"$f":"COUNTIF([1]算数!P19,1)*[1]算数!$K$10","v":0},{"$f":"COUNTIF([1]算数!Q19,1)*[1]算数!$K$10","v":0},{"$f":"COUNTIF([1]算数!R19,1)*[1]算数!$R$10","v":0},{"$f":"COUNTIF([1]算数!S19,1)*[1]算数!$S$10","v":0},{"$f":"COUNTIF([1]算数!T19,1)*[1]算数!$T$10","v":0},{"$f":"COUNTIF([1]算数!U19,1)*[1]算数!$U$10","v":0},{"$f":"COUNTIF([1]算数!V19,1)*[1]算数!$V$10","v":0},{"$f":"COUNTIF([1]算数!W19,1)*[1]算数!$W$10","v":0},{"$f":"COUNTIF([1]算数!X19,1)*[1]算数!$X$10","v":0},{"$f":"COUNTIF([1]算数!Y19,1)*[1]算数!$Y$10","v":0},{"$f":"COUNTIF([1]算数!Z19,1)*[1]算数!$Z$10","v":0},{"$f":"COUNTIF([1]算数!AA19,1)*[1]算数!$AA$10","v":0},{"$f":"COUNTIF([1]算数!AB19,1)*[1]算数!$AB$10","v":0},{"$f":"COUNTIF([1]算数!AC19,1)*[1]算数!$AC$10","v":0},{"$f":"COUNTIF([1]算数!AD19,1)*[1]算数!$AD$10","v":0},{"$f":"COUNTIF([1]算数!AE19,1)*[1]算数!$AE$10","v":0},{"$f":"COUNTIF([1]算数!AF19,1)*[1]算数!$AF$10","v":0},{"$f":"COUNTIF([1]算数!AG19,1)*[1]算数!$AG$10","v":0},{"$f":"COUNTIF([1]算数!AH19,1)*[1]算数!$AH$10","v":0},{"$f":"COUNTIF([1]算数!AI19,1)*[1]算数!$AI$10","v":0},{"$f":"COUNTIF([1]算数!AJ19,1)*[1]算数!$AJ$10","v":0},{"$f":"COUNTIF([1]算数!AK19,1)*[1]算数!$AK$10","v":0},{"$f":"COUNTIF([1]算数!AL19,1)*[1]算数!$AL$10","v":0},{"$f":"COUNTIF([1]算数!AM19,1)*[1]算数!$AM$10","v":0},{"$f":"COUNTIF([1]算数!AN19,1)*[1]算数!$AN$10","v":0},{"$f":"COUNTIF([1]算数!AO19,1)*[1]算数!$AO$10","v":0},{"$f":"COUNTIF([1]算数!AP19,1)*[1]算数!$AP$10","v":0},{"$f":"COUNTIF([1]算数!AQ19,1)*[1]算数!$AQ$10","v":0},{"$f":"COUNTIF([1]算数!AR19,1)*[1]算数!$AR$10","v":0},{"$f":"COUNTIF([1]算数!AS19,1)*[1]算数!$AS$10","v":0},{"$f":"COUNTIF([1]算数!AT19,1)*[1]算数!$AT$10","v":0},{"$f":"COUNTIF([1]算数!AU19,1)*[1]算数!$AU$10","v":0},{"$f":"COUNTIF([1]算数!AV19,1)*[1]算数!$AV$10","v":0},{"$f":"COUNTIF([1]算数!AW19,1)*[1]算数!$AW$10","v":0},{"$f":"COUNTIF([1]算数!AX19,1)*[1]算数!$AX$10","v":0},{"$f":"COUNTIF([1]算数!AY19,1)*[1]算数!$AY$10","v":0},{"$f":"COUNTIF([1]算数!AZ19,1)*[1]算数!$AZ$10","v":0},{"$f":"COUNTIF([1]算数!BA19,1)*[1]算数!$BA$10","v":0},{"$f":"COUNTIF([1]算数!BB19,1)*[1]算数!$BB$10","v":0},0,null,null,"9問",{"$f":"[1]算数!M58","v":0},null,"9問",50.3,null,9,3,"（２）","数と計算"]
[10,{"$f":"COUNTIF([1]算数!E20,1)*[1]算数!$E$10","v":0},{"$f":"COUNTIF([1]算数!F20,1)*[1]算数!$F$10","v":0},{"$f":"COUNTIF([1]算数!G20,1)*[1]算数!$G$10","v":0},{"$f":"COUNTIF([1]算数!H20,1)*[1]算数!$H$10","v":0},{"$f":"COUNTIF([1]算数!I20,1)*[1]算数!$I$10","v":0},{"$f":"COUNTIF([1]算数!J20,1)*[1]算数!$J$10","v":0},{"$f":"COUNTIF([1]算数!K20,1)*[1]算数!$K$10","v":0},{"$f":"COUNTIF([1]算数!L20,1)*[1]算数!$L$10","v":0},{"$f":"COUNTIF([1]算数!M20,1)*[1]算数!$M$10","v":0},{"$f":"COUNTIF([1]算数!N20,1)*[1]算数!$N$10","v":0},{"$f":"COUNTIF([1]算数!O20,1)*[1]算数!$O$10","v":0},{"$f":"COUNTIF([1]算数!P20,1)*[1]算数!$K$10","v":0},{"$f":"COUNTIF([1]算数!Q20,1)*[1]算数!$K$10","v":0},{"$f":"COUNTIF([1]算数!R20,1)*[1]算数!$R$10","v":0},{"$f":"COUNTIF([1]算数!S20,1)*[1]算数!$S$10","v":0},{"$f":"COUNTIF([1]算数!T20,1)*[1]算数!$T$10","v":0},{"$f":"COUNTIF([1]算数!U20,1)*[1]算数!$U$10","v":0},{"$f":"COUNTIF([1]算数!V20,1)*[1]算数!$V$10","v":0},{"$f":"COUNTIF([1]算数!W20,1)*[1]算数!$W$10","v":0},{"$f":"COUNTIF([1]算数!X20,1)*[1]算数!$X$10","v":0},{"$f":"COUNTIF([1]算数!Y20,1)*[1]算数!$Y$10","v":0},{"$f":"COUNTIF([1]算数!Z20,1)*[1]算数!$Z$10","v":0},{"$f":"COUNTIF([1]算数!AA20,1)*[1]算数!$AA$10","v":0},{"$f":"COUNTIF([1]算数!AB20,1)*[1]算数!$AB$10","v":0},{"$f":"COUNTIF([1]算数!AC20,1)*[1]算数!$AC$10","v":0},{"$f":"COUNTIF([1]算数!AD20,1)*[1]算数!$AD$10","v":0},{"$f":"COUNTIF([1]算数!AE20,1)*[1]算数!$AE$10","v":0},{"$f":"COUNTIF([1]算数!AF20,1)*[1]算数!$AF$10","v":0},{"$f":"COUNTIF([1]算数!AG20,1)*[1]算数!$AG$10","v":0},{"$f":"COUNTIF([1]算数!AH20,1)*[1]算数!$AH$10","v":0},{"$f":"COUNTIF([1]算数!AI20,1)*[1]算数!$AI$10","v":0},{"$f":"COUNTIF([1]算数!AJ20,1)*[1]算数!$AJ$10","v":0},{"$f":"COUNTIF([1]算数!AK20,1)*[1]算数!$AK$10","v":0},{"$f":"COUNTIF([1]算数!AL20,1)*[1]算数!$AL$10","v":0},{"$f":"COUNTIF([1]算数!AM20,1)*[1]算数!$AM$10","v":0},{"$f":"COUNTIF([1]算数!AN20,1)*[1]算数!$AN$10","v":0},{"$f":"COUNTIF([1]算数!AO20,1)*[1]算数!$AO$10","v":0},{"$f":"COUNTIF([1]算数!AP20,1)*[1]算数!$AP$10","v":0},{"$f":"COUNTIF([1]算数!AQ20,1)*[1]算数!$AQ$10","v":0},{"$f":"COUNTIF([1]算数!AR20,1)*[1]算数!$AR$10","v":0},{"$f":"COUNTIF([1]算数!AS20,1)*[1]算数!$AS$10","v":0},{"$f":"COUNTIF([1]算数!AT20,1)*[1]算数!$AT$10","v":0},{"$f":"COUNTIF([1]算数!AU20,1)*[1]算数!$AU$10","v":0},{"$f":"COUNTIF([1]算数!AV20,1)*[1]算数!$AV$10","v":0},{"$f":"COUNTIF([1]算数!AW20,1)*[1]算数!$AW$10","v":0},{"$f":"COUNTIF([1]算数!AX20,1)*[1]算数!$AX$10","v":0},{"$f":"COUNTIF([1]算数!AY20,1)*[1]算数!$AY$10","v":0},{"$f":"COUNTIF([1]算数!AZ20,1)*[1]算数!$AZ$10","v":0},{"$f":"COUNTIF([1]算数!BA20,1)*[1]算数!$BA$10","v":0},{"$f":"COUNTIF([1]算数!BB20,1)*[1]算数!$BB$10","v":0},0,null,null,"10問",{"$f":"[1]算数!N58","v":0},null,"10問",34.300000000000004,null,10,4,null,"変化と関係"]
[11,{"$f":"COUNTIF([1]算数!E21,1)*[1]算数!$E$10","v":0},{"$f":"COUNTIF([1]算数!F21,1)*[1]算数!$F$10","v":0},{"$f":"COUNTIF([1]算数!G21,1)*[1]算数!$G$10","v":0},{"$f":"COUNTIF([1]算数!H21,1)*[1]算数!$H$10","v":0},{"$f":"COUNTIF([1]算数!I21,1)*[1]算数!$I$10","v":0},{"$f":"COUNTIF([1]算数!J21,1)*[1]算数!$J$10","v":0},{"$f":"COUNTIF([1]算数!K21,1)*[1]算数!$K$10","v":0},{"$f":"COUNTIF([1]算数!L21,1)*[1]算数!$L$10","v":0},{"$f":"COUNTIF([1]算数!M21,1)*[1]算数!$M$10","v":0},{"$f":"COUNTIF([1]算数!N21,1)*[1]算数!$N$10","v":0},{"$f":"COUNTIF([1]算数!O21,1)*[1]算数!$O$10","v":0},{"$f":"COUNTIF([1]算数!P21,1)*[1]算数!$K$10","v":0},{"$f":"COUNTIF([1]算数!Q21,1)*[1]算数!$K$10","v":0},{"$f":"COUNTIF([1]算数!R21,1)*[1]算数!$R$10","v":0},{"$f":"COUNTIF([1]算数!S21,1)*[1]算数!$S$10","v":0},{"$f":"COUNTIF([1]算数!T21,1)*[1]算数!$T$10","v":0},{"$f":"COUNTIF([1]算数!U21,1)*[1]算数!$U$10","v":0},{"$f":"COUNTIF([1]算数!V21,1)*[1]算数!$V$10","v":0},{"$f":"COUNTIF([1]算数!W21,1)*[1]算数!$W$10","v":0},{"$f":"COUNTIF([1]算数!X21,1)*[1]算数!$X$10","v":0},{"$f":"COUNTIF([1]算数!Y21,1)*[1]算数!$Y$10","v":0},{"$f":"COUNTIF([1]算数!Z21,1)*[1]算数!$Z$10","v":0},{"$f":"COUNTIF([1]算数!AA21,1)*[1]算数!$AA$10","v":0},{"$f":"COUNTIF([1]算数!AB21,1)*[1]算数!$AB$10","v":0},{"$f":"COUNTIF([1]算数!AC21,1)*[1]算数!$AC$10","v":0},{"$f":"COUNTIF([1]算数!AD21,1)*[1]算数!$AD$10","v":0},{"$f":"COUNTIF([1]算数!AE21,1)*[1]算数!$AE$10","v":0},{"$f":"COUNTIF([1]算数!AF21,1)*[1]算数!$AF$10","v":0},{"$f":"COUNTIF([1]算数!AG21,1)*[1]算数!$AG$10","v":0},{"$f":"COUNTIF([1]算数!AH21,1)*[1]算数!$AH$10","v":0},{"$f":"COUNTIF([1]算数!AI21,1)*[1]算数!$AI$10","v":0},{"$f":"COUNTIF([1]算数!AJ21,1)*[1]算数!$AJ$10","v":0},{"$f":"COUNTIF([1]算数!AK21,1)*[1]算数!$AK$10","v":0},{"$f":"COUNTIF([1]算数!AL21,1)*[1]算数!$AL$10","v":0},{"$f":"COUNTIF([1]算数!AM21,1)*[1]算数!$AM$10","v":0},{"$f":"COUNTIF([1]算数!AN21,1)*[1]算数!$AN$10","v":0},{"$f":"COUNTIF([1]算数!AO21,1)*[1]算数!$AO$10","v":0},{"$f":"COUNTIF([1]算数!AP21,1)*[1]算数!$AP$10","v":0},{"$f":"COUNTIF([1]算数!AQ21,1)*[1]算数!$AQ$10","v":0},{"$f":"COUNTIF([1]算数!AR21,1)*[1]算数!$AR$10","v":0},{"$f":"COUNTIF([1]算数!AS21,1)*[1]算数!$AS$10","v":0},{"$f":"COUNTIF([1]算数!AT21,1)*[1]算数!$AT$10","v":0},{"$f":"COUNTIF([1]算数!AU21,1)*[1]算数!$AU$10","v":0},{"$f":"COUNTIF([1]算数!AV21,1)*[1]算数!$AV$10","v":0},{"$f":"COUNTIF([1]算数!AW21,1)*[1]算数!$AW$10","v":0},{"$f":"COUNTIF([1]算数!AX21,1)*[1]算数!$AX$10","v":0},{"$f":"COUNTIF([1]算数!AY21,1)*[1]算数!$AY$10","v":0},{"$f":"COUNTIF([1]算数!AZ21,1)*[1]算数!$AZ$10","v":0},{"$f":"COUNTIF([1]算数!BA21,1)*[1]算数!$BA$10","v":0},{"$f":"COUNTIF([1]算数!BB21,1)*[1]算数!$BB$10","v":0},0,null,null,"11問",{"$f":"[1]算数!O58","v":0},null,"11問",83.399999999999991,null,11,5,null,"データの活用"]
[12,{"$f":"COUNTIF([1]算数!E22,1)*[1]算数!$E$10","v":0},{"$f":"COUNTIF([1]算数!F22,1)*[1]算数!$F$10","v":0},{"$f":"COUNTIF([1]算数!G22,1)*[1]算数!$G$10","v":0},{"$f":"COUNTIF([1]算数!H22,1)*[1]算数!$H$10","v":0},{"$f":"COUNTIF([1]算数!I22,1)*[1]算数!$I$10","v":0},{"$f":"COUNTIF([1]算数!J22,1)*[1]算数!$J$10","v":0},{"$f":"COUNTIF([1]算数!K22,1)*[1]算数!$K$10","v":0},{"$f":"COUNTIF([1]算数!L22,1)*[1]算数!$L$10","v":0},{"$f":"COUNTIF([1]算数!M22,1)*[1]算数!$M$10","v":0},{"$f":"COUNTIF([1]算数!N22,1)*[1]算数!$N$10","v":0},{"$f":"COUNTIF([1]算数!O22,1)*[1]算数!$O$10","v":0},{"$f":"COUNTIF([1]算数!P22,1)*[1]算数!$K$10","v":0},{"$f":"COUNTIF([1]算数!Q22,1)*[1]算数!$K$10","v":0},{"$f":"COUNTIF([1]算数!R22,1)*[1]算数!$R$10","v":0},{"$f":"COUNTIF([1]算数!S22,1)*[1]算数!$S$10","v":0},{"$f":"COUNTIF([1]算数!T22,1)*[1]算数!$T$10","v":0},{"$f":"COUNTIF([1]算数!U22,1)*[1]算数!$U$10","v":0},{"$f":"COUNTIF([1]算数!V22,1)*[1]算数!$V$10","v":0},{"$f":"COUNTIF([1]算数!W22,1)*[1]算数!$W$10","v":0},{"$f":"COUNTIF([1]算数!X22,1)*[1]算数!$X$10","v":0},{"$f":"COUNTIF([1]算数!Y22,1)*[1]算数!$Y$10","v":0},{"$f":"COUNTIF([1]算数!Z22,1)*[1]算数!$Z$10","v":0},{"$f":"COUNTIF([1]算数!AA22,1)*[1]算数!$AA$10","v":0},{"$f":"COUNTIF([1]算数!AB22,1)*[1]算数!$AB$10","v":0},{"$f":"COUNTIF([1]算数!AC22,1)*[1]算数!$AC$10","v":0},{"$f":"COUNTIF([1]算数!AD22,1)*[1]算数!$AD$10","v":0},{"$f":"COUNTIF([1]算数!AE22,1)*[1]算数!$AE$10","v":0},{"$f":"COUNTIF([1]算数!AF22,1)*[1]算数!$AF$10","v":0},{"$f":"COUNTIF([1]算数!AG22,1)*[1]算数!$AG$10","v":0},{"$f":"COUNTIF([1]算数!AH22,1)*[1]算数!$AH$10","v":0},{"$f":"COUNTIF([1]算数!AI22,1)*[1]算数!$AI$10","v":0},{"$f":"COUNTIF([1]算数!AJ22,1)*[1]算数!$AJ$10","v":0},{"$f":"COUNTIF([1]算数!AK22,1)*[1]算数!$AK$10","v":0},{"$f":"COUNTIF([1]算数!AL22,1)*[1]算数!$AL$10","v":0},{"$f":"COUNTIF([1]算数!AM22,1)*[1]算数!$AM$10","v":0},{"$f":"COUNTIF([1]算数!AN22,1)*[1]算数!$AN$10","v":0},{"$f":"COUNTIF([1]算数!AO22,1)*[1]算数!$AO$10","v":0},{"$f":"COUNTIF([1]算数!AP22,1)*[1]算数!$AP$10","v":0},{"$f":"COUNTIF([1]算数!AQ22,1)*[1]算数!$AQ$10","v":0},{"$f":"COUNTIF([1]算数!AR22,1)*[1]算数!$AR$10","v":0},{"$f":"COUNTIF([1]算数!AS22,1)*[1]算数!$AS$10","v":0},{"$f":"COUNTIF([1]算数!AT22,1)*[1]算数!$AT$10","v":0},{"$f":"COUNTIF([1]算数!AU22,1)*[1]算数!$AU$10","v":0},{"$f":"COUNTIF([1]算数!AV22,1)*[1]算数!$AV$10","v":0},{"$f":"COUNTIF([1]算数!AW22,1)*[1]算数!$AW$10","v":0},{"$f":"COUNTIF([1]算数!AX22,1)*[1]算数!$AX$10","v":0},{"$f":"COUNTIF([1]算数!AY22,1)*[1]算数!$AY$10","v":0},{"$f":"COUNTIF([1]算数!AZ22,1)*[1]算数!$AZ$10","v":0},{"$f":"COUNTIF([1]算数!BA22,1)*[1]算数!$BA$10","v":0},{"$f":"COUNTIF([1]算数!BB22,1)*[1]算数!$BB$10","v":0},0,null,null,"12問",{"$f":"[1]算数!P58","v":0},null,"12問",44.1,null,12,6,null,"数と計算"]
[13,{"$f":"COUNTIF([1]算数!E23,1)*[1]算数!$E$10","v":0},{"$f":"COUNTIF([1]算数!F23,1)*[1]算数!$F$10","v":0},{"$f":"COUNTIF([1]算数!G23,1)*[1]算数!$G$10","v":0},{"$f":"COUNTIF([1]算数!H23,1)*[1]算数!$H$10","v":0},{"$f":"COUNTIF([1]算数!I23,1)*[1]算数!$I$10","v":0},{"$f":"COUNTIF([1]算数!J23,1)*[1]算数!$J$10","v":0},{"$f":"COUNTIF([1]算数!K23,1)*[1]算数!$K$10","v":0},{"$f":"COUNTIF([1]算数!L23,1)*[1]算数!$L$10","v":0},{"$f":"COUNTIF([1]算数!M23,1)*[1]算数!$M$10","v":0},{"$f":"COUNTIF([1]算数!N23,1)*[1]算数!$N$10","v":0},{"$f":"COUNTIF([1]算数!O23,1)*[1]算数!$O$10","v":0},{"$f":"COUNTIF([1]算数!P23,1)*[1]算数!$K$10","v":0},{"$f":"COUNTIF([1]算数!Q23,1)*[1]算数!$K$10","v":0},{"$f":"COUNTIF([1]算数!R23,1)*[1]算数!$R$10","v":0},{"$f":"COUNTIF([1]算数!S23,1)*[1]算数!$S$10","v":0},{"$f":"COUNTIF([1]算数!T23,1)*[1]算数!$T$10","v":0},{"$f":"COUNTIF([1]算数!U23,1)*[1]算数!$U$10","v":0},{"$f":"COUNTIF([1]算数!V23,1)*[1]算数!$V$10","v":0},{"$f":"COUNTIF([1]算数!W23,1)*[1]算数!$W$10","v":0},{"$f":"COUNTIF([1]算数!X23,1)*[1]算数!$X$10","v":0},{"$f":"COUNTIF([1]算数!Y23,1)*[1]算数!$Y$10","v":0},{"$f":"COUNTIF([1]算数!Z23,1)*[1]算数!$Z$10","v":0},{"$f":"COUNTIF([1]算数!AA23,1)*[1]算数!$AA$10","v":0},{"$f":"COUNTIF([1]算数!AB23,1)*[1]算数!$AB$10","v":0},{"$f":"COUNTIF([1]算数!AC23,1)*[1]算数!$AC$10","v":0},{"$f":"COUNTIF([1]算数!AD23,1)*[1]算数!$AD$10","v":0},{"$f":"COUNTIF([1]算数!AE23,1)*[1]算数!$AE$10","v":0},{"$f":"COUNTIF([1]算数!AF23,1)*[1]算数!$AF$10","v":0},{"$f":"COUNTIF([1]算数!AG23,1)*[1]算数!$AG$10","v":0},{"$f":"COUNTIF([1]算数!AH23,1)*[1]算数!$AH$10","v":0},{"$f":"COUNTIF([1]算数!AI23,1)*[1]算数!$AI$10","v":0},{"$f":"COUNTIF([1]算数!AJ23,1)*[1]算数!$AJ$10","v":0},{"$f":"COUNTIF([1]算数!AK23,1)*[1]算数!$AK$10","v":0},{"$f":"COUNTIF([1]算数!AL23,1)*[1]算数!$AL$10","v":0},{"$f":"COUNTIF([1]算数!AM23,1)*[1]算数!$AM$10","v":0},{"$f":"COUNTIF([1]算数!AN23,1)*[1]算数!$AN$10","v":0},{"$f":"COUNTIF([1]算数!AO23,1)*[1]算数!$AO$10","v":0},{"$f":"COUNTIF([1]算数!AP23,1)*[1]算数!$AP$10","v":0},{"$f":"COUNTIF([1]算数!AQ23,1)*[1]算数!$AQ$10","v":0},{"$f":"COUNTIF([1]算数!AR23,1)*[1]算数!$AR$10","v":0},{"$f":"COUNTIF([1]算数!AS23,1)*[1]算数!$AS$10","v":0},{"$f":"COUNTIF([1]算数!AT23,1)*[1]算数!$AT$10","v":0},{"$f":"COUNTIF([1]算数!AU23,1)*[1]算数!$AU$10","v":0},{"$f":"COUNTIF([1]算数!AV23,1)*[1]算数!$AV$10","v":0},{"$f":"COUNTIF([1]算数!AW23,1)*[1]算数!$AW$10","v":0},{"$f":"COUNTIF([1]算数!AX23,1)*[1]算数!$AX$10","v":0},{"$f":"COUNTIF([1]算数!AY23,1)*[1]算数!$AY$10","v":0},{"$f":"COUNTIF([1]算数!AZ23,1)*[1]算数!$AZ$10","v":0},{"$f":"COUNTIF([1]算数!BA23,1)*[1]算数!$BA$10","v":0},{"$f":"COUNTIF([1]算数!BB23,1)*[1]算数!$BB$10","v":0},0,null,null,"13問",{"$f":"[1]算数!Q58","v":0},null,"13問",28.599999999999998,null,13,7,null,"図形"]
[14,{"$f":"COUNTIF([1]算数!E24,1)*[1]算数!$E$10","v":0},{"$f":"COUNTIF([1]算数!F24,1)*[1]算数!$F$10","v":0},{"$f":"COUNTIF([1]算数!G24,1)*[1]算数!$G$10","v":0},{"$f":"COUNTIF([1]算数!H24,1)*[1]算数!$H$10","v":0},{"$f":"COUNTIF([1]算数!I24,1)*[1]算数!$I$10","v":0},{"$f":"COUNTIF([1]算数!J24,1)*[1]算数!$J$10","v":0},{"$f":"COUNTIF([1]算数!K24,1)*[1]算数!$K$10","v":0},{"$f":"COUNTIF([1]算数!L24,1)*[1]算数!$L$10","v":0},{"$f":"COUNTIF([1]算数!M24,1)*[1]算数!$M$10","v":0},{"$f":"COUNTIF([1]算数!N24,1)*[1]算数!$N$10","v":0},{"$f":"COUNTIF([1]算数!O24,1)*[1]算数!$O$10","v":0},{"$f":"COUNTIF([1]算数!P24,1)*[1]算数!$K$10","v":0},{"$f":"COUNTIF([1]算数!Q24,1)*[1]算数!$K$10","v":0},{"$f":"COUNTIF([1]算数!R24,1)*[1]算数!$R$10","v":0},{"$f":"COUNTIF([1]算数!S24,1)*[1]算数!$S$10","v":0},{"$f":"COUNTIF([1]算数!T24,1)*[1]算数!$T$10","v":0},{"$f":"COUNTIF([1]算数!U24,1)*[1]算数!$U$10","v":0},{"$f":"COUNTIF([1]算数!V24,1)*[1]算数!$V$10","v":0},{"$f":"COUNTIF([1]算数!W24,1)*[1]算数!$W$10","v":0},{"$f":"COUNTIF([1]算数!X24,1)*[1]算数!$X$10","v":0},{"$f":"COUNTIF([1]算数!Y24,1)*[1]算数!$Y$10","v":0},{"$f":"COUNTIF([1]算数!Z24,1)*[1]算数!$Z$10","v":0},{"$f":"COUNTIF([1]算数!AA24,1)*[1]算数!$AA$10","v":0},{"$f":"COUNTIF([1]算数!AB24,1)*[1]算数!$AB$10","v":0},{"$f":"COUNTIF([1]算数!AC24,1)*[1]算数!$AC$10","v":0},{"$f":"COUNTIF([1]算数!AD24,1)*[1]算数!$AD$10","v":0},{"$f":"COUNTIF([1]算数!AE24,1)*[1]算数!$AE$10","v":0},{"$f":"COUNTIF([1]算数!AF24,1)*[1]算数!$AF$10","v":0},{"$f":"COUNTIF([1]算数!AG24,1)*[1]算数!$AG$10","v":0},{"$f":"COUNTIF([1]算数!AH24,1)*[1]算数!$AH$10","v":0},{"$f":"COUNTIF([1]算数!AI24,1)*[1]算数!$AI$10","v":0},{"$f":"COUNTIF([1]算数!AJ24,1)*[1]算数!$AJ$10","v":0},{"$f":"COUNTIF([1]算数!AK24,1)*[1]算数!$AK$10","v":0},{"$f":"COUNTIF([1]算数!AL24,1)*[1]算数!$AL$10","v":0},{"$f":"COUNTIF([1]算数!AM24,1)*[1]算数!$AM$10","v":0},{"$f":"COUNTIF([1]算数!AN24,1)*[1]算数!$AN$10","v":0},{"$f":"COUNTIF([1]算数!AO24,1)*[1]算数!$AO$10","v":0},{"$f":"COUNTIF([1]算数!AP24,1)*[1]算数!$AP$10","v":0},{"$f":"COUNTIF([1]算数!AQ24,1)*[1]算数!$AQ$10","v":0},{"$f":"COUNTIF([1]算数!AR24,1)*[1]算数!$AR$10","v":0},{"$f":"COUNTIF([1]算数!AS24,1)*[1]算数!$AS$10","v":0},{"$f":"COUNTIF([1]算数!AT24,1)*[1]算数!$AT$10","v":0},{"$f":"COUNTIF([1]算数!AU24,1)*[1]算数!$AU$10","v":0},{"$f":"COUNTIF([1]算数!AV24,1)*[1]算数!$AV$10","v":0},{"$f":"COUNTIF([1]算数!AW24,1)*[1]算数!$AW$10","v":0},{"$f":"COUNTIF([1]算数!AX24,1)*[1]算数!$AX$10","v":0},{"$f":"COUNTIF([1]算数!AY24,1)*[1]算数!$AY$10","v":0},{"$f":"COUNTIF([1]算数!AZ24,1)*[1]算数!$AZ$10","v":0},{"$f":"COUNTIF([1]算数!BA24,1)*[1]算数!$BA$10","v":0},{"$f":"COUNTIF([1]算数!BB24,1)*[1]算数!$BB$10","v":0},0,null,null,"14問",{"$f":"[1]算数!R58","v":0},null,"14問",44,null,14,8,"（１）","データの活用"]
[15,{"$f":"COUNTIF([1]算数!E25,1)*[1]算数!$E$10","v":0},{"$f":"COUNTIF([1]算数!F25,1)*[1]算数!$F$10","v":0},{"$f":"COUNTIF([1]算数!G25,1)*[1]算数!$G$10","v":0},{"$f":"COUNTIF([1]算数!H25,1)*[1]算数!$H$10","v":0},{"$f":"COUNTIF([1]算数!I25,1)*[1]算数!$I$10","v":0},{"$f":"COUNTIF([1]算数!J25,1)*[1]算数!$J$10","v":0},{"$f":"COUNTIF([1]算数!K25,1)*[1]算数!$K$10","v":0},{"$f":"COUNTIF([1]算数!L25,1)*[1]算数!$L$10","v":0},{"$f":"COUNTIF([1]算数!M25,1)*[1]算数!$M$10","v":0},{"$f":"COUNTIF([1]算数!N25,1)*[1]算数!$N$10","v":0},{"$f":"COUNTIF([1]算数!O25,1)*[1]算数!$O$10","v":0},{"$f":"COUNTIF([1]算数!P25,1)*[1]算数!$K$10","v":0},{"$f":"COUNTIF([1]算数!Q25,1)*[1]算数!$K$10","v":0},{"$f":"COUNTIF([1]算数!R25,1)*[1]算数!$R$10","v":0},{"$f":"COUNTIF([1]算数!S25,1)*[1]算数!$S$10","v":0},{"$f":"COUNTIF([1]算数!T25,1)*[1]算数!$T$10","v":0},{"$f":"COUNTIF([1]算数!U25,1)*[1]算数!$U$10","v":0},{"$f":"COUNTIF([1]算数!V25,1)*[1]算数!$V$10","v":0},{"$f":"COUNTIF([1]算数!W25,1)*[1]算数!$W$10","v":0},{"$f":"COUNTIF([1]算数!X25,1)*[1]算数!$X$10","v":0},{"$f":"COUNTIF([1]算数!Y25,1)*[1]算数!$Y$10","v":0},{"$f":"COUNTIF([1]算数!Z25,1)*[1]算数!$Z$10","v":0},{"$f":"COUNTIF([1]算数!AA25,1)*[1]算数!$AA$10","v":0},{"$f":"COUNTIF([1]算数!AB25,1)*[1]算数!$AB$10","v":0},{"$f":"COUNTIF([1]算数!AC25,1)*[1]算数!$AC$10","v":0},{"$f":"COUNTIF([1]算数!AD25,1)*[1]算数!$AD$10","v":0},{"$f":"COUNTIF([1]算数!AE25,1)*[1]算数!$AE$10","v":0},{"$f":"COUNTIF([1]算数!AF25,1)*[1]算数!$AF$10","v":0},{"$f":"COUNTIF([1]算数!AG25,1)*[1]算数!$AG$10","v":0},{"$f":"COUNTIF([1]算数!AH25,1)*[1]算数!$AH$10","v":0},{"$f":"COUNTIF([1]算数!AI25,1)*[1]算数!$AI$10","v":0},{"$f":"COUNTIF([1]算数!AJ25,1)*[1]算数!$AJ$10","v":0},{"$f":"COUNTIF([1]算数!AK25,1)*[1]算数!$AK$10","v":0},{"$f":"COUNTIF([1]算数!AL25,1)*[1]算数!$AL$10","v":0},{"$f":"COUNTIF([1]算数!AM25,1)*[1]算数!$AM$10","v":0},{"$f":"COUNTIF([1]算数!AN25,1)*[1]算数!$AN$10","v":0},{"$f":"COUNTIF([1]算数!AO25,1)*[1]算数!$AO$10","v":0},{"$f":"COUNTIF([1]算数!AP25,1)*[1]算数!$AP$10","v":0},{"$f":"COUNTIF([1]算数!AQ25,1)*[1]算数!$AQ$10","v":0},{"$f":"COUNTIF([1]算数!AR25,1)*[1]算数!$AR$10","v":0},{"$f":"COUNTIF([1]算数!AS25,1)*[1]算数!$AS$10","v":0},{"$f":"COUNTIF([1]算数!AT25,1)*[1]算数!$AT$10","v":0},{"$f":"COUNTIF([1]算数!AU25,1)*[1]算数!$AU$10","v":0},{"$f":"COUNTIF([1]算数!AV25,1)*[1]算数!$AV$10","v":0},{"$f":"COUNTIF([1]算数!AW25,1)*[1]算数!$AW$10","v":0},{"$f":"COUNTIF([1]算数!AX25,1)*[1]算数!$AX$10","v":0},{"$f":"COUNTIF([1]算数!AY25,1)*[1]算数!$AY$10","v":0},{"$f":"COUNTIF([1]算数!AZ25,1)*[1]算数!$AZ$10","v":0},{"$f":"COUNTIF([1]算数!BA25,1)*[1]算数!$BA$10","v":0},{"$f":"COUNTIF([1]算数!BB25,1)*[1]算数!$BB$10","v":0},0,null,null,"15問",{"$f":"[1]算数!S58","v":0},null,"15問",44.5,null,15,8,"（２）","データの活用"]
[16,{"$f":"COUNTIF([1]算数!E26,1)*[1]算数!$E$10","v":0},{"$f":"COUNTIF([1]算数!F26,1)*[1]算数!$F$10","v":0},{"$f":"COUNTIF([1]算数!G26,1)*[1]算数!$G$10","v":0},{"$f":"COUNTIF([1]算数!H26,1)*[1]算数!$H$10","v":0},{"$f":"COUNTIF([1]算数!I26,1)*[1]算数!$I$10","v":0},{"$f":"COUNTIF([1]算数!J26,1)*[1]算数!$J$10","v":0},{"$f":"COUNTIF([1]算数!K26,1)*[1]算数!$K$10","v":0},{"$f":"COUNTIF([1]算数!L26,1)*[1]算数!$L$10","v":0},{"$f":"COUNTIF([1]算数!M26,1)*[1]算数!$M$10","v":0},{"$f":"COUNTIF([1]算数!N26,1)*[1]算数!$N$10","v":0},{"$f":"COUNTIF([1]算数!O26,1)*[1]算数!$O$10","v":0},{"$f":"COUNTIF([1]算数!P26,1)*[1]算数!$K$10","v":0},{"$f":"COUNTIF([1]算数!Q26,1)*[1]算数!$K$10","v":0},{"$f":"COUNTIF([1]算数!R26,1)*[1]算数!$R$10","v":0},{"$f":"COUNTIF([1]算数!S26,1)*[1]算数!$S$10","v":0},{"$f":"COUNTIF([1]算数!T26,1)*[1]算数!$T$10","v":0},{"$f":"COUNTIF([1]算数!U26,1)*[1]算数!$U$10","v":0},{"$f":"COUNTIF([1]算数!V26,1)*[1]算数!$V$10","v":0},{"$f":"COUNTIF([1]算数!W26,1)*[1]算数!$W$10","v":0},{"$f":"COUNTIF([1]算数!X26,1)*[1]算数!$X$10","v":0},{"$f":"COUNTIF([1]算数!Y26,1)*[1]算数!$Y$10","v":0},{"$f":"COUNTIF([1]算数!Z26,1)*[1]算数!$Z$10","v":0},{"$f":"COUNTIF([1]算数!AA26,1)*[1]算数!$AA$10","v":0},{"$f":"COUNTIF([1]算数!AB26,1)*[1]算数!$AB$10","v":0},{"$f":"COUNTIF([1]算数!AC26,1)*[1]算数!$AC$10","v":0},{"$f":"COUNTIF([1]算数!AD26,1)*[1]算数!$AD$10","v":0},{"$f":"COUNTIF([1]算数!AE26,1)*[1]算数!$AE$10","v":0},{"$f":"COUNTIF([1]算数!AF26,1)*[1]算数!$AF$10","v":0},{"$f":"COUNTIF([1]算数!AG26,1)*[1]算数!$AG$10","v":0},{"$f":"COUNTIF([1]算数!AH26,1)*[1]算数!$AH$10","v":0},{"$f":"COUNTIF([1]算数!AI26,1)*[1]算数!$AI$10","v":0},{"$f":"COUNTIF([1]算数!AJ26,1)*[1]算数!$AJ$10","v":0},{"$f":"COUNTIF([1]算数!AK26,1)*[1]算数!$AK$10","v":0},{"$f":"COUNTIF([1]算数!AL26,1)*[1]算数!$AL$10","v":0},{"$f":"COUNTIF([1]算数!AM26,1)*[1]算数!$AM$10","v":0},{"$f":"COUNTIF([1]算数!AN26,1)*[1]算数!$AN$10","v":0},{"$f":"COUNTIF([1]算数!AO26,1)*[1]算数!$AO$10","v":0},{"$f":"COUNTIF([1]算数!AP26,1)*[1]算数!$AP$10","v":0},{"$f":"COUNTIF([1]算数!AQ26,1)*[1]算数!$AQ$10","v":0},{"$f":"COUNTIF([1]算数!AR26,1)*[1]算数!$AR$10","v":0},{"$f":"COUNTIF([1]算数!AS26,1)*[1]算数!$AS$10","v":0},{"$f":"COUNTIF([1]算数!AT26,1)*[1]算数!$AT$10","v":0},{"$f":"COUNTIF([1]算数!AU26,1)*[1]算数!$AU$10","v":0},{"$f":"COUNTIF([1]算数!AV26,1)*[1]算数!$AV$10","v":0},{"$f":"COUNTIF([1]算数!AW26,1)*[1]算数!$AW$10","v":0},{"$f":"COUNTIF([1]算数!AX26,1)*[1]算数!$AX$10","v":0},{"$f":"COUNTIF([1]算数!AY26,1)*[1]算数!$AY$10","v":0},{"$f":"COUNTIF([1]算数!AZ26,1)*[1]算数!$AZ$10","v":0},{"$f":"COUNTIF([1]算数!BA26,1)*[1]算数!$BA$10","v":0},{"$f":"COUNTIF([1]算数!BB26,1)*[1]算数!$BB$10","v":0},0,null,null,"16問",{"$f":"[1]算数!T58","v":0},null,"16問",89,null,16,9,"（１）","変化と関係"]
[17,{"$f":"COUNTIF([1]算数!E27,1)*[1]算数!$E$10","v":0},{"$f":"COUNTIF([1]算数!F27,1)*[1]算数!$F$10","v":0},{"$f":"COUNTIF([1]算数!G27,1)*[1]算数!$G$10","v":0},{"$f":"COUNTIF([1]算数!H27,1)*[1]算数!$H$10","v":0},{"$f":"COUNTIF([1]算数!I27,1)*[1]算数!$I$10","v":0},{"$f":"COUNTIF([1]算数!J27,1)*[1]算数!$J$10","v":0},{"$f":"COUNTIF([1]算数!K27,1)*[1]算数!$K$10","v":0},{"$f":"COUNTIF([1]算数!L27,1)*[1]算数!$L$10","v":0},{"$f":"COUNTIF([1]算数!M27,1)*[1]算数!$M$10","v":0},{"$f":"COUNTIF([1]算数!N27,1)*[1]算数!$N$10","v":0},{"$f":"COUNTIF([1]算数!O27,1)*[1]算数!$O$10","v":0},{"$f":"COUNTIF([1]算数!P27,1)*[1]算数!$K$10","v":0},{"$f":"COUNTIF([1]算数!Q27,1)*[1]算数!$K$10","v":0},{"$f":"COUNTIF([1]算数!R27,1)*[1]算数!$R$10","v":0},{"$f":"COUNTIF([1]算数!S27,1)*[1]算数!$S$10","v":0},{"$f":"COUNTIF([1]算数!T27,1)*[1]算数!$T$10","v":0},{"$f":"COUNTIF([1]算数!U27,1)*[1]算数!$U$10","v":0},{"$f":"COUNTIF([1]算数!V27,1)*[1]算数!$V$10","v":0},{"$f":"COUNTIF([1]算数!W27,1)*[1]算数!$W$10","v":0},{"$f":"COUNTIF([1]算数!X27,1)*[1]算数!$X$10","v":0},{"$f":"COUNTIF([1]算数!Y27,1)*[1]算数!$Y$10","v":0},{"$f":"COUNTIF([1]算数!Z27,1)*[1]算数!$Z$10","v":0},{"$f":"COUNTIF([1]算数!AA27,1)*[1]算数!$AA$10","v":0},{"$f":"COUNTIF([1]算数!AB27,1)*[1]算数!$AB$10","v":0},{"$f":"COUNTIF([1]算数!AC27,1)*[1]算数!$AC$10","v":0},{"$f":"COUNTIF([1]算数!AD27,1)*[1]算数!$AD$10","v":0},{"$f":"COUNTIF([1]算数!AE27,1)*[1]算数!$AE$10","v":0},{"$f":"COUNTIF([1]算数!AF27,1)*[1]算数!$AF$10","v":0},{"$f":"COUNTIF([1]算数!AG27,1)*[1]算数!$AG$10","v":0},{"$f":"COUNTIF([1]算数!AH27,1)*[1]算数!$AH$10","v":0},{"$f":"COUNTIF([1]算数!AI27,1)*[1]算数!$AI$10","v":0},{"$f":"COUNTIF([1]算数!AJ27,1)*[1]算数!$AJ$10","v":0},{"$f":"COUNTIF([1]算数!AK27,1)*[1]算数!$AK$10","v":0},{"$f":"COUNTIF([1]算数!AL27,1)*[1]算数!$AL$10","v":0},{"$f":"COUNTIF([1]算数!AM27,1)*[1]算数!$AM$10","v":0},{"$f":"COUNTIF([1]算数!AN27,1)*[1]算数!$AN$10","v":0},{"$f":"COUNTIF([1]算数!AO27,1)*[1]算数!$AO$10","v":0},{"$f":"COUNTIF([1]算数!AP27,1)*[1]算数!$AP$10","v":0},{"$f":"COUNTIF([1]算数!AQ27,1)*[1]算数!$AQ$10","v":0},{"$f":"COUNTIF([1]算数!AR27,1)*[1]算数!$AR$10","v":0},{"$f":"COUNTIF([1]算数!AS27,1)*[1]算数!$AS$10","v":0},{"$f":"COUNTIF([1]算数!AT27,1)*[1]算数!$AT$10","v":0},{"$f":"COUNTIF([1]算数!AU27,1)*[1]算数!$AU$10","v":0},{"$f":"COUNTIF([1]算数!AV27,1)*[1]算数!$AV$10","v":0},{"$f":"COUNTIF([1]算数!AW27,1)*[1]算数!$AW$10","v":0},{"$f":"COUNTIF([1]算数!AX27,1)*[1]算数!$AX$10","v":0},{"$f":"COUNTIF([1]算数!AY27,1)*[1]算数!$AY$10","v":0},{"$f":"COUNTIF([1]算数!AZ27,1)*[1]算数!$AZ$10","v":0},{"$f":"COUNTIF([1]算数!BA27,1)*[1]算数!$BA$10","v":0},{"$f":"COUNTIF([1]算数!BB27,1)*[1]算数!$BB$10","v":0},0,null,null,"17問",{"$f":"[1]算数!U58","v":0},null,"17問",32.700000000000003,null,17,9,"（２）","変化と関係"]
[18,{"$f":"COUNTIF([1]算数!E28,1)*[1]算数!$E$10","v":0},{"$f":"COUNTIF([1]算数!F28,1)*[1]算数!$F$10","v":0},{"$f":"COUNTIF([1]算数!G28,1)*[1]算数!$G$10","v":0},{"$f":"COUNTIF([1]算数!H28,1)*[1]算数!$H$10","v":0},{"$f":"COUNTIF([1]算数!I28,1)*[1]算数!$I$10","v":0},{"$f":"COUNTIF([1]算数!J28,1)*[1]算数!$J$10","v":0},{"$f":"COUNTIF([1]算数!K28,1)*[1]算数!$K$10","v":0},{"$f":"COUNTIF([1]算数!L28,1)*[1]算数!$L$10","v":0},{"$f":"COUNTIF([1]算数!M28,1)*[1]算数!$M$10","v":0},{"$f":"COUNTIF([1]算数!N28,1)*[1]算数!$N$10","v":0},{"$f":"COUNTIF([1]算数!O28,1)*[1]算数!$O$10","v":0},{"$f":"COUNTIF([1]算数!P28,1)*[1]算数!$K$10","v":0},{"$f":"COUNTIF([1]算数!Q28,1)*[1]算数!$K$10","v":0},{"$f":"COUNTIF([1]算数!R28,1)*[1]算数!$R$10","v":0},{"$f":"COUNTIF([1]算数!S28,1)*[1]算数!$S$10","v":0},{"$f":"COUNTIF([1]算数!T28,1)*[1]算数!$T$10","v":0},{"$f":"COUNTIF([1]算数!U28,1)*[1]算数!$U$10","v":0},{"$f":"COUNTIF([1]算数!V28,1)*[1]算数!$V$10","v":0},{"$f":"COUNTIF([1]算数!W28,1)*[1]算数!$W$10","v":0},{"$f":"COUNTIF([1]算数!X28,1)*[1]算数!$X$10","v":0},{"$f":"COUNTIF([1]算数!Y28,1)*[1]算数!$Y$10","v":0},{"$f":"COUNTIF([1]算数!Z28,1)*[1]算数!$Z$10","v":0},{"$f":"COUNTIF([1]算数!AA28,1)*[1]算数!$AA$10","v":0},{"$f":"COUNTIF([1]算数!AB28,1)*[1]算数!$AB$10","v":0},{"$f":"COUNTIF([1]算数!AC28,1)*[1]算数!$AC$10","v":0},{"$f":"COUNTIF([1]算数!AD28,1)*[1]算数!$AD$10","v":0},{"$f":"COUNTIF([1]算数!AE28,1)*[1]算数!$AE$10","v":0},{"$f":"COUNTIF([1]算数!AF28,1)*[1]算数!$AF$10","v":0},{"$f":"COUNTIF([1]算数!AG28,1)*[1]算数!$AG$10","v":0},{"$f":"COUNTIF([1]算数!AH28,1)*[1]算数!$AH$10","v":0},{"$f":"COUNTIF([1]算数!AI28,1)*[1]算数!$AI$10","v":0},{"$f":"COUNTIF([1]算数!AJ28,1)*[1]算数!$AJ$10","v":0},{"$f":"COUNTIF([1]算数!AK28,1)*[1]算数!$AK$10","v":0},{"$f":"COUNTIF([1]算数!AL28,1)*[1]算数!$AL$10","v":0},{"$f":"COUNTIF([1]算数!AM28,1)*[1]算数!$AM$10","v":0},{"$f":"COUNTIF([1]算数!AN28,1)*[1]算数!$AN$10","v":0},{"$f":"COUNTIF([1]算数!AO28,1)*[1]算数!$AO$10","v":0},{"$f":"COUNTIF([1]算数!AP28,1)*[1]算数!$AP$10","v":0},{"$f":"COUNTIF([1]算数!AQ28,1)*[1]算数!$AQ$10","v":0},{"$f":"COUNTIF([1]算数!AR28,1)*[1]算数!$AR$10","v":0},{"$f":"COUNTIF([1]算数!AS28,1)*[1]算数!$AS$10","v":0},{"$f":"COUNTIF([1]算数!AT28,1)*[1]算数!$AT$10","v":0},{"$f":"COUNTIF([1]算数!AU28,1)*[1]算数!$AU$10","v":0},{"$f":"COUNTIF([1]算数!AV28,1)*[1]算数!$AV$10","v":0},{"$f":"COUNTIF([1]算数!AW28,1)*[1]算数!$AW$10","v":0},{"$f":"COUNTIF([1]算数!AX28,1)*[1]算数!$AX$10","v":0},{"$f":"COUNTIF([1]算数!AY28,1)*[1]算数!$AY$10","v":0},{"$f":"COUNTIF([1]算数!AZ28,1)*[1]算数!$AZ$10","v":0},{"$f":"COUNTIF([1]算数!BA28,1)*[1]算数!$BA$10","v":0},{"$f":"COUNTIF([1]算数!BB28,1)*[1]算数!$BB$10","v":0},0,null,null,"18問",{"$f":"[1]算数!V58","v":0},null,"18問",53.800000000000004,null,18,9,"（３）","変化と関係"]
[19,{"$f":"COUNTIF([1]算数!E29,1)*[1]算数!$E$10","v":0},{"$f":"COUNTIF([1]算数!F29,1)*[1]算数!$F$10","v":0},{"$f":"COUNTIF([1]算数!G29,1)*[1]算数!$G$10","v":0},{"$f":"COUNTIF([1]算数!H29,1)*[1]算数!$H$10","v":0},{"$f":"COUNTIF([1]算数!I29,1)*[1]算数!$I$10","v":0},{"$f":"COUNTIF([1]算数!J29,1)*[1]算数!$J$10","v":0},{"$f":"COUNTIF([1]算数!K29,1)*[1]算数!$K$10","v":0},{"$f":"COUNTIF([1]算数!L29,1)*[1]算数!$L$10","v":0},{"$f":"COUNTIF([1]算数!M29,1)*[1]算数!$M$10","v":0},{"$f":"COUNTIF([1]算数!N29,1)*[1]算数!$N$10","v":0},{"$f":"COUNTIF([1]算数!O29,1)*[1]算数!$O$10","v":0},{"$f":"COUNTIF([1]算数!P29,1)*[1]算数!$K$10","v":0},{"$f":"COUNTIF([1]算数!Q29,1)*[1]算数!$K$10","v":0},{"$f":"COUNTIF([1]算数!R29,1)*[1]算数!$R$10","v":0},{"$f":"COUNTIF([1]算数!S29,1)*[1]算数!$S$10","v":0},{"$f":"COUNTIF([1]算数!T29,1)*[1]算数!$T$10","v":0},{"$f":"COUNTIF([1]算数!U29,1)*[1]算数!$U$10","v":0},{"$f":"COUNTIF([1]算数!V29,1)*[1]算数!$V$10","v":0},{"$f":"COUNTIF([1]算数!W29,1)*[1]算数!$W$10","v":0},{"$f":"COUNTIF([1]算数!X29,1)*[1]算数!$X$10","v":0},{"$f":"COUNTIF([1]算数!Y29,1)*[1]算数!$Y$10","v":0},{"$f":"COUNTIF([1]算数!Z29,1)*[1]算数!$Z$10","v":0},{"$f":"COUNTIF([1]算数!AA29,1)*[1]算数!$AA$10","v":0},{"$f":"COUNTIF([1]算数!AB29,1)*[1]算数!$AB$10","v":0},{"$f":"COUNTIF([1]算数!AC29,1)*[1]算数!$AC$10","v":0},{"$f":"COUNTIF([1]算数!AD29,1)*[1]算数!$AD$10","v":0},{"$f":"COUNTIF([1]算数!AE29,1)*[1]算数!$AE$10","v":0},{"$f":"COUNTIF([1]算数!AF29,1)*[1]算数!$AF$10","v":0},{"$f":"COUNTIF([1]算数!AG29,1)*[1]算数!$AG$10","v":0},{"$f":"COUNTIF([1]算数!AH29,1)*[1]算数!$AH$10","v":0},{"$f":"COUNTIF([1]算数!AI29,1)*[1]算数!$AI$10","v":0},{"$f":"COUNTIF([1]算数!AJ29,1)*[1]算数!$AJ$10","v":0},{"$f":"COUNTIF([1]算数!AK29,1)*[1]算数!$AK$10","v":0},{"$f":"COUNTIF([1]算数!AL29,1)*[1]算数!$AL$10","v":0},{"$f":"COUNTIF([1]算数!AM29,1)*[1]算数!$AM$10","v":0},{"$f":"COUNTIF([1]算数!AN29,1)*[1]算数!$AN$10","v":0},{"$f":"COUNTIF([1]算数!AO29,1)*[1]算数!$AO$10","v":0},{"$f":"COUNTIF([1]算数!AP29,1)*[1]算数!$AP$10","v":0},{"$f":"COUNTIF([1]算数!AQ29,1)*[1]算数!$AQ$10","v":0},{"$f":"COUNTIF([1]算数!AR29,1)*[1]算数!$AR$10","v":0},{"$f":"COUNTIF([1]算数!AS29,1)*[1]算数!$AS$10","v":0},{"$f":"COUNTIF([1]算数!AT29,1)*[1]算数!$AT$10","v":0},{"$f":"COUNTIF([1]算数!AU29,1)*[1]算数!$AU$10","v":0},{"$f":"COUNTIF([1]算数!AV29,1)*[1]算数!$AV$10","v":0},{"$f":"COUNTIF([1]算数!AW29,1)*[1]算数!$AW$10","v":0},{"$f":"COUNTIF([1]算数!AX29,1)*[1]算数!$AX$10","v":0},{"$f":"COUNTIF([1]算数!AY29,1)*[1]算数!$AY$10","v":0},{"$f":"COUNTIF([1]算数!AZ29,1)*[1]算数!$AZ$10","v":0},{"$f":"COUNTIF([1]算数!BA29,1)*[1]算数!$BA$10","v":0},{"$f":"COUNTIF([1]算数!BB29,1)*[1]算数!$BB$10","v":0},0,null,null,"19問",{"$f":"[1]算数!W58","v":0},null,"19問",49.3,null,19,10,"（１）","変化と関係"]
[20,{"$f":"COUNTIF([1]算数!E30,1)*[1]算数!$E$10","v":0},{"$f":"COUNTIF([1]算数!F30,1)*[1]算数!$F$10","v":0},{"$f":"COUNTIF([1]算数!G30,1)*[1]算数!$G$10","v":0},{"$f":"COUNTIF([1]算数!H30,1)*[1]算数!$H$10","v":0},{"$f":"COUNTIF([1]算数!I30,1)*[1]算数!$I$10","v":0},{"$f":"COUNTIF([1]算数!J30,1)*[1]算数!$J$10","v":0},{"$f":"COUNTIF([1]算数!K30,1)*[1]算数!$K$10","v":0},{"$f":"COUNTIF([1]算数!L30,1)*[1]算数!$L$10","v":0},{"$f":"COUNTIF([1]算数!M30,1)*[1]算数!$M$10","v":0},{"$f":"COUNTIF([1]算数!N30,1)*[1]算数!$N$10","v":0},{"$f":"COUNTIF([1]算数!O30,1)*[1]算数!$O$10","v":0},{"$f":"COUNTIF([1]算数!P30,1)*[1]算数!$K$10","v":0},{"$f":"COUNTIF([1]算数!Q30,1)*[1]算数!$K$10","v":0},{"$f":"COUNTIF([1]算数!R30,1)*[1]算数!$R$10","v":0},{"$f":"COUNTIF([1]算数!S30,1)*[1]算数!$S$10","v":0},{"$f":"COUNTIF([1]算数!T30,1)*[1]算数!$T$10","v":0},{"$f":"COUNTIF([1]算数!U30,1)*[1]算数!$U$10","v":0},{"$f":"COUNTIF([1]算数!V30,1)*[1]算数!$V$10","v":0},{"$f":"COUNTIF([1]算数!W30,1)*[1]算数!$W$10","v":0},{"$f":"COUNTIF([1]算数!X30,1)*[1]算数!$X$10","v":0},{"$f":"COUNTIF([1]算数!Y30,1)*[1]算数!$Y$10","v":0},{"$f":"COUNTIF([1]算数!Z30,1)*[1]算数!$Z$10","v":0},{"$f":"COUNTIF([1]算数!AA30,1)*[1]算数!$AA$10","v":0},{"$f":"COUNTIF([1]算数!AB30,1)*[1]算数!$AB$10","v":0},{"$f":"COUNTIF([1]算数!AC30,1)*[1]算数!$AC$10","v":0},{"$f":"COUNTIF([1]算数!AD30,1)*[1]算数!$AD$10","v":0},{"$f":"COUNTIF([1]算数!AE30,1)*[1]算数!$AE$10","v":0},{"$f":"COUNTIF([1]算数!AF30,1)*[1]算数!$AF$10","v":0},{"$f":"COUNTIF([1]算数!AG30,1)*[1]算数!$AG$10","v":0},{"$f":"COUNTIF([1]算数!AH30,1)*[1]算数!$AH$10","v":0},{"$f":"COUNTIF([1]算数!AI30,1)*[1]算数!$AI$10","v":0},{"$f":"COUNTIF([1]算数!AJ30,1)*[1]算数!$AJ$10","v":0},{"$f":"COUNTIF([1]算数!AK30,1)*[1]算数!$AK$10","v":0},{"$f":"COUNTIF([1]算数!AL30,1)*[1]算数!$AL$10","v":0},{"$f":"COUNTIF([1]算数!AM30,1)*[1]算数!$AM$10","v":0},{"$f":"COUNTIF([1]算数!AN30,1)*[1]算数!$AN$10","v":0},{"$f":"COUNTIF([1]算数!AO30,1)*[1]算数!$AO$10","v":0},{"$f":"COUNTIF([1]算数!AP30,1)*[1]算数!$AP$10","v":0},{"$f":"COUNTIF([1]算数!AQ30,1)*[1]算数!$AQ$10","v":0},{"$f":"COUNTIF([1]算数!AR30,1)*[1]算数!$AR$10","v":0},{"$f":"COUNTIF([1]算数!AS30,1)*[1]算数!$AS$10","v":0},{"$f":"COUNTIF([1]算数!AT30,1)*[1]算数!$AT$10","v":0},{"$f":"COUNTIF([1]算数!AU30,1)*[1]算数!$AU$10","v":0},{"$f":"COUNTIF([1]算数!AV30,1)*[1]算数!$AV$10","v":0},{"$f":"COUNTIF([1]算数!AW30,1)*[1]算数!$AW$10","v":0},{"$f":"COUNTIF([1]算数!AX30,1)*[1]算数!$AX$10","v":0},{"$f":"COUNTIF([1]算数!AY30,1)*[1]算数!$AY$10","v":0},{"$f":"COUNTIF([1]算数!AZ30,1)*[1]算数!$AZ$10","v":0},{"$f":"COUNTIF([1]算数!BA30,1)*[1]算数!$BA$10","v":0},{"$f":"COUNTIF([1]算数!BB30,1)*[1]算数!$BB$10","v":0},0,null,null,"20問",{"$f":"[1]算数!X58","v":0},null,"20問",32.1,null,20,10,"（２）","変化と関係"]
[21,{"$f":"COUNTIF([1]算数!E31,1)*[1]算数!$E$10","v":0},{"$f":"COUNTIF([1]算数!F31,1)*[1]算数!$F$10","v":0},{"$f":"COUNTIF([1]算数!G31,1)*[1]算数!$G$10","v":0},{"$f":"COUNTIF([1]算数!H31,1)*[1]算数!$H$10","v":0},{"$f":"COUNTIF([1]算数!I31,1)*[1]算数!$I$10","v":0},{"$f":"COUNTIF([1]算数!J31,1)*[1]算数!$J$10","v":0},{"$f":"COUNTIF([1]算数!K31,1)*[1]算数!$K$10","v":0},{"$f":"COUNTIF([1]算数!L31,1)*[1]算数!$L$10","v":0},{"$f":"COUNTIF([1]算数!M31,1)*[1]算数!$M$10","v":0},{"$f":"COUNTIF([1]算数!N31,1)*[1]算数!$N$10","v":0},{"$f":"COUNTIF([1]算数!O31,1)*[1]算数!$O$10","v":0},{"$f":"COUNTIF([1]算数!P31,1)*[1]算数!$K$10","v":0},{"$f":"COUNTIF([1]算数!Q31,1)*[1]算数!$K$10","v":0},{"$f":"COUNTIF([1]算数!R31,1)*[1]算数!$R$10","v":0},{"$f":"COUNTIF([1]算数!S31,1)*[1]算数!$S$10","v":0},{"$f":"COUNTIF([1]算数!T31,1)*[1]算数!$T$10","v":0},{"$f":"COUNTIF([1]算数!U31,1)*[1]算数!$U$10","v":0},{"$f":"COUNTIF([1]算数!V31,1)*[1]算数!$V$10","v":0},{"$f":"COUNTIF([1]算数!W31,1)*[1]算数!$W$10","v":0},{"$f":"COUNTIF([1]算数!X31,1)*[1]算数!$X$10","v":0},{"$f":"COUNTIF([1]算数!Y31,1)*[1]算数!$Y$10","v":0},{"$f":"COUNTIF([1]算数!Z31,1)*[1]算数!$Z$10","v":0},{"$f":"COUNTIF([1]算数!AA31,1)*[1]算数!$AA$10","v":0},{"$f":"COUNTIF([1]算数!AB31,1)*[1]算数!$AB$10","v":0},{"$f":"COUNTIF([1]算数!AC31,1)*[1]算数!$AC$10","v":0},{"$f":"COUNTIF([1]算数!AD31,1)*[1]算数!$AD$10","v":0},{"$f":"COUNTIF([1]算数!AE31,1)*[1]算数!$AE$10","v":0},{"$f":"COUNTIF([1]算数!AF31,1)*[1]算数!$AF$10","v":0},{"$f":"COUNTIF([1]算数!AG31,1)*[1]算数!$AG$10","v":0},{"$f":"COUNTIF([1]算数!AH31,1)*[1]算数!$AH$10","v":0},{"$f":"COUNTIF([1]算数!AI31,1)*[1]算数!$AI$10","v":0},{"$f":"COUNTIF([1]算数!AJ31,1)*[1]算数!$AJ$10","v":0},{"$f":"COUNTIF([1]算数!AK31,1)*[1]算数!$AK$10","v":0},{"$f":"COUNTIF([1]算数!AL31,1)*[1]算数!$AL$10","v":0},{"$f":"COUNTIF([1]算数!AM31,1)*[1]算数!$AM$10","v":0},{"$f":"COUNTIF([1]算数!AN31,1)*[1]算数!$AN$10","v":0},{"$f":"COUNTIF([1]算数!AO31,1)*[1]算数!$AO$10","v":0},{"$f":"COUNTIF([1]算数!AP31,1)*[1]算数!$AP$10","v":0},{"$f":"COUNTIF([1]算数!AQ31,1)*[1]算数!$AQ$10","v":0},{"$f":"COUNTIF([1]算数!AR31,1)*[1]算数!$AR$10","v":0},{"$f":"COUNTIF([1]算数!AS31,1)*[1]算数!$AS$10","v":0},{"$f":"COUNTIF([1]算数!AT31,1)*[1]算数!$AT$10","v":0},{"$f":"COUNTIF([1]算数!AU31,1)*[1]算数!$AU$10","v":0},{"$f":"COUNTIF([1]算数!AV31,1)*[1]算数!$AV$10","v":0},{"$f":"COUNTIF([1]算数!AW31,1)*[1]算数!$AW$10","v":0},{"$f":"COUNTIF([1]算数!AX31,1)*[1]算数!$AX$10","v":0},{"$f":"COUNTIF([1]算数!AY31,1)*[1]算数!$AY$10","v":0},{"$f":"COUNTIF([1]算数!AZ31,1)*[1]算数!$AZ$10","v":0},{"$f":"COUNTIF([1]算数!BA31,1)*[1]算数!$BA$10","v":0},{"$f":"COUNTIF([1]算数!BB31,1)*[1]算数!$BB$10","v":0},0,null,null,"21問",{"$f":"[1]算数!Y58","v":0},null,"21問",20.3,null,21,11,null,"数と計算"]
[22,{"$f":"COUNTIF([1]算数!E32,1)*[1]算数!$E$10","v":0},{"$f":"COUNTIF([1]算数!F32,1)*[1]算数!$F$10","v":0},{"$f":"COUNTIF([1]算数!G32,1)*[1]算数!$G$10","v":0},{"$f":"COUNTIF([1]算数!H32,1)*[1]算数!$H$10","v":0},{"$f":"COUNTIF([1]算数!I32,1)*[1]算数!$I$10","v":0},{"$f":"COUNTIF([1]算数!J32,1)*[1]算数!$J$10","v":0},{"$f":"COUNTIF([1]算数!K32,1)*[1]算数!$K$10","v":0},{"$f":"COUNTIF([1]算数!L32,1)*[1]算数!$L$10","v":0},{"$f":"COUNTIF([1]算数!M32,1)*[1]算数!$M$10","v":0},{"$f":"COUNTIF([1]算数!N32,1)*[1]算数!$N$10","v":0},{"$f":"COUNTIF([1]算数!O32,1)*[1]算数!$O$10","v":0},{"$f":"COUNTIF([1]算数!P32,1)*[1]算数!$K$10","v":0},{"$f":"COUNTIF([1]算数!Q32,1)*[1]算数!$K$10","v":0},{"$f":"COUNTIF([1]算数!R32,1)*[1]算数!$R$10","v":0},{"$f":"COUNTIF([1]算数!S32,1)*[1]算数!$S$10","v":0},{"$f":"COUNTIF([1]算数!T32,1)*[1]算数!$T$10","v":0},{"$f":"COUNTIF([1]算数!U32,1)*[1]算数!$U$10","v":0},{"$f":"COUNTIF([1]算数!V32,1)*[1]算数!$V$10","v":0},{"$f":"COUNTIF([1]算数!W32,1)*[1]算数!$W$10","v":0},{"$f":"COUNTIF([1]算数!X32,1)*[1]算数!$X$10","v":0},{"$f":"COUNTIF([1]算数!Y32,1)*[1]算数!$Y$10","v":0},{"$f":"COUNTIF([1]算数!Z32,1)*[1]算数!$Z$10","v":0},{"$f":"COUNTIF([1]算数!AA32,1)*[1]算数!$AA$10","v":0},{"$f":"COUNTIF([1]算数!AB32,1)*[1]算数!$AB$10","v":0},{"$f":"COUNTIF([1]算数!AC32,1)*[1]算数!$AC$10","v":0},{"$f":"COUNTIF([1]算数!AD32,1)*[1]算数!$AD$10","v":0},{"$f":"COUNTIF([1]算数!AE32,1)*[1]算数!$AE$10","v":0},{"$f":"COUNTIF([1]算数!AF32,1)*[1]算数!$AF$10","v":0},{"$f":"COUNTIF([1]算数!AG32,1)*[1]算数!$AG$10","v":0},{"$f":"COUNTIF([1]算数!AH32,1)*[1]算数!$AH$10","v":0},{"$f":"COUNTIF([1]算数!AI32,1)*[1]算数!$AI$10","v":0},{"$f":"COUNTIF([1]算数!AJ32,1)*[1]算数!$AJ$10","v":0},{"$f":"COUNTIF([1]算数!AK32,1)*[1]算数!$AK$10","v":0},{"$f":"COUNTIF([1]算数!AL32,1)*[1]算数!$AL$10","v":0},{"$f":"COUNTIF([1]算数!AM32,1)*[1]算数!$AM$10","v":0},{"$f":"COUNTIF([1]算数!AN32,1)*[1]算数!$AN$10","v":0},{"$f":"COUNTIF([1]算数!AO32,1)*[1]算数!$AO$10","v":0},{"$f":"COUNTIF([1]算数!AP32,1)*[1]算数!$AP$10","v":0},{"$f":"COUNTIF([1]算数!AQ32,1)*[1]算数!$AQ$10","v":0},{"$f":"COUNTIF([1]算数!AR32,1)*[1]算数!$AR$10","v":0},{"$f":"COUNTIF([1]算数!AS32,1)*[1]算数!$AS$10","v":0},{"$f":"COUNTIF([1]算数!AT32,1)*[1]算数!$AT$10","v":0},{"$f":"COUNTIF([1]算数!AU32,1)*[1]算数!$AU$10","v":0},{"$f":"COUNTIF([1]算数!AV32,1)*[1]算数!$AV$10","v":0},{"$f":"COUNTIF([1]算数!AW32,1)*[1]算数!$AW$10","v":0},{"$f":"COUNTIF([1]算数!AX32,1)*[1]算数!$AX$10","v":0},{"$f":"COUNTIF([1]算数!AY32,1)*[1]算数!$AY$10","v":0},{"$f":"COUNTIF([1]算数!AZ32,1)*[1]算数!$AZ$10","v":0},{"$f":"COUNTIF([1]算数!BA32,1)*[1]算数!$BA$10","v":0},{"$f":"COUNTIF([1]算数!BB32,1)*[1]算数!$BB$10","v":0},0,null,null,"22問",{"$f":"[1]算数!Z58","v":0},null,"22問",56.599999999999994,null,22,12,null,"図形"]
[23,{"$f":"COUNTIF([1]算数!E33,1)*[1]算数!$E$10","v":0},{"$f":"COUNTIF([1]算数!F33,1)*[1]算数!$F$10","v":0},{"$f":"COUNTIF([1]算数!G33,1)*[1]算数!$G$10","v":0},{"$f":"COUNTIF([1]算数!H33,1)*[1]算数!$H$10","v":0},{"$f":"COUNTIF([1]算数!I33,1)*[1]算数!$I$10","v":0},{"$f":"COUNTIF([1]算数!J33,1)*[1]算数!$J$10","v":0},{"$f":"COUNTIF([1]算数!K33,1)*[1]算数!$K$10","v":0},{"$f":"COUNTIF([1]算数!L33,1)*[1]算数!$L$10","v":0},{"$f":"COUNTIF([1]算数!M33,1)*[1]算数!$M$10","v":0},{"$f":"COUNTIF([1]算数!N33,1)*[1]算数!$N$10","v":0},{"$f":"COUNTIF([1]算数!O33,1)*[1]算数!$O$10","v":0},{"$f":"COUNTIF([1]算数!P33,1)*[1]算数!$K$10","v":0},{"$f":"COUNTIF([1]算数!Q33,1)*[1]算数!$K$10","v":0},{"$f":"COUNTIF([1]算数!R33,1)*[1]算数!$R$10","v":0},{"$f":"COUNTIF([1]算数!S33,1)*[1]算数!$S$10","v":0},{"$f":"COUNTIF([1]算数!T33,1)*[1]算数!$T$10","v":0},{"$f":"COUNTIF([1]算数!U33,1)*[1]算数!$U$10","v":0},{"$f":"COUNTIF([1]算数!V33,1)*[1]算数!$V$10","v":0},{"$f":"COUNTIF([1]算数!W33,1)*[1]算数!$W$10","v":0},{"$f":"COUNTIF([1]算数!X33,1)*[1]算数!$X$10","v":0},{"$f":"COUNTIF([1]算数!Y33,1)*[1]算数!$Y$10","v":0},{"$f":"COUNTIF([1]算数!Z33,1)*[1]算数!$Z$10","v":0},{"$f":"COUNTIF([1]算数!AA33,1)*[1]算数!$AA$10","v":0},{"$f":"COUNTIF([1]算数!AB33,1)*[1]算数!$AB$10","v":0},{"$f":"COUNTIF([1]算数!AC33,1)*[1]算数!$AC$10","v":0},{"$f":"COUNTIF([1]算数!AD33,1)*[1]算数!$AD$10","v":0},{"$f":"COUNTIF([1]算数!AE33,1)*[1]算数!$AE$10","v":0},{"$f":"COUNTIF([1]算数!AF33,1)*[1]算数!$AF$10","v":0},{"$f":"COUNTIF([1]算数!AG33,1)*[1]算数!$AG$10","v":0},{"$f":"COUNTIF([1]算数!AH33,1)*[1]算数!$AH$10","v":0},{"$f":"COUNTIF([1]算数!AI33,1)*[1]算数!$AI$10","v":0},{"$f":"COUNTIF([1]算数!AJ33,1)*[1]算数!$AJ$10","v":0},{"$f":"COUNTIF([1]算数!AK33,1)*[1]算数!$AK$10","v":0},{"$f":"COUNTIF([1]算数!AL33,1)*[1]算数!$AL$10","v":0},{"$f":"COUNTIF([1]算数!AM33,1)*[1]算数!$AM$10","v":0},{"$f":"COUNTIF([1]算数!AN33,1)*[1]算数!$AN$10","v":0},{"$f":"COUNTIF([1]算数!AO33,1)*[1]算数!$AO$10","v":0},{"$f":"COUNTIF([1]算数!AP33,1)*[1]算数!$AP$10","v":0},{"$f":"COUNTIF([1]算数!AQ33,1)*[1]算数!$AQ$10","v":0},{"$f":"COUNTIF([1]算数!AR33,1)*[1]算数!$AR$10","v":0},{"$f":"COUNTIF([1]算数!AS33,1)*[1]算数!$AS$10","v":0},{"$f":"COUNTIF([1]算数!AT33,1)*[1]算数!$AT$10","v":0},{"$f":"COUNTIF([1]算数!AU33,1)*[1]算数!$AU$10","v":0},{"$f":"COUNTIF([1]算数!AV33,1)*[1]算数!$AV$10","v":0},{"$f":"COUNTIF([1]算数!AW33,1)*[1]算数!$AW$10","v":0},{"$f":"COUNTIF([1]算数!AX33,1)*[1]算数!$AX$10","v":0},{"$f":"COUNTIF([1]算数!AY33,1)*[1]算数!$AY$10","v":0},{"$f":"COUNTIF([1]算数!AZ33,1)*[1]算数!$AZ$10","v":0},{"$f":"COUNTIF([1]算数!BA33,1)*[1]算数!$BA$10","v":0},{"$f":"COUNTIF([1]算数!BB33,1)*[1]算数!$BB$10","v":0},0,null,null,"23問",{"$f":"[1]算数!AA58","v":0},null,"23問",78.900000000000006,null,23,13,"（１）","数と計算"]
[24,{"$f":"COUNTIF([1]算数!E34,1)*[1]算数!$E$10","v":0},{"$f":"COUNTIF([1]算数!F34,1)*[1]算数!$F$10","v":0},{"$f":"COUNTIF([1]算数!G34,1)*[1]算数!$G$10","v":0},{"$f":"COUNTIF([1]算数!H34,1)*[1]算数!$H$10","v":0},{"$f":"COUNTIF([1]算数!I34,1)*[1]算数!$I$10","v":0},{"$f":"COUNTIF([1]算数!J34,1)*[1]算数!$J$10","v":0},{"$f":"COUNTIF([1]算数!K34,1)*[1]算数!$K$10","v":0},{"$f":"COUNTIF([1]算数!L34,1)*[1]算数!$L$10","v":0},{"$f":"COUNTIF([1]算数!M34,1)*[1]算数!$M$10","v":0},{"$f":"COUNTIF([1]算数!N34,1)*[1]算数!$N$10","v":0},{"$f":"COUNTIF([1]算数!O34,1)*[1]算数!$O$10","v":0},{"$f":"COUNTIF([1]算数!P34,1)*[1]算数!$K$10","v":0},{"$f":"COUNTIF([1]算数!Q34,1)*[1]算数!$K$10","v":0},{"$f":"COUNTIF([1]算数!R34,1)*[1]算数!$R$10","v":0},{"$f":"COUNTIF([1]算数!S34,1)*[1]算数!$S$10","v":0},{"$f":"COUNTIF([1]算数!T34,1)*[1]算数!$T$10","v":0},{"$f":"COUNTIF([1]算数!U34,1)*[1]算数!$U$10","v":0},{"$f":"COUNTIF([1]算数!V34,1)*[1]算数!$V$10","v":0},{"$f":"COUNTIF([1]算数!W34,1)*[1]算数!$W$10","v":0},{"$f":"COUNTIF([1]算数!X34,1)*[1]算数!$X$10","v":0},{"$f":"COUNTIF([1]算数!Y34,1)*[1]算数!$Y$10","v":0},{"$f":"COUNTIF([1]算数!Z34,1)*[1]算数!$Z$10","v":0},{"$f":"COUNTIF([1]算数!AA34,1)*[1]算数!$AA$10","v":0},{"$f":"COUNTIF([1]算数!AB34,1)*[1]算数!$AB$10","v":0},{"$f":"COUNTIF([1]算数!AC34,1)*[1]算数!$AC$10","v":0},{"$f":"COUNTIF([1]算数!AD34,1)*[1]算数!$AD$10","v":0},{"$f":"COUNTIF([1]算数!AE34,1)*[1]算数!$AE$10","v":0},{"$f":"COUNTIF([1]算数!AF34,1)*[1]算数!$AF$10","v":0},{"$f":"COUNTIF([1]算数!AG34,1)*[1]算数!$AG$10","v":0},{"$f":"COUNTIF([1]算数!AH34,1)*[1]算数!$AH$10","v":0},{"$f":"COUNTIF([1]算数!AI34,1)*[1]算数!$AI$10","v":0},{"$f":"COUNTIF([1]算数!AJ34,1)*[1]算数!$AJ$10","v":0},{"$f":"COUNTIF([1]算数!AK34,1)*[1]算数!$AK$10","v":0},{"$f":"COUNTIF([1]算数!AL34,1)*[1]算数!$AL$10","v":0},{"$f":"COUNTIF([1]算数!AM34,1)*[1]算数!$AM$10","v":0},{"$f":"COUNTIF([1]算数!AN34,1)*[1]算数!$AN$10","v":0},{"$f":"COUNTIF([1]算数!AO34,1)*[1]算数!$AO$10","v":0},{"$f":"COUNTIF([1]算数!AP34,1)*[1]算数!$AP$10","v":0},{"$f":"COUNTIF([1]算数!AQ34,1)*[1]算数!$AQ$10","v":0},{"$f":"COUNTIF([1]算数!AR34,1)*[1]算数!$AR$10","v":0},{"$f":"COUNTIF([1]算数!AS34,1)*[1]算数!$AS$10","v":0},{"$f":"COUNTIF([1]算数!AT34,1)*[1]算数!$AT$10","v":0},{"$f":"COUNTIF([1]算数!AU34,1)*[1]算数!$AU$10","v":0},{"$f":"COUNTIF([1]算数!AV34,1)*[1]算数!$AV$10","v":0},{"$f":"COUNTIF([1]算数!AW34,1)*[1]算数!$AW$10","v":0},{"$f":"COUNTIF([1]算数!AX34,1)*[1]算数!$AX$10","v":0},{"$f":"COUNTIF([1]算数!AY34,1)*[1]算数!$AY$10","v":0},{"$f":"COUNTIF([1]算数!AZ34,1)*[1]算数!$AZ$10","v":0},{"$f":"COUNTIF([1]算数!BA34,1)*[1]算数!$BA$10","v":0},{"$f":"COUNTIF([1]算数!BB34,1)*[1]算数!$BB$10","v":0},0,null,null,"24問",{"$f":"[1]算数!AB58","v":0},null,"24問",55.400000000000006,null,24,13,"（２）","変化と関係"]
[25,{"$f":"COUNTIF([1]算数!E35,1)*[1]算数!$E$10","v":0},{"$f":"COUNTIF([1]算数!F35,1)*[1]算数!$F$10","v":0},{"$f":"COUNTIF([1]算数!G35,1)*[1]算数!$G$10","v":0},{"$f":"COUNTIF([1]算数!H35,1)*[1]算数!$H$10","v":0},{"$f":"COUNTIF([1]算数!I35,1)*[1]算数!$I$10","v":0},{"$f":"COUNTIF([1]算数!J35,1)*[1]算数!$J$10","v":0},{"$f":"COUNTIF([1]算数!K35,1)*[1]算数!$K$10","v":0},{"$f":"COUNTIF([1]算数!L35,1)*[1]算数!$L$10","v":0},{"$f":"COUNTIF([1]算数!M35,1)*[1]算数!$M$10","v":0},{"$f":"COUNTIF([1]算数!N35,1)*[1]算数!$N$10","v":0},{"$f":"COUNTIF([1]算数!O35,1)*[1]算数!$O$10","v":0},{"$f":"COUNTIF([1]算数!P35,1)*[1]算数!$K$10","v":0},{"$f":"COUNTIF([1]算数!Q35,1)*[1]算数!$K$10","v":0},{"$f":"COUNTIF([1]算数!R35,1)*[1]算数!$R$10","v":0},{"$f":"COUNTIF([1]算数!S35,1)*[1]算数!$S$10","v":0},{"$f":"COUNTIF([1]算数!T35,1)*[1]算数!$T$10","v":0},{"$f":"COUNTIF([1]算数!U35,1)*[1]算数!$U$10","v":0},{"$f":"COUNTIF([1]算数!V35,1)*[1]算数!$V$10","v":0},{"$f":"COUNTIF([1]算数!W35,1)*[1]算数!$W$10","v":0},{"$f":"COUNTIF([1]算数!X35,1)*[1]算数!$X$10","v":0},{"$f":"COUNTIF([1]算数!Y35,1)*[1]算数!$Y$10","v":0},{"$f":"COUNTIF([1]算数!Z35,1)*[1]算数!$Z$10","v":0},{"$f":"COUNTIF([1]算数!AA35,1)*[1]算数!$AA$10","v":0},{"$f":"COUNTIF([1]算数!AB35,1)*[1]算数!$AB$10","v":0},{"$f":"COUNTIF([1]算数!AC35,1)*[1]算数!$AC$10","v":0},{"$f":"COUNTIF([1]算数!AD35,1)*[1]算数!$AD$10","v":0},{"$f":"COUNTIF([1]算数!AE35,1)*[1]算数!$AE$10","v":0},{"$f":"COUNTIF([1]算数!AF35,1)*[1]算数!$AF$10","v":0},{"$f":"COUNTIF([1]算数!AG35,1)*[1]算数!$AG$10","v":0},{"$f":"COUNTIF([1]算数!AH35,1)*[1]算数!$AH$10","v":0},{"$f":"COUNTIF([1]算数!AI35,1)*[1]算数!$AI$10","v":0},{"$f":"COUNTIF([1]算数!AJ35,1)*[1]算数!$AJ$10","v":0},{"$f":"COUNTIF([1]算数!AK35,1)*[1]算数!$AK$10","v":0},{"$f":"COUNTIF([1]算数!AL35,1)*[1]算数!$AL$10","v":0},{"$f":"COUNTIF([1]算数!AM35,1)*[1]算数!$AM$10","v":0},{"$f":"COUNTIF([1]算数!AN35,1)*[1]算数!$AN$10","v":0},{"$f":"COUNTIF([1]算数!AO35,1)*[1]算数!$AO$10","v":0},{"$f":"COUNTIF([1]算数!AP35,1)*[1]算数!$AP$10","v":0},{"$f":"COUNTIF([1]算数!AQ35,1)*[1]算数!$AQ$10","v":0},{"$f":"COUNTIF([1]算数!AR35,1)*[1]算数!$AR$10","v":0},{"$f":"COUNTIF([1]算数!AS35,1)*[1]算数!$AS$10","v":0},{"$f":"COUNTIF([1]算数!AT35,1)*[1]算数!$AT$10","v":0},{"$f":"COUNTIF([1]算数!AU35,1)*[1]算数!$AU$10","v":0},{"$f":"COUNTIF([1]算数!AV35,1)*[1]算数!$AV$10","v":0},{"$f":"COUNTIF([1]算数!AW35,1)*[1]算数!$AW$10","v":0},{"$f":"COUNTIF([1]算数!AX35,1)*[1]算数!$AX$10","v":0},{"$f":"COUNTIF([1]算数!AY35,1)*[1]算数!$AY$10","v":0},{"$f":"COUNTIF([1]算数!AZ35,1)*[1]算数!$AZ$10","v":0},{"$f":"COUNTIF([1]算数!BA35,1)*[1]算数!$BA$10","v":0},{"$f":"COUNTIF([1]算数!BB35,1)*[1]算数!$BB$10","v":0},0,null,null,"25問",{"$f":"[1]算数!AC58","v":0},null,"25問",58.199999999999996,null,25,13,"（２）","変化と関係"]
[26,{"$f":"COUNTIF([1]算数!E36,1)*[1]算数!$E$10","v":0},{"$f":"COUNTIF([1]算数!F36,1)*[1]算数!$F$10","v":0},{"$f":"COUNTIF([1]算数!G36,1)*[1]算数!$G$10","v":0},{"$f":"COUNTIF([1]算数!H36,1)*[1]算数!$H$10","v":0},{"$f":"COUNTIF([1]算数!I36,1)*[1]算数!$I$10","v":0},{"$f":"COUNTIF([1]算数!J36,1)*[1]算数!$J$10","v":0},{"$f":"COUNTIF([1]算数!K36,1)*[1]算数!$K$10","v":0},{"$f":"COUNTIF([1]算数!L36,1)*[1]算数!$L$10","v":0},{"$f":"COUNTIF([1]算数!M36,1)*[1]算数!$M$10","v":0},{"$f":"COUNTIF([1]算数!N36,1)*[1]算数!$N$10","v":0},{"$f":"COUNTIF([1]算数!O36,1)*[1]算数!$O$10","v":0},{"$f":"COUNTIF([1]算数!P36,1)*[1]算数!$K$10","v":0},{"$f":"COUNTIF([1]算数!Q36,1)*[1]算数!$K$10","v":0},{"$f":"COUNTIF([1]算数!R36,1)*[1]算数!$R$10","v":0},{"$f":"COUNTIF([1]算数!S36,1)*[1]算数!$S$10","v":0},{"$f":"COUNTIF([1]算数!T36,1)*[1]算数!$T$10","v":0},{"$f":"COUNTIF([1]算数!U36,1)*[1]算数!$U$10","v":0},{"$f":"COUNTIF([1]算数!V36,1)*[1]算数!$V$10","v":0},{"$f":"COUNTIF([1]算数!W36,1)*[1]算数!$W$10","v":0},{"$f":"COUNTIF([1]算数!X36,1)*[1]算数!$X$10","v":0},{"$f":"COUNTIF([1]算数!Y36,1)*[1]算数!$Y$10","v":0},{"$f":"COUNTIF([1]算数!Z36,1)*[1]算数!$Z$10","v":0},{"$f":"COUNTIF([1]算数!AA36,1)*[1]算数!$AA$10","v":0},{"$f":"COUNTIF([1]算数!AB36,1)*[1]算数!$AB$10","v":0},{"$f":"COUNTIF([1]算数!AC36,1)*[1]算数!$AC$10","v":0},{"$f":"COUNTIF([1]算数!AD36,1)*[1]算数!$AD$10","v":0},{"$f":"COUNTIF([1]算数!AE36,1)*[1]算数!$AE$10","v":0},{"$f":"COUNTIF([1]算数!AF36,1)*[1]算数!$AF$10","v":0},{"$f":"COUNTIF([1]算数!AG36,1)*[1]算数!$AG$10","v":0},{"$f":"COUNTIF([1]算数!AH36,1)*[1]算数!$AH$10","v":0},{"$f":"COUNTIF([1]算数!AI36,1)*[1]算数!$AI$10","v":0},{"$f":"COUNTIF([1]算数!AJ36,1)*[1]算数!$AJ$10","v":0},{"$f":"COUNTIF([1]算数!AK36,1)*[1]算数!$AK$10","v":0},{"$f":"COUNTIF([1]算数!AL36,1)*[1]算数!$AL$10","v":0},{"$f":"COUNTIF([1]算数!AM36,1)*[1]算数!$AM$10","v":0},{"$f":"COUNTIF([1]算数!AN36,1)*[1]算数!$AN$10","v":0},{"$f":"COUNTIF([1]算数!AO36,1)*[1]算数!$AO$10","v":0},{"$f":"COUNTIF([1]算数!AP36,1)*[1]算数!$AP$10","v":0},{"$f":"COUNTIF([1]算数!AQ36,1)*[1]算数!$AQ$10","v":0},{"$f":"COUNTIF([1]算数!AR36,1)*[1]算数!$AR$10","v":0},{"$f":"COUNTIF([1]算数!AS36,1)*[1]算数!$AS$10","v":0},{"$f":"COUNTIF([1]算数!AT36,1)*[1]算数!$AT$10","v":0},{"$f":"COUNTIF([1]算数!AU36,1)*[1]算数!$AU$10","v":0},{"$f":"COUNTIF([1]算数!AV36,1)*[1]算数!$AV$10","v":0},{"$f":"COUNTIF([1]算数!AW36,1)*[1]算数!$AW$10","v":0},{"$f":"COUNTIF([1]算数!AX36,1)*[1]算数!$AX$10","v":0},{"$f":"COUNTIF([1]算数!AY36,1)*[1]算数!$AY$10","v":0},{"$f":"COUNTIF([1]算数!AZ36,1)*[1]算数!$AZ$10","v":0},{"$f":"COUNTIF([1]算数!BA36,1)*[1]算数!$BA$10","v":0},{"$f":"COUNTIF([1]算数!BB36,1)*[1]算数!$BB$10","v":0},0,null,null,"26問",{"$f":"[1]算数!AD58","v":0},null,"26問",null,null,26]
[27,{"$f":"COUNTIF([1]算数!E37,1)*[1]算数!$E$10","v":0},{"$f":"COUNTIF([1]算数!F37,1)*[1]算数!$F$10","v":0},{"$f":"COUNTIF([1]算数!G37,1)*[1]算数!$G$10","v":0},{"$f":"COUNTIF([1]算数!H37,1)*[1]算数!$H$10","v":0},{"$f":"COUNTIF([1]算数!I37,1)*[1]算数!$I$10","v":0},{"$f":"COUNTIF([1]算数!J37,1)*[1]算数!$J$10","v":0},{"$f":"COUNTIF([1]算数!K37,1)*[1]算数!$K$10","v":0},{"$f":"COUNTIF([1]算数!L37,1)*[1]算数!$L$10","v":0},{"$f":"COUNTIF([1]算数!M37,1)*[1]算数!$M$10","v":0},{"$f":"COUNTIF([1]算数!N37,1)*[1]算数!$N$10","v":0},{"$f":"COUNTIF([1]算数!O37,1)*[1]算数!$O$10","v":0},{"$f":"COUNTIF([1]算数!P37,1)*[1]算数!$K$10","v":0},{"$f":"COUNTIF([1]算数!Q37,1)*[1]算数!$K$10","v":0},{"$f":"COUNTIF([1]算数!R37,1)*[1]算数!$R$10","v":0},{"$f":"COUNTIF([1]算数!S37,1)*[1]算数!$S$10","v":0},{"$f":"COUNTIF([1]算数!T37,1)*[1]算数!$T$10","v":0},{"$f":"COUNTIF([1]算数!U37,1)*[1]算数!$U$10","v":0},{"$f":"COUNTIF([1]算数!V37,1)*[1]算数!$V$10","v":0},{"$f":"COUNTIF([1]算数!W37,1)*[1]算数!$W$10","v":0},{"$f":"COUNTIF([1]算数!X37,1)*[1]算数!$X$10","v":0},{"$f":"COUNTIF([1]算数!Y37,1)*[1]算数!$Y$10","v":0},{"$f":"COUNTIF([1]算数!Z37,1)*[1]算数!$Z$10","v":0},{"$f":"COUNTIF([1]算数!AA37,1)*[1]算数!$AA$10","v":0},{"$f":"COUNTIF([1]算数!AB37,1)*[1]算数!$AB$10","v":0},{"$f":"COUNTIF([1]算数!AC37,1)*[1]算数!$AC$10","v":0},{"$f":"COUNTIF([1]算数!AD37,1)*[1]算数!$AD$10","v":0},{"$f":"COUNTIF([1]算数!AE37,1)*[1]算数!$AE$10","v":0},{"$f":"COUNTIF([1]算数!AF37,1)*[1]算数!$AF$10","v":0},{"$f":"COUNTIF([1]算数!AG37,1)*[1]算数!$AG$10","v":0},{"$f":"COUNTIF([1]算数!AH37,1)*[1]算数!$AH$10","v":0},{"$f":"COUNTIF([1]算数!AI37,1)*[1]算数!$AI$10","v":0},{"$f":"COUNTIF([1]算数!AJ37,1)*[1]算数!$AJ$10","v":0},{"$f":"COUNTIF([1]算数!AK37,1)*[1]算数!$AK$10","v":0},{"$f":"COUNTIF([1]算数!AL37,1)*[1]算数!$AL$10","v":0},{"$f":"COUNTIF([1]算数!AM37,1)*[1]算数!$AM$10","v":0},{"$f":"COUNTIF([1]算数!AN37,1)*[1]算数!$AN$10","v":0},{"$f":"COUNTIF([1]算数!AO37,1)*[1]算数!$AO$10","v":0},{"$f":"COUNTIF([1]算数!AP37,1)*[1]算数!$AP$10","v":0},{"$f":"COUNTIF([1]算数!AQ37,1)*[1]算数!$AQ$10","v":0},{"$f":"COUNTIF([1]算数!AR37,1)*[1]算数!$AR$10","v":0},{"$f":"COUNTIF([1]算数!AS37,1)*[1]算数!$AS$10","v":0},{"$f":"COUNTIF([1]算数!AT37,1)*[1]算数!$AT$10","v":0},{"$f":"COUNTIF([1]算数!AU37,1)*[1]算数!$AU$10","v":0},{"$f":"COUNTIF([1]算数!AV37,1)*[1]算数!$AV$10","v":0},{"$f":"COUNTIF([1]算数!AW37,1)*[1]算数!$AW$10","v":0},{"$f":"COUNTIF([1]算数!AX37,1)*[1]算数!$AX$10","v":0},{"$f":"COUNTIF([1]算数!AY37,1)*[1]算数!$AY$10","v":0},{"$f":"COUNTIF([1]算数!AZ37,1)*[1]算数!$AZ$10","v":0},{"$f":"COUNTIF([1]算数!BA37,1)*[1]算数!$BA$10","v":0},{"$f":"COUNTIF([1]算数!BB37,1)*[1]算数!$BB$10","v":0},0,null,null,"27問",{"$f":"[1]算数!AE58","v":0},null,"27問",null,null,27]
[28,{"$f":"COUNTIF([1]算数!E38,1)*[1]算数!$E$10","v":0},{"$f":"COUNTIF([1]算数!F38,1)*[1]算数!$F$10","v":0},{"$f":"COUNTIF([1]算数!G38,1)*[1]算数!$G$10","v":0},{"$f":"COUNTIF([1]算数!H38,1)*[1]算数!$H$10","v":0},{"$f":"COUNTIF([1]算数!I38,1)*[1]算数!$I$10","v":0},{"$f":"COUNTIF([1]算数!J38,1)*[1]算数!$J$10","v":0},{"$f":"COUNTIF([1]算数!K38,1)*[1]算数!$K$10","v":0},{"$f":"COUNTIF([1]算数!L38,1)*[1]算数!$L$10","v":0},{"$f":"COUNTIF([1]算数!M38,1)*[1]算数!$M$10","v":0},{"$f":"COUNTIF([1]算数!N38,1)*[1]算数!$N$10","v":0},{"$f":"COUNTIF([1]算数!O38,1)*[1]算数!$O$10","v":0},{"$f":"COUNTIF([1]算数!P38,1)*[1]算数!$K$10","v":0},{"$f":"COUNTIF([1]算数!Q38,1)*[1]算数!$K$10","v":0},{"$f":"COUNTIF([1]算数!R38,1)*[1]算数!$R$10","v":0},{"$f":"COUNTIF([1]算数!S38,1)*[1]算数!$S$10","v":0},{"$f":"COUNTIF([1]算数!T38,1)*[1]算数!$T$10","v":0},{"$f":"COUNTIF([1]算数!U38,1)*[1]算数!$U$10","v":0},{"$f":"COUNTIF([1]算数!V38,1)*[1]算数!$V$10","v":0},{"$f":"COUNTIF([1]算数!W38,1)*[1]算数!$W$10","v":0},{"$f":"COUNTIF([1]算数!X38,1)*[1]算数!$X$10","v":0},{"$f":"COUNTIF([1]算数!Y38,1)*[1]算数!$Y$10","v":0},{"$f":"COUNTIF([1]算数!Z38,1)*[1]算数!$Z$10","v":0},{"$f":"COUNTIF([1]算数!AA38,1)*[1]算数!$AA$10","v":0},{"$f":"COUNTIF([1]算数!AB38,1)*[1]算数!$AB$10","v":0},{"$f":"COUNTIF([1]算数!AC38,1)*[1]算数!$AC$10","v":0},{"$f":"COUNTIF([1]算数!AD38,1)*[1]算数!$AD$10","v":0},{"$f":"COUNTIF([1]算数!AE38,1)*[1]算数!$AE$10","v":0},{"$f":"COUNTIF([1]算数!AF38,1)*[1]算数!$AF$10","v":0},{"$f":"COUNTIF([1]算数!AG38,1)*[1]算数!$AG$10","v":0},{"$f":"COUNTIF([1]算数!AH38,1)*[1]算数!$AH$10","v":0},{"$f":"COUNTIF([1]算数!AI38,1)*[1]算数!$AI$10","v":0},{"$f":"COUNTIF([1]算数!AJ38,1)*[1]算数!$AJ$10","v":0},{"$f":"COUNTIF([1]算数!AK38,1)*[1]算数!$AK$10","v":0},{"$f":"COUNTIF([1]算数!AL38,1)*[1]算数!$AL$10","v":0},{"$f":"COUNTIF([1]算数!AM38,1)*[1]算数!$AM$10","v":0},{"$f":"COUNTIF([1]算数!AN38,1)*[1]算数!$AN$10","v":0},{"$f":"COUNTIF([1]算数!AO38,1)*[1]算数!$AO$10","v":0},{"$f":"COUNTIF([1]算数!AP38,1)*[1]算数!$AP$10","v":0},{"$f":"COUNTIF([1]算数!AQ38,1)*[1]算数!$AQ$10","v":0},{"$f":"COUNTIF([1]算数!AR38,1)*[1]算数!$AR$10","v":0},{"$f":"COUNTIF([1]算数!AS38,1)*[1]算数!$AS$10","v":0},{"$f":"COUNTIF([1]算数!AT38,1)*[1]算数!$AT$10","v":0},{"$f":"COUNTIF([1]算数!AU38,1)*[1]算数!$AU$10","v":0},{"$f":"COUNTIF([1]算数!AV38,1)*[1]算数!$AV$10","v":0},{"$f":"COUNTIF([1]算数!AW38,1)*[1]算数!$AW$10","v":0},{"$f":"COUNTIF([1]算数!AX38,1)*[1]算数!$AX$10","v":0},{"$f":"COUNTIF([1]算数!AY38,1)*[1]算数!$AY$10","v":0},{"$f":"COUNTIF([1]算数!AZ38,1)*[1]算数!$AZ$10","v":0},{"$f":"COUNTIF([1]算数!BA38,1)*[1]算数!$BA$10","v":0},{"$f":"COUNTIF([1]算数!BB38,1)*[1]算数!$BB$10","v":0},0,null,null,"28問",{"$f":"[1]算数!AF58","v":0},null,"28問",null,null,28]
[29,{"$f":"COUNTIF([1]算数!E39,1)*[1]算数!$E$10","v":0},{"$f":"COUNTIF([1]算数!F39,1)*[1]算数!$F$10","v":0},{"$f":"COUNTIF([1]算数!G39,1)*[1]算数!$G$10","v":0},{"$f":"COUNTIF([1]算数!H39,1)*[1]算数!$H$10","v":0},{"$f":"COUNTIF([1]算数!I39,1)*[1]算数!$I$10","v":0},{"$f":"COUNTIF([1]算数!J39,1)*[1]算数!$J$10","v":0},{"$f":"COUNTIF([1]算数!K39,1)*[1]算数!$K$10","v":0},{"$f":"COUNTIF([1]算数!L39,1)*[1]算数!$L$10","v":0},{"$f":"COUNTIF([1]算数!M39,1)*[1]算数!$M$10","v":0},{"$f":"COUNTIF([1]算数!N39,1)*[1]算数!$N$10","v":0},{"$f":"COUNTIF([1]算数!O39,1)*[1]算数!$O$10","v":0},{"$f":"COUNTIF([1]算数!P39,1)*[1]算数!$K$10","v":0},{"$f":"COUNTIF([1]算数!Q39,1)*[1]算数!$K$10","v":0},{"$f":"COUNTIF([1]算数!R39,1)*[1]算数!$R$10","v":0},{"$f":"COUNTIF([1]算数!S39,1)*[1]算数!$S$10","v":0},{"$f":"COUNTIF([1]算数!T39,1)*[1]算数!$T$10","v":0},{"$f":"COUNTIF([1]算数!U39,1)*[1]算数!$U$10","v":0},{"$f":"COUNTIF([1]算数!V39,1)*[1]算数!$V$10","v":0},{"$f":"COUNTIF([1]算数!W39,1)*[1]算数!$W$10","v":0},{"$f":"COUNTIF([1]算数!X39,1)*[1]算数!$X$10","v":0},{"$f":"COUNTIF([1]算数!Y39,1)*[1]算数!$Y$10","v":0},{"$f":"COUNTIF([1]算数!Z39,1)*[1]算数!$Z$10","v":0},{"$f":"COUNTIF([1]算数!AA39,1)*[1]算数!$AA$10","v":0},{"$f":"COUNTIF([1]算数!AB39,1)*[1]算数!$AB$10","v":0},{"$f":"COUNTIF([1]算数!AC39,1)*[1]算数!$AC$10","v":0},{"$f":"COUNTIF([1]算数!AD39,1)*[1]算数!$AD$10","v":0},{"$f":"COUNTIF([1]算数!AE39,1)*[1]算数!$AE$10","v":0},{"$f":"COUNTIF([1]算数!AF39,1)*[1]算数!$AF$10","v":0},{"$f":"COUNTIF([1]算数!AG39,1)*[1]算数!$AG$10","v":0},{"$f":"COUNTIF([1]算数!AH39,1)*[1]算数!$AH$10","v":0},{"$f":"COUNTIF([1]算数!AI39,1)*[1]算数!$AI$10","v":0},{"$f":"COUNTIF([1]算数!AJ39,1)*[1]算数!$AJ$10","v":0},{"$f":"COUNTIF([1]算数!AK39,1)*[1]算数!$AK$10","v":0},{"$f":"COUNTIF([1]算数!AL39,1)*[1]算数!$AL$10","v":0},{"$f":"COUNTIF([1]算数!AM39,1)*[1]算数!$AM$10","v":0},{"$f":"COUNTIF([1]算数!AN39,1)*[1]算数!$AN$10","v":0},{"$f":"COUNTIF([1]算数!AO39,1)*[1]算数!$AO$10","v":0},{"$f":"COUNTIF([1]算数!AP39,1)*[1]算数!$AP$10","v":0},{"$f":"COUNTIF([1]算数!AQ39,1)*[1]算数!$AQ$10","v":0},{"$f":"COUNTIF([1]算数!AR39,1)*[1]算数!$AR$10","v":0},{"$f":"COUNTIF([1]算数!AS39,1)*[1]算数!$AS$10","v":0},{"$f":"COUNTIF([1]算数!AT39,1)*[1]算数!$AT$10","v":0},{"$f":"COUNTIF([1]算数!AU39,1)*[1]算数!$AU$10","v":0},{"$f":"COUNTIF([1]算数!AV39,1)*[1]算数!$AV$10","v":0},{"$f":"COUNTIF([1]算数!AW39,1)*[1]算数!$AW$10","v":0},{"$f":"COUNTIF([1]算数!AX39,1)*[1]算数!$AX$10","v":0},{"$f":"COUNTIF([1]算数!AY39,1)*[1]算数!$AY$10","v":0},{"$f":"COUNTIF([1]算数!AZ39,1)*[1]算数!$AZ$10","v":0},{"$f":"COUNTIF([1]算数!BA39,1)*[1]算数!$BA$10","v":0},{"$f":"COUNTIF([1]算数!BB39,1)*[1]算数!$BB$10","v":0},0,null,null,"29問",{"$f":"[1]算数!AG58","v":0},null,"29問",null,null,29]
[30,{"$f":"COUNTIF([1]算数!E40,1)*[1]算数!$E$10","v":0},{"$f":"COUNTIF([1]算数!F40,1)*[1]算数!$F$10","v":0},{"$f":"COUNTIF([1]算数!G40,1)*[1]算数!$G$10","v":0},{"$f":"COUNTIF([1]算数!H40,1)*[1]算数!$H$10","v":0},{"$f":"COUNTIF([1]算数!I40,1)*[1]算数!$I$10","v":0},{"$f":"COUNTIF([1]算数!J40,1)*[1]算数!$J$10","v":0},{"$f":"COUNTIF([1]算数!K40,1)*[1]算数!$K$10","v":0},{"$f":"COUNTIF([1]算数!L40,1)*[1]算数!$L$10","v":0},{"$f":"COUNTIF([1]算数!M40,1)*[1]算数!$M$10","v":0},{"$f":"COUNTIF([1]算数!N40,1)*[1]算数!$N$10","v":0},{"$f":"COUNTIF([1]算数!O40,1)*[1]算数!$O$10","v":0},{"$f":"COUNTIF([1]算数!P40,1)*[1]算数!$K$10","v":0},{"$f":"COUNTIF([1]算数!Q40,1)*[1]算数!$K$10","v":0},{"$f":"COUNTIF([1]算数!R40,1)*[1]算数!$R$10","v":0},{"$f":"COUNTIF([1]算数!S40,1)*[1]算数!$S$10","v":0},{"$f":"COUNTIF([1]算数!T40,1)*[1]算数!$T$10","v":0},{"$f":"COUNTIF([1]算数!U40,1)*[1]算数!$U$10","v":0},{"$f":"COUNTIF([1]算数!V40,1)*[1]算数!$V$10","v":0},{"$f":"COUNTIF([1]算数!W40,1)*[1]算数!$W$10","v":0},{"$f":"COUNTIF([1]算数!X40,1)*[1]算数!$X$10","v":0},{"$f":"COUNTIF([1]算数!Y40,1)*[1]算数!$Y$10","v":0},{"$f":"COUNTIF([1]算数!Z40,1)*[1]算数!$Z$10","v":0},{"$f":"COUNTIF([1]算数!AA40,1)*[1]算数!$AA$10","v":0},{"$f":"COUNTIF([1]算数!AB40,1)*[1]算数!$AB$10","v":0},{"$f":"COUNTIF([1]算数!AC40,1)*[1]算数!$AC$10","v":0},{"$f":"COUNTIF([1]算数!AD40,1)*[1]算数!$AD$10","v":0},{"$f":"COUNTIF([1]算数!AE40,1)*[1]算数!$AE$10","v":0},{"$f":"COUNTIF([1]算数!AF40,1)*[1]算数!$AF$10","v":0},{"$f":"COUNTIF([1]算数!AG40,1)*[1]算数!$AG$10","v":0},{"$f":"COUNTIF([1]算数!AH40,1)*[1]算数!$AH$10","v":0},{"$f":"COUNTIF([1]算数!AI40,1)*[1]算数!$AI$10","v":0},{"$f":"COUNTIF([1]算数!AJ40,1)*[1]算数!$AJ$10","v":0},{"$f":"COUNTIF([1]算数!AK40,1)*[1]算数!$AK$10","v":0},{"$f":"COUNTIF([1]算数!AL40,1)*[1]算数!$AL$10","v":0},{"$f":"COUNTIF([1]算数!AM40,1)*[1]算数!$AM$10","v":0},{"$f":"COUNTIF([1]算数!AN40,1)*[1]算数!$AN$10","v":0},{"$f":"COUNTIF([1]算数!AO40,1)*[1]算数!$AO$10","v":0},{"$f":"COUNTIF([1]算数!AP40,1)*[1]算数!$AP$10","v":0},{"$f":"COUNTIF([1]算数!AQ40,1)*[1]算数!$AQ$10","v":0},{"$f":"COUNTIF([1]算数!AR40,1)*[1]算数!$AR$10","v":0},{"$f":"COUNTIF([1]算数!AS40,1)*[1]算数!$AS$10","v":0},{"$f":"COUNTIF([1]算数!AT40,1)*[1]算数!$AT$10","v":0},{"$f":"COUNTIF([1]算数!AU40,1)*[1]算数!$AU$10","v":0},{"$f":"COUNTIF([1]算数!AV40,1)*[1]算数!$AV$10","v":0},{"$f":"COUNTIF([1]算数!AW40,1)*[1]算数!$AW$10","v":0},{"$f":"COUNTIF([1]算数!AX40,1)*[1]算数!$AX$10","v":0},{"$f":"COUNTIF([1]算数!AY40,1)*[1]算数!$AY$10","v":0},{"$f":"COUNTIF([1]算数!AZ40,1)*[1]算数!$AZ$10","v":0},{"$f":"COUNTIF([1]算数!BA40,1)*[1]算数!$BA$10","v":0},{"$f":"COUNTIF([1]算数!BB40,1)*[1]算数!$BB$10","v":0},0,null,null,"30問",{"$f":"[1]算数!AH58","v":0},null,"30問",null,null,30]
[31,{"$f":"COUNTIF([1]算数!E41,1)*[1]算数!$E$10","v":0},{"$f":"COUNTIF([1]算数!F41,1)*[1]算数!$F$10","v":0},{"$f":"COUNTIF([1]算数!G41,1)*[1]算数!$G$10","v":0},{"$f":"COUNTIF([1]算数!H41,1)*[1]算数!$H$10","v":0},{"$f":"COUNTIF([1]算数!I41,1)*[1]算数!$I$10","v":0},{"$f":"COUNTIF([1]算数!J41,1)*[1]算数!$J$10","v":0},{"$f":"COUNTIF([1]算数!K41,1)*[1]算数!$K$10","v":0},{"$f":"COUNTIF([1]算数!L41,1)*[1]算数!$L$10","v":0},{"$f":"COUNTIF([1]算数!M41,1)*[1]算数!$M$10","v":0},{"$f":"COUNTIF([1]算数!N41,1)*[1]算数!$N$10","v":0},{"$f":"COUNTIF([1]算数!O41,1)*[1]算数!$O$10","v":0},{"$f":"COUNTIF([1]算数!P41,1)*[1]算数!$K$10","v":0},{"$f":"COUNTIF([1]算数!Q41,1)*[1]算数!$K$10","v":0},{"$f":"COUNTIF([1]算数!R41,1)*[1]算数!$R$10","v":0},{"$f":"COUNTIF([1]算数!S41,1)*[1]算数!$S$10","v":0},{"$f":"COUNTIF([1]算数!T41,1)*[1]算数!$T$10","v":0},{"$f":"COUNTIF([1]算数!U41,1)*[1]算数!$U$10","v":0},{"$f":"COUNTIF([1]算数!V41,1)*[1]算数!$V$10","v":0},{"$f":"COUNTIF([1]算数!W41,1)*[1]算数!$W$10","v":0},{"$f":"COUNTIF([1]算数!X41,1)*[1]算数!$X$10","v":0},{"$f":"COUNTIF([1]算数!Y41,1)*[1]算数!$Y$10","v":0},{"$f":"COUNTIF([1]算数!Z41,1)*[1]算数!$Z$10","v":0},{"$f":"COUNTIF([1]算数!AA41,1)*[1]算数!$AA$10","v":0},{"$f":"COUNTIF([1]算数!AB41,1)*[1]算数!$AB$10","v":0},{"$f":"COUNTIF([1]算数!AC41,1)*[1]算数!$AC$10","v":0},{"$f":"COUNTIF([1]算数!AD41,1)*[1]算数!$AD$10","v":0},{"$f":"COUNTIF([1]算数!AE41,1)*[1]算数!$AE$10","v":0},{"$f":"COUNTIF([1]算数!AF41,1)*[1]算数!$AF$10","v":0},{"$f":"COUNTIF([1]算数!AG41,1)*[1]算数!$AG$10","v":0},{"$f":"COUNTIF([1]算数!AH41,1)*[1]算数!$AH$10","v":0},{"$f":"COUNTIF([1]算数!AI41,1)*[1]算数!$AI$10","v":0},{"$f":"COUNTIF([1]算数!AJ41,1)*[1]算数!$AJ$10","v":0},{"$f":"COUNTIF([1]算数!AK41,1)*[1]算数!$AK$10","v":0},{"$f":"COUNTIF([1]算数!AL41,1)*[1]算数!$AL$10","v":0},{"$f":"COUNTIF([1]算数!AM41,1)*[1]算数!$AM$10","v":0},{"$f":"COUNTIF([1]算数!AN41,1)*[1]算数!$AN$10","v":0},{"$f":"COUNTIF([1]算数!AO41,1)*[1]算数!$AO$10","v":0},{"$f":"COUNTIF([1]算数!AP41,1)*[1]算数!$AP$10","v":0},{"$f":"COUNTIF([1]算数!AQ41,1)*[1]算数!$AQ$10","v":0},{"$f":"COUNTIF([1]算数!AR41,1)*[1]算数!$AR$10","v":0},{"$f":"COUNTIF([1]算数!AS41,1)*[1]算数!$AS$10","v":0},{"$f":"COUNTIF([1]算数!AT41,1)*[1]算数!$AT$10","v":0},{"$f":"COUNTIF([1]算数!AU41,1)*[1]算数!$AU$10","v":0},{"$f":"COUNTIF([1]算数!AV41,1)*[1]算数!$AV$10","v":0},{"$f":"COUNTIF([1]算数!AW41,1)*[1]算数!$AW$10","v":0},{"$f":"COUNTIF([1]算数!AX41,1)*[1]算数!$AX$10","v":0},{"$f":"COUNTIF([1]算数!AY41,1)*[1]算数!$AY$10","v":0},{"$f":"COUNTIF([1]算数!AZ41,1)*[1]算数!$AZ$10","v":0},{"$f":"COUNTIF([1]算数!BA41,1)*[1]算数!$BA$10","v":0},{"$f":"COUNTIF([1]算数!BB41,1)*[1]算数!$BB$10","v":0},0,null,null,"31問",{"$f":"[1]算数!AI58","v":0},null,"31問",null,null,31]
[32,{"$f":"COUNTIF([1]算数!E42,1)*[1]算数!$E$10","v":0},{"$f":"COUNTIF([1]算数!F42,1)*[1]算数!$F$10","v":0},{"$f":"COUNTIF([1]算数!G42,1)*[1]算数!$G$10","v":0},{"$f":"COUNTIF([1]算数!H42,1)*[1]算数!$H$10","v":0},{"$f":"COUNTIF([1]算数!I42,1)*[1]算数!$I$10","v":0},{"$f":"COUNTIF([1]算数!J42,1)*[1]算数!$J$10","v":0},{"$f":"COUNTIF([1]算数!K42,1)*[1]算数!$K$10","v":0},{"$f":"COUNTIF([1]算数!L42,1)*[1]算数!$L$10","v":0},{"$f":"COUNTIF([1]算数!M42,1)*[1]算数!$M$10","v":0},{"$f":"COUNTIF([1]算数!N42,1)*[1]算数!$N$10","v":0},{"$f":"COUNTIF([1]算数!O42,1)*[1]算数!$O$10","v":0},{"$f":"COUNTIF([1]算数!P42,1)*[1]算数!$K$10","v":0},{"$f":"COUNTIF([1]算数!Q42,1)*[1]算数!$K$10","v":0},{"$f":"COUNTIF([1]算数!R42,1)*[1]算数!$R$10","v":0},{"$f":"COUNTIF([1]算数!S42,1)*[1]算数!$S$10","v":0},{"$f":"COUNTIF([1]算数!T42,1)*[1]算数!$T$10","v":0},{"$f":"COUNTIF([1]算数!U42,1)*[1]算数!$U$10","v":0},{"$f":"COUNTIF([1]算数!V42,1)*[1]算数!$V$10","v":0},{"$f":"COUNTIF([1]算数!W42,1)*[1]算数!$W$10","v":0},{"$f":"COUNTIF([1]算数!X42,1)*[1]算数!$X$10","v":0},{"$f":"COUNTIF([1]算数!Y42,1)*[1]算数!$Y$10","v":0},{"$f":"COUNTIF([1]算数!Z42,1)*[1]算数!$Z$10","v":0},{"$f":"COUNTIF([1]算数!AA42,1)*[1]算数!$AA$10","v":0},{"$f":"COUNTIF([1]算数!AB42,1)*[1]算数!$AB$10","v":0},{"$f":"COUNTIF([1]算数!AC42,1)*[1]算数!$AC$10","v":0},{"$f":"COUNTIF([1]算数!AD42,1)*[1]算数!$AD$10","v":0},{"$f":"COUNTIF([1]算数!AE42,1)*[1]算数!$AE$10","v":0},{"$f":"COUNTIF([1]算数!AF42,1)*[1]算数!$AF$10","v":0},{"$f":"COUNTIF([1]算数!AG42,1)*[1]算数!$AG$10","v":0},{"$f":"COUNTIF([1]算数!AH42,1)*[1]算数!$AH$10","v":0},{"$f":"COUNTIF([1]算数!AI42,1)*[1]算数!$AI$10","v":0},{"$f":"COUNTIF([1]算数!AJ42,1)*[1]算数!$AJ$10","v":0},{"$f":"COUNTIF([1]算数!AK42,1)*[1]算数!$AK$10","v":0},{"$f":"COUNTIF([1]算数!AL42,1)*[1]算数!$AL$10","v":0},{"$f":"COUNTIF([1]算数!AM42,1)*[1]算数!$AM$10","v":0},{"$f":"COUNTIF([1]算数!AN42,1)*[1]算数!$AN$10","v":0},{"$f":"COUNTIF([1]算数!AO42,1)*[1]算数!$AO$10","v":0},{"$f":"COUNTIF([1]算数!AP42,1)*[1]算数!$AP$10","v":0},{"$f":"COUNTIF([1]算数!AQ42,1)*[1]算数!$AQ$10","v":0},{"$f":"COUNTIF([1]算数!AR42,1)*[1]算数!$AR$10","v":0},{"$f":"COUNTIF([1]算数!AS42,1)*[1]算数!$AS$10","v":0},{"$f":"COUNTIF([1]算数!AT42,1)*[1]算数!$AT$10","v":0},{"$f":"COUNTIF([1]算数!AU42,1)*[1]算数!$AU$10","v":0},{"$f":"COUNTIF([1]算数!AV42,1)*[1]算数!$AV$10","v":0},{"$f":"COUNTIF([1]算数!AW42,1)*[1]算数!$AW$10","v":0},{"$f":"COUNTIF([1]算数!AX42,1)*[1]算数!$AX$10","v":0},{"$f":"COUNTIF([1]算数!AY42,1)*[1]算数!$AY$10","v":0},{"$f":"COUNTIF([1]算数!AZ42,1)*[1]算数!$AZ$10","v":0},{"$f":"COUNTIF([1]算数!BA42,1)*[1]算数!$BA$10","v":0},{"$f":"COUNTIF([1]算数!BB42,1)*[1]算数!$BB$10","v":0},0,null,null,"32問",{"$f":"[1]算数!AJ58","v":0},null,"32問",null,null,32]
[33,{"$f":"COUNTIF([1]算数!E43,1)*[1]算数!$E$10","v":0},{"$f":"COUNTIF([1]算数!F43,1)*[1]算数!$F$10","v":0},{"$f":"COUNTIF([1]算数!G43,1)*[1]算数!$G$10","v":0},{"$f":"COUNTIF([1]算数!H43,1)*[1]算数!$H$10","v":0},{"$f":"COUNTIF([1]算数!I43,1)*[1]算数!$I$10","v":0},{"$f":"COUNTIF([1]算数!J43,1)*[1]算数!$J$10","v":0},{"$f":"COUNTIF([1]算数!K43,1)*[1]算数!$K$10","v":0},{"$f":"COUNTIF([1]算数!L43,1)*[1]算数!$L$10","v":0},{"$f":"COUNTIF([1]算数!M43,1)*[1]算数!$M$10","v":0},{"$f":"COUNTIF([1]算数!N43,1)*[1]算数!$N$10","v":0},{"$f":"COUNTIF([1]算数!O43,1)*[1]算数!$O$10","v":0},{"$f":"COUNTIF([1]算数!P43,1)*[1]算数!$K$10","v":0},{"$f":"COUNTIF([1]算数!Q43,1)*[1]算数!$K$10","v":0},{"$f":"COUNTIF([1]算数!R43,1)*[1]算数!$R$10","v":0},{"$f":"COUNTIF([1]算数!S43,1)*[1]算数!$S$10","v":0},{"$f":"COUNTIF([1]算数!T43,1)*[1]算数!$T$10","v":0},{"$f":"COUNTIF([1]算数!U43,1)*[1]算数!$U$10","v":0},{"$f":"COUNTIF([1]算数!V43,1)*[1]算数!$V$10","v":0},{"$f":"COUNTIF([1]算数!W43,1)*[1]算数!$W$10","v":0},{"$f":"COUNTIF([1]算数!X43,1)*[1]算数!$X$10","v":0},{"$f":"COUNTIF([1]算数!Y43,1)*[1]算数!$Y$10","v":0},{"$f":"COUNTIF([1]算数!Z43,1)*[1]算数!$Z$10","v":0},{"$f":"COUNTIF([1]算数!AA43,1)*[1]算数!$AA$10","v":0},{"$f":"COUNTIF([1]算数!AB43,1)*[1]算数!$AB$10","v":0},{"$f":"COUNTIF([1]算数!AC43,1)*[1]算数!$AC$10","v":0},{"$f":"COUNTIF([1]算数!AD43,1)*[1]算数!$AD$10","v":0},{"$f":"COUNTIF([1]算数!AE43,1)*[1]算数!$AE$10","v":0},{"$f":"COUNTIF([1]算数!AF43,1)*[1]算数!$AF$10","v":0},{"$f":"COUNTIF([1]算数!AG43,1)*[1]算数!$AG$10","v":0},{"$f":"COUNTIF([1]算数!AH43,1)*[1]算数!$AH$10","v":0},{"$f":"COUNTIF([1]算数!AI43,1)*[1]算数!$AI$10","v":0},{"$f":"COUNTIF([1]算数!AJ43,1)*[1]算数!$AJ$10","v":0},{"$f":"COUNTIF([1]算数!AK43,1)*[1]算数!$AK$10","v":0},{"$f":"COUNTIF([1]算数!AL43,1)*[1]算数!$AL$10","v":0},{"$f":"COUNTIF([1]算数!AM43,1)*[1]算数!$AM$10","v":0},{"$f":"COUNTIF([1]算数!AN43,1)*[1]算数!$AN$10","v":0},{"$f":"COUNTIF([1]算数!AO43,1)*[1]算数!$AO$10","v":0},{"$f":"COUNTIF([1]算数!AP43,1)*[1]算数!$AP$10","v":0},{"$f":"COUNTIF([1]算数!AQ43,1)*[1]算数!$AQ$10","v":0},{"$f":"COUNTIF([1]算数!AR43,1)*[1]算数!$AR$10","v":0},{"$f":"COUNTIF([1]算数!AS43,1)*[1]算数!$AS$10","v":0},{"$f":"COUNTIF([1]算数!AT43,1)*[1]算数!$AT$10","v":0},{"$f":"COUNTIF([1]算数!AU43,1)*[1]算数!$AU$10","v":0},{"$f":"COUNTIF([1]算数!AV43,1)*[1]算数!$AV$10","v":0},{"$f":"COUNTIF([1]算数!AW43,1)*[1]算数!$AW$10","v":0},{"$f":"COUNTIF([1]算数!AX43,1)*[1]算数!$AX$10","v":0},{"$f":"COUNTIF([1]算数!AY43,1)*[1]算数!$AY$10","v":0},{"$f":"COUNTIF([1]算数!AZ43,1)*[1]算数!$AZ$10","v":0},{"$f":"COUNTIF([1]算数!BA43,1)*[1]算数!$BA$10","v":0},{"$f":"COUNTIF([1]算数!BB43,1)*[1]算数!$BB$10","v":0},0,null,null,"33問",{"$f":"[1]算数!AK58","v":0},null,"33問",null,null,33]
[34,{"$f":"COUNTIF([1]算数!E44,1)*[1]算数!$E$10","v":0},{"$f":"COUNTIF([1]算数!F44,1)*[1]算数!$F$10","v":0},{"$f":"COUNTIF([1]算数!G44,1)*[1]算数!$G$10","v":0},{"$f":"COUNTIF([1]算数!H44,1)*[1]算数!$H$10","v":0},{"$f":"COUNTIF([1]算数!I44,1)*[1]算数!$I$10","v":0},{"$f":"COUNTIF([1]算数!J44,1)*[1]算数!$J$10","v":0},{"$f":"COUNTIF([1]算数!K44,1)*[1]算数!$K$10","v":0},{"$f":"COUNTIF([1]算数!L44,1)*[1]算数!$L$10","v":0},{"$f":"COUNTIF([1]算数!M44,1)*[1]算数!$M$10","v":0},{"$f":"COUNTIF([1]算数!N44,1)*[1]算数!$N$10","v":0},{"$f":"COUNTIF([1]算数!O44,1)*[1]算数!$O$10","v":0},{"$f":"COUNTIF([1]算数!P44,1)*[1]算数!$K$10","v":0},{"$f":"COUNTIF([1]算数!Q44,1)*[1]算数!$K$10","v":0},{"$f":"COUNTIF([1]算数!R44,1)*[1]算数!$R$10","v":0},{"$f":"COUNTIF([1]算数!S44,1)*[1]算数!$S$10","v":0},{"$f":"COUNTIF([1]算数!T44,1)*[1]算数!$T$10","v":0},{"$f":"COUNTIF([1]算数!U44,1)*[1]算数!$U$10","v":0},{"$f":"COUNTIF([1]算数!V44,1)*[1]算数!$V$10","v":0},{"$f":"COUNTIF([1]算数!W44,1)*[1]算数!$W$10","v":0},{"$f":"COUNTIF([1]算数!X44,1)*[1]算数!$X$10","v":0},{"$f":"COUNTIF([1]算数!Y44,1)*[1]算数!$Y$10","v":0},{"$f":"COUNTIF([1]算数!Z44,1)*[1]算数!$Z$10","v":0},{"$f":"COUNTIF([1]算数!AA44,1)*[1]算数!$AA$10","v":0},{"$f":"COUNTIF([1]算数!AB44,1)*[1]算数!$AB$10","v":0},{"$f":"COUNTIF([1]算数!AC44,1)*[1]算数!$AC$10","v":0},{"$f":"COUNTIF([1]算数!AD44,1)*[1]算数!$AD$10","v":0},{"$f":"COUNTIF([1]算数!AE44,1)*[1]算数!$AE$10","v":0},{"$f":"COUNTIF([1]算数!AF44,1)*[1]算数!$AF$10","v":0},{"$f":"COUNTIF([1]算数!AG44,1)*[1]算数!$AG$10","v":0},{"$f":"COUNTIF([1]算数!AH44,1)*[1]算数!$AH$10","v":0},{"$f":"COUNTIF([1]算数!AI44,1)*[1]算数!$AI$10","v":0},{"$f":"COUNTIF([1]算数!AJ44,1)*[1]算数!$AJ$10","v":0},{"$f":"COUNTIF([1]算数!AK44,1)*[1]算数!$AK$10","v":0},{"$f":"COUNTIF([1]算数!AL44,1)*[1]算数!$AL$10","v":0},{"$f":"COUNTIF([1]算数!AM44,1)*[1]算数!$AM$10","v":0},{"$f":"COUNTIF([1]算数!AN44,1)*[1]算数!$AN$10","v":0},{"$f":"COUNTIF([1]算数!AO44,1)*[1]算数!$AO$10","v":0},{"$f":"COUNTIF([1]算数!AP44,1)*[1]算数!$AP$10","v":0},{"$f":"COUNTIF([1]算数!AQ44,1)*[1]算数!$AQ$10","v":0},{"$f":"COUNTIF([1]算数!AR44,1)*[1]算数!$AR$10","v":0},{"$f":"COUNTIF([1]算数!AS44,1)*[1]算数!$AS$10","v":0},{"$f":"COUNTIF([1]算数!AT44,1)*[1]算数!$AT$10","v":0},{"$f":"COUNTIF([1]算数!AU44,1)*[1]算数!$AU$10","v":0},{"$f":"COUNTIF([1]算数!AV44,1)*[1]算数!$AV$10","v":0},{"$f":"COUNTIF([1]算数!AW44,1)*[1]算数!$AW$10","v":0},{"$f":"COUNTIF([1]算数!AX44,1)*[1]算数!$AX$10","v":0},{"$f":"COUNTIF([1]算数!AY44,1)*[1]算数!$AY$10","v":0},{"$f":"COUNTIF([1]算数!AZ44,1)*[1]算数!$AZ$10","v":0},{"$f":"COUNTIF([1]算数!BA44,1)*[1]算数!$BA$10","v":0},{"$f":"COUNTIF([1]算数!BB44,1)*[1]算数!$BB$10","v":0},0,null,null,"34問",{"$f":"[1]算数!AL58","v":0},null,"34問",null,null,34]
[35,{"$f":"COUNTIF([1]算数!E45,1)*[1]算数!$E$10","v":0},{"$f":"COUNTIF([1]算数!F45,1)*[1]算数!$F$10","v":0},{"$f":"COUNTIF([1]算数!G45,1)*[1]算数!$G$10","v":0},{"$f":"COUNTIF([1]算数!H45,1)*[1]算数!$H$10","v":0},{"$f":"COUNTIF([1]算数!I45,1)*[1]算数!$I$10","v":0},{"$f":"COUNTIF([1]算数!J45,1)*[1]算数!$J$10","v":0},{"$f":"COUNTIF([1]算数!K45,1)*[1]算数!$K$10","v":0},{"$f":"COUNTIF([1]算数!L45,1)*[1]算数!$L$10","v":0},{"$f":"COUNTIF([1]算数!M45,1)*[1]算数!$M$10","v":0},{"$f":"COUNTIF([1]算数!N45,1)*[1]算数!$N$10","v":0},{"$f":"COUNTIF([1]算数!O45,1)*[1]算数!$O$10","v":0},{"$f":"COUNTIF([1]算数!P45,1)*[1]算数!$K$10","v":0},{"$f":"COUNTIF([1]算数!Q45,1)*[1]算数!$K$10","v":0},{"$f":"COUNTIF([1]算数!R45,1)*[1]算数!$R$10","v":0},{"$f":"COUNTIF([1]算数!S45,1)*[1]算数!$S$10","v":0},{"$f":"COUNTIF([1]算数!T45,1)*[1]算数!$T$10","v":0},{"$f":"COUNTIF([1]算数!U45,1)*[1]算数!$U$10","v":0},{"$f":"COUNTIF([1]算数!V45,1)*[1]算数!$V$10","v":0},{"$f":"COUNTIF([1]算数!W45,1)*[1]算数!$W$10","v":0},{"$f":"COUNTIF([1]算数!X45,1)*[1]算数!$X$10","v":0},{"$f":"COUNTIF([1]算数!Y45,1)*[1]算数!$Y$10","v":0},{"$f":"COUNTIF([1]算数!Z45,1)*[1]算数!$Z$10","v":0},{"$f":"COUNTIF([1]算数!AA45,1)*[1]算数!$AA$10","v":0},{"$f":"COUNTIF([1]算数!AB45,1)*[1]算数!$AB$10","v":0},{"$f":"COUNTIF([1]算数!AC45,1)*[1]算数!$AC$10","v":0},{"$f":"COUNTIF([1]算数!AD45,1)*[1]算数!$AD$10","v":0},{"$f":"COUNTIF([1]算数!AE45,1)*[1]算数!$AE$10","v":0},{"$f":"COUNTIF([1]算数!AF45,1)*[1]算数!$AF$10","v":0},{"$f":"COUNTIF([1]算数!AG45,1)*[1]算数!$AG$10","v":0},{"$f":"COUNTIF([1]算数!AH45,1)*[1]算数!$AH$10","v":0},{"$f":"COUNTIF([1]算数!AI45,1)*[1]算数!$AI$10","v":0},{"$f":"COUNTIF([1]算数!AJ45,1)*[1]算数!$AJ$10","v":0},{"$f":"COUNTIF([1]算数!AK45,1)*[1]算数!$AK$10","v":0},{"$f":"COUNTIF([1]算数!AL45,1)*[1]算数!$AL$10","v":0},{"$f":"COUNTIF([1]算数!AM45,1)*[1]算数!$AM$10","v":0},{"$f":"COUNTIF([1]算数!AN45,1)*[1]算数!$AN$10","v":0},{"$f":"COUNTIF([1]算数!AO45,1)*[1]算数!$AO$10","v":0},{"$f":"COUNTIF([1]算数!AP45,1)*[1]算数!$AP$10","v":0},{"$f":"COUNTIF([1]算数!AQ45,1)*[1]算数!$AQ$10","v":0},{"$f":"COUNTIF([1]算数!AR45,1)*[1]算数!$AR$10","v":0},{"$f":"COUNTIF([1]算数!AS45,1)*[1]算数!$AS$10","v":0},{"$f":"COUNTIF([1]算数!AT45,1)*[1]算数!$AT$10","v":0},{"$f":"COUNTIF([1]算数!AU45,1)*[1]算数!$AU$10","v":0},{"$f":"COUNTIF([1]算数!AV45,1)*[1]算数!$AV$10","v":0},{"$f":"COUNTIF([1]算数!AW45,1)*[1]算数!$AW$10","v":0},{"$f":"COUNTIF([1]算数!AX45,1)*[1]算数!$AX$10","v":0},{"$f":"COUNTIF([1]算数!AY45,1)*[1]算数!$AY$10","v":0},{"$f":"COUNTIF([1]算数!AZ45,1)*[1]算数!$AZ$10","v":0},{"$f":"COUNTIF([1]算数!BA45,1)*[1]算数!$BA$10","v":0},{"$f":"COUNTIF([1]算数!BB45,1)*[1]算数!$BB$10","v":0},0,null,null,"35問",{"$f":"[1]算数!AM58","v":0},null,"35問",null,null,35]
[36,{"$f":"COUNTIF([1]算数!E46,1)*[1]算数!$E$10","v":0},{"$f":"COUNTIF([1]算数!F46,1)*[1]算数!$F$10","v":0},{"$f":"COUNTIF([1]算数!G46,1)*[1]算数!$G$10","v":0},{"$f":"COUNTIF([1]算数!H46,1)*[1]算数!$H$10","v":0},{"$f":"COUNTIF([1]算数!I46,1)*[1]算数!$I$10","v":0},{"$f":"COUNTIF([1]算数!J46,1)*[1]算数!$J$10","v":0},{"$f":"COUNTIF([1]算数!K46,1)*[1]算数!$K$10","v":0},{"$f":"COUNTIF([1]算数!L46,1)*[1]算数!$L$10","v":0},{"$f":"COUNTIF([1]算数!M46,1)*[1]算数!$M$10","v":0},{"$f":"COUNTIF([1]算数!N46,1)*[1]算数!$N$10","v":0},{"$f":"COUNTIF([1]算数!O46,1)*[1]算数!$O$10","v":0},{"$f":"COUNTIF([1]算数!P46,1)*[1]算数!$K$10","v":0},{"$f":"COUNTIF([1]算数!Q46,1)*[1]算数!$K$10","v":0},{"$f":"COUNTIF([1]算数!R46,1)*[1]算数!$R$10","v":0},{"$f":"COUNTIF([1]算数!S46,1)*[1]算数!$S$10","v":0},{"$f":"COUNTIF([1]算数!T46,1)*[1]算数!$T$10","v":0},{"$f":"COUNTIF([1]算数!U46,1)*[1]算数!$U$10","v":0},{"$f":"COUNTIF([1]算数!V46,1)*[1]算数!$V$10","v":0},{"$f":"COUNTIF([1]算数!W46,1)*[1]算数!$W$10","v":0},{"$f":"COUNTIF([1]算数!X46,1)*[1]算数!$X$10","v":0},{"$f":"COUNTIF([1]算数!Y46,1)*[1]算数!$Y$10","v":0},{"$f":"COUNTIF([1]算数!Z46,1)*[1]算数!$Z$10","v":0},{"$f":"COUNTIF([1]算数!AA46,1)*[1]算数!$AA$10","v":0},{"$f":"COUNTIF([1]算数!AB46,1)*[1]算数!$AB$10","v":0},{"$f":"COUNTIF([1]算数!AC46,1)*[1]算数!$AC$10","v":0},{"$f":"COUNTIF([1]算数!AD46,1)*[1]算数!$AD$10","v":0},{"$f":"COUNTIF([1]算数!AE46,1)*[1]算数!$AE$10","v":0},{"$f":"COUNTIF([1]算数!AF46,1)*[1]算数!$AF$10","v":0},{"$f":"COUNTIF([1]算数!AG46,1)*[1]算数!$AG$10","v":0},{"$f":"COUNTIF([1]算数!AH46,1)*[1]算数!$AH$10","v":0},{"$f":"COUNTIF([1]算数!AI46,1)*[1]算数!$AI$10","v":0},{"$f":"COUNTIF([1]算数!AJ46,1)*[1]算数!$AJ$10","v":0},{"$f":"COUNTIF([1]算数!AK46,1)*[1]算数!$AK$10","v":0},{"$f":"COUNTIF([1]算数!AL46,1)*[1]算数!$AL$10","v":0},{"$f":"COUNTIF([1]算数!AM46,1)*[1]算数!$AM$10","v":0},{"$f":"COUNTIF([1]算数!AN46,1)*[1]算数!$AN$10","v":0},{"$f":"COUNTIF([1]算数!AO46,1)*[1]算数!$AO$10","v":0},{"$f":"COUNTIF([1]算数!AP46,1)*[1]算数!$AP$10","v":0},{"$f":"COUNTIF([1]算数!AQ46,1)*[1]算数!$AQ$10","v":0},{"$f":"COUNTIF([1]算数!AR46,1)*[1]算数!$AR$10","v":0},{"$f":"COUNTIF([1]算数!AS46,1)*[1]算数!$AS$10","v":0},{"$f":"COUNTIF([1]算数!AT46,1)*[1]算数!$AT$10","v":0},{"$f":"COUNTIF([1]算数!AU46,1)*[1]算数!$AU$10","v":0},{"$f":"COUNTIF([1]算数!AV46,1)*[1]算数!$AV$10","v":0},{"$f":"COUNTIF([1]算数!AW46,1)*[1]算数!$AW$10","v":0},{"$f":"COUNTIF([1]算数!AX46,1)*[1]算数!$AX$10","v":0},{"$f":"COUNTIF([1]算数!AY46,1)*[1]算数!$AY$10","v":0},{"$f":"COUNTIF([1]算数!AZ46,1)*[1]算数!$AZ$10","v":0},{"$f":"COUNTIF([1]算数!BA46,1)*[1]算数!$BA$10","v":0},{"$f":"COUNTIF([1]算数!BB46,1)*[1]算数!$BB$10","v":0},0,null,null,"36問",{"$f":"[1]算数!AN58","v":0},null,"36問",null,null,36]
[37,{"$f":"COUNTIF([1]算数!E47,1)*[1]算数!$E$10","v":0},{"$f":"COUNTIF([1]算数!F47,1)*[1]算数!$F$10","v":0},{"$f":"COUNTIF([1]算数!G47,1)*[1]算数!$G$10","v":0},{"$f":"COUNTIF([1]算数!H47,1)*[1]算数!$H$10","v":0},{"$f":"COUNTIF([1]算数!I47,1)*[1]算数!$I$10","v":0},{"$f":"COUNTIF([1]算数!J47,1)*[1]算数!$J$10","v":0},{"$f":"COUNTIF([1]算数!K47,1)*[1]算数!$K$10","v":0},{"$f":"COUNTIF([1]算数!L47,1)*[1]算数!$L$10","v":0},{"$f":"COUNTIF([1]算数!M47,1)*[1]算数!$M$10","v":0},{"$f":"COUNTIF([1]算数!N47,1)*[1]算数!$N$10","v":0},{"$f":"COUNTIF([1]算数!O47,1)*[1]算数!$O$10","v":0},{"$f":"COUNTIF([1]算数!P47,1)*[1]算数!$K$10","v":0},{"$f":"COUNTIF([1]算数!Q47,1)*[1]算数!$K$10","v":0},{"$f":"COUNTIF([1]算数!R47,1)*[1]算数!$R$10","v":0},{"$f":"COUNTIF([1]算数!S47,1)*[1]算数!$S$10","v":0},{"$f":"COUNTIF([1]算数!T47,1)*[1]算数!$T$10","v":0},{"$f":"COUNTIF([1]算数!U47,1)*[1]算数!$U$10","v":0},{"$f":"COUNTIF([1]算数!V47,1)*[1]算数!$V$10","v":0},{"$f":"COUNTIF([1]算数!W47,1)*[1]算数!$W$10","v":0},{"$f":"COUNTIF([1]算数!X47,1)*[1]算数!$X$10","v":0},{"$f":"COUNTIF([1]算数!Y47,1)*[1]算数!$Y$10","v":0},{"$f":"COUNTIF([1]算数!Z47,1)*[1]算数!$Z$10","v":0},{"$f":"COUNTIF([1]算数!AA47,1)*[1]算数!$AA$10","v":0},{"$f":"COUNTIF([1]算数!AB47,1)*[1]算数!$AB$10","v":0},{"$f":"COUNTIF([1]算数!AC47,1)*[1]算数!$AC$10","v":0},{"$f":"COUNTIF([1]算数!AD47,1)*[1]算数!$AD$10","v":0},{"$f":"COUNTIF([1]算数!AE47,1)*[1]算数!$AE$10","v":0},{"$f":"COUNTIF([1]算数!AF47,1)*[1]算数!$AF$10","v":0},{"$f":"COUNTIF([1]算数!AG47,1)*[1]算数!$AG$10","v":0},{"$f":"COUNTIF([1]算数!AH47,1)*[1]算数!$AH$10","v":0},{"$f":"COUNTIF([1]算数!AI47,1)*[1]算数!$AI$10","v":0},{"$f":"COUNTIF([1]算数!AJ47,1)*[1]算数!$AJ$10","v":0},{"$f":"COUNTIF([1]算数!AK47,1)*[1]算数!$AK$10","v":0},{"$f":"COUNTIF([1]算数!AL47,1)*[1]算数!$AL$10","v":0},{"$f":"COUNTIF([1]算数!AM47,1)*[1]算数!$AM$10","v":0},{"$f":"COUNTIF([1]算数!AN47,1)*[1]算数!$AN$10","v":0},{"$f":"COUNTIF([1]算数!AO47,1)*[1]算数!$AO$10","v":0},{"$f":"COUNTIF([1]算数!AP47,1)*[1]算数!$AP$10","v":0},{"$f":"COUNTIF([1]算数!AQ47,1)*[1]算数!$AQ$10","v":0},{"$f":"COUNTIF([1]算数!AR47,1)*[1]算数!$AR$10","v":0},{"$f":"COUNTIF([1]算数!AS47,1)*[1]算数!$AS$10","v":0},{"$f":"COUNTIF([1]算数!AT47,1)*[1]算数!$AT$10","v":0},{"$f":"COUNTIF([1]算数!AU47,1)*[1]算数!$AU$10","v":0},{"$f":"COUNTIF([1]算数!AV47,1)*[1]算数!$AV$10","v":0},{"$f":"COUNTIF([1]算数!AW47,1)*[1]算数!$AW$10","v":0},{"$f":"COUNTIF([1]算数!AX47,1)*[1]算数!$AX$10","v":0},{"$f":"COUNTIF([1]算数!AY47,1)*[1]算数!$AY$10","v":0},{"$f":"COUNTIF([1]算数!AZ47,1)*[1]算数!$AZ$10","v":0},{"$f":"COUNTIF([1]算数!BA47,1)*[1]算数!$BA$10","v":0},{"$f":"COUNTIF([1]算数!BB47,1)*[1]算数!$BB$10","v":0},0,null,null,"37問",{"$f":"[1]算数!AO58","v":0},null,"37問",null,null,37]
[38,{"$f":"COUNTIF([1]算数!E48,1)*[1]算数!$E$10","v":0},{"$f":"COUNTIF([1]算数!F48,1)*[1]算数!$F$10","v":0},{"$f":"COUNTIF([1]算数!G48,1)*[1]算数!$G$10","v":0},{"$f":"COUNTIF([1]算数!H48,1)*[1]算数!$H$10","v":0},{"$f":"COUNTIF([1]算数!I48,1)*[1]算数!$I$10","v":0},{"$f":"COUNTIF([1]算数!J48,1)*[1]算数!$J$10","v":0},{"$f":"COUNTIF([1]算数!K48,1)*[1]算数!$K$10","v":0},{"$f":"COUNTIF([1]算数!L48,1)*[1]算数!$L$10","v":0},{"$f":"COUNTIF([1]算数!M48,1)*[1]算数!$M$10","v":0},{"$f":"COUNTIF([1]算数!N48,1)*[1]算数!$N$10","v":0},{"$f":"COUNTIF([1]算数!O48,1)*[1]算数!$O$10","v":0},{"$f":"COUNTIF([1]算数!P48,1)*[1]算数!$K$10","v":0},{"$f":"COUNTIF([1]算数!Q48,1)*[1]算数!$K$10","v":0},{"$f":"COUNTIF([1]算数!R48,1)*[1]算数!$R$10","v":0},{"$f":"COUNTIF([1]算数!S48,1)*[1]算数!$S$10","v":0},{"$f":"COUNTIF([1]算数!T48,1)*[1]算数!$T$10","v":0},{"$f":"COUNTIF([1]算数!U48,1)*[1]算数!$U$10","v":0},{"$f":"COUNTIF([1]算数!V48,1)*[1]算数!$V$10","v":0},{"$f":"COUNTIF([1]算数!W48,1)*[1]算数!$W$10","v":0},{"$f":"COUNTIF([1]算数!X48,1)*[1]算数!$X$10","v":0},{"$f":"COUNTIF([1]算数!Y48,1)*[1]算数!$Y$10","v":0},{"$f":"COUNTIF([1]算数!Z48,1)*[1]算数!$Z$10","v":0},{"$f":"COUNTIF([1]算数!AA48,1)*[1]算数!$AA$10","v":0},{"$f":"COUNTIF([1]算数!AB48,1)*[1]算数!$AB$10","v":0},{"$f":"COUNTIF([1]算数!AC48,1)*[1]算数!$AC$10","v":0},{"$f":"COUNTIF([1]算数!AD48,1)*[1]算数!$AD$10","v":0},{"$f":"COUNTIF([1]算数!AE48,1)*[1]算数!$AE$10","v":0},{"$f":"COUNTIF([1]算数!AF48,1)*[1]算数!$AF$10","v":0},{"$f":"COUNTIF([1]算数!AG48,1)*[1]算数!$AG$10","v":0},{"$f":"COUNTIF([1]算数!AH48,1)*[1]算数!$AH$10","v":0},{"$f":"COUNTIF([1]算数!AI48,1)*[1]算数!$AI$10","v":0},{"$f":"COUNTIF([1]算数!AJ48,1)*[1]算数!$AJ$10","v":0},{"$f":"COUNTIF([1]算数!AK48,1)*[1]算数!$AK$10","v":0},{"$f":"COUNTIF([1]算数!AL48,1)*[1]算数!$AL$10","v":0},{"$f":"COUNTIF([1]算数!AM48,1)*[1]算数!$AM$10","v":0},{"$f":"COUNTIF([1]算数!AN48,1)*[1]算数!$AN$10","v":0},{"$f":"COUNTIF([1]算数!AO48,1)*[1]算数!$AO$10","v":0},{"$f":"COUNTIF([1]算数!AP48,1)*[1]算数!$AP$10","v":0},{"$f":"COUNTIF([1]算数!AQ48,1)*[1]算数!$AQ$10","v":0},{"$f":"COUNTIF([1]算数!AR48,1)*[1]算数!$AR$10","v":0},{"$f":"COUNTIF([1]算数!AS48,1)*[1]算数!$AS$10","v":0},{"$f":"COUNTIF([1]算数!AT48,1)*[1]算数!$AT$10","v":0},{"$f":"COUNTIF([1]算数!AU48,1)*[1]算数!$AU$10","v":0},{"$f":"COUNTIF([1]算数!AV48,1)*[1]算数!$AV$10","v":0},{"$f":"COUNTIF([1]算数!AW48,1)*[1]算数!$AW$10","v":0},{"$f":"COUNTIF([1]算数!AX48,1)*[1]算数!$AX$10","v":0},{"$f":"COUNTIF([1]算数!AY48,1)*[1]算数!$AY$10","v":0},{"$f":"COUNTIF([1]算数!AZ48,1)*[1]算数!$AZ$10","v":0},{"$f":"COUNTIF([1]算数!BA48,1)*[1]算数!$BA$10","v":0},{"$f":"COUNTIF([1]算数!BB48,1)*[1]算数!$BB$10","v":0},0,null,null,"38問",{"$f":"[1]算数!AP58","v":0},null,"38問",null,null,38]
[39,{"$f":"COUNTIF([1]算数!E49,1)*[1]算数!$E$10","v":0},{"$f":"COUNTIF([1]算数!F49,1)*[1]算数!$F$10","v":0},{"$f":"COUNTIF([1]算数!G49,1)*[1]算数!$G$10","v":0},{"$f":"COUNTIF([1]算数!H49,1)*[1]算数!$H$10","v":0},{"$f":"COUNTIF([1]算数!I49,1)*[1]算数!$I$10","v":0},{"$f":"COUNTIF([1]算数!J49,1)*[1]算数!$J$10","v":0},{"$f":"COUNTIF([1]算数!K49,1)*[1]算数!$K$10","v":0},{"$f":"COUNTIF([1]算数!L49,1)*[1]算数!$L$10","v":0},{"$f":"COUNTIF([1]算数!M49,1)*[1]算数!$M$10","v":0},{"$f":"COUNTIF([1]算数!N49,1)*[1]算数!$N$10","v":0},{"$f":"COUNTIF([1]算数!O49,1)*[1]算数!$O$10","v":0},{"$f":"COUNTIF([1]算数!P49,1)*[1]算数!$K$10","v":0},{"$f":"COUNTIF([1]算数!Q49,1)*[1]算数!$K$10","v":0},{"$f":"COUNTIF([1]算数!R49,1)*[1]算数!$R$10","v":0},{"$f":"COUNTIF([1]算数!S49,1)*[1]算数!$S$10","v":0},{"$f":"COUNTIF([1]算数!T49,1)*[1]算数!$T$10","v":0},{"$f":"COUNTIF([1]算数!U49,1)*[1]算数!$U$10","v":0},{"$f":"COUNTIF([1]算数!V49,1)*[1]算数!$V$10","v":0},{"$f":"COUNTIF([1]算数!W49,1)*[1]算数!$W$10","v":0},{"$f":"COUNTIF([1]算数!X49,1)*[1]算数!$X$10","v":0},{"$f":"COUNTIF([1]算数!Y49,1)*[1]算数!$Y$10","v":0},{"$f":"COUNTIF([1]算数!Z49,1)*[1]算数!$Z$10","v":0},{"$f":"COUNTIF([1]算数!AA49,1)*[1]算数!$AA$10","v":0},{"$f":"COUNTIF([1]算数!AB49,1)*[1]算数!$AB$10","v":0},{"$f":"COUNTIF([1]算数!AC49,1)*[1]算数!$AC$10","v":0},{"$f":"COUNTIF([1]算数!AD49,1)*[1]算数!$AD$10","v":0},{"$f":"COUNTIF([1]算数!AE49,1)*[1]算数!$AE$10","v":0},{"$f":"COUNTIF([1]算数!AF49,1)*[1]算数!$AF$10","v":0},{"$f":"COUNTIF([1]算数!AG49,1)*[1]算数!$AG$10","v":0},{"$f":"COUNTIF([1]算数!AH49,1)*[1]算数!$AH$10","v":0},{"$f":"COUNTIF([1]算数!AI49,1)*[1]算数!$AI$10","v":0},{"$f":"COUNTIF([1]算数!AJ49,1)*[1]算数!$AJ$10","v":0},{"$f":"COUNTIF([1]算数!AK49,1)*[1]算数!$AK$10","v":0},{"$f":"COUNTIF([1]算数!AL49,1)*[1]算数!$AL$10","v":0},{"$f":"COUNTIF([1]算数!AM49,1)*[1]算数!$AM$10","v":0},{"$f":"COUNTIF([1]算数!AN49,1)*[1]算数!$AN$10","v":0},{"$f":"COUNTIF([1]算数!AO49,1)*[1]算数!$AO$10","v":0},{"$f":"COUNTIF([1]算数!AP49,1)*[1]算数!$AP$10","v":0},{"$f":"COUNTIF([1]算数!AQ49,1)*[1]算数!$AQ$10","v":0},{"$f":"COUNTIF([1]算数!AR49,1)*[1]算数!$AR$10","v":0},{"$f":"COUNTIF([1]算数!AS49,1)*[1]算数!$AS$10","v":0},{"$f":"COUNTIF([1]算数!AT49,1)*[1]算数!$AT$10","v":0},{"$f":"COUNTIF([1]算数!AU49,1)*[1]算数!$AU$10","v":0},{"$f":"COUNTIF([1]算数!AV49,1)*[1]算数!$AV$10","v":0},{"$f":"COUNTIF([1]算数!AW49,1)*[1]算数!$AW$10","v":0},{"$f":"COUNTIF([1]算数!AX49,1)*[1]算数!$AX$10","v":0},{"$f":"COUNTIF([1]算数!AY49,1)*[1]算数!$AY$10","v":0},{"$f":"COUNTIF([1]算数!AZ49,1)*[1]算数!$AZ$10","v":0},{"$f":"COUNTIF([1]算数!BA49,1)*[1]算数!$BA$10","v":0},{"$f":"COUNTIF([1]算数!BB49,1)*[1]算数!$BB$10","v":0},0,null,null,"39問",{"$f":"[1]算数!AQ58","v":0},null,"39問",null,null,39]
[40,{"$f":"COUNTIF([1]算数!E50,1)*[1]算数!$E$10","v":0},{"$f":"COUNTIF([1]算数!F50,1)*[1]算数!$F$10","v":0},{"$f":"COUNTIF([1]算数!G50,1)*[1]算数!$G$10","v":0},{"$f":"COUNTIF([1]算数!H50,1)*[1]算数!$H$10","v":0},{"$f":"COUNTIF([1]算数!I50,1)*[1]算数!$I$10","v":0},{"$f":"COUNTIF([1]算数!J50,1)*[1]算数!$J$10","v":0},{"$f":"COUNTIF([1]算数!K50,1)*[1]算数!$K$10","v":0},{"$f":"COUNTIF([1]算数!L50,1)*[1]算数!$L$10","v":0},{"$f":"COUNTIF([1]算数!M50,1)*[1]算数!$M$10","v":0},{"$f":"COUNTIF([1]算数!N50,1)*[1]算数!$N$10","v":0},{"$f":"COUNTIF([1]算数!O50,1)*[1]算数!$O$10","v":0},{"$f":"COUNTIF([1]算数!P50,1)*[1]算数!$K$10","v":0},{"$f":"COUNTIF([1]算数!Q50,1)*[1]算数!$K$10","v":0},{"$f":"COUNTIF([1]算数!R50,1)*[1]算数!$R$10","v":0},{"$f":"COUNTIF([1]算数!S50,1)*[1]算数!$S$10","v":0},{"$f":"COUNTIF([1]算数!T50,1)*[1]算数!$T$10","v":0},{"$f":"COUNTIF([1]算数!U50,1)*[1]算数!$U$10","v":0},{"$f":"COUNTIF([1]算数!V50,1)*[1]算数!$V$10","v":0},{"$f":"COUNTIF([1]算数!W50,1)*[1]算数!$W$10","v":0},{"$f":"COUNTIF([1]算数!X50,1)*[1]算数!$X$10","v":0},{"$f":"COUNTIF([1]算数!Y50,1)*[1]算数!$Y$10","v":0},{"$f":"COUNTIF([1]算数!Z50,1)*[1]算数!$Z$10","v":0},{"$f":"COUNTIF([1]算数!AA50,1)*[1]算数!$AA$10","v":0},{"$f":"COUNTIF([1]算数!AB50,1)*[1]算数!$AB$10","v":0},{"$f":"COUNTIF([1]算数!AC50,1)*[1]算数!$AC$10","v":0},{"$f":"COUNTIF([1]算数!AD50,1)*[1]算数!$AD$10","v":0},{"$f":"COUNTIF([1]算数!AE50,1)*[1]算数!$AE$10","v":0},{"$f":"COUNTIF([1]算数!AF50,1)*[1]算数!$AF$10","v":0},{"$f":"COUNTIF([1]算数!AG50,1)*[1]算数!$AG$10","v":0},{"$f":"COUNTIF([1]算数!AH50,1)*[1]算数!$AH$10","v":0},{"$f":"COUNTIF([1]算数!AI50,1)*[1]算数!$AI$10","v":0},{"$f":"COUNTIF([1]算数!AJ50,1)*[1]算数!$AJ$10","v":0},{"$f":"COUNTIF([1]算数!AK50,1)*[1]算数!$AK$10","v":0},{"$f":"COUNTIF([1]算数!AL50,1)*[1]算数!$AL$10","v":0},{"$f":"COUNTIF([1]算数!AM50,1)*[1]算数!$AM$10","v":0},{"$f":"COUNTIF([1]算数!AN50,1)*[1]算数!$AN$10","v":0},{"$f":"COUNTIF([1]算数!AO50,1)*[1]算数!$AO$10","v":0},{"$f":"COUNTIF([1]算数!AP50,1)*[1]算数!$AP$10","v":0},{"$f":"COUNTIF([1]算数!AQ50,1)*[1]算数!$AQ$10","v":0},{"$f":"COUNTIF([1]算数!AR50,1)*[1]算数!$AR$10","v":0},{"$f":"COUNTIF([1]算数!AS50,1)*[1]算数!$AS$10","v":0},{"$f":"COUNTIF([1]算数!AT50,1)*[1]算数!$AT$10","v":0},{"$f":"COUNTIF([1]算数!AU50,1)*[1]算数!$AU$10","v":0},{"$f":"COUNTIF([1]算数!AV50,1)*[1]算数!$AV$10","v":0},{"$f":"COUNTIF([1]算数!AW50,1)*[1]算数!$AW$10","v":0},{"$f":"COUNTIF([1]算数!AX50,1)*[1]算数!$AX$10","v":0},{"$f":"COUNTIF([1]算数!AY50,1)*[1]算数!$AY$10","v":0},{"$f":"COUNTIF([1]算数!AZ50,1)*[1]算数!$AZ$10","v":0},{"$f":"COUNTIF([1]算数!BA50,1)*[1]算数!$BA$10","v":0},{"$f":"COUNTIF([1]算数!BB50,1)*[1]算数!$BB$10","v":0},0,null,null,"40問",{"$f":"[1]算数!AR58","v":0},null,"40問",null,null,40]
[41,{"$f":"COUNTIF([1]算数!E51,1)*[1]算数!$E$10","v":0},{"$f":"COUNTIF([1]算数!F51,1)*[1]算数!$F$10","v":0},{"$f":"COUNTIF([1]算数!G51,1)*[1]算数!$G$10","v":0},{"$f":"COUNTIF([1]算数!H51,1)*[1]算数!$H$10","v":0},{"$f":"COUNTIF([1]算数!I51,1)*[1]算数!$I$10","v":0},{"$f":"COUNTIF([1]算数!J51,1)*[1]算数!$J$10","v":0},{"$f":"COUNTIF([1]算数!K51,1)*[1]算数!$K$10","v":0},{"$f":"COUNTIF([1]算数!L51,1)*[1]算数!$L$10","v":0},{"$f":"COUNTIF([1]算数!M51,1)*[1]算数!$M$10","v":0},{"$f":"COUNTIF([1]算数!N51,1)*[1]算数!$N$10","v":0},{"$f":"COUNTIF([1]算数!O51,1)*[1]算数!$O$10","v":0},{"$f":"COUNTIF([1]算数!P51,1)*[1]算数!$K$10","v":0},{"$f":"COUNTIF([1]算数!Q51,1)*[1]算数!$K$10","v":0},{"$f":"COUNTIF([1]算数!R51,1)*[1]算数!$R$10","v":0},{"$f":"COUNTIF([1]算数!S51,1)*[1]算数!$S$10","v":0},{"$f":"COUNTIF([1]算数!T51,1)*[1]算数!$T$10","v":0},{"$f":"COUNTIF([1]算数!U51,1)*[1]算数!$U$10","v":0},{"$f":"COUNTIF([1]算数!V51,1)*[1]算数!$V$10","v":0},{"$f":"COUNTIF([1]算数!W51,1)*[1]算数!$W$10","v":0},{"$f":"COUNTIF([1]算数!X51,1)*[1]算数!$X$10","v":0},{"$f":"COUNTIF([1]算数!Y51,1)*[1]算数!$Y$10","v":0},{"$f":"COUNTIF([1]算数!Z51,1)*[1]算数!$Z$10","v":0},{"$f":"COUNTIF([1]算数!AA51,1)*[1]算数!$AA$10","v":0},{"$f":"COUNTIF([1]算数!AB51,1)*[1]算数!$AB$10","v":0},{"$f":"COUNTIF([1]算数!AC51,1)*[1]算数!$AC$10","v":0},{"$f":"COUNTIF([1]算数!AD51,1)*[1]算数!$AD$10","v":0},{"$f":"COUNTIF([1]算数!AE51,1)*[1]算数!$AE$10","v":0},{"$f":"COUNTIF([1]算数!AF51,1)*[1]算数!$AF$10","v":0},{"$f":"COUNTIF([1]算数!AG51,1)*[1]算数!$AG$10","v":0},{"$f":"COUNTIF([1]算数!AH51,1)*[1]算数!$AH$10","v":0},{"$f":"COUNTIF([1]算数!AI51,1)*[1]算数!$AI$10","v":0},{"$f":"COUNTIF([1]算数!AJ51,1)*[1]算数!$AJ$10","v":0},{"$f":"COUNTIF([1]算数!AK51,1)*[1]算数!$AK$10","v":0},{"$f":"COUNTIF([1]算数!AL51,1)*[1]算数!$AL$10","v":0},{"$f":"COUNTIF([1]算数!AM51,1)*[1]算数!$AM$10","v":0},{"$f":"COUNTIF([1]算数!AN51,1)*[1]算数!$AN$10","v":0},{"$f":"COUNTIF([1]算数!AO51,1)*[1]算数!$AO$10","v":0},{"$f":"COUNTIF([1]算数!AP51,1)*[1]算数!$AP$10","v":0},{"$f":"COUNTIF([1]算数!AQ51,1)*[1]算数!$AQ$10","v":0},{"$f":"COUNTIF([1]算数!AR51,1)*[1]算数!$AR$10","v":0},{"$f":"COUNTIF([1]算数!AS51,1)*[1]算数!$AS$10","v":0},{"$f":"COUNTIF([1]算数!AT51,1)*[1]算数!$AT$10","v":0},{"$f":"COUNTIF([1]算数!AU51,1)*[1]算数!$AU$10","v":0},{"$f":"COUNTIF([1]算数!AV51,1)*[1]算数!$AV$10","v":0},{"$f":"COUNTIF([1]算数!AW51,1)*[1]算数!$AW$10","v":0},{"$f":"COUNTIF([1]算数!AX51,1)*[1]算数!$AX$10","v":0},{"$f":"COUNTIF([1]算数!AY51,1)*[1]算数!$AY$10","v":0},{"$f":"COUNTIF([1]算数!AZ51,1)*[1]算数!$AZ$10","v":0},{"$f":"COUNTIF([1]算数!BA51,1)*[1]算数!$BA$10","v":0},{"$f":"COUNTIF([1]算数!BB51,1)*[1]算数!$BB$10","v":0},0,null,null,"41問",{"$f":"[1]算数!AS58","v":0},null,"41問",null,null,41]
[42,{"$f":"COUNTIF([1]算数!E52,1)*[1]算数!$E$10","v":0},{"$f":"COUNTIF([1]算数!F52,1)*[1]算数!$F$10","v":0},{"$f":"COUNTIF([1]算数!G52,1)*[1]算数!$G$10","v":0},{"$f":"COUNTIF([1]算数!H52,1)*[1]算数!$H$10","v":0},{"$f":"COUNTIF([1]算数!I52,1)*[1]算数!$I$10","v":0},{"$f":"COUNTIF([1]算数!J52,1)*[1]算数!$J$10","v":0},{"$f":"COUNTIF([1]算数!K52,1)*[1]算数!$K$10","v":0},{"$f":"COUNTIF([1]算数!L52,1)*[1]算数!$L$10","v":0},{"$f":"COUNTIF([1]算数!M52,1)*[1]算数!$M$10","v":0},{"$f":"COUNTIF([1]算数!N52,1)*[1]算数!$N$10","v":0},{"$f":"COUNTIF([1]算数!O52,1)*[1]算数!$O$10","v":0},{"$f":"COUNTIF([1]算数!P52,1)*[1]算数!$K$10","v":0},{"$f":"COUNTIF([1]算数!Q52,1)*[1]算数!$K$10","v":0},{"$f":"COUNTIF([1]算数!R52,1)*[1]算数!$R$10","v":0},{"$f":"COUNTIF([1]算数!S52,1)*[1]算数!$S$10","v":0},{"$f":"COUNTIF([1]算数!T52,1)*[1]算数!$T$10","v":0},{"$f":"COUNTIF([1]算数!U52,1)*[1]算数!$U$10","v":0},{"$f":"COUNTIF([1]算数!V52,1)*[1]算数!$V$10","v":0},{"$f":"COUNTIF([1]算数!W52,1)*[1]算数!$W$10","v":0},{"$f":"COUNTIF([1]算数!X52,1)*[1]算数!$X$10","v":0},{"$f":"COUNTIF([1]算数!Y52,1)*[1]算数!$Y$10","v":0},{"$f":"COUNTIF([1]算数!Z52,1)*[1]算数!$Z$10","v":0},{"$f":"COUNTIF([1]算数!AA52,1)*[1]算数!$AA$10","v":0},{"$f":"COUNTIF([1]算数!AB52,1)*[1]算数!$AB$10","v":0},{"$f":"COUNTIF([1]算数!AC52,1)*[1]算数!$AC$10","v":0},{"$f":"COUNTIF([1]算数!AD52,1)*[1]算数!$AD$10","v":0},{"$f":"COUNTIF([1]算数!AE52,1)*[1]算数!$AE$10","v":0},{"$f":"COUNTIF([1]算数!AF52,1)*[1]算数!$AF$10","v":0},{"$f":"COUNTIF([1]算数!AG52,1)*[1]算数!$AG$10","v":0},{"$f":"COUNTIF([1]算数!AH52,1)*[1]算数!$AH$10","v":0},{"$f":"COUNTIF([1]算数!AI52,1)*[1]算数!$AI$10","v":0},{"$f":"COUNTIF([1]算数!AJ52,1)*[1]算数!$AJ$10","v":0},{"$f":"COUNTIF([1]算数!AK52,1)*[1]算数!$AK$10","v":0},{"$f":"COUNTIF([1]算数!AL52,1)*[1]算数!$AL$10","v":0},{"$f":"COUNTIF([1]算数!AM52,1)*[1]算数!$AM$10","v":0},{"$f":"COUNTIF([1]算数!AN52,1)*[1]算数!$AN$10","v":0},{"$f":"COUNTIF([1]算数!AO52,1)*[1]算数!$AO$10","v":0},{"$f":"COUNTIF([1]算数!AP52,1)*[1]算数!$AP$10","v":0},{"$f":"COUNTIF([1]算数!AQ52,1)*[1]算数!$AQ$10","v":0},{"$f":"COUNTIF([1]算数!AR52,1)*[1]算数!$AR$10","v":0},{"$f":"COUNTIF([1]算数!AS52,1)*[1]算数!$AS$10","v":0},{"$f":"COUNTIF([1]算数!AT52,1)*[1]算数!$AT$10","v":0},{"$f":"COUNTIF([1]算数!AU52,1)*[1]算数!$AU$10","v":0},{"$f":"COUNTIF([1]算数!AV52,1)*[1]算数!$AV$10","v":0},{"$f":"COUNTIF([1]算数!AW52,1)*[1]算数!$AW$10","v":0},{"$f":"COUNTIF([1]算数!AX52,1)*[1]算数!$AX$10","v":0},{"$f":"COUNTIF([1]算数!AY52,1)*[1]算数!$AY$10","v":0},{"$f":"COUNTIF([1]算数!AZ52,1)*[1]算数!$AZ$10","v":0},{"$f":"COUNTIF([1]算数!BA52,1)*[1]算数!$BA$10","v":0},{"$f":"COUNTIF([1]算数!BB52,1)*[1]算数!$BB$10","v":0},0,null,null,"42問",{"$f":"[1]算数!AT58","v":0},null,"42問",null,null,42]
[43,{"$f":"COUNTIF([1]算数!E53,1)*[1]算数!$E$10","v":0},{"$f":"COUNTIF([1]算数!F53,1)*[1]算数!$F$10","v":0},{"$f":"COUNTIF([1]算数!G53,1)*[1]算数!$G$10","v":0},{"$f":"COUNTIF([1]算数!H53,1)*[1]算数!$H$10","v":0},{"$f":"COUNTIF([1]算数!I53,1)*[1]算数!$I$10","v":0},{"$f":"COUNTIF([1]算数!J53,1)*[1]算数!$J$10","v":0},{"$f":"COUNTIF([1]算数!K53,1)*[1]算数!$K$10","v":0},{"$f":"COUNTIF([1]算数!L53,1)*[1]算数!$L$10","v":0},{"$f":"COUNTIF([1]算数!M53,1)*[1]算数!$M$10","v":0},{"$f":"COUNTIF([1]算数!N53,1)*[1]算数!$N$10","v":0},{"$f":"COUNTIF([1]算数!O53,1)*[1]算数!$O$10","v":0},{"$f":"COUNTIF([1]算数!P53,1)*[1]算数!$K$10","v":0},{"$f":"COUNTIF([1]算数!Q53,1)*[1]算数!$K$10","v":0},{"$f":"COUNTIF([1]算数!R53,1)*[1]算数!$R$10","v":0},{"$f":"COUNTIF([1]算数!S53,1)*[1]算数!$S$10","v":0},{"$f":"COUNTIF([1]算数!T53,1)*[1]算数!$T$10","v":0},{"$f":"COUNTIF([1]算数!U53,1)*[1]算数!$U$10","v":0},{"$f":"COUNTIF([1]算数!V53,1)*[1]算数!$V$10","v":0},{"$f":"COUNTIF([1]算数!W53,1)*[1]算数!$W$10","v":0},{"$f":"COUNTIF([1]算数!X53,1)*[1]算数!$X$10","v":0},{"$f":"COUNTIF([1]算数!Y53,1)*[1]算数!$Y$10","v":0},{"$f":"COUNTIF([1]算数!Z53,1)*[1]算数!$Z$10","v":0},{"$f":"COUNTIF([1]算数!AA53,1)*[1]算数!$AA$10","v":0},{"$f":"COUNTIF([1]算数!AB53,1)*[1]算数!$AB$10","v":0},{"$f":"COUNTIF([1]算数!AC53,1)*[1]算数!$AC$10","v":0},{"$f":"COUNTIF([1]算数!AD53,1)*[1]算数!$AD$10","v":0},{"$f":"COUNTIF([1]算数!AE53,1)*[1]算数!$AE$10","v":0},{"$f":"COUNTIF([1]算数!AF53,1)*[1]算数!$AF$10","v":0},{"$f":"COUNTIF([1]算数!AG53,1)*[1]算数!$AG$10","v":0},{"$f":"COUNTIF([1]算数!AH53,1)*[1]算数!$AH$10","v":0},{"$f":"COUNTIF([1]算数!AI53,1)*[1]算数!$AI$10","v":0},{"$f":"COUNTIF([1]算数!AJ53,1)*[1]算数!$AJ$10","v":0},{"$f":"COUNTIF([1]算数!AK53,1)*[1]算数!$AK$10","v":0},{"$f":"COUNTIF([1]算数!AL53,1)*[1]算数!$AL$10","v":0},{"$f":"COUNTIF([1]算数!AM53,1)*[1]算数!$AM$10","v":0},{"$f":"COUNTIF([1]算数!AN53,1)*[1]算数!$AN$10","v":0},{"$f":"COUNTIF([1]算数!AO53,1)*[1]算数!$AO$10","v":0},{"$f":"COUNTIF([1]算数!AP53,1)*[1]算数!$AP$10","v":0},{"$f":"COUNTIF([1]算数!AQ53,1)*[1]算数!$AQ$10","v":0},{"$f":"COUNTIF([1]算数!AR53,1)*[1]算数!$AR$10","v":0},{"$f":"COUNTIF([1]算数!AS53,1)*[1]算数!$AS$10","v":0},{"$f":"COUNTIF([1]算数!AT53,1)*[1]算数!$AT$10","v":0},{"$f":"COUNTIF([1]算数!AU53,1)*[1]算数!$AU$10","v":0},{"$f":"COUNTIF([1]算数!AV53,1)*[1]算数!$AV$10","v":0},{"$f":"COUNTIF([1]算数!AW53,1)*[1]算数!$AW$10","v":0},{"$f":"COUNTIF([1]算数!AX53,1)*[1]算数!$AX$10","v":0},{"$f":"COUNTIF([1]算数!AY53,1)*[1]算数!$AY$10","v":0},{"$f":"COUNTIF([1]算数!AZ53,1)*[1]算数!$AZ$10","v":0},{"$f":"COUNTIF([1]算数!BA53,1)*[1]算数!$BA$10","v":0},{"$f":"COUNTIF([1]算数!BB53,1)*[1]算数!$BB$10","v":0},0,null,null,"43問",{"$f":"[1]算数!AU58","v":0},null,"43問",null,null,43]
[44,{"$f":"COUNTIF([1]算数!E54,1)*[1]算数!$E$10","v":0},{"$f":"COUNTIF([1]算数!F54,1)*[1]算数!$F$10","v":0},{"$f":"COUNTIF([1]算数!G54,1)*[1]算数!$G$10","v":0},{"$f":"COUNTIF([1]算数!H54,1)*[1]算数!$H$10","v":0},{"$f":"COUNTIF([1]算数!I54,1)*[1]算数!$I$10","v":0},{"$f":"COUNTIF([1]算数!J54,1)*[1]算数!$J$10","v":0},{"$f":"COUNTIF([1]算数!K54,1)*[1]算数!$K$10","v":0},{"$f":"COUNTIF([1]算数!L54,1)*[1]算数!$L$10","v":0},{"$f":"COUNTIF([1]算数!M54,1)*[1]算数!$M$10","v":0},{"$f":"COUNTIF([1]算数!N54,1)*[1]算数!$N$10","v":0},{"$f":"COUNTIF([1]算数!O54,1)*[1]算数!$O$10","v":0},{"$f":"COUNTIF([1]算数!P54,1)*[1]算数!$K$10","v":0},{"$f":"COUNTIF([1]算数!Q54,1)*[1]算数!$K$10","v":0},{"$f":"COUNTIF([1]算数!R54,1)*[1]算数!$R$10","v":0},{"$f":"COUNTIF([1]算数!S54,1)*[1]算数!$S$10","v":0},{"$f":"COUNTIF([1]算数!T54,1)*[1]算数!$T$10","v":0},{"$f":"COUNTIF([1]算数!U54,1)*[1]算数!$U$10","v":0},{"$f":"COUNTIF([1]算数!V54,1)*[1]算数!$V$10","v":0},{"$f":"COUNTIF([1]算数!W54,1)*[1]算数!$W$10","v":0},{"$f":"COUNTIF([1]算数!X54,1)*[1]算数!$X$10","v":0},{"$f":"COUNTIF([1]算数!Y54,1)*[1]算数!$Y$10","v":0},{"$f":"COUNTIF([1]算数!Z54,1)*[1]算数!$Z$10","v":0},{"$f":"COUNTIF([1]算数!AA54,1)*[1]算数!$AA$10","v":0},{"$f":"COUNTIF([1]算数!AB54,1)*[1]算数!$AB$10","v":0},{"$f":"COUNTIF([1]算数!AC54,1)*[1]算数!$AC$10","v":0},{"$f":"COUNTIF([1]算数!AD54,1)*[1]算数!$AD$10","v":0},{"$f":"COUNTIF([1]算数!AE54,1)*[1]算数!$AE$10","v":0},{"$f":"COUNTIF([1]算数!AF54,1)*[1]算数!$AF$10","v":0},{"$f":"COUNTIF([1]算数!AG54,1)*[1]算数!$AG$10","v":0},{"$f":"COUNTIF([1]算数!AH54,1)*[1]算数!$AH$10","v":0},{"$f":"COUNTIF([1]算数!AI54,1)*[1]算数!$AI$10","v":0},{"$f":"COUNTIF([1]算数!AJ54,1)*[1]算数!$AJ$10","v":0},{"$f":"COUNTIF([1]算数!AK54,1)*[1]算数!$AK$10","v":0},{"$f":"COUNTIF([1]算数!AL54,1)*[1]算数!$AL$10","v":0},{"$f":"COUNTIF([1]算数!AM54,1)*[1]算数!$AM$10","v":0},{"$f":"COUNTIF([1]算数!AN54,1)*[1]算数!$AN$10","v":0},{"$f":"COUNTIF([1]算数!AO54,1)*[1]算数!$AO$10","v":0},{"$f":"COUNTIF([1]算数!AP54,1)*[1]算数!$AP$10","v":0},{"$f":"COUNTIF([1]算数!AQ54,1)*[1]算数!$AQ$10","v":0},{"$f":"COUNTIF([1]算数!AR54,1)*[1]算数!$AR$10","v":0},{"$f":"COUNTIF([1]算数!AS54,1)*[1]算数!$AS$10","v":0},{"$f":"COUNTIF([1]算数!AT54,1)*[1]算数!$AT$10","v":0},{"$f":"COUNTIF([1]算数!AU54,1)*[1]算数!$AU$10","v":0},{"$f":"COUNTIF([1]算数!AV54,1)*[1]算数!$AV$10","v":0},{"$f":"COUNTIF([1]算数!AW54,1)*[1]算数!$AW$10","v":0},{"$f":"COUNTIF([1]算数!AX54,1)*[1]算数!$AX$10","v":0},{"$f":"COUNTIF([1]算数!AY54,1)*[1]算数!$AY$10","v":0},{"$f":"COUNTIF([1]算数!AZ54,1)*[1]算数!$AZ$10","v":0},{"$f":"COUNTIF([1]算数!BA54,1)*[1]算数!$BA$10","v":0},{"$f":"COUNTIF([1]算数!BB54,1)*[1]算数!$BB$10","v":0},0,null,null,"44問",{"$f":"[1]算数!AV58","v":0},null,"44問",null,null,44]
[45,{"$f":"COUNTIF([1]算数!E55,1)*[1]算数!$E$10","v":0},{"$f":"COUNTIF([1]算数!F55,1)*[1]算数!$F$10","v":0},{"$f":"COUNTIF([1]算数!G55,1)*[1]算数!$G$10","v":0},{"$f":"COUNTIF([1]算数!H55,1)*[1]算数!$H$10","v":0},{"$f":"COUNTIF([1]算数!I55,1)*[1]算数!$I$10","v":0},{"$f":"COUNTIF([1]算数!J55,1)*[1]算数!$J$10","v":0},{"$f":"COUNTIF([1]算数!K55,1)*[1]算数!$K$10","v":0},{"$f":"COUNTIF([1]算数!L55,1)*[1]算数!$L$10","v":0},{"$f":"COUNTIF([1]算数!M55,1)*[1]算数!$M$10","v":0},{"$f":"COUNTIF([1]算数!N55,1)*[1]算数!$N$10","v":0},{"$f":"COUNTIF([1]算数!O55,1)*[1]算数!$O$10","v":0},{"$f":"COUNTIF([1]算数!P55,1)*[1]算数!$K$10","v":0},{"$f":"COUNTIF([1]算数!Q55,1)*[1]算数!$K$10","v":0},{"$f":"COUNTIF([1]算数!R55,1)*[1]算数!$R$10","v":0},{"$f":"COUNTIF([1]算数!S55,1)*[1]算数!$S$10","v":0},{"$f":"COUNTIF([1]算数!T55,1)*[1]算数!$T$10","v":0},{"$f":"COUNTIF([1]算数!U55,1)*[1]算数!$U$10","v":0},{"$f":"COUNTIF([1]算数!V55,1)*[1]算数!$V$10","v":0},{"$f":"COUNTIF([1]算数!W55,1)*[1]算数!$W$10","v":0},{"$f":"COUNTIF([1]算数!X55,1)*[1]算数!$X$10","v":0},{"$f":"COUNTIF([1]算数!Y55,1)*[1]算数!$Y$10","v":0},{"$f":"COUNTIF([1]算数!Z55,1)*[1]算数!$Z$10","v":0},{"$f":"COUNTIF([1]算数!AA55,1)*[1]算数!$AA$10","v":0},{"$f":"COUNTIF([1]算数!AB55,1)*[1]算数!$AB$10","v":0},{"$f":"COUNTIF([1]算数!AC55,1)*[1]算数!$AC$10","v":0},{"$f":"COUNTIF([1]算数!AD55,1)*[1]算数!$AD$10","v":0},{"$f":"COUNTIF([1]算数!AE55,1)*[1]算数!$AE$10","v":0},{"$f":"COUNTIF([1]算数!AF55,1)*[1]算数!$AF$10","v":0},{"$f":"COUNTIF([1]算数!AG55,1)*[1]算数!$AG$10","v":0},{"$f":"COUNTIF([1]算数!AH55,1)*[1]算数!$AH$10","v":0},{"$f":"COUNTIF([1]算数!AI55,1)*[1]算数!$AI$10","v":0},{"$f":"COUNTIF([1]算数!AJ55,1)*[1]算数!$AJ$10","v":0},{"$f":"COUNTIF([1]算数!AK55,1)*[1]算数!$AK$10","v":0},{"$f":"COUNTIF([1]算数!AL55,1)*[1]算数!$AL$10","v":0},{"$f":"COUNTIF([1]算数!AM55,1)*[1]算数!$AM$10","v":0},{"$f":"COUNTIF([1]算数!AN55,1)*[1]算数!$AN$10","v":0},{"$f":"COUNTIF([1]算数!AO55,1)*[1]算数!$AO$10","v":0},{"$f":"COUNTIF([1]算数!AP55,1)*[1]算数!$AP$10","v":0},{"$f":"COUNTIF([1]算数!AQ55,1)*[1]算数!$AQ$10","v":0},{"$f":"COUNTIF([1]算数!AR55,1)*[1]算数!$AR$10","v":0},{"$f":"COUNTIF([1]算数!AS55,1)*[1]算数!$AS$10","v":0},{"$f":"COUNTIF([1]算数!AT55,1)*[1]算数!$AT$10","v":0},{"$f":"COUNTIF([1]算数!AU55,1)*[1]算数!$AU$10","v":0},{"$f":"COUNTIF([1]算数!AV55,1)*[1]算数!$AV$10","v":0},{"$f":"COUNTIF([1]算数!AW55,1)*[1]算数!$AW$10","v":0},{"$f":"COUNTIF([1]算数!AX55,1)*[1]算数!$AX$10","v":0},{"$f":"COUNTIF([1]算数!AY55,1)*[1]算数!$AY$10","v":0},{"$f":"COUNTIF([1]算数!AZ55,1)*[1]算数!$AZ$10","v":0},{"$f":"COUNTIF([1]算数!BA55,1)*[1]算数!$BA$10","v":0},{"$f":"COUNTIF([1]算数!BB55,1)*[1]算数!$BB$10","v":0},0,null,null,"45問",{"$f":"[1]算数!AW58","v":0},null,"45問",null,null,45]
[null,null,null,null,null,null,null,null,null,null,null,null,null,null,null,null,null,null,null,null,null,null,null,null,null,null,null,null,null,null,null,null,null,null,null,null,null,null,null,null,null,null,null,null,null,null,null,null,null,null,null,null,null,null,"46問",{"$f":"[1]算数!AX58","v":0},null,"46問",null,null,46]
[null,null,null,null,null,null,null,null,null,null,null,null,null,null,null,null,null,null,null,null,null,null,null,null,null,null,null,null,null,null,null,null,null,null,null,null,null,null,null,null,null,null,null,null,null,null,null,null,null,null,null,null,null,null,"47問",{"$f":"[1]算数!AY58","v":0},null,"47問",null,null,47]
["数",1,2,3,4,5,6,7,8,9,10,11,12,13,14,15,16,17,18,19,20,21,22,23,24,25,26,27,28,29,30,31,32,33,34,35,36,37,38,39,40,41,42,43,44,45,46,47,48,49,50,null,null,null,"48問",{"$f":"[1]算数!AZ58","v":0},null,"48問",null,null,48]
["正答",{"$f":"[1]算数!E58","v":0},{"$f":"[1]算数!F58","v":0},{"$f":"[1]算数!G58","v":0},{"$f":"[1]算数!H58","v":0},{"$f":"[1]算数!I58","v":0},{"$f":"[1]算数!J58","v":0},{"$f":"[1]算数!K58","v":0},{"$f":"[1]算数!L58","v":0},{"$f":"[1]算数!M58","v":0},{"$f":"[1]算数!N58","v":0},{"$f":"[1]算数!O58","v":0},{"$f":"[1]算数!P58","v":0},{"$f":"[1]算数!Q58","v":0},{"$f":"[1]算数!R58","v":0},{"$f":"[1]算数!S58","v":0},{"$f":"[1]算数!T58","v":0},{"$f":"[1]算数!U58","v":0},{"$f":"[1]算数!V58","v":0},{"$f":"[1]算数!W58","v":0},{"$f":"[1]算数!X58","v":0},{"$f":"[1]算数!Y58","v":0},{"$f":"[1]算数!Z58","v":0},{"$f":"[1]算数!AA58","v":0},{"$f":"[1]算数!AB58","v":0},{"$f":"[1]算数!AC58","v":0},{"$f":"[1]算数!AD58","v":0},{"$f":"[1]算数!AE58","v":0},{"$f":"[1]算数!AF58","v":0},{"$f":"[1]算数!AG58","v":0},{"$f":"[1]算数!AH58","v":0},{"$f":"[1]算数!AI58","v":0},{"$f":"[1]算数!AJ58","v":0},{"$f":"[1]算数!AK58","v":0},{"$f":"[1]算数!AL58","v":0},{"$f":"[1]算数!AM58","v":0},{"$f":"[1]算数!AN58","v":0},{"$f":"[1]算数!AO58","v":0},{"$f":"[1]算数!AP58","v":0},{"$f":"[1]算数!AQ58","v":0},{"$f":"[1]算数!AR58","v":0},{"$f":"[1]算数!AS58","v":0},{"$f":"[1]算数!AT58","v":0},{"$f":"[1]算数!AU58","v":0},{"$f":"[1]算数!AV58","v":0},{"$f":"[1]算数!AW58","v":0},{"$f":"[1]算数!AX58","v":0},{"$f":"[1]算数!AY58","v":0},{"$f":"[1]算数!AZ58","v":0},{"$f":"[1]算数!BA58","v":0},{"$f":"[1]算数!BB58","v":0},null,null,null,"49問",{"$f":"[1]算数!BA58","v":0},null,"49問",null,null,49]
["誤答",{"$f":"[1]算数!E59","v":0},{"$f":"[1]算数!F59","v":0},{"$f":"[1]算数!G59","v":0},{"$f":"[1]算数!H59","v":0},{"$f":"[1]算数!I59","v":0},{"$f":"[1]算数!J59","v":0},{"$f":"[1]算数!K59","v":0},{"$f":"[1]算数!L59","v":0},{"$f":"[1]算数!M59","v":0},{"$f":"[1]算数!N59","v":0},{"$f":"[1]算数!O59","v":0},{"$f":"[1]算数!P59","v":0},{"$f":"[1]算数!Q59","v":0},{"$f":"[1]算数!R59","v":0},{"$f":"[1]算数!S59","v":0},{"$f":"[1]算数!T59","v":0},{"$f":"[1]算数!U59","v":0},{"$f":"[1]算数!V59","v":0},{"$f":"[1]算数!W59","v":0},{"$f":"[1]算数!X59","v":0},{"$f":"[1]算数!Y59","v":0},{"$f":"[1]算数!Z59","v":0},{"$f":"[1]算数!AA59","v":0},{"$f":"[1]算数!AB59","v":0},{"$f":"[1]算数!AC59","v":0},{"$f":"[1]算数!AD59","v":0},{"$f":"[1]算数!AE59","v":0},{"$f":"[1]算数!AF59","v":0},{"$f":"[1]算数!AG59","v":0},{"$f":"[1]算数!AH59","v":0},{"$f":"[1]算数!AI59","v":0},{"$f":"[1]算数!AJ59","v":0},{"$f":"[1]算数!AK59","v":0},{"$f":"[1]算数!AL59","v":0},{"$f":"[1]算数!AM59","v":0},{"$f":"[1]算数!AN59","v":0},{"$f":"[1]算数!AO59","v":0},{"$f":"[1]算数!AP59","v":0},{"$f":"[1]算数!AQ59","v":0},{"$f":"[1]算数!AR59","v":0},{"$f":"[1]算数!AS59","v":0},{"$f":"[1]算数!AT59","v":0},{"$f":"[1]算数!AU59","v":0},{"$f":"[1]算数!AV59","v":0},{"$f":"[1]算数!AW59","v":0},{"$f":"[1]算数!AX59","v":0},{"$f":"[1]算数!AY59","v":0},{"$f":"[1]算数!AZ59","v":0},{"$f":"[1]算数!BA59","v":0},{"$f":"[1]算数!BB59","v":0},null,null,null,"50問",{"$f":"[1]算数!BB58","v":0},null,"50問",null,null,50]
["無答",{"$f":"[1]算数!E60","v":0},{"$f":"[1]算数!F60","v":0},{"$f":"[1]算数!G60","v":0},{"$f":"[1]算数!H60","v":0},{"$f":"[1]算数!I60","v":0},{"$f":"[1]算数!J60","v":0},{"$f":"[1]算数!K60","v":0},{"$f":"[1]算数!L60","v":0},{"$f":"[1]算数!M60","v":0},{"$f":"[1]算数!N60","v":0},{"$f":"[1]算数!O60","v":0},{"$f":"[1]算数!P60","v":0},{"$f":"[1]算数!Q60","v":0},{"$f":"[1]算数!R60","v":0},{"$f":"[1]算数!S60","v":0},{"$f":"[1]算数!T60","v":0},{"$f":"[1]算数!U60","v":0},{"$f":"[1]算数!V60","v":0},{"$f":"[1]算数!W60","v":0},{"$f":"[1]算数!X60","v":0},{"$f":"[1]算数!Y60","v":0},{"$f":"[1]算数!Z60","v":0},{"$f":"[1]算数!AA60","v":0},{"$f":"[1]算数!AB60","v":0},{"$f":"[1]算数!AC60","v":0},{"$f":"[1]算数!AD60","v":0},{"$f":"[1]算数!AE60","v":0},{"$f":"[1]算数!AF60","v":0},{"$f":"[1]算数!AG60","v":0},{"$f":"[1]算数!AH60","v":0},{"$f":"[1]算数!AI60","v":0},{"$f":"[1]算数!AJ60","v":0},{"$f":"[1]算数!AK60","v":0},{"$f":"[1]算数!AL60","v":0},{"$f":"[1]算数!AM60","v":0},{"$f":"[1]算数!AN60","v":0},{"$f":"[1]算数!AO60","v":0},{"$f":"[1]算数!AP60","v":0},{"$f":"[1]算数!AQ60","v":0},{"$f":"[1]算数!AR60","v":0},{"$f":"[1]算数!AS60","v":0},{"$f":"[1]算数!AT60","v":0},{"$f":"[1]算数!AU60","v":0},{"$f":"[1]算数!AV60","v":0},{"$f":"[1]算数!AW60","v":0},{"$f":"[1]算数!AX60","v":0},{"$f":"[1]算数!AY60","v":0},{"$f":"[1]算数!AZ60","v":0},{"$f":"[1]算数!BA60","v":0},{"$f":"[1]算数!BB60","v":0},null,null,null,"児童数合計",{"$f":"L1","v":0},null,"合計",{"$f":"SUM(BG3:BG53)","v":1368}]
["合計",{"$f":"[1]算数!E61","v":0},{"$f":"[1]算数!F61","v":0},{"$f":"[1]算数!G61","v":0},{"$f":"[1]算数!H61","v":0},{"$f":"[1]算数!I61","v":0},{"$f":"[1]算数!J61","v":0},{"$f":"[1]算数!K61","v":0},{"$f":"[1]算数!L61","v":0},{"$f":"[1]算数!M61","v":0},{"$f":"[1]算数!N61","v":0},{"$f":"[1]算数!O61","v":0},{"$f":"[1]算数!P61","v":0},{"$f":"[1]算数!Q61","v":0},{"$f":"[1]算数!R61","v":0},{"$f":"[1]算数!S61","v":0},{"$f":"[1]算数!T61","v":0},{"$f":"[1]算数!U61","v":0},{"$f":"[1]算数!V61","v":0},{"$f":"[1]算数!W61","v":0},{"$f":"[1]算数!X61","v":0},{"$f":"[1]算数!Y61","v":0},{"$f":"[1]算数!Z61","v":0},{"$f":"[1]算数!AA61","v":0},{"$f":"[1]算数!AB61","v":0},{"$f":"[1]算数!AC61","v":0},{"$f":"[1]算数!AD61","v":0},{"$f":"[1]算数!AE61","v":0},{"$f":"[1]算数!AF61","v":0},{"$f":"[1]算数!AG61","v":0},{"$f":"[1]算数!AH61","v":0},{"$f":"[1]算数!AI61","v":0},{"$f":"[1]算数!AJ61","v":0},{"$f":"[1]算数!AK61","v":0},{"$f":"[1]算数!AL61","v":0},{"$f":"[1]算数!AM61","v":0},{"$f":"[1]算数!AN61","v":0},{"$f":"[1]算数!AO61","v":0},{"$f":"[1]算数!AP61","v":0},{"$f":"[1]算数!AQ61","v":0},{"$f":"[1]算数!AR61","v":0},{"$f":"[1]算数!AS61","v":0},{"$f":"[1]算数!AT61","v":0},{"$f":"[1]算数!AU61","v":0},{"$f":"[1]算数!AV61","v":0},{"$f":"[1]算数!AW61","v":0},{"$f":"[1]算数!AX61","v":0},{"$f":"[1]算数!AY61","v":0},{"$f":"[1]算数!AZ61","v":0},{"$f":"[1]算数!BA61","v":0},{"$f":"[1]算数!BB61","v":0}]
["６年算数",{"$f":"[1]算数!E9","v":"知・技"},{"$f":"[1]算数!F9","v":"知・技"},{"$f":"[1]算数!G9","v":"知・技"},{"$f":"[1]算数!H9","v":"知・技"},{"$f":"[1]算数!I9","v":"知・技"},{"$f":"[1]算数!J9","v":"知・技"},{"$f":"[1]算数!K9","v":"知・技"},{"$f":"[1]算数!L9","v":"知・技"},{"$f":"[1]算数!M9","v":"知・技"},{"$f":"[1]算数!N9","v":"思判表"},{"$f":"[1]算数!O9","v":"知・技"},{"$f":"[1]算数!P9","v":"思判表"},{"$f":"[1]算数!Q9","v":"知・技"},{"$f":"[1]算数!R9","v":"知・技"},{"$f":"[1]算数!S9","v":"知・技"},{"$f":"[1]算数!T9","v":"知・技"},{"$f":"[1]算数!U9","v":"思判表"},{"$f":"[1]算数!V9","v":"知・技"},{"$f":"[1]算数!W9","v":"知・技"},{"$f":"[1]算数!X9","v":"知・技"},{"$f":"[1]算数!Y9","v":"思判表"},{"$f":"[1]算数!Z9","v":"思判表"},{"$f":"[1]算数!AA9","v":"知・技"},{"$f":"[1]算数!AB9","v":"思判表"},{"$f":"[1]算数!AC9","v":"思判表"}]
["富山県\n割合％",1,2,3,4,5,6,7,8,9,10,11,12,13,14,15,16,17,18,19,20,21,22,23,24,25,26,27,28,29,30,31,32,33,34,35,36,37,38,39,40,41,42,43,44,45,46,47,48,49,50]
["正答率",0.93700000000000006,0.55700000000000005,0.65100000000000002,0.47699999999999998,0.54700000000000004,0.54800000000000004,0.755,0.65300000000000002,0.503,0.34300000000000003,0.83399999999999996,0.441,0.28599999999999998,0.44,0.44500000000000001,0.89,0.32700000000000001,0.53800000000000003,0.49299999999999999,0.32100000000000001,0.20300000000000001,0.56599999999999995,0.78900000000000003,0.55400000000000005,0.58199999999999996]
["誤答率",6.3E-2,0.442,0.30499999999999999,0.49,0.38500000000000001,0.42399999999999999,0.218,0.27300000000000002,0.42199999999999999,0.63600000000000001,0.129,0.45800000000000002,0.67100000000000004,0.55000000000000004,0.49099999999999999,9.9000000000000005E-2,0.56899999999999995,0.42699999999999999,0.49299999999999999,0.66100000000000003,0.74299999999999999,0.41799999999999998,0.17100000000000001,0.38300000000000001,0.35899999999999999]
["無答率",0,9.9999999999988987E-4,4.4000000000000039E-2,3.3000000000000029E-2,6.7999999999999949E-2,2.8000000000000025E-2,2.7000000000000024E-2,7.3999999999999955E-2,7.4999999999999956E-2,2.0999999999999908E-2,3.7000000000000033E-2,0.10099999999999998,4.2999999999999927E-2,1.0000000000000009E-2,6.4000000000000057E-2,1.100000000000001E-2,0.10400000000000009,3.499999999999992E-2,1.4000000000000012E-2,1.8000000000000016E-2,5.4000000000000048E-2,1.6000000000000014E-2,3.9999999999999925E-2,6.2999999999999945E-2,5.9000000000000052E-2]
["合計",{"$f":"SUM(B58:B60)","v":1},{"$f":"SUM(C58:C60)","v":1},{"$f":"SUM(D58:D60)","v":1},1,1,1,1,1,1,1,1,1,1,1,1,1,1,1,1,1,1,1,1,1,1,0,0,0,0,0,0,0,0,0,0,0,0,0,0,0,0,0,0,0,0,0,0,0,0,0]
[]
["観点別正答数",null,null,null,null,null,null,null,null,null,null,null,null,null,null,null,null,null,null,null,null,null,null,null,null,null,null,null,null,null,null,null,null,null,null,null,null,null,null,null,null,null,null,null,null,null,null,null,null,null,null,"計","数","割合",{"$f":"A63","v":"観点別正答数"}]
[{"$f":"[1]算数!BF35","v":"知・技"},{"$f":"IF(COUNTIF(B3,$A$64),SUM(B52),0)","v":0},0,0,0,0,0,0,0,0,0,0,0,0,0,0,0,0,0,0,0,0,0,0,0,0,0,0,0,0,0,0,0,{"$f":"IF(COUNTIF(AH3,$A$64),SUM(AH52),0)","v":0},0,0,0,0,0,0,0,0,0,0,0,0,0,0,0,0,0,{"$f":"SUM(B64:AY64)","v":0},{"$f":"COUNTIF($B$3:$AY$3,A64)","v":18},{"$f":"AZ64/BA64/$L$1","v":{"$error":"#DIV/0!"}},{"$f":"A64","v":"知・技"}]
[{"$f":"[1]算数!BF36","v":"思判表"},{"$f":"IF(COUNTIF(B3,$A$65),SUM(B52),0)","v":0},0,0,0,0,0,0,0,0,0,0,0,0,0,0,0,0,0,0,0,0,0,0,0,0,0,0,0,0,0,0,0,0,0,0,0,0,0,0,0,0,0,0,0,0,0,0,0,0,0,{"$f":"SUM(B65:AY65)","v":0},{"$f":"COUNTIF($B$3:$AY$3,A65)","v":7},{"$f":"AZ65/BA65/$L$1","v":{"$error":"#DIV/0!"}},"思判表"]
[{"$f":"[1]算数!BF37","v":"-"},{"$f":"IF(COUNTIF(B3,$A$66),SUM(B52),0)","v":0},0,0,0,0,0,0,0,0,0,0,0,0,0,0,0,0,0,0,0,0,0,0,0,0,0,0,0,0,0,0,0,0,0,0,0,0,0,0,0,0,0,0,0,0,0,0,0,0,0,{"$f":"SUM(B66:AY66)","v":0},{"$f":"COUNTIF($B$3:$AY$3,A66)","v":0},{"$f":"AZ66/BA66/$L$1","v":{"$error":"#DIV/0!"}},"-"]
[{"$f":"[1]算数!BF38","v":"-"},{"$f":"IF(COUNTIF(B3,$A$67),SUM(B52),0)","v":0},0,0,0,0,0,0,0,0,0,0,0,0,0,0,0,0,0,0,0,0,0,0,0,0,0,0,0,0,0,0,0,0,0,0,0,0,0,0,0,0,0,0,0,0,0,0,0,0,0,{"$f":"SUM(B67:AY67)","v":0},{"$f":"COUNTIF($B$3:$AY$3,A67)","v":0},{"$f":"AZ67/BA67/$L$1","v":{"$error":"#DIV/0!"}},"-"]
[{"$f":"[1]算数!BF39","v":"-"},{"$f":"IF(COUNTIF(B3,$A$68),SUM(B52),0)","v":0},0,0,0,0,0,0,0,0,0,0,0,0,0,0,0,0,0,0,0,0,0,0,0,0,0,0,0,0,0,0,0,0,0,0,0,0,0,0,0,0,0,0,0,0,0,0,0,0,0,{"$f":"SUM(B68:AY68)","v":0},{"$f":"COUNTIF($B$3:$AY$3,A68)","v":0},{"$f":"AZ68/BA68/$L$1","v":{"$error":"#DIV/0!"}},"-"]
[]
["観点別誤答数",null,null,null,null,null,null,null,null,null,null,null,null,null,null,null,null,null,null,null,null,null,null,null,null,null,null,null,null,null,null,null,null,null,null,null,null,null,null,null,null,null,null,null,null,null,null,null,null,null,null,null,null,null,"観点別誤答数"]
[{"$f":"A64","v":"知・技"},{"$f":"IF(COUNTIF(B3,$A$64),SUM(B53),0)","v":0},0,0,0,0,0,0,0,0,0,0,0,0,0,0,0,0,0,0,0,0,0,0,0,0,0,0,0,0,0,0,0,0,0,0,0,0,0,0,0,0,0,0,0,0,0,0,0,0,0,{"$f":"SUM(B71:AY71)","v":0},{"$f":"BA64","v":18},{"$f":"AZ71/BA71/$L$1","v":{"$error":"#DIV/0!"}},"知・技"]
[{"$f":"A65","v":"思判表"},{"$f":"IF(COUNTIF(B3,$A$65),SUM(B53),0)","v":0},0,0,0,0,0,0,0,0,0,0,0,0,0,0,0,0,0,0,0,0,0,0,0,0,0,0,0,0,0,0,0,0,0,0,0,0,0,0,0,0,0,0,0,0,0,0,0,0,0,{"$f":"SUM(B72:AY72)","v":0},{"$f":"BA65","v":7},{"$f":"AZ72/BA72/$L$1","v":{"$error":"#DIV/0!"}},"思判表"]
[{"$f":"A66","v":"-"},{"$f":"IF(COUNTIF(B3,$A$66),SUM(B53),0)","v":0},0,0,0,0,0,0,0,0,0,0,0,0,0,0,0,0,0,0,0,0,0,0,0,0,0,0,0,0,0,0,0,0,0,0,0,0,0,0,0,0,0,0,0,0,0,0,0,0,0,{"$f":"SUM(B73:AY73)","v":0},{"$f":"BA66","v":0},{"$f":"AZ73/BA73/$L$1","v":{"$error":"#DIV/0!"}},"-"]
[{"$f":"A67","v":"-"},{"$f":"IF(COUNTIF(B3,$A$67),SUM(B53),0)","v":0},0,0,0,0,0,0,0,0,0,0,0,0,0,0,0,0,0,0,0,0,0,0,0,0,0,0,0,0,0,0,0,0,0,0,0,0,0,0,0,0,0,0,0,0,0,0,0,0,0,{"$f":"SUM(B74:AY74)","v":0},{"$f":"BA67","v":0},{"$f":"AZ74/BA74/$L$1","v":{"$error":"#DIV/0!"}},"-"]
[{"$f":"A68","v":"-"},{"$f":"IF(COUNTIF(B3,$A$68),SUM(B53),0)","v":0},0,0,0,0,0,0,0,0,0,0,0,0,0,0,0,0,0,0,0,0,0,0,0,0,0,0,0,0,0,0,0,0,0,0,0,0,0,0,0,0,0,0,0,0,0,0,0,0,0,{"$f":"SUM(B75:AY75)","v":0},{"$f":"BA68","v":0},{"$f":"AZ75/BA75/$L$1","v":{"$error":"#DIV/0!"}},"-"]
[]
["観点別無答数",null,null,null,null,null,null,null,null,null,null,null,null,null,null,null,null,null,null,null,null,null,null,null,null,null,null,null,null,null,null,null,null,null,null,null,null,null,null,null,null,null,null,null,null,null,null,null,null,null,null,null,null,null,"観点別無答数"]
[{"$f":"A64","v":"知・技"},{"$f":"IF(COUNTIF(B3,$A$64),SUM(B54),0)","v":0},0,0,0,0,0,0,0,0,0,0,0,0,0,0,0,0,0,0,0,0,0,0,0,0,0,0,0,0,0,0,0,0,0,0,0,0,0,0,0,0,0,0,0,0,0,0,0,0,0,{"$f":"SUM(B78:AY78)","v":0},{"$f":"BA64","v":18},{"$f":"AZ78/BA78/$L$1","v":{"$error":"#DIV/0!"}},"知・技"]
[{"$f":"A65","v":"思判表"},{"$f":"IF(COUNTIF(B3,$A$65),SUM(B54),0)","v":0},0,0,0,0,0,0,0,0,0,0,0,0,0,0,0,0,0,0,0,0,0,0,0,0,0,0,0,0,0,0,0,0,0,0,0,0,0,0,0,0,0,0,0,0,0,0,0,0,0,{"$f":"SUM(B79:AY79)","v":0},{"$f":"BA65","v":7},{"$f":"AZ79/BA79/$L$1","v":{"$error":"#DIV/0!"}},"思判表"]
[{"$f":"A66","v":"-"},{"$f":"IF(COUNTIF(B3,$A$66),SUM(B54),0)","v":0},0,0,0,0,0,0,0,0,0,0,0,0,0,0,0,0,0,0,0,0,0,0,0,0,0,0,0,0,0,0,0,0,0,0,0,0,0,0,0,0,0,0,0,0,0,0,0,0,0,{"$f":"SUM(B80:AY80)","v":0},{"$f":"BA66","v":0},{"$f":"AZ80/BA80/$L$1","v":{"$error":"#DIV/0!"}},"-"]
[{"$f":"A67","v":"-"},{"$f":"IF(COUNTIF(B3,$A$67),SUM(B54),0)","v":0},0,0,0,0,0,0,0,0,0,0,0,0,0,0,0,0,0,0,0,0,0,0,0,0,0,0,0,0,0,0,0,0,0,0,0,0,0,0,0,0,0,0,0,0,0,0,0,0,0,{"$f":"SUM(B81:AY81)","v":0},{"$f":"BA67","v":0},{"$f":"AZ81/BA81/$L$1","v":{"$error":"#DIV/0!"}},"-"]
[{"$f":"A68","v":"-"},{"$f":"IF(COUNTIF(B3,$A$68),SUM(B54),0)","v":0},0,0,0,0,0,0,0,0,0,0,0,0,0,0,0,0,0,0,0,0,0,0,0,0,0,0,0,0,0,0,0,0,0,0,0,0,0,0,0,0,0,0,0,0,0,0,0,0,0,{"$f":"SUM(B82:AY82)","v":0},{"$f":"BA68","v":0},{"$f":"AZ82/BA82/$L$1","v":{"$error":"#DIV/0!"}},"-"]

{"sheet":"理科表紙","index":27,"n_rows":6,"n_cols":2,"rows_kept":6,"cut":false,"hidden":false,"merged":[]}
[]
["理科の結果の分析"]
[]
[null,"最初にデータコピーをクリックして、理科のデータを入力したファイルを選択してください。"]
[]
[null,"選択ボタン一覧（色で囲んであるところをクリックしてください。）"]

{"sheet":"①理科の平均正答数②理科の平均正答率","index":28,"n_rows":27,"n_cols":15,"rows_kept":27,"cut":false,"hidden":false,"merged":[[4,0,4,1],[10,0,10,2],[19,1,19,3],[24,1,24,3],[19,15,19,21],[11,0,11,2],[12,0,12,2],[13,0,13,2],[16,0,16,2],[14,0,14,2],[15,0,15,2]]}
["①理科の平均正答数②理科の平均正答率"]
[]
[]
["集計対象"]
["児童数"]
[{"$f":"理科!AB1","v":0},"人"]
[]
["観点別集計結果"]
[null,null,null,null,null,null,null,null,null,null,null,null,null,null,"1900-01-01"]
["理科",null,null,null,null,null,null,null,null,null,null,null,null,null,"1900-01-01"]
["観点",null,null,"対象設問数\n（問）","富山県\n平均正答率\n（％）","自校\n平均正答率\n（％）","自校\n平均正答数\n（問）",null,null,"自校\n平均正答率\n（％）",null,null,"自校\n平均正答数\n（問）"]
[{"$f":"理科!BG35","v":"科学的な思考・表現"},null,null,{"$f":"理科得点!BA64","v":12},{"$f":"IF(ISERR(理科!F76)*100,0,(理科!F76)*100)","v":64.13333333333334},{"$f":"IF(ISERR(理科!F71)*100,0,(理科!F71)*100)","v":0},{"$f":"IF(ISERR(D12*F12)/100,\"\",(D12*F12)/100)","v":0},null,60,50,null,null,{"$f":"IF(J12=\"\",\"\",D12*J12/100)","v":6}]
[{"$f":"理科!BG36","v":"自然事象の知識・理解\n観察・実験の技能"},null,null,{"$f":"理科得点!BA65","v":13},{"$f":"IF(ISERR(理科!K76)*100,0,(理科!K76)*100)","v":76.861538461538458},{"$f":"IF(ISERR(理科!K71)*100,0,(理科!K71)*100)","v":0},{"$f":"IF(ISERR(D13*F13)/100,\"\",(D13*F13)/100)","v":0},null,60,50,null,null,{"$f":"IF(J13=\"\",\"\",D13*J13/100)","v":6.5}]
[{"$f":"理科!BG37","v":"－"},null,null,{"$f":"理科得点!BA66","v":0},{"$f":"IF(ISERR(理科!P76)*100,0,(理科!P76)*100)","v":0},{"$f":"IF(ISERR(理科!P71)*100,0,(理科!P71)*100)","v":0},{"$f":"IF(ISERR(D14*F14)/100,\"\",(D14*F14)/100)","v":0},null,60,50,null,null,{"$f":"IF(J14=\"\",\"\",D14*J14/100)","v":0}]
[{"$f":"理科!BG38","v":"－"},null,null,{"$f":"理科得点!BA67","v":0},{"$f":"IF(ISERR(理科!U76)*100,0,(理科!U76)*100)","v":0},{"$f":"IF(ISERR(理科!U71)*100,0,(理科!U71)*100)","v":0},{"$f":"IF(ISERR(D15*F15)/100,\"\",(D15*F15)/100)","v":0}]
[{"$f":"理科!BG39","v":"－"},null,null,{"$f":"理科得点!BA68","v":0},{"$f":"IF(ISERR(理科!Z76)*100,0,(理科!Z76)*100)","v":0},{"$f":"IF(ISERR(理科!Z71)*100,0,(理科!Z71)*100)","v":0},{"$f":"IF(ISERR(D16*F16)/100,\"\",(D16*F16)/100)","v":0}]
["設問数・平均正答率・平均正答数",null,null,{"$f":"SUM(D12:D16)","v":25},{"$f":"SUM(E12:E16)/理科!BG41","v":70.497435897435906},{"$f":"SUM(F12:F16)/理科!BG41","v":0},{"$f":"D17*F17/100","v":0},null,0,0,"観点数",null,{"$f":"IF(J17=\"\",\"\",#REF!*J17/100)","v":{"$error":"#REF!"}},{"$f":"理科!BG41","v":2}]
[]
["◆理科"]
[null,"　　　　平均正答数"]
[null,"富山県（ア）","自校(イ)","県との差（イーア）"]
[{"$f":"\"理科　\"&理科!AX1&\"問\"","v":"理科　25問"},{"$f":"D17*E17/100","v":17.624358974358977},{"$f":"G17","v":0},{"$f":"C22-B22","v":-17.624358974358977}]
[]
[]
[null," 平均正答率"]
[null,"富山県(ア)","自校（イ）"," 県との差(イーア)"]
[{"$f":"\"理科　\"&理科!AX1&\"問\"","v":"理科　25問"},{"$f":"E17","v":70.497435897435906},{"$f":"F17","v":0},{"$f":"C27-B27","v":-70.497435897435906}]

{"sheet":"③理科の正答数別分布","index":29,"n_rows":59,"n_cols":7,"rows_kept":59,"cut":false,"hidden":false,"merged":[[6,0,6,1]]}
["③理科の正答数別分布"]
[]
["問題数",{"$f":"理科!AX1","v":25}]
[]
[]
["◆理科",null,null,"◆理科"]
["正答数別の児童数(人)",null,null,"正答数","富山県％（ア）","自校％(イ)"," 県との差(イーア)"]
["0問",{"$f":"理科得点!BD3","v":0},null,"0問",{"$f":"理科得点!BG3","v":0},{"$f":"IF(B8=\"\",\"\",B8/B$59*100)","v":{"$error":"#DIV/0!"}},{"$f":"IF($F8=\"\",\"\",$F8-$E8)","v":{"$error":"#DIV/0!"}}]
["1問",{"$f":"理科得点!BD4","v":0},null,"1問",{"$f":"理科得点!BG4","v":33},{"$error":"#DIV/0!"},{"$error":"#DIV/0!"}]
["2問",{"$f":"理科得点!BD5","v":0},null,"2問",{"$f":"理科得点!BG5","v":85.8},{"$error":"#DIV/0!"},{"$error":"#DIV/0!"}]
["3問",{"$f":"理科得点!BD6","v":0},null,"3問",{"$f":"理科得点!BG6","v":72.899999999999991},{"$error":"#DIV/0!"},{"$error":"#DIV/0!"}]
["4問",{"$f":"理科得点!BD7","v":0},null,"4問",{"$f":"理科得点!BG7","v":45.800000000000004},{"$error":"#DIV/0!"},{"$error":"#DIV/0!"}]
["5問",{"$f":"理科得点!BD8","v":0},null,"5問",{"$f":"理科得点!BG8","v":88.3},{"$error":"#DIV/0!"},{"$error":"#DIV/0!"}]
["6問",{"$f":"理科得点!BD9","v":0},null,"6問",{"$f":"理科得点!BG9","v":80.400000000000006},{"$error":"#DIV/0!"},{"$error":"#DIV/0!"}]
["7問",{"$f":"理科得点!BD10","v":0},null,"7問",{"$f":"理科得点!BG10","v":84.899999999999991},{"$error":"#DIV/0!"},{"$error":"#DIV/0!"}]
["8問",{"$f":"理科得点!BD11","v":0},null,"8問",{"$f":"理科得点!BG11","v":90.8},{"$error":"#DIV/0!"},{"$error":"#DIV/0!"}]
["9問",{"$f":"理科得点!BD12","v":0},null,"9問",{"$f":"理科得点!BG12","v":94.1},{"$error":"#DIV/0!"},{"$error":"#DIV/0!"}]
["10問",{"$f":"理科得点!BD13","v":0},null,"10問",{"$f":"理科得点!BG13","v":83.8},{"$error":"#DIV/0!"},{"$error":"#DIV/0!"}]
["11問",{"$f":"理科得点!BD14","v":0},null,"11問",{"$f":"理科得点!BG14","v":41.8},{"$error":"#DIV/0!"},{"$error":"#DIV/0!"}]
["12問",{"$f":"理科得点!BD15","v":0},null,"12問",{"$f":"理科得点!BG15","v":36.4},{"$error":"#DIV/0!"},{"$error":"#DIV/0!"}]
["13問",{"$f":"理科得点!BD16","v":0},null,"13問",{"$f":"理科得点!BG16","v":79.100000000000009},{"$error":"#DIV/0!"},{"$error":"#DIV/0!"}]
["14問",{"$f":"理科得点!BD17","v":0},null,"14問",{"$f":"理科得点!BG17","v":61.8},{"$error":"#DIV/0!"},{"$error":"#DIV/0!"}]
["15問",{"$f":"理科得点!BD18","v":0},null,"15問",{"$f":"理科得点!BG18","v":70.899999999999991},{"$error":"#DIV/0!"},{"$error":"#DIV/0!"}]
["16問",{"$f":"理科得点!BD19","v":0},null,"16問",{"$f":"理科得点!BG19","v":26.6},{"$error":"#DIV/0!"},{"$error":"#DIV/0!"}]
["17問",{"$f":"理科得点!BD20","v":0},null,"17問",{"$f":"理科得点!BG20","v":83},{"$error":"#DIV/0!"},{"$error":"#DIV/0!"}]
["18問",{"$f":"理科得点!BD21","v":0},null,"18問",{"$f":"理科得点!BG21","v":62.5},{"$error":"#DIV/0!"},{"$error":"#DIV/0!"}]
["19問",{"$f":"理科得点!BD22","v":0},null,"19問",{"$f":"理科得点!BG22","v":85.3},{"$error":"#DIV/0!"},{"$error":"#DIV/0!"}]
["20問",{"$f":"理科得点!BD23","v":0},null,"20問",{"$f":"理科得点!BG23","v":79.400000000000006},{"$error":"#DIV/0!"},{"$error":"#DIV/0!"}]
["21問",{"$f":"理科得点!BD24","v":0},null,"21問",{"$f":"理科得点!BG24","v":42.3},{"$error":"#DIV/0!"},{"$error":"#DIV/0!"}]
["22問",{"$f":"理科得点!BD25","v":0},null,"22問",{"$f":"理科得点!BG25","v":88.2},{"$error":"#DIV/0!"},{"$error":"#DIV/0!"}]
["23問",{"$f":"理科得点!BD26","v":0},null,"23問",{"$f":"理科得点!BG26","v":74},{"$error":"#DIV/0!"},{"$error":"#DIV/0!"}]
["24問",{"$f":"理科得点!BD27","v":0},null,"24問",{"$f":"理科得点!BG27","v":90.8},{"$error":"#DIV/0!"},{"$error":"#DIV/0!"}]
["25問",{"$f":"理科得点!BD28","v":0},null,"25問",{"$f":"理科得点!BG28","v":86.9},{"$error":"#DIV/0!"},{"$error":"#DIV/0!"}]
["26問",{"$f":"理科得点!BD29","v":0},null,"26問",{"$f":"理科得点!BG29","v":0},{"$error":"#DIV/0!"},{"$error":"#DIV/0!"}]
["27問",{"$f":"理科得点!BD30","v":0},null,"27問",{"$f":"理科得点!BG30","v":0},{"$error":"#DIV/0!"},{"$error":"#DIV/0!"}]
["28問",{"$f":"理科得点!BD31","v":0},null,"28問",{"$f":"理科得点!BG31","v":0},{"$error":"#DIV/0!"},{"$error":"#DIV/0!"}]
["29問",{"$f":"理科得点!BD32","v":0},null,"29問",{"$f":"理科得点!BG32","v":0},{"$error":"#DIV/0!"},{"$error":"#DIV/0!"}]
["30問",{"$f":"理科得点!BD33","v":0},null,"30問",{"$f":"理科得点!BG33","v":0},{"$error":"#DIV/0!"},{"$error":"#DIV/0!"}]
["31問",{"$f":"理科得点!BD34","v":0},null,"31問",{"$f":"理科得点!BG34","v":0},{"$error":"#DIV/0!"},{"$error":"#DIV/0!"}]
["32問",{"$f":"理科得点!BD35","v":0},null,"32問",{"$f":"理科得点!BG35","v":0},{"$f":"IF(B40=\"\",\"\",B40/B$59*100)","v":{"$error":"#DIV/0!"}},{"$f":"IF($F40=\"\",\"\",$F40-$E40)","v":{"$error":"#DIV/0!"}}]
["33問",{"$f":"理科得点!BD36","v":0},null,"33問",{"$f":"理科得点!BG36","v":0},{"$error":"#DIV/0!"},{"$error":"#DIV/0!"}]
["34問",{"$f":"理科得点!BD37","v":0},null,"34問",{"$f":"理科得点!BG37","v":0},{"$error":"#DIV/0!"},{"$error":"#DIV/0!"}]
["35問",{"$f":"理科得点!BD38","v":0},null,"35問",{"$f":"理科得点!BG38","v":0},{"$error":"#DIV/0!"},{"$error":"#DIV/0!"}]
["36問",{"$f":"理科得点!BD39","v":0},null,"36問",{"$f":"理科得点!BG39","v":0},{"$error":"#DIV/0!"},{"$error":"#DIV/0!"}]
["37問",{"$f":"理科得点!BD40","v":0},null,"37問",{"$f":"理科得点!BG40","v":0},{"$error":"#DIV/0!"},{"$error":"#DIV/0!"}]
["38問",{"$f":"理科得点!BD41","v":0},null,"38問",{"$f":"理科得点!BG41","v":0},{"$error":"#DIV/0!"},{"$error":"#DIV/0!"}]
["39問",{"$f":"理科得点!BD42","v":0},null,"39問",{"$f":"理科得点!BG42","v":0},{"$error":"#DIV/0!"},{"$error":"#DIV/0!"}]
["40問",{"$f":"理科得点!BD43","v":0},null,"40問",{"$f":"理科得点!BG43","v":0},{"$error":"#DIV/0!"},{"$error":"#DIV/0!"}]
["41問",{"$f":"理科得点!BD44","v":0},null,"41問",{"$f":"理科得点!BG44","v":0},{"$error":"#DIV/0!"},{"$error":"#DIV/0!"}]
["42問",{"$f":"理科得点!BD45","v":0},null,"42問",{"$f":"理科得点!BG45","v":0},{"$error":"#DIV/0!"},{"$error":"#DIV/0!"}]
["43問",{"$f":"理科得点!BD46","v":0},null,"43問",{"$f":"理科得点!BG46","v":0},{"$error":"#DIV/0!"},{"$error":"#DIV/0!"}]
["44問",{"$f":"理科得点!BD47","v":0},null,"44問",{"$f":"理科得点!BG47","v":0},{"$error":"#DIV/0!"},{"$error":"#DIV/0!"}]
["45問",{"$f":"理科得点!BD48","v":0},null,"45問",{"$f":"理科得点!BG48","v":0},{"$error":"#DIV/0!"},{"$error":"#DIV/0!"}]
["46問",{"$f":"理科得点!BD49","v":0},null,"46問",{"$f":"理科得点!BG49","v":0},{"$error":"#DIV/0!"},{"$error":"#DIV/0!"}]
["47問",{"$f":"理科得点!BD50","v":0},null,"47問",{"$f":"理科得点!BG50","v":0},{"$error":"#DIV/0!"},{"$error":"#DIV/0!"}]
["48問",{"$f":"理科得点!BD51","v":0},null,"48問",{"$f":"理科得点!BG51","v":0},{"$error":"#DIV/0!"},{"$error":"#DIV/0!"}]
["49問",{"$f":"理科得点!BD52","v":0},null,"49問",{"$f":"理科得点!BG52","v":0},{"$error":"#DIV/0!"},{"$error":"#DIV/0!"}]
["50問",{"$f":"理科得点!BD53","v":0},null,"50問",{"$f":"理科得点!BG53","v":0},{"$error":"#DIV/0!"},{"$error":"#DIV/0!"}]
["児童数合計",{"$f":"理科得点!BD54","v":0},null,"合計",{"$f":"理科得点!BG54","v":1768.8},{"$f":"SUM(F8:F58)","v":{"$error":"#DIV/0!"}}]

{"sheet":"④理科の問題別正答率","index":30,"n_rows":57,"n_cols":19,"rows_kept":57,"cut":false,"hidden":false,"merged":[[4,13,4,15],[4,3,5,3],[4,16,4,18],[4,0,5,0],[4,2,5,2],[4,4,4,7],[4,8,4,12],[4,1,5,1]]}
["④理科の問題別正答率"]
[]
[null,null,"問題数",{"$f":"理科!AX1","v":25}]
["◆理科"]
["問題通し番号","問題\n番号","小問題","問題の領域","学習指導要領の領域等",null,null,null,"観点",null,null,null,null,"問題形式",null,null,"正答率"]
[null,null,null,null,null,null,null,null,{"$f":"理科!BG35","v":"科学的な思考・表現"},{"$f":"理科!BG36","v":"自然事象の知識・理解\n観察・実験の技能"},{"$f":"理科!BG37","v":"－"},{"$f":"理科!BG38","v":"－"},{"$f":"理科!BG39","v":"－"},"選択式","短答式","記述式","富山県（ア）","自校（イ）","富山県との差（イ-ア)"]
[1,{"$f":"理科得点!BJ4","v":1},{"$f":"理科得点!BK4","v":"（１）"},{"$f":"理科得点!BL4","v":"生命"},null,null,null,null,{"$f":"IF(理科!$E$9=理科!$BF$35,\"○\",\"\")","v":""},{"$f":"IF(理科!$E$9=理科!$BF$36,\"○\",\"\")","v":"○"},{"$f":"IF(理科!$E$9=理科!$BF$37,\"○\",\"\")","v":""},{"$f":"IF(理科!$E$9=理科!$BF$38,\"○\",\"\")","v":""},{"$f":"IF(理科!$E$9=理科!$BF$39,\"○\",\"\")","v":""},null,null,null,{"$f":"理科得点!B$58*100","v":33},{"$f":"理科!E$64*100","v":{"$error":"#DIV/0!"}},{"$f":"IF($R7=\"\",\"\",$R7-$Q7)","v":{"$error":"#DIV/0!"}}]
[2,{"$f":"理科得点!BJ5","v":1},{"$f":"理科得点!BK5","v":"（２）"},{"$f":"理科得点!BL5","v":"生命"},null,null,null,null,{"$f":"IF(理科!$F$9=理科!$BF$35,\"○\",\"\")","v":""},{"$f":"IF(理科!$F$9=理科!$BF$36,\"○\",\"\")","v":"○"},{"$f":"IF(理科!$F$9=理科!$BF$37,\"○\",\"\")","v":""},{"$f":"IF(理科!$F$9=理科!$BF$38,\"○\",\"\")","v":""},{"$f":"IF(理科!$F$9=理科!$BF$39,\"○\",\"\")","v":""},null,null,null,{"$f":"理科得点!C$58*100","v":85.8},{"$f":"理科!F$64*100","v":{"$error":"#DIV/0!"}},{"$error":"#DIV/0!"}]
[3,{"$f":"理科得点!BJ6","v":1},{"$f":"理科得点!BK6","v":"（３）"},{"$f":"理科得点!BL6","v":"生命"},null,null,null,null,{"$f":"IF(理科!$G$9=理科!$BF$35,\"○\",\"\")","v":""},{"$f":"IF(理科!$G$9=理科!$BF$36,\"○\",\"\")","v":"○"},{"$f":"IF(理科!$G$9=理科!$BF$37,\"○\",\"\")","v":""},{"$f":"IF(理科!$G$9=理科!$BF$38,\"○\",\"\")","v":""},{"$f":"IF(理科!$G$9=理科!$BF$39,\"○\",\"\")","v":""},null,null,null,{"$f":"理科得点!D$58*100","v":72.899999999999991},{"$f":"理科!G$64*100","v":{"$error":"#DIV/0!"}},{"$error":"#DIV/0!"}]
[4,{"$f":"理科得点!BJ7","v":1},{"$f":"理科得点!BK7","v":"（４）"},{"$f":"理科得点!BL7","v":"地球"},null,null,null,null,{"$f":"IF(理科!$H$9=理科!$BF$35,\"○\",\"\")","v":"○"},{"$f":"IF(理科!$H$9=理科!$BF$36,\"○\",\"\")","v":""},{"$f":"IF(理科!$H$9=理科!$BF$37,\"○\",\"\")","v":""},{"$f":"IF(理科!$H$9=理科!$BF$38,\"○\",\"\")","v":""},{"$f":"IF(理科!$H$9=理科!$BF$39,\"○\",\"\")","v":""},null,null,null,{"$f":"理科得点!E$58*100","v":45.800000000000004},{"$f":"理科!H$64*100","v":{"$error":"#DIV/0!"}},{"$error":"#DIV/0!"}]
[5,{"$f":"理科得点!BJ8","v":1},{"$f":"理科得点!BK8","v":"（５）"},{"$f":"理科得点!BL8","v":"地球"},null,null,null,null,{"$f":"IF(理科!$I$9=理科!$BF$35,\"○\",\"\")","v":""},{"$f":"IF(理科!$I$9=理科!$BF$36,\"○\",\"\")","v":"○"},{"$f":"IF(理科!$I$9=理科!$BF$37,\"○\",\"\")","v":""},{"$f":"IF(理科!$I$9=理科!$BF$38,\"○\",\"\")","v":""},{"$f":"IF(理科!$I$9=理科!$BF$39,\"○\",\"\")","v":""},null,null,null,{"$f":"理科得点!F$58*100","v":88.3},{"$f":"理科!I$64*100","v":{"$error":"#DIV/0!"}},{"$error":"#DIV/0!"}]
[6,{"$f":"理科得点!BJ9","v":1},{"$f":"理科得点!BK9","v":"（６）"},{"$f":"理科得点!BL9","v":"生命"},null,null,null,null,{"$f":"IF(理科!$J$9=理科!$BF$35,\"○\",\"\")","v":"○"},{"$f":"IF(理科!$J$9=理科!$BF$36,\"○\",\"\")","v":""},{"$f":"IF(理科!$J$9=理科!$BF$37,\"○\",\"\")","v":""},{"$f":"IF(理科!$J$9=理科!$BF$38,\"○\",\"\")","v":""},{"$f":"IF(理科!$J$9=理科!$BF$39,\"○\",\"\")","v":""},null,null,null,{"$f":"理科得点!G$58*100","v":80.400000000000006},{"$f":"理科!J$64*100","v":{"$error":"#DIV/0!"}},{"$error":"#DIV/0!"}]
[7,{"$f":"理科得点!BJ10","v":2},{"$f":"理科得点!BK10","v":"（１）"},{"$f":"理科得点!BL10","v":"地球"},null,null,null,null,{"$f":"IF(理科!$K$9=理科!$BF$35,\"○\",\"\")","v":""},{"$f":"IF(理科!$K$9=理科!$BF$36,\"○\",\"\")","v":"○"},{"$f":"IF(理科!$K$9=理科!$BF$37,\"○\",\"\")","v":""},{"$f":"IF(理科!$K$9=理科!$BF$38,\"○\",\"\")","v":""},{"$f":"IF(理科!$K$9=理科!$BF$39,\"○\",\"\")","v":""},null,null,null,{"$f":"理科得点!H$58*100","v":84.899999999999991},{"$f":"理科!K$64*100","v":{"$error":"#DIV/0!"}},{"$error":"#DIV/0!"}]
[8,{"$f":"理科得点!BJ11","v":2},{"$f":"理科得点!BK11","v":"（２）"},{"$f":"理科得点!BL11","v":"地球"},null,null,null,null,{"$f":"IF(理科!$L$9=理科!$BF$35,\"○\",\"\")","v":"○"},{"$f":"IF(理科!$L$9=理科!$BF$36,\"○\",\"\")","v":""},{"$f":"IF(理科!$L$9=理科!$BF$37,\"○\",\"\")","v":""},{"$f":"IF(理科!$L$9=理科!$BF$38,\"○\",\"\")","v":""},{"$f":"IF(理科!$L$9=理科!$BF$39,\"○\",\"\")","v":""},null,null,null,{"$f":"理科得点!I$58*100","v":90.8},{"$f":"理科!L$64*100","v":{"$error":"#DIV/0!"}},{"$error":"#DIV/0!"}]
[9,{"$f":"理科得点!BJ12","v":2},{"$f":"理科得点!BK12","v":"（３）"},{"$f":"理科得点!BL12","v":"地球"},null,null,null,null,{"$f":"IF(理科!$M$9=理科!$BF$35,\"○\",\"\")","v":""},{"$f":"IF(理科!$M$9=理科!$BF$36,\"○\",\"\")","v":"○"},{"$f":"IF(理科!$M$9=理科!$BF$37,\"○\",\"\")","v":""},{"$f":"IF(理科!$M$9=理科!$BF$38,\"○\",\"\")","v":""},{"$f":"IF(理科!$M$9=理科!$BF$39,\"○\",\"\")","v":""},null,null,null,{"$f":"理科得点!J$58*100","v":94.1},{"$f":"理科!M$64*100","v":{"$error":"#DIV/0!"}},{"$error":"#DIV/0!"}]
[10,{"$f":"理科得点!BJ13","v":2},{"$f":"理科得点!BK13","v":"（４）"},{"$f":"理科得点!BL13","v":"地球"},null,null,null,null,{"$f":"IF(理科!$N$9=理科!$BF$35,\"○\",\"\")","v":"○"},{"$f":"IF(理科!$N$9=理科!$BF$36,\"○\",\"\")","v":""},{"$f":"IF(理科!$N$9=理科!$BF$37,\"○\",\"\")","v":""},{"$f":"IF(理科!$N$9=理科!$BF$38,\"○\",\"\")","v":""},{"$f":"IF(理科!$N$9=理科!$BF$39,\"○\",\"\")","v":""},null,null,null,{"$f":"理科得点!K$58*100","v":83.8},{"$f":"理科!N$64*100","v":{"$error":"#DIV/0!"}},{"$error":"#DIV/0!"}]
[11,{"$f":"理科得点!BJ14","v":3},{"$f":"理科得点!BK14","v":"（１）"},{"$f":"理科得点!BL14","v":"エネルギー"},null,null,null,null,{"$f":"IF(理科!$O$9=理科!$BF$35,\"○\",\"\")","v":"○"},{"$f":"IF(理科!$O$9=理科!$BF$36,\"○\",\"\")","v":""},{"$f":"IF(理科!$O$9=理科!$BF$37,\"○\",\"\")","v":""},{"$f":"IF(理科!$O$9=理科!$BF$38,\"○\",\"\")","v":""},{"$f":"IF(理科!$O$9=理科!$BF$39,\"○\",\"\")","v":""},null,null,null,{"$f":"理科得点!L$58*100","v":41.8},{"$f":"理科!O$64*100","v":{"$error":"#DIV/0!"}},{"$error":"#DIV/0!"}]
[12,{"$f":"理科得点!BJ15","v":3},{"$f":"理科得点!BK15","v":"（２）"},{"$f":"理科得点!BL15","v":"エネルギー"},null,null,null,null,{"$f":"IF(理科!$P$9=理科!$BF$35,\"○\",\"\")","v":"○"},{"$f":"IF(理科!$P$9=理科!$BF$36,\"○\",\"\")","v":""},{"$f":"IF(理科!$P$9=理科!$BF$37,\"○\",\"\")","v":""},{"$f":"IF(理科!$P$9=理科!$BF$38,\"○\",\"\")","v":""},{"$f":"IF(理科!$P$9=理科!$BF$39,\"○\",\"\")","v":""},null,null,null,{"$f":"理科得点!M$58*100","v":36.4},{"$f":"理科!P$64*100","v":{"$error":"#DIV/0!"}},{"$error":"#DIV/0!"}]
[13,{"$f":"理科得点!BJ16","v":4},{"$f":"理科得点!BK16","v":"（１）"},{"$f":"理科得点!BL16","v":"物質"},null,null,null,null,{"$f":"IF(理科!$Q$9=理科!$BF$35,\"○\",\"\")","v":"○"},{"$f":"IF(理科!$Q$9=理科!$BF$36,\"○\",\"\")","v":""},{"$f":"IF(理科!$Q$9=理科!$BF$37,\"○\",\"\")","v":""},{"$f":"IF(理科!$Q$9=理科!$BF$38,\"○\",\"\")","v":""},{"$f":"IF(理科!$Q$9=理科!$BF$39,\"○\",\"\")","v":""},null,null,null,{"$f":"理科得点!N$58*100","v":79.100000000000009},{"$f":"理科!Q$64*100","v":{"$error":"#DIV/0!"}},{"$error":"#DIV/0!"}]
[14,{"$f":"理科得点!BJ17","v":4},{"$f":"理科得点!BK17","v":"（２）"},{"$f":"理科得点!BL17","v":"物質"},null,null,null,null,{"$f":"IF(理科!$R$9=理科!$BF$35,\"○\",\"\")","v":"○"},{"$f":"IF(理科!$R$9=理科!$BF$36,\"○\",\"\")","v":""},{"$f":"IF(理科!$R$9=理科!$BF$37,\"○\",\"\")","v":""},{"$f":"IF(理科!$R$9=理科!$BF$38,\"○\",\"\")","v":""},{"$f":"IF(理科!$R$9=理科!$BF$39,\"○\",\"\")","v":""},null,null,null,{"$f":"理科得点!O$58*100","v":61.8},{"$f":"理科!R$64*100","v":{"$error":"#DIV/0!"}},{"$error":"#DIV/0!"}]
[15,{"$f":"理科得点!BJ18","v":4},{"$f":"理科得点!BK18","v":"（３）"},{"$f":"理科得点!BL18","v":"物質"},null,null,null,null,{"$f":"IF(理科!$S$9=理科!$BF$35,\"○\",\"\")","v":"○"},{"$f":"IF(理科!$S$9=理科!$BF$36,\"○\",\"\")","v":""},{"$f":"IF(理科!$S$9=理科!$BF$37,\"○\",\"\")","v":""},{"$f":"IF(理科!$S$9=理科!$BF$38,\"○\",\"\")","v":""},{"$f":"IF(理科!$S$9=理科!$BF$39,\"○\",\"\")","v":""},null,null,null,{"$f":"理科得点!P$58*100","v":70.899999999999991},{"$f":"理科!S$64*100","v":{"$error":"#DIV/0!"}},{"$error":"#DIV/0!"}]
[16,{"$f":"理科得点!BJ19","v":4},{"$f":"理科得点!BK19","v":"（４）"},{"$f":"理科得点!BL19","v":"物質"},null,null,null,null,{"$f":"IF(理科!$T$9=理科!$BF$35,\"○\",\"\")","v":""},{"$f":"IF(理科!$T$9=理科!$BF$36,\"○\",\"\")","v":"○"},{"$f":"IF(理科!$T$9=理科!$BF$37,\"○\",\"\")","v":""},{"$f":"IF(理科!$T$9=理科!$BF$38,\"○\",\"\")","v":""},{"$f":"IF(理科!$T$9=理科!$BF$39,\"○\",\"\")","v":""},null,null,null,{"$f":"理科得点!Q$58*100","v":26.6},{"$f":"理科!T$64*100","v":{"$error":"#DIV/0!"}},{"$error":"#DIV/0!"}]
[17,{"$f":"理科得点!BJ20","v":4},{"$f":"理科得点!BK20","v":"（５）"},{"$f":"理科得点!BL20","v":"物質"},null,null,null,null,{"$f":"IF(理科!$U$9=理科!$BF$35,\"○\",\"\")","v":""},{"$f":"IF(理科!$U$9=理科!$BF$36,\"○\",\"\")","v":"○"},{"$f":"IF(理科!$U$9=理科!$BF$37,\"○\",\"\")","v":""},{"$f":"IF(理科!$U$9=理科!$BF$38,\"○\",\"\")","v":""},{"$f":"IF(理科!$U$9=理科!$BF$39,\"○\",\"\")","v":""},null,null,null,{"$f":"理科得点!R$58*100","v":83},{"$f":"理科!U$64*100","v":{"$error":"#DIV/0!"}},{"$error":"#DIV/0!"}]
[18,{"$f":"理科得点!BJ21","v":4},{"$f":"理科得点!BK21","v":"（６）"},{"$f":"理科得点!BL21","v":"物質"},null,null,null,null,{"$f":"IF(理科!$V$9=理科!$BF$35,\"○\",\"\")","v":"○"},{"$f":"IF(理科!$V$9=理科!$BF$36,\"○\",\"\")","v":""},{"$f":"IF(理科!$V$9=理科!$BF$37,\"○\",\"\")","v":""},{"$f":"IF(理科!$V$9=理科!$BF$38,\"○\",\"\")","v":""},{"$f":"IF(理科!$V$9=理科!$BF$39,\"○\",\"\")","v":""},null,null,null,{"$f":"理科得点!S$58*100","v":62.5},{"$f":"理科!V$64*100","v":{"$error":"#DIV/0!"}},{"$error":"#DIV/0!"}]
[19,{"$f":"理科得点!BJ22","v":5},{"$f":"理科得点!BK22","v":"（１）"},{"$f":"理科得点!BL22","v":"地球"},null,null,null,null,{"$f":"IF(理科!$W$9=理科!$BF$35,\"○\",\"\")","v":""},{"$f":"IF(理科!$W$9=理科!$BF$36,\"○\",\"\")","v":"○"},{"$f":"IF(理科!$W$9=理科!$BF$37,\"○\",\"\")","v":""},{"$f":"IF(理科!$W$9=理科!$BF$38,\"○\",\"\")","v":""},{"$f":"IF(理科!$W$9=理科!$BF$39,\"○\",\"\")","v":""},null,null,null,{"$f":"理科得点!T$58*100","v":85.3},{"$f":"理科!W$64*100","v":{"$error":"#DIV/0!"}},{"$error":"#DIV/0!"}]
[20,{"$f":"理科得点!BJ23","v":5},{"$f":"理科得点!BK23","v":"（２）"},{"$f":"理科得点!BL23","v":"地球"},null,null,null,null,{"$f":"IF(理科!$X$9=理科!$BF$35,\"○\",\"\")","v":""},{"$f":"IF(理科!$X$9=理科!$BF$36,\"○\",\"\")","v":"○"},{"$f":"IF(理科!$X$9=理科!$BF$37,\"○\",\"\")","v":""},{"$f":"IF(理科!$X$9=理科!$BF$38,\"○\",\"\")","v":""},{"$f":"IF(理科!$X$9=理科!$BF$39,\"○\",\"\")","v":""},null,null,null,{"$f":"理科得点!U$58*100","v":79.400000000000006},{"$f":"理科!X$64*100","v":{"$error":"#DIV/0!"}},{"$error":"#DIV/0!"}]
[21,{"$f":"理科得点!BJ24","v":5},{"$f":"理科得点!BK24","v":"（３）"},{"$f":"理科得点!BL24","v":"地球"},null,null,null,null,{"$f":"IF(理科!$Y$9=理科!$BF$35,\"○\",\"\")","v":"○"},{"$f":"IF(理科!$Y$9=理科!$BF$36,\"○\",\"\")","v":""},{"$f":"IF(理科!$Y$9=理科!$BF$37,\"○\",\"\")","v":""},{"$f":"IF(理科!$Y$9=理科!$BF$38,\"○\",\"\")","v":""},{"$f":"IF(理科!$Y$9=理科!$BF$39,\"○\",\"\")","v":""},null,null,null,{"$f":"理科得点!V$58*100","v":42.3},{"$f":"理科!Y$64*100","v":{"$error":"#DIV/0!"}},{"$error":"#DIV/0!"}]
[22,{"$f":"理科得点!BJ25","v":5},{"$f":"理科得点!BK25","v":"（４）"},{"$f":"理科得点!BL25","v":"地球"},null,null,null,null,{"$f":"IF(理科!$Z$9=理科!$BF$35,\"○\",\"\")","v":""},{"$f":"IF(理科!$Z$9=理科!$BF$36,\"○\",\"\")","v":"○"},{"$f":"IF(理科!$Z$9=理科!$BF$37,\"○\",\"\")","v":""},{"$f":"IF(理科!$Z$9=理科!$BF$38,\"○\",\"\")","v":""},{"$f":"IF(理科!$Z$9=理科!$BF$39,\"○\",\"\")","v":""},null,null,null,{"$f":"理科得点!W$58*100","v":88.2},{"$f":"理科!Z$64*100","v":{"$error":"#DIV/0!"}},{"$error":"#DIV/0!"}]
[23,{"$f":"理科得点!BJ26","v":6},{"$f":"理科得点!BK26","v":"（１）"},{"$f":"理科得点!BL26","v":"エネルギー"},null,null,null,null,{"$f":"IF(理科!$AA$9=理科!$BF$35,\"○\",\"\")","v":"○"},{"$f":"IF(理科!$AA$9=理科!$BF$36,\"○\",\"\")","v":""},{"$f":"IF(理科!$AA$9=理科!$BF$37,\"○\",\"\")","v":""},{"$f":"IF(理科!$AA$9=理科!$BF$38,\"○\",\"\")","v":""},{"$f":"IF(理科!$AA$9=理科!$BF$39,\"○\",\"\")","v":""},null,null,null,{"$f":"理科得点!X$58*100","v":74},{"$f":"理科!AA$64*100","v":{"$error":"#DIV/0!"}},{"$error":"#DIV/0!"}]
[24,{"$f":"理科得点!BJ27","v":6},{"$f":"理科得点!BK27","v":"（２）A"},{"$f":"理科得点!BL27","v":"エネルギー"},null,null,null,null,{"$f":"IF(理科!$AB$9=理科!$BF$35,\"○\",\"\")","v":""},{"$f":"IF(理科!$AB$9=理科!$BF$36,\"○\",\"\")","v":"○"},{"$f":"IF(理科!$AB$9=理科!$BF$37,\"○\",\"\")","v":""},{"$f":"IF(理科!$AB$9=理科!$BF$38,\"○\",\"\")","v":""},{"$f":"IF(理科!$AB$9=理科!$BF$39,\"○\",\"\")","v":""},null,null,null,{"$f":"理科得点!Y$58*100","v":90.8},{"$f":"理科!AB$64*100","v":{"$error":"#DIV/0!"}},{"$error":"#DIV/0!"}]
[25,{"$f":"理科得点!BJ28","v":6},{"$f":"理科得点!BK28","v":"（２）B"},{"$f":"理科得点!BL28","v":"エネルギー"},null,null,null,null,{"$f":"IF(理科!$AC$9=理科!$BF$35,\"○\",\"\")","v":""},{"$f":"IF(理科!$AC$9=理科!$BF$36,\"○\",\"\")","v":"○"},{"$f":"IF(理科!$AC$9=理科!$BF$37,\"○\",\"\")","v":""},{"$f":"IF(理科!$AC$9=理科!$BF$38,\"○\",\"\")","v":""},{"$f":"IF(理科!$AC$9=理科!$BF$39,\"○\",\"\")","v":""},null,null,null,{"$f":"理科得点!Z$58*100","v":86.9},{"$f":"理科!AC$64*100","v":{"$error":"#DIV/0!"}},{"$error":"#DIV/0!"}]
[26,{"$f":"理科得点!BJ29","v":0},{"$f":"理科得点!BK29","v":0},{"$f":"理科得点!BL29","v":0},null,null,null,null,{"$f":"IF(理科!$AD$9=理科!$BF$35,\"○\",\"\")","v":""},{"$f":"IF(理科!$AD$9=理科!$BF$36,\"○\",\"\")","v":""},{"$f":"IF(理科!$AD$9=理科!$BF$37,\"○\",\"\")","v":""},{"$f":"IF(理科!$AD$9=理科!$BF$38,\"○\",\"\")","v":""},{"$f":"IF(理科!$AD$9=理科!$BF$39,\"○\",\"\")","v":""},null,null,null,{"$f":"理科得点!AA$58*100","v":0},{"$f":"理科!AD$64*100","v":{"$error":"#DIV/0!"}},{"$error":"#DIV/0!"}]
[27,{"$f":"理科得点!BJ30","v":0},{"$f":"理科得点!BK30","v":0},{"$f":"理科得点!BL30","v":0},null,null,null,null,{"$f":"IF(理科!$AE$9=理科!$BF$35,\"○\",\"\")","v":""},{"$f":"IF(理科!$AE$9=理科!$BF$36,\"○\",\"\")","v":""},{"$f":"IF(理科!$AE$9=理科!$BF$37,\"○\",\"\")","v":""},{"$f":"IF(理科!$AE$9=理科!$BF$38,\"○\",\"\")","v":""},{"$f":"IF(理科!$AE$9=理科!$BF$39,\"○\",\"\")","v":""},null,null,null,{"$f":"理科得点!AB$58*100","v":0},{"$f":"理科!AE$64*100","v":{"$error":"#DIV/0!"}},{"$error":"#DIV/0!"}]
[28,{"$f":"理科得点!BJ31","v":0},{"$f":"理科得点!BK31","v":0},{"$f":"理科得点!BL31","v":0},null,null,null,null,{"$f":"IF(理科!$AF$9=理科!$BF$35,\"○\",\"\")","v":""},{"$f":"IF(理科!$AF$9=理科!$BF$36,\"○\",\"\")","v":""},{"$f":"IF(理科!$AF$9=理科!$BF$37,\"○\",\"\")","v":""},{"$f":"IF(理科!$AF$9=理科!$BF$38,\"○\",\"\")","v":""},{"$f":"IF(理科!$AF$9=理科!$BF$39,\"○\",\"\")","v":""},null,null,null,{"$f":"理科得点!AC$58*100","v":0},{"$f":"理科!AF$64*100","v":{"$error":"#DIV/0!"}},{"$error":"#DIV/0!"}]
[29,{"$f":"理科得点!BJ32","v":0},{"$f":"理科得点!BK32","v":0},{"$f":"理科得点!BL32","v":0},null,null,null,null,{"$f":"IF(理科!$AG$9=理科!$BF$35,\"○\",\"\")","v":""},{"$f":"IF(理科!$AG$9=理科!$BF$36,\"○\",\"\")","v":""},{"$f":"IF(理科!$AG$9=理科!$BF$37,\"○\",\"\")","v":""},{"$f":"IF(理科!$AG$9=理科!$BF$38,\"○\",\"\")","v":""},{"$f":"IF(理科!$AG$9=理科!$BF$39,\"○\",\"\")","v":""},null,null,null,{"$f":"理科得点!AD$58*100","v":0},{"$f":"理科!AG$64*100","v":{"$error":"#DIV/0!"}},{"$error":"#DIV/0!"}]
[30,{"$f":"理科得点!BJ33","v":0},{"$f":"理科得点!BK33","v":0},{"$f":"理科得点!BL33","v":0},null,null,null,null,{"$f":"IF(理科!$AH$9=理科!$BF$35,\"○\",\"\")","v":""},{"$f":"IF(理科!$AH$9=理科!$BF$36,\"○\",\"\")","v":""},{"$f":"IF(理科!$AH$9=理科!$BF$37,\"○\",\"\")","v":""},{"$f":"IF(理科!$AH$9=理科!$BF$38,\"○\",\"\")","v":""},{"$f":"IF(理科!$AH$9=理科!$BF$39,\"○\",\"\")","v":""},null,null,null,{"$f":"理科得点!AE$58*100","v":0},{"$f":"理科!AH$64*100","v":{"$error":"#DIV/0!"}},{"$error":"#DIV/0!"}]
[31,{"$f":"理科得点!BJ34","v":0},{"$f":"理科得点!BK34","v":0},{"$f":"理科得点!BL34","v":0},null,null,null,null,{"$f":"IF(理科!$AI$9=理科!$BF$35,\"○\",\"\")","v":""},{"$f":"IF(理科!$AI$9=理科!$BF$36,\"○\",\"\")","v":""},{"$f":"IF(理科!$AI$9=理科!$BF$37,\"○\",\"\")","v":""},{"$f":"IF(理科!$AI$9=理科!$BF$38,\"○\",\"\")","v":""},{"$f":"IF(理科!$AI$9=理科!$BF$39,\"○\",\"\")","v":""},null,null,null,{"$f":"理科得点!AF$58*100","v":0},{"$f":"理科!AI$64*100","v":{"$error":"#DIV/0!"}},{"$error":"#DIV/0!"}]
[32,{"$f":"理科得点!BJ35","v":0},{"$f":"理科得点!BK35","v":0},{"$f":"理科得点!BL35","v":0},null,null,null,null,{"$f":"IF(理科!$AJ$9=理科!$BF$35,\"○\",\"\")","v":""},{"$f":"IF(理科!$AJ$9=理科!$BF$36,\"○\",\"\")","v":""},{"$f":"IF(理科!$AJ$9=理科!$BF$37,\"○\",\"\")","v":""},{"$f":"IF(理科!$AJ$9=理科!$BF$38,\"○\",\"\")","v":""},{"$f":"IF(理科!$AJ$9=理科!$BF$39,\"○\",\"\")","v":""},null,null,null,{"$f":"理科得点!AG$58*100","v":0},{"$f":"理科!AJ$64*100","v":{"$error":"#DIV/0!"}},{"$error":"#DIV/0!"}]
[33,{"$f":"理科得点!BJ36","v":0},{"$f":"理科得点!BK36","v":0},{"$f":"理科得点!BL36","v":0},null,null,null,null,{"$f":"IF(理科!$AK$9=理科!$BF$35,\"○\",\"\")","v":""},{"$f":"IF(理科!$AK$9=理科!$BF$36,\"○\",\"\")","v":""},{"$f":"IF(理科!$AK$9=理科!$BF$37,\"○\",\"\")","v":""},{"$f":"IF(理科!$AK$9=理科!$BF$38,\"○\",\"\")","v":""},{"$f":"IF(理科!$AK$9=理科!$BF$39,\"○\",\"\")","v":""},null,null,null,{"$f":"理科得点!AH$58*100","v":0},{"$f":"理科!AK$64*100","v":{"$error":"#DIV/0!"}},{"$error":"#DIV/0!"}]
[34,{"$f":"理科得点!BJ37","v":0},{"$f":"理科得点!BK37","v":0},{"$f":"理科得点!BL37","v":0},null,null,null,null,{"$f":"IF(理科!$AL$9=理科!$BF$35,\"○\",\"\")","v":""},{"$f":"IF(理科!$AL$9=理科!$BF$36,\"○\",\"\")","v":""},{"$f":"IF(理科!$AL$9=理科!$BF$37,\"○\",\"\")","v":""},{"$f":"IF(理科!$AL$9=理科!$BF$38,\"○\",\"\")","v":""},{"$f":"IF(理科!$AL$9=理科!$BF$39,\"○\",\"\")","v":""},null,null,null,{"$f":"理科得点!AI$58*100","v":0},{"$f":"理科!AL$64*100","v":{"$error":"#DIV/0!"}},{"$f":"IF($R40=\"\",\"\",$R40-$Q40)","v":{"$error":"#DIV/0!"}}]
[35,{"$f":"理科得点!BJ38","v":0},{"$f":"理科得点!BK38","v":0},{"$f":"理科得点!BL38","v":0},null,null,null,null,{"$f":"IF(理科!$AM$9=理科!$BF$35,\"○\",\"\")","v":""},{"$f":"IF(理科!$AM$9=理科!$BF$36,\"○\",\"\")","v":""},{"$f":"IF(理科!$AM$9=理科!$BF$37,\"○\",\"\")","v":""},{"$f":"IF(理科!$AM$9=理科!$BF$38,\"○\",\"\")","v":""},{"$f":"IF(理科!$AM$9=理科!$BF$39,\"○\",\"\")","v":""},null,null,null,{"$f":"理科得点!AJ$58*100","v":0},{"$f":"理科!AM$64*100","v":{"$error":"#DIV/0!"}},{"$error":"#DIV/0!"}]
[36,{"$f":"理科得点!BJ39","v":0},{"$f":"理科得点!BK39","v":0},{"$f":"理科得点!BL39","v":0},null,null,null,null,{"$f":"IF(理科!$AN$9=理科!$BF$35,\"○\",\"\")","v":""},{"$f":"IF(理科!$AN$9=理科!$BF$36,\"○\",\"\")","v":""},{"$f":"IF(理科!$AN$9=理科!$BF$37,\"○\",\"\")","v":""},{"$f":"IF(理科!$AN$9=理科!$BF$38,\"○\",\"\")","v":""},{"$f":"IF(理科!$AN$9=理科!$BF$39,\"○\",\"\")","v":""},null,null,null,{"$f":"理科得点!AK$58*100","v":0},{"$f":"理科!AN$64*100","v":{"$error":"#DIV/0!"}},{"$error":"#DIV/0!"}]
[37,{"$f":"理科得点!BJ40","v":0},{"$f":"理科得点!BK40","v":0},{"$f":"理科得点!BL40","v":0},null,null,null,null,{"$f":"IF(理科!$AO$9=理科!$BF$35,\"○\",\"\")","v":""},{"$f":"IF(理科!$AO$9=理科!$BF$36,\"○\",\"\")","v":""},{"$f":"IF(理科!$AO$9=理科!$BF$37,\"○\",\"\")","v":""},{"$f":"IF(理科!$AO$9=理科!$BF$38,\"○\",\"\")","v":""},{"$f":"IF(理科!$AO$9=理科!$BF$39,\"○\",\"\")","v":""},null,null,null,{"$f":"理科得点!AL$58*100","v":0},{"$f":"理科!AO$64*100","v":{"$error":"#DIV/0!"}},{"$error":"#DIV/0!"}]
[38,{"$f":"理科得点!BJ41","v":0},{"$f":"理科得点!BK41","v":0},{"$f":"理科得点!BL41","v":0},null,null,null,null,{"$f":"IF(理科!$AP$9=理科!$BF$35,\"○\",\"\")","v":""},{"$f":"IF(理科!$AP$9=理科!$BF$36,\"○\",\"\")","v":""},{"$f":"IF(理科!$AP$9=理科!$BF$37,\"○\",\"\")","v":""},{"$f":"IF(理科!$AP$9=理科!$BF$38,\"○\",\"\")","v":""},{"$f":"IF(理科!$AP$9=理科!$BF$39,\"○\",\"\")","v":""},null,null,null,{"$f":"理科得点!AM$58*100","v":0},{"$f":"理科!AP$64*100","v":{"$error":"#DIV/0!"}},{"$error":"#DIV/0!"}]
[39,{"$f":"理科得点!BJ42","v":0},{"$f":"理科得点!BK42","v":0},{"$f":"理科得点!BL42","v":0},null,null,null,null,{"$f":"IF(理科!$AQ$9=理科!$BF$35,\"○\",\"\")","v":""},{"$f":"IF(理科!$AQ$9=理科!$BF$36,\"○\",\"\")","v":""},{"$f":"IF(理科!$AQ$9=理科!$BF$37,\"○\",\"\")","v":""},{"$f":"IF(理科!$AQ$9=理科!$BF$38,\"○\",\"\")","v":""},{"$f":"IF(理科!$AQ$9=理科!$BF$39,\"○\",\"\")","v":""},null,null,null,{"$f":"理科得点!AN$58*100","v":0},{"$f":"理科!AQ$64*100","v":{"$error":"#DIV/0!"}},{"$error":"#DIV/0!"}]
[40,{"$f":"理科得点!BJ43","v":0},{"$f":"理科得点!BK43","v":0},{"$f":"理科得点!BL43","v":0},null,null,null,null,{"$f":"IF(理科!$AR$9=理科!$BF$35,\"○\",\"\")","v":""},{"$f":"IF(理科!$AR$9=理科!$BF$36,\"○\",\"\")","v":""},{"$f":"IF(理科!$AR$9=理科!$BF$37,\"○\",\"\")","v":""},{"$f":"IF(理科!$AR$9=理科!$BF$38,\"○\",\"\")","v":""},{"$f":"IF(理科!$AR$9=理科!$BF$39,\"○\",\"\")","v":""},null,null,null,{"$f":"理科得点!AO$58*100","v":0},{"$f":"理科!AR$64*100","v":{"$error":"#DIV/0!"}},{"$error":"#DIV/0!"}]
[41,{"$f":"理科得点!BJ44","v":0},{"$f":"理科得点!BK44","v":0},{"$f":"理科得点!BL44","v":0},null,null,null,null,{"$f":"IF(理科!$AS$9=理科!$BF$35,\"○\",\"\")","v":""},{"$f":"IF(理科!$AS$9=理科!$BF$36,\"○\",\"\")","v":""},{"$f":"IF(理科!$AS$9=理科!$BF$37,\"○\",\"\")","v":""},{"$f":"IF(理科!$AS$9=理科!$BF$38,\"○\",\"\")","v":""},{"$f":"IF(理科!$AS$9=理科!$BF$39,\"○\",\"\")","v":""},null,null,null,{"$f":"理科得点!AP$58*100","v":0},{"$f":"理科!AS$64*100","v":{"$error":"#DIV/0!"}},{"$error":"#DIV/0!"}]
[42,{"$f":"理科得点!BJ45","v":0},{"$f":"理科得点!BK45","v":0},{"$f":"理科得点!BL45","v":0},null,null,null,null,{"$f":"IF(理科!$AT$9=理科!$BF$35,\"○\",\"\")","v":""},{"$f":"IF(理科!$AT$9=理科!$BF$36,\"○\",\"\")","v":""},{"$f":"IF(理科!$AT$9=理科!$BF$37,\"○\",\"\")","v":""},{"$f":"IF(理科!$AT$9=理科!$BF$38,\"○\",\"\")","v":""},{"$f":"IF(理科!$AT$9=理科!$BF$39,\"○\",\"\")","v":""},null,null,null,{"$f":"理科得点!AQ$58*100","v":0},{"$f":"理科!AT$64*100","v":{"$error":"#DIV/0!"}},{"$error":"#DIV/0!"}]
[43,{"$f":"理科得点!BJ46","v":0},{"$f":"理科得点!BK46","v":0},{"$f":"理科得点!BL46","v":0},null,null,null,null,{"$f":"IF(理科!$AU$9=理科!$BF$35,\"○\",\"\")","v":""},{"$f":"IF(理科!$AU$9=理科!$BF$36,\"○\",\"\")","v":""},{"$f":"IF(理科!$AU$9=理科!$BF$37,\"○\",\"\")","v":""},{"$f":"IF(理科!$AU$9=理科!$BF$38,\"○\",\"\")","v":""},{"$f":"IF(理科!$AU$9=理科!$BF$39,\"○\",\"\")","v":""},null,null,null,{"$f":"理科得点!AR$58*100","v":0},{"$f":"理科!AU$64*100","v":{"$error":"#DIV/0!"}},{"$error":"#DIV/0!"}]
[44,{"$f":"理科得点!BJ47","v":0},{"$f":"理科得点!BK47","v":0},{"$f":"理科得点!BL47","v":0},null,null,null,null,{"$f":"IF(理科!$AV$9=理科!$BF$35,\"○\",\"\")","v":""},{"$f":"IF(理科!$AV$9=理科!$BF$36,\"○\",\"\")","v":""},{"$f":"IF(理科!$AV$9=理科!$BF$37,\"○\",\"\")","v":""},{"$f":"IF(理科!$AV$9=理科!$BF$38,\"○\",\"\")","v":""},{"$f":"IF(理科!$AV$9=理科!$BF$39,\"○\",\"\")","v":""},null,null,null,{"$f":"理科得点!AS$58*100","v":0},{"$f":"理科!AV$64*100","v":{"$error":"#DIV/0!"}},{"$error":"#DIV/0!"}]
[45,{"$f":"理科得点!BJ48","v":0},{"$f":"理科得点!BK48","v":0},{"$f":"理科得点!BL48","v":0},null,null,null,null,{"$f":"IF(理科!$AW$9=理科!$BF$35,\"○\",\"\")","v":""},{"$f":"IF(理科!$AW$9=理科!$BF$36,\"○\",\"\")","v":""},{"$f":"IF(理科!$AW$9=理科!$BF$37,\"○\",\"\")","v":""},{"$f":"IF(理科!$AW$9=理科!$BF$38,\"○\",\"\")","v":""},{"$f":"IF(理科!$AW$9=理科!$BF$39,\"○\",\"\")","v":""},null,null,null,{"$f":"理科得点!AT$58*100","v":0},{"$f":"理科!AW$64*100","v":{"$error":"#DIV/0!"}},{"$error":"#DIV/0!"}]
[46,{"$f":"理科得点!BJ49","v":0},{"$f":"理科得点!BK49","v":0},{"$f":"理科得点!BL49","v":0},null,null,null,null,{"$f":"IF(理科!$AX$9=理科!$BF$35,\"○\",\"\")","v":""},{"$f":"IF(理科!$AX$9=理科!$BF$36,\"○\",\"\")","v":""},{"$f":"IF(理科!$AX$9=理科!$BF$37,\"○\",\"\")","v":""},{"$f":"IF(理科!$AX$9=理科!$BF$38,\"○\",\"\")","v":""},{"$f":"IF(理科!$AX$9=理科!$BF$39,\"○\",\"\")","v":""},null,null,null,{"$f":"理科得点!AU$58*100","v":0},{"$f":"理科!AX$64*100","v":{"$error":"#DIV/0!"}},{"$error":"#DIV/0!"}]
[47,{"$f":"理科得点!BJ50","v":0},{"$f":"理科得点!BK50","v":0},{"$f":"理科得点!BL50","v":0},null,null,null,null,{"$f":"IF(理科!$AY$9=理科!$BF$35,\"○\",\"\")","v":""},{"$f":"IF(理科!$AY$9=理科!$BF$36,\"○\",\"\")","v":""},{"$f":"IF(理科!$AY$9=理科!$BF$37,\"○\",\"\")","v":""},{"$f":"IF(理科!$AY$9=理科!$BF$38,\"○\",\"\")","v":""},{"$f":"IF(理科!$AY$9=理科!$BF$39,\"○\",\"\")","v":""},null,null,null,{"$f":"理科得点!AV$58*100","v":0},{"$f":"理科!AY$64*100","v":{"$error":"#DIV/0!"}},{"$error":"#DIV/0!"}]
[48,{"$f":"理科得点!BJ51","v":0},{"$f":"理科得点!BK51","v":0},{"$f":"理科得点!BL51","v":0},null,null,null,null,{"$f":"IF(理科!$AZ$9=理科!$BF$35,\"○\",\"\")","v":""},{"$f":"IF(理科!$AZ$9=理科!$BF$36,\"○\",\"\")","v":""},{"$f":"IF(理科!$AZ$9=理科!$BF$37,\"○\",\"\")","v":""},{"$f":"IF(理科!$AZ$9=理科!$BF$38,\"○\",\"\")","v":""},{"$f":"IF(理科!$AZ$9=理科!$BF$39,\"○\",\"\")","v":""},null,null,null,{"$f":"理科得点!AW$58*100","v":0},{"$f":"理科!AZ$64*100","v":{"$error":"#DIV/0!"}},{"$error":"#DIV/0!"}]
[49,{"$f":"理科得点!BJ52","v":0},{"$f":"理科得点!BK52","v":0},{"$f":"理科得点!BL52","v":0},null,null,null,null,{"$f":"IF(理科!$BA$9=理科!$BF$35,\"○\",\"\")","v":""},{"$f":"IF(理科!$BA$9=理科!$BF$36,\"○\",\"\")","v":""},{"$f":"IF(理科!$BA$9=理科!$BF$37,\"○\",\"\")","v":""},{"$f":"IF(理科!$BA$9=理科!$BF$38,\"○\",\"\")","v":""},{"$f":"IF(理科!$BA$9=理科!$BF$39,\"○\",\"\")","v":""},null,null,null,{"$f":"理科得点!AX$58*100","v":0},{"$f":"理科!BA$64*100","v":{"$error":"#DIV/0!"}},{"$error":"#DIV/0!"}]
[50,{"$f":"理科得点!BJ53","v":0},{"$f":"理科得点!BK53","v":0},{"$f":"理科得点!BL53","v":0},null,null,null,null,{"$f":"IF(理科!$BB$9=理科!$BF$35,\"○\",\"\")","v":""},{"$f":"IF(理科!$BB$9=理科!$BF$36,\"○\",\"\")","v":""},{"$f":"IF(理科!$BB$9=理科!$BF$37,\"○\",\"\")","v":""},{"$f":"IF(理科!$BB$9=理科!$BF$38,\"○\",\"\")","v":""},{"$f":"IF(理科!$BB$9=理科!$BF$39,\"○\",\"\")","v":""},null,null,null,{"$f":"理科得点!AY$58*100","v":0},{"$f":"理科!BB$64*100","v":{"$error":"#DIV/0!"}},{"$error":"#DIV/0!"}]
["平均",null,null,null,null,null,null,null,null,null,null,null,null,null,null,null,{"$f":"①理科の平均正答数②理科の平均正答率!B27","v":70.497435897435906},{"$f":"①理科の平均正答数②理科の平均正答率!C27","v":0},{"$f":"①理科の平均正答数②理科の平均正答率!D27","v":-70.497435897435906}]

{"sheet":"⑤理科の問題別誤答率","index":31,"n_rows":57,"n_cols":19,"rows_kept":57,"cut":false,"hidden":false,"merged":[[4,13,4,15],[4,3,5,3],[4,16,4,18],[4,0,5,0],[4,2,5,2],[4,4,4,7],[4,8,4,12],[4,1,5,1]]}
["⑤理科の問題別誤答率"]
[]
[null,null,"問題数",{"$f":"理科!AX1","v":25}]
["◆理科"]
["問題通し番号","問題\n番号","小問題","問題の領域","学習指導要領の領域等",null,null,null,"観点",null,null,null,null,"問題形式",null,null,"誤答率"]
[null,null,null,null,null,null,null,null,{"$f":"理科!BG35","v":"科学的な思考・表現"},{"$f":"理科!BG36","v":"自然事象の知識・理解\n観察・実験の技能"},{"$f":"理科!BG37","v":"－"},{"$f":"理科!BG38","v":"－"},{"$f":"理科!BG39","v":"－"},"選択式","短答式","記述式","富山県（ア）","自校（イ）","富山県との差（イ-ア)"]
[1,{"$f":"理科得点!BJ4","v":1},{"$f":"理科得点!BK4","v":"（１）"},{"$f":"理科得点!BL4","v":"生命"},null,null,null,null,{"$f":"IF(理科!$E$9=理科!$BF$35,\"○\",\"\")","v":""},{"$f":"IF(理科!$E$9=理科!$BF$36,\"○\",\"\")","v":"○"},{"$f":"IF(理科!$E$9=理科!$BF$37,\"○\",\"\")","v":""},{"$f":"IF(理科!$E$9=理科!$BF$38,\"○\",\"\")","v":""},{"$f":"IF(理科!$E$9=理科!$BF$39,\"○\",\"\")","v":""},null,null,null,{"$f":"理科得点!B$59*100","v":66.900000000000006},{"$f":"理科!E$65*100","v":{"$error":"#DIV/0!"}},{"$f":"IF($R7=\"\",\"\",$R7-$Q7)","v":{"$error":"#DIV/0!"}}]
[2,{"$f":"理科得点!BJ5","v":1},{"$f":"理科得点!BK5","v":"（２）"},{"$f":"理科得点!BL5","v":"生命"},null,null,null,null,{"$f":"IF(理科!$F$9=理科!$BF$35,\"○\",\"\")","v":""},{"$f":"IF(理科!$F$9=理科!$BF$36,\"○\",\"\")","v":"○"},{"$f":"IF(理科!$F$9=理科!$BF$37,\"○\",\"\")","v":""},{"$f":"IF(理科!$F$9=理科!$BF$38,\"○\",\"\")","v":""},{"$f":"IF(理科!$F$9=理科!$BF$39,\"○\",\"\")","v":""},null,null,null,{"$f":"理科得点!C$59*100","v":13.700000000000001},{"$f":"理科!F$65*100","v":{"$error":"#DIV/0!"}},{"$error":"#DIV/0!"}]
[3,{"$f":"理科得点!BJ6","v":1},{"$f":"理科得点!BK6","v":"（３）"},{"$f":"理科得点!BL6","v":"生命"},null,null,null,null,{"$f":"IF(理科!$G$9=理科!$BF$35,\"○\",\"\")","v":""},{"$f":"IF(理科!$G$9=理科!$BF$36,\"○\",\"\")","v":"○"},{"$f":"IF(理科!$G$9=理科!$BF$37,\"○\",\"\")","v":""},{"$f":"IF(理科!$G$9=理科!$BF$38,\"○\",\"\")","v":""},{"$f":"IF(理科!$G$9=理科!$BF$39,\"○\",\"\")","v":""},null,null,null,{"$f":"理科得点!D$59*100","v":24.8},{"$f":"理科!G$65*100","v":{"$error":"#DIV/0!"}},{"$error":"#DIV/0!"}]
[4,{"$f":"理科得点!BJ7","v":1},{"$f":"理科得点!BK7","v":"（４）"},{"$f":"理科得点!BL7","v":"地球"},null,null,null,null,{"$f":"IF(理科!$H$9=理科!$BF$35,\"○\",\"\")","v":"○"},{"$f":"IF(理科!$H$9=理科!$BF$36,\"○\",\"\")","v":""},{"$f":"IF(理科!$H$9=理科!$BF$37,\"○\",\"\")","v":""},{"$f":"IF(理科!$H$9=理科!$BF$38,\"○\",\"\")","v":""},{"$f":"IF(理科!$H$9=理科!$BF$39,\"○\",\"\")","v":""},null,null,null,{"$f":"理科得点!E$59*100","v":52.800000000000004},{"$f":"理科!H$65*100","v":{"$error":"#DIV/0!"}},{"$error":"#DIV/0!"}]
[5,{"$f":"理科得点!BJ8","v":1},{"$f":"理科得点!BK8","v":"（５）"},{"$f":"理科得点!BL8","v":"地球"},null,null,null,null,{"$f":"IF(理科!$I$9=理科!$BF$35,\"○\",\"\")","v":""},{"$f":"IF(理科!$I$9=理科!$BF$36,\"○\",\"\")","v":"○"},{"$f":"IF(理科!$I$9=理科!$BF$37,\"○\",\"\")","v":""},{"$f":"IF(理科!$I$9=理科!$BF$38,\"○\",\"\")","v":""},{"$f":"IF(理科!$I$9=理科!$BF$39,\"○\",\"\")","v":""},null,null,null,{"$f":"理科得点!F$59*100","v":11.1},{"$f":"理科!I$65*100","v":{"$error":"#DIV/0!"}},{"$error":"#DIV/0!"}]
[6,{"$f":"理科得点!BJ9","v":1},{"$f":"理科得点!BK9","v":"（６）"},{"$f":"理科得点!BL9","v":"生命"},null,null,null,null,{"$f":"IF(理科!$J$9=理科!$BF$35,\"○\",\"\")","v":"○"},{"$f":"IF(理科!$J$9=理科!$BF$36,\"○\",\"\")","v":""},{"$f":"IF(理科!$J$9=理科!$BF$37,\"○\",\"\")","v":""},{"$f":"IF(理科!$J$9=理科!$BF$38,\"○\",\"\")","v":""},{"$f":"IF(理科!$J$9=理科!$BF$39,\"○\",\"\")","v":""},null,null,null,{"$f":"理科得点!G$59*100","v":18.899999999999999},{"$f":"理科!J$65*100","v":{"$error":"#DIV/0!"}},{"$error":"#DIV/0!"}]
[7,{"$f":"理科得点!BJ10","v":2},{"$f":"理科得点!BK10","v":"（１）"},{"$f":"理科得点!BL10","v":"地球"},null,null,null,null,{"$f":"IF(理科!$K$9=理科!$BF$35,\"○\",\"\")","v":""},{"$f":"IF(理科!$K$9=理科!$BF$36,\"○\",\"\")","v":"○"},{"$f":"IF(理科!$K$9=理科!$BF$37,\"○\",\"\")","v":""},{"$f":"IF(理科!$K$9=理科!$BF$38,\"○\",\"\")","v":""},{"$f":"IF(理科!$K$9=理科!$BF$39,\"○\",\"\")","v":""},null,null,null,{"$f":"理科得点!H$59*100","v":14.799999999999999},{"$f":"理科!K$65*100","v":{"$error":"#DIV/0!"}},{"$error":"#DIV/0!"}]
[8,{"$f":"理科得点!BJ11","v":2},{"$f":"理科得点!BK11","v":"（２）"},{"$f":"理科得点!BL11","v":"地球"},null,null,null,null,{"$f":"IF(理科!$L$9=理科!$BF$35,\"○\",\"\")","v":"○"},{"$f":"IF(理科!$L$9=理科!$BF$36,\"○\",\"\")","v":""},{"$f":"IF(理科!$L$9=理科!$BF$37,\"○\",\"\")","v":""},{"$f":"IF(理科!$L$9=理科!$BF$38,\"○\",\"\")","v":""},{"$f":"IF(理科!$L$9=理科!$BF$39,\"○\",\"\")","v":""},null,null,null,{"$f":"理科得点!I$59*100","v":8.7999999999999989},{"$f":"理科!L$65*100","v":{"$error":"#DIV/0!"}},{"$error":"#DIV/0!"}]
[9,{"$f":"理科得点!BJ12","v":2},{"$f":"理科得点!BK12","v":"（３）"},{"$f":"理科得点!BL12","v":"地球"},null,null,null,null,{"$f":"IF(理科!$M$9=理科!$BF$35,\"○\",\"\")","v":""},{"$f":"IF(理科!$M$9=理科!$BF$36,\"○\",\"\")","v":"○"},{"$f":"IF(理科!$M$9=理科!$BF$37,\"○\",\"\")","v":""},{"$f":"IF(理科!$M$9=理科!$BF$38,\"○\",\"\")","v":""},{"$f":"IF(理科!$M$9=理科!$BF$39,\"○\",\"\")","v":""},null,null,null,{"$f":"理科得点!J$59*100","v":5.6000000000000005},{"$f":"理科!M$65*100","v":{"$error":"#DIV/0!"}},{"$error":"#DIV/0!"}]
[10,{"$f":"理科得点!BJ13","v":2},{"$f":"理科得点!BK13","v":"（４）"},{"$f":"理科得点!BL13","v":"地球"},null,null,null,null,{"$f":"IF(理科!$N$9=理科!$BF$35,\"○\",\"\")","v":"○"},{"$f":"IF(理科!$N$9=理科!$BF$36,\"○\",\"\")","v":""},{"$f":"IF(理科!$N$9=理科!$BF$37,\"○\",\"\")","v":""},{"$f":"IF(理科!$N$9=理科!$BF$38,\"○\",\"\")","v":""},{"$f":"IF(理科!$N$9=理科!$BF$39,\"○\",\"\")","v":""},null,null,null,{"$f":"理科得点!K$59*100","v":15.7},{"$f":"理科!N$65*100","v":{"$error":"#DIV/0!"}},{"$error":"#DIV/0!"}]
[11,{"$f":"理科得点!BJ14","v":3},{"$f":"理科得点!BK14","v":"（１）"},{"$f":"理科得点!BL14","v":"エネルギー"},null,null,null,null,{"$f":"IF(理科!$O$9=理科!$BF$35,\"○\",\"\")","v":"○"},{"$f":"IF(理科!$O$9=理科!$BF$36,\"○\",\"\")","v":""},{"$f":"IF(理科!$O$9=理科!$BF$37,\"○\",\"\")","v":""},{"$f":"IF(理科!$O$9=理科!$BF$38,\"○\",\"\")","v":""},{"$f":"IF(理科!$O$9=理科!$BF$39,\"○\",\"\")","v":""},null,null,null,{"$f":"理科得点!L$59*100","v":57.599999999999994},{"$f":"理科!O$65*100","v":{"$error":"#DIV/0!"}},{"$error":"#DIV/0!"}]
[12,{"$f":"理科得点!BJ15","v":3},{"$f":"理科得点!BK15","v":"（２）"},{"$f":"理科得点!BL15","v":"エネルギー"},null,null,null,null,{"$f":"IF(理科!$P$9=理科!$BF$35,\"○\",\"\")","v":"○"},{"$f":"IF(理科!$P$9=理科!$BF$36,\"○\",\"\")","v":""},{"$f":"IF(理科!$P$9=理科!$BF$37,\"○\",\"\")","v":""},{"$f":"IF(理科!$P$9=理科!$BF$38,\"○\",\"\")","v":""},{"$f":"IF(理科!$P$9=理科!$BF$39,\"○\",\"\")","v":""},null,null,null,{"$f":"理科得点!M$59*100","v":62.8},{"$f":"理科!P$65*100","v":{"$error":"#DIV/0!"}},{"$error":"#DIV/0!"}]
[13,{"$f":"理科得点!BJ16","v":4},{"$f":"理科得点!BK16","v":"（１）"},{"$f":"理科得点!BL16","v":"物質"},null,null,null,null,{"$f":"IF(理科!$Q$9=理科!$BF$35,\"○\",\"\")","v":"○"},{"$f":"IF(理科!$Q$9=理科!$BF$36,\"○\",\"\")","v":""},{"$f":"IF(理科!$Q$9=理科!$BF$37,\"○\",\"\")","v":""},{"$f":"IF(理科!$Q$9=理科!$BF$38,\"○\",\"\")","v":""},{"$f":"IF(理科!$Q$9=理科!$BF$39,\"○\",\"\")","v":""},null,null,null,{"$f":"理科得点!N$59*100","v":20.100000000000001},{"$f":"理科!Q$65*100","v":{"$error":"#DIV/0!"}},{"$error":"#DIV/0!"}]
[14,{"$f":"理科得点!BJ17","v":4},{"$f":"理科得点!BK17","v":"（２）"},{"$f":"理科得点!BL17","v":"物質"},null,null,null,null,{"$f":"IF(理科!$R$9=理科!$BF$35,\"○\",\"\")","v":"○"},{"$f":"IF(理科!$R$9=理科!$BF$36,\"○\",\"\")","v":""},{"$f":"IF(理科!$R$9=理科!$BF$37,\"○\",\"\")","v":""},{"$f":"IF(理科!$R$9=理科!$BF$38,\"○\",\"\")","v":""},{"$f":"IF(理科!$R$9=理科!$BF$39,\"○\",\"\")","v":""},null,null,null,{"$f":"理科得点!O$59*100","v":37.6},{"$f":"理科!R$65*100","v":{"$error":"#DIV/0!"}},{"$error":"#DIV/0!"}]
[15,{"$f":"理科得点!BJ18","v":4},{"$f":"理科得点!BK18","v":"（３）"},{"$f":"理科得点!BL18","v":"物質"},null,null,null,null,{"$f":"IF(理科!$S$9=理科!$BF$35,\"○\",\"\")","v":"○"},{"$f":"IF(理科!$S$9=理科!$BF$36,\"○\",\"\")","v":""},{"$f":"IF(理科!$S$9=理科!$BF$37,\"○\",\"\")","v":""},{"$f":"IF(理科!$S$9=理科!$BF$38,\"○\",\"\")","v":""},{"$f":"IF(理科!$S$9=理科!$BF$39,\"○\",\"\")","v":""},null,null,null,{"$f":"理科得点!P$59*100","v":27.900000000000002},{"$f":"理科!S$65*100","v":{"$error":"#DIV/0!"}},{"$error":"#DIV/0!"}]
[16,{"$f":"理科得点!BJ19","v":4},{"$f":"理科得点!BK19","v":"（４）"},{"$f":"理科得点!BL19","v":"物質"},null,null,null,null,{"$f":"IF(理科!$T$9=理科!$BF$35,\"○\",\"\")","v":""},{"$f":"IF(理科!$T$9=理科!$BF$36,\"○\",\"\")","v":"○"},{"$f":"IF(理科!$T$9=理科!$BF$37,\"○\",\"\")","v":""},{"$f":"IF(理科!$T$9=理科!$BF$38,\"○\",\"\")","v":""},{"$f":"IF(理科!$T$9=理科!$BF$39,\"○\",\"\")","v":""},null,null,null,{"$f":"理科得点!Q$59*100","v":72.3},{"$f":"理科!T$65*100","v":{"$error":"#DIV/0!"}},{"$error":"#DIV/0!"}]
[17,{"$f":"理科得点!BJ20","v":4},{"$f":"理科得点!BK20","v":"（５）"},{"$f":"理科得点!BL20","v":"物質"},null,null,null,null,{"$f":"IF(理科!$U$9=理科!$BF$35,\"○\",\"\")","v":""},{"$f":"IF(理科!$U$9=理科!$BF$36,\"○\",\"\")","v":"○"},{"$f":"IF(理科!$U$9=理科!$BF$37,\"○\",\"\")","v":""},{"$f":"IF(理科!$U$9=理科!$BF$38,\"○\",\"\")","v":""},{"$f":"IF(理科!$U$9=理科!$BF$39,\"○\",\"\")","v":""},null,null,null,{"$f":"理科得点!R$59*100","v":16.100000000000001},{"$f":"理科!U$65*100","v":{"$error":"#DIV/0!"}},{"$error":"#DIV/0!"}]
[18,{"$f":"理科得点!BJ21","v":4},{"$f":"理科得点!BK21","v":"（６）"},{"$f":"理科得点!BL21","v":"物質"},null,null,null,null,{"$f":"IF(理科!$V$9=理科!$BF$35,\"○\",\"\")","v":"○"},{"$f":"IF(理科!$V$9=理科!$BF$36,\"○\",\"\")","v":""},{"$f":"IF(理科!$V$9=理科!$BF$37,\"○\",\"\")","v":""},{"$f":"IF(理科!$V$9=理科!$BF$38,\"○\",\"\")","v":""},{"$f":"IF(理科!$V$9=理科!$BF$39,\"○\",\"\")","v":""},null,null,null,{"$f":"理科得点!S$59*100","v":36.199999999999996},{"$f":"理科!V$65*100","v":{"$error":"#DIV/0!"}},{"$error":"#DIV/0!"}]
[19,{"$f":"理科得点!BJ22","v":5},{"$f":"理科得点!BK22","v":"（１）"},{"$f":"理科得点!BL22","v":"地球"},null,null,null,null,{"$f":"IF(理科!$W$9=理科!$BF$35,\"○\",\"\")","v":""},{"$f":"IF(理科!$W$9=理科!$BF$36,\"○\",\"\")","v":"○"},{"$f":"IF(理科!$W$9=理科!$BF$37,\"○\",\"\")","v":""},{"$f":"IF(理科!$W$9=理科!$BF$38,\"○\",\"\")","v":""},{"$f":"IF(理科!$W$9=理科!$BF$39,\"○\",\"\")","v":""},null,null,null,{"$f":"理科得点!T$59*100","v":13.700000000000001},{"$f":"理科!W$65*100","v":{"$error":"#DIV/0!"}},{"$error":"#DIV/0!"}]
[20,{"$f":"理科得点!BJ23","v":5},{"$f":"理科得点!BK23","v":"（２）"},{"$f":"理科得点!BL23","v":"地球"},null,null,null,null,{"$f":"IF(理科!$X$9=理科!$BF$35,\"○\",\"\")","v":""},{"$f":"IF(理科!$X$9=理科!$BF$36,\"○\",\"\")","v":"○"},{"$f":"IF(理科!$X$9=理科!$BF$37,\"○\",\"\")","v":""},{"$f":"IF(理科!$X$9=理科!$BF$38,\"○\",\"\")","v":""},{"$f":"IF(理科!$X$9=理科!$BF$39,\"○\",\"\")","v":""},null,null,null,{"$f":"理科得点!U$59*100","v":19.400000000000002},{"$f":"理科!X$65*100","v":{"$error":"#DIV/0!"}},{"$error":"#DIV/0!"}]
[21,{"$f":"理科得点!BJ24","v":5},{"$f":"理科得点!BK24","v":"（３）"},{"$f":"理科得点!BL24","v":"地球"},null,null,null,null,{"$f":"IF(理科!$Y$9=理科!$BF$35,\"○\",\"\")","v":"○"},{"$f":"IF(理科!$Y$9=理科!$BF$36,\"○\",\"\")","v":""},{"$f":"IF(理科!$Y$9=理科!$BF$37,\"○\",\"\")","v":""},{"$f":"IF(理科!$Y$9=理科!$BF$38,\"○\",\"\")","v":""},{"$f":"IF(理科!$Y$9=理科!$BF$39,\"○\",\"\")","v":""},null,null,null,{"$f":"理科得点!V$59*100","v":56.399999999999991},{"$f":"理科!Y$65*100","v":{"$error":"#DIV/0!"}},{"$error":"#DIV/0!"}]
[22,{"$f":"理科得点!BJ25","v":5},{"$f":"理科得点!BK25","v":"（４）"},{"$f":"理科得点!BL25","v":"地球"},null,null,null,null,{"$f":"IF(理科!$Z$9=理科!$BF$35,\"○\",\"\")","v":""},{"$f":"IF(理科!$Z$9=理科!$BF$36,\"○\",\"\")","v":"○"},{"$f":"IF(理科!$Z$9=理科!$BF$37,\"○\",\"\")","v":""},{"$f":"IF(理科!$Z$9=理科!$BF$38,\"○\",\"\")","v":""},{"$f":"IF(理科!$Z$9=理科!$BF$39,\"○\",\"\")","v":""},null,null,null,{"$f":"理科得点!W$59*100","v":10.6},{"$f":"理科!Z$65*100","v":{"$error":"#DIV/0!"}},{"$error":"#DIV/0!"}]
[23,{"$f":"理科得点!BJ26","v":6},{"$f":"理科得点!BK26","v":"（１）"},{"$f":"理科得点!BL26","v":"エネルギー"},null,null,null,null,{"$f":"IF(理科!$AA$9=理科!$BF$35,\"○\",\"\")","v":"○"},{"$f":"IF(理科!$AA$9=理科!$BF$36,\"○\",\"\")","v":""},{"$f":"IF(理科!$AA$9=理科!$BF$37,\"○\",\"\")","v":""},{"$f":"IF(理科!$AA$9=理科!$BF$38,\"○\",\"\")","v":""},{"$f":"IF(理科!$AA$9=理科!$BF$39,\"○\",\"\")","v":""},null,null,null,{"$f":"理科得点!X$59*100","v":24.099999999999998},{"$f":"理科!AA$65*100","v":{"$error":"#DIV/0!"}},{"$error":"#DIV/0!"}]
[24,{"$f":"理科得点!BJ27","v":6},{"$f":"理科得点!BK27","v":"（２）A"},{"$f":"理科得点!BL27","v":"エネルギー"},null,null,null,null,{"$f":"IF(理科!$AB$9=理科!$BF$35,\"○\",\"\")","v":""},{"$f":"IF(理科!$AB$9=理科!$BF$36,\"○\",\"\")","v":"○"},{"$f":"IF(理科!$AB$9=理科!$BF$37,\"○\",\"\")","v":""},{"$f":"IF(理科!$AB$9=理科!$BF$38,\"○\",\"\")","v":""},{"$f":"IF(理科!$AB$9=理科!$BF$39,\"○\",\"\")","v":""},null,null,null,{"$f":"理科得点!Y$59*100","v":7.3},{"$f":"理科!AB$65*100","v":{"$error":"#DIV/0!"}},{"$error":"#DIV/0!"}]
[25,{"$f":"理科得点!BJ28","v":6},{"$f":"理科得点!BK28","v":"（２）B"},{"$f":"理科得点!BL28","v":"エネルギー"},null,null,null,null,{"$f":"IF(理科!$AC$9=理科!$BF$35,\"○\",\"\")","v":""},{"$f":"IF(理科!$AC$9=理科!$BF$36,\"○\",\"\")","v":"○"},{"$f":"IF(理科!$AC$9=理科!$BF$37,\"○\",\"\")","v":""},{"$f":"IF(理科!$AC$9=理科!$BF$38,\"○\",\"\")","v":""},{"$f":"IF(理科!$AC$9=理科!$BF$39,\"○\",\"\")","v":""},null,null,null,{"$f":"理科得点!Z$59*100","v":11.200000000000001},{"$f":"理科!AC$65*100","v":{"$error":"#DIV/0!"}},{"$error":"#DIV/0!"}]
[26,{"$f":"理科得点!BJ29","v":0},{"$f":"理科得点!BK29","v":0},{"$f":"理科得点!BL29","v":0},null,null,null,null,{"$f":"IF(理科!$AD$9=理科!$BF$35,\"○\",\"\")","v":""},{"$f":"IF(理科!$AD$9=理科!$BF$36,\"○\",\"\")","v":""},{"$f":"IF(理科!$AD$9=理科!$BF$37,\"○\",\"\")","v":""},{"$f":"IF(理科!$AD$9=理科!$BF$38,\"○\",\"\")","v":""},{"$f":"IF(理科!$AD$9=理科!$BF$39,\"○\",\"\")","v":""},null,null,null,{"$f":"理科得点!AA$59*100","v":0},{"$f":"理科!AD$65*100","v":{"$error":"#DIV/0!"}},{"$error":"#DIV/0!"}]
[27,{"$f":"理科得点!BJ30","v":0},{"$f":"理科得点!BK30","v":0},{"$f":"理科得点!BL30","v":0},null,null,null,null,{"$f":"IF(理科!$AE$9=理科!$BF$35,\"○\",\"\")","v":""},{"$f":"IF(理科!$AE$9=理科!$BF$36,\"○\",\"\")","v":""},{"$f":"IF(理科!$AE$9=理科!$BF$37,\"○\",\"\")","v":""},{"$f":"IF(理科!$AE$9=理科!$BF$38,\"○\",\"\")","v":""},{"$f":"IF(理科!$AE$9=理科!$BF$39,\"○\",\"\")","v":""},null,null,null,{"$f":"理科得点!AB$59*100","v":0},{"$f":"理科!AE$65*100","v":{"$error":"#DIV/0!"}},{"$error":"#DIV/0!"}]
[28,{"$f":"理科得点!BJ31","v":0},{"$f":"理科得点!BK31","v":0},{"$f":"理科得点!BL31","v":0},null,null,null,null,{"$f":"IF(理科!$AF$9=理科!$BF$35,\"○\",\"\")","v":""},{"$f":"IF(理科!$AF$9=理科!$BF$36,\"○\",\"\")","v":""},{"$f":"IF(理科!$AF$9=理科!$BF$37,\"○\",\"\")","v":""},{"$f":"IF(理科!$AF$9=理科!$BF$38,\"○\",\"\")","v":""},{"$f":"IF(理科!$AF$9=理科!$BF$39,\"○\",\"\")","v":""},null,null,null,{"$f":"理科得点!AC$59*100","v":0},{"$f":"理科!AF$65*100","v":{"$error":"#DIV/0!"}},{"$error":"#DIV/0!"}]
[29,{"$f":"理科得点!BJ32","v":0},{"$f":"理科得点!BK32","v":0},{"$f":"理科得点!BL32","v":0},null,null,null,null,{"$f":"IF(理科!$AG$9=理科!$BF$35,\"○\",\"\")","v":""},{"$f":"IF(理科!$AG$9=理科!$BF$36,\"○\",\"\")","v":""},{"$f":"IF(理科!$AG$9=理科!$BF$37,\"○\",\"\")","v":""},{"$f":"IF(理科!$AG$9=理科!$BF$38,\"○\",\"\")","v":""},{"$f":"IF(理科!$AG$9=理科!$BF$39,\"○\",\"\")","v":""},null,null,null,{"$f":"理科得点!AD$59*100","v":0},{"$f":"理科!AG$65*100","v":{"$error":"#DIV/0!"}},{"$error":"#DIV/0!"}]
[30,{"$f":"理科得点!BJ33","v":0},{"$f":"理科得点!BK33","v":0},{"$f":"理科得点!BL33","v":0},null,null,null,null,{"$f":"IF(理科!$AH$9=理科!$BF$35,\"○\",\"\")","v":""},{"$f":"IF(理科!$AH$9=理科!$BF$36,\"○\",\"\")","v":""},{"$f":"IF(理科!$AH$9=理科!$BF$37,\"○\",\"\")","v":""},{"$f":"IF(理科!$AH$9=理科!$BF$38,\"○\",\"\")","v":""},{"$f":"IF(理科!$AH$9=理科!$BF$39,\"○\",\"\")","v":""},null,null,null,{"$f":"理科得点!AE$59*100","v":0},{"$f":"理科!AH$65*100","v":{"$error":"#DIV/0!"}},{"$error":"#DIV/0!"}]
[31,{"$f":"理科得点!BJ34","v":0},{"$f":"理科得点!BK34","v":0},{"$f":"理科得点!BL34","v":0},null,null,null,null,{"$f":"IF(理科!$AI$9=理科!$BF$35,\"○\",\"\")","v":""},{"$f":"IF(理科!$AI$9=理科!$BF$36,\"○\",\"\")","v":""},{"$f":"IF(理科!$AI$9=理科!$BF$37,\"○\",\"\")","v":""},{"$f":"IF(理科!$AI$9=理科!$BF$38,\"○\",\"\")","v":""},{"$f":"IF(理科!$AI$9=理科!$BF$39,\"○\",\"\")","v":""},null,null,null,{"$f":"理科得点!AF$59*100","v":0},{"$f":"理科!AI$65*100","v":{"$error":"#DIV/0!"}},{"$error":"#DIV/0!"}]
[32,{"$f":"理科得点!BJ35","v":0},{"$f":"理科得点!BK35","v":0},{"$f":"理科得点!BL35","v":0},null,null,null,null,{"$f":"IF(理科!$AJ$9=理科!$BF$35,\"○\",\"\")","v":""},{"$f":"IF(理科!$AJ$9=理科!$BF$36,\"○\",\"\")","v":""},{"$f":"IF(理科!$AJ$9=理科!$BF$37,\"○\",\"\")","v":""},{"$f":"IF(理科!$AJ$9=理科!$BF$38,\"○\",\"\")","v":""},{"$f":"IF(理科!$AJ$9=理科!$BF$39,\"○\",\"\")","v":""},null,null,null,{"$f":"理科得点!AG$59*100","v":0},{"$f":"理科!AJ$65*100","v":{"$error":"#DIV/0!"}},{"$error":"#DIV/0!"}]
[33,{"$f":"理科得点!BJ36","v":0},{"$f":"理科得点!BK36","v":0},{"$f":"理科得点!BL36","v":0},null,null,null,null,{"$f":"IF(理科!$AK$9=理科!$BF$35,\"○\",\"\")","v":""},{"$f":"IF(理科!$AK$9=理科!$BF$36,\"○\",\"\")","v":""},{"$f":"IF(理科!$AK$9=理科!$BF$37,\"○\",\"\")","v":""},{"$f":"IF(理科!$AK$9=理科!$BF$38,\"○\",\"\")","v":""},{"$f":"IF(理科!$AK$9=理科!$BF$39,\"○\",\"\")","v":""},null,null,null,{"$f":"理科得点!AH$59*100","v":0},{"$f":"理科!AK$65*100","v":{"$error":"#DIV/0!"}},{"$error":"#DIV/0!"}]
[34,{"$f":"理科得点!BJ37","v":0},{"$f":"理科得点!BK37","v":0},{"$f":"理科得点!BL37","v":0},null,null,null,null,{"$f":"IF(理科!$AL$9=理科!$BF$35,\"○\",\"\")","v":""},{"$f":"IF(理科!$AL$9=理科!$BF$36,\"○\",\"\")","v":""},{"$f":"IF(理科!$AL$9=理科!$BF$37,\"○\",\"\")","v":""},{"$f":"IF(理科!$AL$9=理科!$BF$38,\"○\",\"\")","v":""},{"$f":"IF(理科!$AL$9=理科!$BF$39,\"○\",\"\")","v":""},null,null,null,{"$f":"理科得点!AI$59*100","v":0},{"$f":"理科!AL$65*100","v":{"$error":"#DIV/0!"}},{"$f":"IF($R40=\"\",\"\",$R40-$Q40)","v":{"$error":"#DIV/0!"}}]
[35,{"$f":"理科得点!BJ38","v":0},{"$f":"理科得点!BK38","v":0},{"$f":"理科得点!BL38","v":0},null,null,null,null,{"$f":"IF(理科!$AM$9=理科!$BF$35,\"○\",\"\")","v":""},{"$f":"IF(理科!$AM$9=理科!$BF$36,\"○\",\"\")","v":""},{"$f":"IF(理科!$AM$9=理科!$BF$37,\"○\",\"\")","v":""},{"$f":"IF(理科!$AM$9=理科!$BF$38,\"○\",\"\")","v":""},{"$f":"IF(理科!$AM$9=理科!$BF$39,\"○\",\"\")","v":""},null,null,null,{"$f":"理科得点!AJ$59*100","v":0},{"$f":"理科!AM$65*100","v":{"$error":"#DIV/0!"}},{"$error":"#DIV/0!"}]
[36,{"$f":"理科得点!BJ39","v":0},{"$f":"理科得点!BK39","v":0},{"$f":"理科得点!BL39","v":0},null,null,null,null,{"$f":"IF(理科!$AN$9=理科!$BF$35,\"○\",\"\")","v":""},{"$f":"IF(理科!$AN$9=理科!$BF$36,\"○\",\"\")","v":""},{"$f":"IF(理科!$AN$9=理科!$BF$37,\"○\",\"\")","v":""},{"$f":"IF(理科!$AN$9=理科!$BF$38,\"○\",\"\")","v":""},{"$f":"IF(理科!$AN$9=理科!$BF$39,\"○\",\"\")","v":""},null,null,null,{"$f":"理科得点!AK$59*100","v":0},{"$f":"理科!AN$65*100","v":{"$error":"#DIV/0!"}},{"$error":"#DIV/0!"}]
[37,{"$f":"理科得点!BJ40","v":0},{"$f":"理科得点!BK40","v":0},{"$f":"理科得点!BL40","v":0},null,null,null,null,{"$f":"IF(理科!$AO$9=理科!$BF$35,\"○\",\"\")","v":""},{"$f":"IF(理科!$AO$9=理科!$BF$36,\"○\",\"\")","v":""},{"$f":"IF(理科!$AO$9=理科!$BF$37,\"○\",\"\")","v":""},{"$f":"IF(理科!$AO$9=理科!$BF$38,\"○\",\"\")","v":""},{"$f":"IF(理科!$AO$9=理科!$BF$39,\"○\",\"\")","v":""},null,null,null,{"$f":"理科得点!AL$59*100","v":0},{"$f":"理科!AO$65*100","v":{"$error":"#DIV/0!"}},{"$error":"#DIV/0!"}]
[38,{"$f":"理科得点!BJ41","v":0},{"$f":"理科得点!BK41","v":0},{"$f":"理科得点!BL41","v":0},null,null,null,null,{"$f":"IF(理科!$AP$9=理科!$BF$35,\"○\",\"\")","v":""},{"$f":"IF(理科!$AP$9=理科!$BF$36,\"○\",\"\")","v":""},{"$f":"IF(理科!$AP$9=理科!$BF$37,\"○\",\"\")","v":""},{"$f":"IF(理科!$AP$9=理科!$BF$38,\"○\",\"\")","v":""},{"$f":"IF(理科!$AP$9=理科!$BF$39,\"○\",\"\")","v":""},null,null,null,{"$f":"理科得点!AM$59*100","v":0},{"$f":"理科!AP$65*100","v":{"$error":"#DIV/0!"}},{"$error":"#DIV/0!"}]
[39,{"$f":"理科得点!BJ42","v":0},{"$f":"理科得点!BK42","v":0},{"$f":"理科得点!BL42","v":0},null,null,null,null,{"$f":"IF(理科!$AQ$9=理科!$BF$35,\"○\",\"\")","v":""},{"$f":"IF(理科!$AQ$9=理科!$BF$36,\"○\",\"\")","v":""},{"$f":"IF(理科!$AQ$9=理科!$BF$37,\"○\",\"\")","v":""},{"$f":"IF(理科!$AQ$9=理科!$BF$38,\"○\",\"\")","v":""},{"$f":"IF(理科!$AQ$9=理科!$BF$39,\"○\",\"\")","v":""},null,null,null,{"$f":"理科得点!AN$59*100","v":0},{"$f":"理科!AQ$65*100","v":{"$error":"#DIV/0!"}},{"$error":"#DIV/0!"}]
[40,{"$f":"理科得点!BJ43","v":0},{"$f":"理科得点!BK43","v":0},{"$f":"理科得点!BL43","v":0},null,null,null,null,{"$f":"IF(理科!$AR$9=理科!$BF$35,\"○\",\"\")","v":""},{"$f":"IF(理科!$AR$9=理科!$BF$36,\"○\",\"\")","v":""},{"$f":"IF(理科!$AR$9=理科!$BF$37,\"○\",\"\")","v":""},{"$f":"IF(理科!$AR$9=理科!$BF$38,\"○\",\"\")","v":""},{"$f":"IF(理科!$AR$9=理科!$BF$39,\"○\",\"\")","v":""},null,null,null,{"$f":"理科得点!AO$59*100","v":0},{"$f":"理科!AR$65*100","v":{"$error":"#DIV/0!"}},{"$error":"#DIV/0!"}]
[41,{"$f":"理科得点!BJ44","v":0},{"$f":"理科得点!BK44","v":0},{"$f":"理科得点!BL44","v":0},null,null,null,null,{"$f":"IF(理科!$AS$9=理科!$BF$35,\"○\",\"\")","v":""},{"$f":"IF(理科!$AS$9=理科!$BF$36,\"○\",\"\")","v":""},{"$f":"IF(理科!$AS$9=理科!$BF$37,\"○\",\"\")","v":""},{"$f":"IF(理科!$AS$9=理科!$BF$38,\"○\",\"\")","v":""},{"$f":"IF(理科!$AS$9=理科!$BF$39,\"○\",\"\")","v":""},null,null,null,{"$f":"理科得点!AP$59*100","v":0},{"$f":"理科!AS$65*100","v":{"$error":"#DIV/0!"}},{"$error":"#DIV/0!"}]
[42,{"$f":"理科得点!BJ45","v":0},{"$f":"理科得点!BK45","v":0},{"$f":"理科得点!BL45","v":0},null,null,null,null,{"$f":"IF(理科!$AT$9=理科!$BF$35,\"○\",\"\")","v":""},{"$f":"IF(理科!$AT$9=理科!$BF$36,\"○\",\"\")","v":""},{"$f":"IF(理科!$AT$9=理科!$BF$37,\"○\",\"\")","v":""},{"$f":"IF(理科!$AT$9=理科!$BF$38,\"○\",\"\")","v":""},{"$f":"IF(理科!$AT$9=理科!$BF$39,\"○\",\"\")","v":""},null,null,null,{"$f":"理科得点!AQ$59*100","v":0},{"$f":"理科!AT$65*100","v":{"$error":"#DIV/0!"}},{"$error":"#DIV/0!"}]
[43,{"$f":"理科得点!BJ46","v":0},{"$f":"理科得点!BK46","v":0},{"$f":"理科得点!BL46","v":0},null,null,null,null,{"$f":"IF(理科!$AU$9=理科!$BF$35,\"○\",\"\")","v":""},{"$f":"IF(理科!$AU$9=理科!$BF$36,\"○\",\"\")","v":""},{"$f":"IF(理科!$AU$9=理科!$BF$37,\"○\",\"\")","v":""},{"$f":"IF(理科!$AU$9=理科!$BF$38,\"○\",\"\")","v":""},{"$f":"IF(理科!$AU$9=理科!$BF$39,\"○\",\"\")","v":""},null,null,null,{"$f":"理科得点!AR$59*100","v":0},{"$f":"理科!AU$65*100","v":{"$error":"#DIV/0!"}},{"$error":"#DIV/0!"}]
[44,{"$f":"理科得点!BJ47","v":0},{"$f":"理科得点!BK47","v":0},{"$f":"理科得点!BL47","v":0},null,null,null,null,{"$f":"IF(理科!$AV$9=理科!$BF$35,\"○\",\"\")","v":""},{"$f":"IF(理科!$AV$9=理科!$BF$36,\"○\",\"\")","v":""},{"$f":"IF(理科!$AV$9=理科!$BF$37,\"○\",\"\")","v":""},{"$f":"IF(理科!$AV$9=理科!$BF$38,\"○\",\"\")","v":""},{"$f":"IF(理科!$AV$9=理科!$BF$39,\"○\",\"\")","v":""},null,null,null,{"$f":"理科得点!AS$59*100","v":0},{"$f":"理科!AV$65*100","v":{"$error":"#DIV/0!"}},{"$error":"#DIV/0!"}]
[45,{"$f":"理科得点!BJ48","v":0},{"$f":"理科得点!BK48","v":0},{"$f":"理科得点!BL48","v":0},null,null,null,null,{"$f":"IF(理科!$AW$9=理科!$BF$35,\"○\",\"\")","v":""},{"$f":"IF(理科!$AW$9=理科!$BF$36,\"○\",\"\")","v":""},{"$f":"IF(理科!$AW$9=理科!$BF$37,\"○\",\"\")","v":""},{"$f":"IF(理科!$AW$9=理科!$BF$38,\"○\",\"\")","v":""},{"$f":"IF(理科!$AW$9=理科!$BF$39,\"○\",\"\")","v":""},null,null,null,{"$f":"理科得点!AT$59*100","v":0},{"$f":"理科!AW$65*100","v":{"$error":"#DIV/0!"}},{"$error":"#DIV/0!"}]
[46,{"$f":"理科得点!BJ49","v":0},{"$f":"理科得点!BK49","v":0},{"$f":"理科得点!BL49","v":0},null,null,null,null,{"$f":"IF(理科!$AX$9=理科!$BF$35,\"○\",\"\")","v":""},{"$f":"IF(理科!$AX$9=理科!$BF$36,\"○\",\"\")","v":""},{"$f":"IF(理科!$AX$9=理科!$BF$37,\"○\",\"\")","v":""},{"$f":"IF(理科!$AX$9=理科!$BF$38,\"○\",\"\")","v":""},{"$f":"IF(理科!$AX$9=理科!$BF$39,\"○\",\"\")","v":""},null,null,null,{"$f":"理科得点!AU$59*100","v":0},{"$f":"理科!AX$65*100","v":{"$error":"#DIV/0!"}},{"$error":"#DIV/0!"}]
[47,{"$f":"理科得点!BJ50","v":0},{"$f":"理科得点!BK50","v":0},{"$f":"理科得点!BL50","v":0},null,null,null,null,{"$f":"IF(理科!$AY$9=理科!$BF$35,\"○\",\"\")","v":""},{"$f":"IF(理科!$AY$9=理科!$BF$36,\"○\",\"\")","v":""},{"$f":"IF(理科!$AY$9=理科!$BF$37,\"○\",\"\")","v":""},{"$f":"IF(理科!$AY$9=理科!$BF$38,\"○\",\"\")","v":""},{"$f":"IF(理科!$AY$9=理科!$BF$39,\"○\",\"\")","v":""},null,null,null,{"$f":"理科得点!AV$59*100","v":0},{"$f":"理科!AY$65*100","v":{"$error":"#DIV/0!"}},{"$error":"#DIV/0!"}]
[48,{"$f":"理科得点!BJ51","v":0},{"$f":"理科得点!BK51","v":0},{"$f":"理科得点!BL51","v":0},null,null,null,null,{"$f":"IF(理科!$AZ$9=理科!$BF$35,\"○\",\"\")","v":""},{"$f":"IF(理科!$AZ$9=理科!$BF$36,\"○\",\"\")","v":""},{"$f":"IF(理科!$AZ$9=理科!$BF$37,\"○\",\"\")","v":""},{"$f":"IF(理科!$AZ$9=理科!$BF$38,\"○\",\"\")","v":""},{"$f":"IF(理科!$AZ$9=理科!$BF$39,\"○\",\"\")","v":""},null,null,null,{"$f":"理科得点!AW$59*100","v":0},{"$f":"理科!AZ$65*100","v":{"$error":"#DIV/0!"}},{"$error":"#DIV/0!"}]
[49,{"$f":"理科得点!BJ52","v":0},{"$f":"理科得点!BK52","v":0},{"$f":"理科得点!BL52","v":0},null,null,null,null,{"$f":"IF(理科!$BA$9=理科!$BF$35,\"○\",\"\")","v":""},{"$f":"IF(理科!$BA$9=理科!$BF$36,\"○\",\"\")","v":""},{"$f":"IF(理科!$BA$9=理科!$BF$37,\"○\",\"\")","v":""},{"$f":"IF(理科!$BA$9=理科!$BF$38,\"○\",\"\")","v":""},{"$f":"IF(理科!$BA$9=理科!$BF$39,\"○\",\"\")","v":""},null,null,null,{"$f":"理科得点!AX$59*100","v":0},{"$f":"理科!BA$65*100","v":{"$error":"#DIV/0!"}},{"$error":"#DIV/0!"}]
[50,{"$f":"理科得点!BJ53","v":0},{"$f":"理科得点!BK53","v":0},{"$f":"理科得点!BL53","v":0},null,null,null,null,{"$f":"IF(理科!$BB$9=理科!$BF$35,\"○\",\"\")","v":""},{"$f":"IF(理科!$BB$9=理科!$BF$36,\"○\",\"\")","v":""},{"$f":"IF(理科!$BB$9=理科!$BF$37,\"○\",\"\")","v":""},{"$f":"IF(理科!$BB$9=理科!$BF$38,\"○\",\"\")","v":""},{"$f":"IF(理科!$BB$9=理科!$BF$39,\"○\",\"\")","v":""},null,null,null,{"$f":"理科得点!AY$59*100","v":0},{"$f":"理科!BB$65*100","v":{"$error":"#DIV/0!"}},{"$error":"#DIV/0!"}]
["平均"]

{"sheet":"⑥理科の問題別無解答率","index":32,"n_rows":57,"n_cols":19,"rows_kept":57,"cut":false,"hidden":false,"merged":[[4,13,4,15],[4,3,5,3],[4,16,4,18],[4,0,5,0],[4,2,5,2],[4,4,4,7],[4,8,4,12],[4,1,5,1]]}
["⑥理科の問題別無解答率"]
[]
[null,null,"問題数",{"$f":"理科!AX1","v":25}]
["◆理科"]
["問題通し番号","問題\n番号","小問題","問題の領域","学習指導要領の領域等",null,null,null,"観点",null,null,null,null,"問題形式",null,null,"無解答率"]
[null,null,null,null,null,null,null,null,{"$f":"理科!BG35","v":"科学的な思考・表現"},{"$f":"理科!BG36","v":"自然事象の知識・理解\n観察・実験の技能"},{"$f":"理科!BG37","v":"－"},{"$f":"理科!BG38","v":"－"},{"$f":"理科!BG39","v":"－"},"選択式","短答式","記述式","富山県（ア）","自校（イ）","富山県との差（イ-ア)"]
[1,{"$f":"理科得点!BJ4","v":1},{"$f":"理科得点!BK4","v":"（１）"},{"$f":"理科得点!BL4","v":"生命"},null,null,null,null,{"$f":"IF(理科!$E$9=理科!$BF$35,\"○\",\"\")","v":""},{"$f":"IF(理科!$E$9=理科!$BF$36,\"○\",\"\")","v":"○"},{"$f":"IF(理科!$E$9=理科!$BF$37,\"○\",\"\")","v":""},{"$f":"IF(理科!$E$9=理科!$BF$38,\"○\",\"\")","v":""},{"$f":"IF(理科!$E$9=理科!$BF$39,\"○\",\"\")","v":""},null,null,null,{"$f":"理科得点!B$60*100","v":9.9999999999988987E-2},{"$f":"理科!E$66*100","v":{"$error":"#DIV/0!"}},{"$f":"IF($R7=\"\",\"\",$R7-$Q7)","v":{"$error":"#DIV/0!"}}]
[2,{"$f":"理科得点!BJ5","v":1},{"$f":"理科得点!BK5","v":"（２）"},{"$f":"理科得点!BL5","v":"生命"},null,null,null,null,{"$f":"IF(理科!$F$9=理科!$BF$35,\"○\",\"\")","v":""},{"$f":"IF(理科!$F$9=理科!$BF$36,\"○\",\"\")","v":"○"},{"$f":"IF(理科!$F$9=理科!$BF$37,\"○\",\"\")","v":""},{"$f":"IF(理科!$F$9=理科!$BF$38,\"○\",\"\")","v":""},{"$f":"IF(理科!$F$9=理科!$BF$39,\"○\",\"\")","v":""},null,null,null,{"$f":"理科得点!C$60*100","v":0.50000000000000044},{"$f":"理科!F$66*100","v":{"$error":"#DIV/0!"}},{"$error":"#DIV/0!"}]
[3,{"$f":"理科得点!BJ6","v":1},{"$f":"理科得点!BK6","v":"（３）"},{"$f":"理科得点!BL6","v":"生命"},null,null,null,null,{"$f":"IF(理科!$G$9=理科!$BF$35,\"○\",\"\")","v":""},{"$f":"IF(理科!$G$9=理科!$BF$36,\"○\",\"\")","v":"○"},{"$f":"IF(理科!$G$9=理科!$BF$37,\"○\",\"\")","v":""},{"$f":"IF(理科!$G$9=理科!$BF$38,\"○\",\"\")","v":""},{"$f":"IF(理科!$G$9=理科!$BF$39,\"○\",\"\")","v":""},null,null,null,{"$f":"理科得点!D$60*100","v":2.300000000000002},{"$f":"理科!G$66*100","v":{"$error":"#DIV/0!"}},{"$error":"#DIV/0!"}]
[4,{"$f":"理科得点!BJ7","v":1},{"$f":"理科得点!BK7","v":"（４）"},{"$f":"理科得点!BL7","v":"地球"},null,null,null,null,{"$f":"IF(理科!$H$9=理科!$BF$35,\"○\",\"\")","v":"○"},{"$f":"IF(理科!$H$9=理科!$BF$36,\"○\",\"\")","v":""},{"$f":"IF(理科!$H$9=理科!$BF$37,\"○\",\"\")","v":""},{"$f":"IF(理科!$H$9=理科!$BF$38,\"○\",\"\")","v":""},{"$f":"IF(理科!$H$9=理科!$BF$39,\"○\",\"\")","v":""},null,null,null,{"$f":"理科得点!E$60*100","v":1.4000000000000012},{"$f":"理科!H$66*100","v":{"$error":"#DIV/0!"}},{"$error":"#DIV/0!"}]
[5,{"$f":"理科得点!BJ8","v":1},{"$f":"理科得点!BK8","v":"（５）"},{"$f":"理科得点!BL8","v":"地球"},null,null,null,null,{"$f":"IF(理科!$I$9=理科!$BF$35,\"○\",\"\")","v":""},{"$f":"IF(理科!$I$9=理科!$BF$36,\"○\",\"\")","v":"○"},{"$f":"IF(理科!$I$9=理科!$BF$37,\"○\",\"\")","v":""},{"$f":"IF(理科!$I$9=理科!$BF$38,\"○\",\"\")","v":""},{"$f":"IF(理科!$I$9=理科!$BF$39,\"○\",\"\")","v":""},null,null,null,{"$f":"理科得点!F$60*100","v":0.60000000000000053},{"$f":"理科!I$66*100","v":{"$error":"#DIV/0!"}},{"$error":"#DIV/0!"}]
[6,{"$f":"理科得点!BJ9","v":1},{"$f":"理科得点!BK9","v":"（６）"},{"$f":"理科得点!BL9","v":"生命"},null,null,null,null,{"$f":"IF(理科!$J$9=理科!$BF$35,\"○\",\"\")","v":"○"},{"$f":"IF(理科!$J$9=理科!$BF$36,\"○\",\"\")","v":""},{"$f":"IF(理科!$J$9=理科!$BF$37,\"○\",\"\")","v":""},{"$f":"IF(理科!$J$9=理科!$BF$38,\"○\",\"\")","v":""},{"$f":"IF(理科!$J$9=理科!$BF$39,\"○\",\"\")","v":""},null,null,null,{"$f":"理科得点!G$60*100","v":0.69999999999998952},{"$f":"理科!J$66*100","v":{"$error":"#DIV/0!"}},{"$error":"#DIV/0!"}]
[7,{"$f":"理科得点!BJ10","v":2},{"$f":"理科得点!BK10","v":"（１）"},{"$f":"理科得点!BL10","v":"地球"},null,null,null,null,{"$f":"IF(理科!$K$9=理科!$BF$35,\"○\",\"\")","v":""},{"$f":"IF(理科!$K$9=理科!$BF$36,\"○\",\"\")","v":"○"},{"$f":"IF(理科!$K$9=理科!$BF$37,\"○\",\"\")","v":""},{"$f":"IF(理科!$K$9=理科!$BF$38,\"○\",\"\")","v":""},{"$f":"IF(理科!$K$9=理科!$BF$39,\"○\",\"\")","v":""},null,null,null,{"$f":"理科得点!H$60*100","v":0.30000000000000027},{"$f":"理科!K$66*100","v":{"$error":"#DIV/0!"}},{"$error":"#DIV/0!"}]
[8,{"$f":"理科得点!BJ11","v":2},{"$f":"理科得点!BK11","v":"（２）"},{"$f":"理科得点!BL11","v":"地球"},null,null,null,null,{"$f":"IF(理科!$L$9=理科!$BF$35,\"○\",\"\")","v":"○"},{"$f":"IF(理科!$L$9=理科!$BF$36,\"○\",\"\")","v":""},{"$f":"IF(理科!$L$9=理科!$BF$37,\"○\",\"\")","v":""},{"$f":"IF(理科!$L$9=理科!$BF$38,\"○\",\"\")","v":""},{"$f":"IF(理科!$L$9=理科!$BF$39,\"○\",\"\")","v":""},null,null,null,{"$f":"理科得点!I$60*100","v":0.40000000000000036},{"$f":"理科!L$66*100","v":{"$error":"#DIV/0!"}},{"$error":"#DIV/0!"}]
[9,{"$f":"理科得点!BJ12","v":2},{"$f":"理科得点!BK12","v":"（３）"},{"$f":"理科得点!BL12","v":"地球"},null,null,null,null,{"$f":"IF(理科!$M$9=理科!$BF$35,\"○\",\"\")","v":""},{"$f":"IF(理科!$M$9=理科!$BF$36,\"○\",\"\")","v":"○"},{"$f":"IF(理科!$M$9=理科!$BF$37,\"○\",\"\")","v":""},{"$f":"IF(理科!$M$9=理科!$BF$38,\"○\",\"\")","v":""},{"$f":"IF(理科!$M$9=理科!$BF$39,\"○\",\"\")","v":""},null,null,null,{"$f":"理科得点!J$60*100","v":0.30000000000000027},{"$f":"理科!M$66*100","v":{"$error":"#DIV/0!"}},{"$error":"#DIV/0!"}]
[10,{"$f":"理科得点!BJ13","v":2},{"$f":"理科得点!BK13","v":"（４）"},{"$f":"理科得点!BL13","v":"地球"},null,null,null,null,{"$f":"IF(理科!$N$9=理科!$BF$35,\"○\",\"\")","v":"○"},{"$f":"IF(理科!$N$9=理科!$BF$36,\"○\",\"\")","v":""},{"$f":"IF(理科!$N$9=理科!$BF$37,\"○\",\"\")","v":""},{"$f":"IF(理科!$N$9=理科!$BF$38,\"○\",\"\")","v":""},{"$f":"IF(理科!$N$9=理科!$BF$39,\"○\",\"\")","v":""},null,null,null,{"$f":"理科得点!K$60*100","v":0.50000000000000044},{"$f":"理科!N$66*100","v":{"$error":"#DIV/0!"}},{"$error":"#DIV/0!"}]
[11,{"$f":"理科得点!BJ14","v":3},{"$f":"理科得点!BK14","v":"（１）"},{"$f":"理科得点!BL14","v":"エネルギー"},null,null,null,null,{"$f":"IF(理科!$O$9=理科!$BF$35,\"○\",\"\")","v":"○"},{"$f":"IF(理科!$O$9=理科!$BF$36,\"○\",\"\")","v":""},{"$f":"IF(理科!$O$9=理科!$BF$37,\"○\",\"\")","v":""},{"$f":"IF(理科!$O$9=理科!$BF$38,\"○\",\"\")","v":""},{"$f":"IF(理科!$O$9=理科!$BF$39,\"○\",\"\")","v":""},null,null,null,{"$f":"理科得点!L$60*100","v":0.60000000000000053},{"$f":"理科!O$66*100","v":{"$error":"#DIV/0!"}},{"$error":"#DIV/0!"}]
[12,{"$f":"理科得点!BJ15","v":3},{"$f":"理科得点!BK15","v":"（２）"},{"$f":"理科得点!BL15","v":"エネルギー"},null,null,null,null,{"$f":"IF(理科!$P$9=理科!$BF$35,\"○\",\"\")","v":"○"},{"$f":"IF(理科!$P$9=理科!$BF$36,\"○\",\"\")","v":""},{"$f":"IF(理科!$P$9=理科!$BF$37,\"○\",\"\")","v":""},{"$f":"IF(理科!$P$9=理科!$BF$38,\"○\",\"\")","v":""},{"$f":"IF(理科!$P$9=理科!$BF$39,\"○\",\"\")","v":""},null,null,null,{"$f":"理科得点!M$60*100","v":0.80000000000000071},{"$f":"理科!P$66*100","v":{"$error":"#DIV/0!"}},{"$error":"#DIV/0!"}]
[13,{"$f":"理科得点!BJ16","v":4},{"$f":"理科得点!BK16","v":"（１）"},{"$f":"理科得点!BL16","v":"物質"},null,null,null,null,{"$f":"IF(理科!$Q$9=理科!$BF$35,\"○\",\"\")","v":"○"},{"$f":"IF(理科!$Q$9=理科!$BF$36,\"○\",\"\")","v":""},{"$f":"IF(理科!$Q$9=理科!$BF$37,\"○\",\"\")","v":""},{"$f":"IF(理科!$Q$9=理科!$BF$38,\"○\",\"\")","v":""},{"$f":"IF(理科!$Q$9=理科!$BF$39,\"○\",\"\")","v":""},null,null,null,{"$f":"理科得点!N$60*100","v":0.80000000000000071},{"$f":"理科!Q$66*100","v":{"$error":"#DIV/0!"}},{"$error":"#DIV/0!"}]
[14,{"$f":"理科得点!BJ17","v":4},{"$f":"理科得点!BK17","v":"（２）"},{"$f":"理科得点!BL17","v":"物質"},null,null,null,null,{"$f":"IF(理科!$R$9=理科!$BF$35,\"○\",\"\")","v":"○"},{"$f":"IF(理科!$R$9=理科!$BF$36,\"○\",\"\")","v":""},{"$f":"IF(理科!$R$9=理科!$BF$37,\"○\",\"\")","v":""},{"$f":"IF(理科!$R$9=理科!$BF$38,\"○\",\"\")","v":""},{"$f":"IF(理科!$R$9=理科!$BF$39,\"○\",\"\")","v":""},null,null,null,{"$f":"理科得点!O$60*100","v":0.60000000000000053},{"$f":"理科!R$66*100","v":{"$error":"#DIV/0!"}},{"$error":"#DIV/0!"}]
[15,{"$f":"理科得点!BJ18","v":4},{"$f":"理科得点!BK18","v":"（３）"},{"$f":"理科得点!BL18","v":"物質"},null,null,null,null,{"$f":"IF(理科!$S$9=理科!$BF$35,\"○\",\"\")","v":"○"},{"$f":"IF(理科!$S$9=理科!$BF$36,\"○\",\"\")","v":""},{"$f":"IF(理科!$S$9=理科!$BF$37,\"○\",\"\")","v":""},{"$f":"IF(理科!$S$9=理科!$BF$38,\"○\",\"\")","v":""},{"$f":"IF(理科!$S$9=理科!$BF$39,\"○\",\"\")","v":""},null,null,null,{"$f":"理科得点!P$60*100","v":1.2000000000000011},{"$f":"理科!S$66*100","v":{"$error":"#DIV/0!"}},{"$error":"#DIV/0!"}]
[16,{"$f":"理科得点!BJ19","v":4},{"$f":"理科得点!BK19","v":"（４）"},{"$f":"理科得点!BL19","v":"物質"},null,null,null,null,{"$f":"IF(理科!$T$9=理科!$BF$35,\"○\",\"\")","v":""},{"$f":"IF(理科!$T$9=理科!$BF$36,\"○\",\"\")","v":"○"},{"$f":"IF(理科!$T$9=理科!$BF$37,\"○\",\"\")","v":""},{"$f":"IF(理科!$T$9=理科!$BF$38,\"○\",\"\")","v":""},{"$f":"IF(理科!$T$9=理科!$BF$39,\"○\",\"\")","v":""},null,null,null,{"$f":"理科得点!Q$60*100","v":1.100000000000001},{"$f":"理科!T$66*100","v":{"$error":"#DIV/0!"}},{"$error":"#DIV/0!"}]
[17,{"$f":"理科得点!BJ20","v":4},{"$f":"理科得点!BK20","v":"（５）"},{"$f":"理科得点!BL20","v":"物質"},null,null,null,null,{"$f":"IF(理科!$U$9=理科!$BF$35,\"○\",\"\")","v":""},{"$f":"IF(理科!$U$9=理科!$BF$36,\"○\",\"\")","v":"○"},{"$f":"IF(理科!$U$9=理科!$BF$37,\"○\",\"\")","v":""},{"$f":"IF(理科!$U$9=理科!$BF$38,\"○\",\"\")","v":""},{"$f":"IF(理科!$U$9=理科!$BF$39,\"○\",\"\")","v":""},null,null,null,{"$f":"理科得点!R$60*100","v":0.9000000000000008},{"$f":"理科!U$66*100","v":{"$error":"#DIV/0!"}},{"$error":"#DIV/0!"}]
[18,{"$f":"理科得点!BJ21","v":4},{"$f":"理科得点!BK21","v":"（６）"},{"$f":"理科得点!BL21","v":"物質"},null,null,null,null,{"$f":"IF(理科!$V$9=理科!$BF$35,\"○\",\"\")","v":"○"},{"$f":"IF(理科!$V$9=理科!$BF$36,\"○\",\"\")","v":""},{"$f":"IF(理科!$V$9=理科!$BF$37,\"○\",\"\")","v":""},{"$f":"IF(理科!$V$9=理科!$BF$38,\"○\",\"\")","v":""},{"$f":"IF(理科!$V$9=理科!$BF$39,\"○\",\"\")","v":""},null,null,null,{"$f":"理科得点!S$60*100","v":1.3000000000000012},{"$f":"理科!V$66*100","v":{"$error":"#DIV/0!"}},{"$error":"#DIV/0!"}]
[19,{"$f":"理科得点!BJ22","v":5},{"$f":"理科得点!BK22","v":"（１）"},{"$f":"理科得点!BL22","v":"地球"},null,null,null,null,{"$f":"IF(理科!$W$9=理科!$BF$35,\"○\",\"\")","v":""},{"$f":"IF(理科!$W$9=理科!$BF$36,\"○\",\"\")","v":"○"},{"$f":"IF(理科!$W$9=理科!$BF$37,\"○\",\"\")","v":""},{"$f":"IF(理科!$W$9=理科!$BF$38,\"○\",\"\")","v":""},{"$f":"IF(理科!$W$9=理科!$BF$39,\"○\",\"\")","v":""},null,null,null,{"$f":"理科得点!T$60*100","v":1.0000000000000009},{"$f":"理科!W$66*100","v":{"$error":"#DIV/0!"}},{"$error":"#DIV/0!"}]
[20,{"$f":"理科得点!BJ23","v":5},{"$f":"理科得点!BK23","v":"（２）"},{"$f":"理科得点!BL23","v":"地球"},null,null,null,null,{"$f":"IF(理科!$X$9=理科!$BF$35,\"○\",\"\")","v":""},{"$f":"IF(理科!$X$9=理科!$BF$36,\"○\",\"\")","v":"○"},{"$f":"IF(理科!$X$9=理科!$BF$37,\"○\",\"\")","v":""},{"$f":"IF(理科!$X$9=理科!$BF$38,\"○\",\"\")","v":""},{"$f":"IF(理科!$X$9=理科!$BF$39,\"○\",\"\")","v":""},null,null,null,{"$f":"理科得点!U$60*100","v":1.2000000000000011},{"$f":"理科!X$66*100","v":{"$error":"#DIV/0!"}},{"$error":"#DIV/0!"}]
[21,{"$f":"理科得点!BJ24","v":5},{"$f":"理科得点!BK24","v":"（３）"},{"$f":"理科得点!BL24","v":"地球"},null,null,null,null,{"$f":"IF(理科!$Y$9=理科!$BF$35,\"○\",\"\")","v":"○"},{"$f":"IF(理科!$Y$9=理科!$BF$36,\"○\",\"\")","v":""},{"$f":"IF(理科!$Y$9=理科!$BF$37,\"○\",\"\")","v":""},{"$f":"IF(理科!$Y$9=理科!$BF$38,\"○\",\"\")","v":""},{"$f":"IF(理科!$Y$9=理科!$BF$39,\"○\",\"\")","v":""},null,null,null,{"$f":"理科得点!V$60*100","v":1.3000000000000123},{"$f":"理科!Y$66*100","v":{"$error":"#DIV/0!"}},{"$error":"#DIV/0!"}]
[22,{"$f":"理科得点!BJ25","v":5},{"$f":"理科得点!BK25","v":"（４）"},{"$f":"理科得点!BL25","v":"地球"},null,null,null,null,{"$f":"IF(理科!$Z$9=理科!$BF$35,\"○\",\"\")","v":""},{"$f":"IF(理科!$Z$9=理科!$BF$36,\"○\",\"\")","v":"○"},{"$f":"IF(理科!$Z$9=理科!$BF$37,\"○\",\"\")","v":""},{"$f":"IF(理科!$Z$9=理科!$BF$38,\"○\",\"\")","v":""},{"$f":"IF(理科!$Z$9=理科!$BF$39,\"○\",\"\")","v":""},null,null,null,{"$f":"理科得点!W$60*100","v":1.2000000000000011},{"$f":"理科!Z$66*100","v":{"$error":"#DIV/0!"}},{"$error":"#DIV/0!"}]
[23,{"$f":"理科得点!BJ26","v":6},{"$f":"理科得点!BK26","v":"（１）"},{"$f":"理科得点!BL26","v":"エネルギー"},null,null,null,null,{"$f":"IF(理科!$AA$9=理科!$BF$35,\"○\",\"\")","v":"○"},{"$f":"IF(理科!$AA$9=理科!$BF$36,\"○\",\"\")","v":""},{"$f":"IF(理科!$AA$9=理科!$BF$37,\"○\",\"\")","v":""},{"$f":"IF(理科!$AA$9=理科!$BF$38,\"○\",\"\")","v":""},{"$f":"IF(理科!$AA$9=理科!$BF$39,\"○\",\"\")","v":""},null,null,null,{"$f":"理科得点!X$60*100","v":1.9000000000000017},{"$f":"理科!AA$66*100","v":{"$error":"#DIV/0!"}},{"$error":"#DIV/0!"}]
[24,{"$f":"理科得点!BJ27","v":6},{"$f":"理科得点!BK27","v":"（２）A"},{"$f":"理科得点!BL27","v":"エネルギー"},null,null,null,null,{"$f":"IF(理科!$AB$9=理科!$BF$35,\"○\",\"\")","v":""},{"$f":"IF(理科!$AB$9=理科!$BF$36,\"○\",\"\")","v":"○"},{"$f":"IF(理科!$AB$9=理科!$BF$37,\"○\",\"\")","v":""},{"$f":"IF(理科!$AB$9=理科!$BF$38,\"○\",\"\")","v":""},{"$f":"IF(理科!$AB$9=理科!$BF$39,\"○\",\"\")","v":""},null,null,null,{"$f":"理科得点!Y$60*100","v":1.9000000000000017},{"$f":"理科!AB$66*100","v":{"$error":"#DIV/0!"}},{"$error":"#DIV/0!"}]
[25,{"$f":"理科得点!BJ28","v":6},{"$f":"理科得点!BK28","v":"（２）B"},{"$f":"理科得点!BL28","v":"エネルギー"},null,null,null,null,{"$f":"IF(理科!$AC$9=理科!$BF$35,\"○\",\"\")","v":""},{"$f":"IF(理科!$AC$9=理科!$BF$36,\"○\",\"\")","v":"○"},{"$f":"IF(理科!$AC$9=理科!$BF$37,\"○\",\"\")","v":""},{"$f":"IF(理科!$AC$9=理科!$BF$38,\"○\",\"\")","v":""},{"$f":"IF(理科!$AC$9=理科!$BF$39,\"○\",\"\")","v":""},null,null,null,{"$f":"理科得点!Z$60*100","v":1.9000000000000017},{"$f":"理科!AC$66*100","v":{"$error":"#DIV/0!"}},{"$error":"#DIV/0!"}]
[26,{"$f":"理科得点!BJ29","v":0},{"$f":"理科得点!BK29","v":0},{"$f":"理科得点!BL29","v":0},null,null,null,null,{"$f":"IF(理科!$AD$9=理科!$BF$35,\"○\",\"\")","v":""},{"$f":"IF(理科!$AD$9=理科!$BF$36,\"○\",\"\")","v":""},{"$f":"IF(理科!$AD$9=理科!$BF$37,\"○\",\"\")","v":""},{"$f":"IF(理科!$AD$9=理科!$BF$38,\"○\",\"\")","v":""},{"$f":"IF(理科!$AD$9=理科!$BF$39,\"○\",\"\")","v":""},null,null,null,{"$f":"理科得点!AA$60*100","v":0},{"$f":"理科!AD$66*100","v":{"$error":"#DIV/0!"}},{"$error":"#DIV/0!"}]
[27,{"$f":"理科得点!BJ30","v":0},{"$f":"理科得点!BK30","v":0},{"$f":"理科得点!BL30","v":0},null,null,null,null,{"$f":"IF(理科!$AE$9=理科!$BF$35,\"○\",\"\")","v":""},{"$f":"IF(理科!$AE$9=理科!$BF$36,\"○\",\"\")","v":""},{"$f":"IF(理科!$AE$9=理科!$BF$37,\"○\",\"\")","v":""},{"$f":"IF(理科!$AE$9=理科!$BF$38,\"○\",\"\")","v":""},{"$f":"IF(理科!$AE$9=理科!$BF$39,\"○\",\"\")","v":""},null,null,null,{"$f":"理科得点!AB$60*100","v":0},{"$f":"理科!AE$66*100","v":{"$error":"#DIV/0!"}},{"$error":"#DIV/0!"}]
[28,{"$f":"理科得点!BJ31","v":0},{"$f":"理科得点!BK31","v":0},{"$f":"理科得点!BL31","v":0},null,null,null,null,{"$f":"IF(理科!$AF$9=理科!$BF$35,\"○\",\"\")","v":""},{"$f":"IF(理科!$AF$9=理科!$BF$36,\"○\",\"\")","v":""},{"$f":"IF(理科!$AF$9=理科!$BF$37,\"○\",\"\")","v":""},{"$f":"IF(理科!$AF$9=理科!$BF$38,\"○\",\"\")","v":""},{"$f":"IF(理科!$AF$9=理科!$BF$39,\"○\",\"\")","v":""},null,null,null,{"$f":"理科得点!AC$60*100","v":0},{"$f":"理科!AF$66*100","v":{"$error":"#DIV/0!"}},{"$error":"#DIV/0!"}]
[29,{"$f":"理科得点!BJ32","v":0},{"$f":"理科得点!BK32","v":0},{"$f":"理科得点!BL32","v":0},null,null,null,null,{"$f":"IF(理科!$AG$9=理科!$BF$35,\"○\",\"\")","v":""},{"$f":"IF(理科!$AG$9=理科!$BF$36,\"○\",\"\")","v":""},{"$f":"IF(理科!$AG$9=理科!$BF$37,\"○\",\"\")","v":""},{"$f":"IF(理科!$AG$9=理科!$BF$38,\"○\",\"\")","v":""},{"$f":"IF(理科!$AG$9=理科!$BF$39,\"○\",\"\")","v":""},null,null,null,{"$f":"理科得点!AD$60*100","v":0},{"$f":"理科!AG$66*100","v":{"$error":"#DIV/0!"}},{"$error":"#DIV/0!"}]
[30,{"$f":"理科得点!BJ33","v":0},{"$f":"理科得点!BK33","v":0},{"$f":"理科得点!BL33","v":0},null,null,null,null,{"$f":"IF(理科!$AH$9=理科!$BF$35,\"○\",\"\")","v":""},{"$f":"IF(理科!$AH$9=理科!$BF$36,\"○\",\"\")","v":""},{"$f":"IF(理科!$AH$9=理科!$BF$37,\"○\",\"\")","v":""},{"$f":"IF(理科!$AH$9=理科!$BF$38,\"○\",\"\")","v":""},{"$f":"IF(理科!$AH$9=理科!$BF$39,\"○\",\"\")","v":""},null,null,null,{"$f":"理科得点!AE$60*100","v":0},{"$f":"理科!AH$66*100","v":{"$error":"#DIV/0!"}},{"$error":"#DIV/0!"}]
[31,{"$f":"理科得点!BJ34","v":0},{"$f":"理科得点!BK34","v":0},{"$f":"理科得点!BL34","v":0},null,null,null,null,{"$f":"IF(理科!$AI$9=理科!$BF$35,\"○\",\"\")","v":""},{"$f":"IF(理科!$AI$9=理科!$BF$36,\"○\",\"\")","v":""},{"$f":"IF(理科!$AI$9=理科!$BF$37,\"○\",\"\")","v":""},{"$f":"IF(理科!$AI$9=理科!$BF$38,\"○\",\"\")","v":""},{"$f":"IF(理科!$AI$9=理科!$BF$39,\"○\",\"\")","v":""},null,null,null,{"$f":"理科得点!AF$60*100","v":0},{"$f":"理科!AI$66*100","v":{"$error":"#DIV/0!"}},{"$error":"#DIV/0!"}]
[32,{"$f":"理科得点!BJ35","v":0},{"$f":"理科得点!BK35","v":0},{"$f":"理科得点!BL35","v":0},null,null,null,null,{"$f":"IF(理科!$AJ$9=理科!$BF$35,\"○\",\"\")","v":""},{"$f":"IF(理科!$AJ$9=理科!$BF$36,\"○\",\"\")","v":""},{"$f":"IF(理科!$AJ$9=理科!$BF$37,\"○\",\"\")","v":""},{"$f":"IF(理科!$AJ$9=理科!$BF$38,\"○\",\"\")","v":""},{"$f":"IF(理科!$AJ$9=理科!$BF$39,\"○\",\"\")","v":""},null,null,null,{"$f":"理科得点!AG$60*100","v":0},{"$f":"理科!AJ$66*100","v":{"$error":"#DIV/0!"}},{"$error":"#DIV/0!"}]
[33,{"$f":"理科得点!BJ36","v":0},{"$f":"理科得点!BK36","v":0},{"$f":"理科得点!BL36","v":0},null,null,null,null,{"$f":"IF(理科!$AK$9=理科!$BF$35,\"○\",\"\")","v":""},{"$f":"IF(理科!$AK$9=理科!$BF$36,\"○\",\"\")","v":""},{"$f":"IF(理科!$AK$9=理科!$BF$37,\"○\",\"\")","v":""},{"$f":"IF(理科!$AK$9=理科!$BF$38,\"○\",\"\")","v":""},{"$f":"IF(理科!$AK$9=理科!$BF$39,\"○\",\"\")","v":""},null,null,null,{"$f":"理科得点!AH$60*100","v":0},{"$f":"理科!AK$66*100","v":{"$error":"#DIV/0!"}},{"$error":"#DIV/0!"}]
[34,{"$f":"理科得点!BJ37","v":0},{"$f":"理科得点!BK37","v":0},{"$f":"理科得点!BL37","v":0},null,null,null,null,{"$f":"IF(理科!$AL$9=理科!$BF$35,\"○\",\"\")","v":""},{"$f":"IF(理科!$AL$9=理科!$BF$36,\"○\",\"\")","v":""},{"$f":"IF(理科!$AL$9=理科!$BF$37,\"○\",\"\")","v":""},{"$f":"IF(理科!$AL$9=理科!$BF$38,\"○\",\"\")","v":""},{"$f":"IF(理科!$AL$9=理科!$BF$39,\"○\",\"\")","v":""},null,null,null,{"$f":"理科得点!AI$60*100","v":0},{"$f":"理科!AL$66*100","v":{"$error":"#DIV/0!"}},{"$f":"IF($R40=\"\",\"\",$R40-$Q40)","v":{"$error":"#DIV/0!"}}]
[35,{"$f":"理科得点!BJ38","v":0},{"$f":"理科得点!BK38","v":0},{"$f":"理科得点!BL38","v":0},null,null,null,null,{"$f":"IF(理科!$AM$9=理科!$BF$35,\"○\",\"\")","v":""},{"$f":"IF(理科!$AM$9=理科!$BF$36,\"○\",\"\")","v":""},{"$f":"IF(理科!$AM$9=理科!$BF$37,\"○\",\"\")","v":""},{"$f":"IF(理科!$AM$9=理科!$BF$38,\"○\",\"\")","v":""},{"$f":"IF(理科!$AM$9=理科!$BF$39,\"○\",\"\")","v":""},null,null,null,{"$f":"理科得点!AJ$60*100","v":0},{"$f":"理科!AM$66*100","v":{"$error":"#DIV/0!"}},{"$error":"#DIV/0!"}]
[36,{"$f":"理科得点!BJ39","v":0},{"$f":"理科得点!BK39","v":0},{"$f":"理科得点!BL39","v":0},null,null,null,null,{"$f":"IF(理科!$AN$9=理科!$BF$35,\"○\",\"\")","v":""},{"$f":"IF(理科!$AN$9=理科!$BF$36,\"○\",\"\")","v":""},{"$f":"IF(理科!$AN$9=理科!$BF$37,\"○\",\"\")","v":""},{"$f":"IF(理科!$AN$9=理科!$BF$38,\"○\",\"\")","v":""},{"$f":"IF(理科!$AN$9=理科!$BF$39,\"○\",\"\")","v":""},null,null,null,{"$f":"理科得点!AK$60*100","v":0},{"$f":"理科!AN$66*100","v":{"$error":"#DIV/0!"}},{"$error":"#DIV/0!"}]
[37,{"$f":"理科得点!BJ40","v":0},{"$f":"理科得点!BK40","v":0},{"$f":"理科得点!BL40","v":0},null,null,null,null,{"$f":"IF(理科!$AO$9=理科!$BF$35,\"○\",\"\")","v":""},{"$f":"IF(理科!$AO$9=理科!$BF$36,\"○\",\"\")","v":""},{"$f":"IF(理科!$AO$9=理科!$BF$37,\"○\",\"\")","v":""},{"$f":"IF(理科!$AO$9=理科!$BF$38,\"○\",\"\")","v":""},{"$f":"IF(理科!$AO$9=理科!$BF$39,\"○\",\"\")","v":""},null,null,null,{"$f":"理科得点!AL$60*100","v":0},{"$f":"理科!AO$66*100","v":{"$error":"#DIV/0!"}},{"$error":"#DIV/0!"}]
[38,{"$f":"理科得点!BJ41","v":0},{"$f":"理科得点!BK41","v":0},{"$f":"理科得点!BL41","v":0},null,null,null,null,{"$f":"IF(理科!$AP$9=理科!$BF$35,\"○\",\"\")","v":""},{"$f":"IF(理科!$AP$9=理科!$BF$36,\"○\",\"\")","v":""},{"$f":"IF(理科!$AP$9=理科!$BF$37,\"○\",\"\")","v":""},{"$f":"IF(理科!$AP$9=理科!$BF$38,\"○\",\"\")","v":""},{"$f":"IF(理科!$AP$9=理科!$BF$39,\"○\",\"\")","v":""},null,null,null,{"$f":"理科得点!AM$60*100","v":0},{"$f":"理科!AP$66*100","v":{"$error":"#DIV/0!"}},{"$error":"#DIV/0!"}]
[39,{"$f":"理科得点!BJ42","v":0},{"$f":"理科得点!BK42","v":0},{"$f":"理科得点!BL42","v":0},null,null,null,null,{"$f":"IF(理科!$AQ$9=理科!$BF$35,\"○\",\"\")","v":""},{"$f":"IF(理科!$AQ$9=理科!$BF$36,\"○\",\"\")","v":""},{"$f":"IF(理科!$AQ$9=理科!$BF$37,\"○\",\"\")","v":""},{"$f":"IF(理科!$AQ$9=理科!$BF$38,\"○\",\"\")","v":""},{"$f":"IF(理科!$AQ$9=理科!$BF$39,\"○\",\"\")","v":""},null,null,null,{"$f":"理科得点!AN$60*100","v":0},{"$f":"理科!AQ$66*100","v":{"$error":"#DIV/0!"}},{"$error":"#DIV/0!"}]
[40,{"$f":"理科得点!BJ43","v":0},{"$f":"理科得点!BK43","v":0},{"$f":"理科得点!BL43","v":0},null,null,null,null,{"$f":"IF(理科!$AR$9=理科!$BF$35,\"○\",\"\")","v":""},{"$f":"IF(理科!$AR$9=理科!$BF$36,\"○\",\"\")","v":""},{"$f":"IF(理科!$AR$9=理科!$BF$37,\"○\",\"\")","v":""},{"$f":"IF(理科!$AR$9=理科!$BF$38,\"○\",\"\")","v":""},{"$f":"IF(理科!$AR$9=理科!$BF$39,\"○\",\"\")","v":""},null,null,null,{"$f":"理科得点!AO$60*100","v":0},{"$f":"理科!AR$66*100","v":{"$error":"#DIV/0!"}},{"$error":"#DIV/0!"}]
[41,{"$f":"理科得点!BJ44","v":0},{"$f":"理科得点!BK44","v":0},{"$f":"理科得点!BL44","v":0},null,null,null,null,{"$f":"IF(理科!$AS$9=理科!$BF$35,\"○\",\"\")","v":""},{"$f":"IF(理科!$AS$9=理科!$BF$36,\"○\",\"\")","v":""},{"$f":"IF(理科!$AS$9=理科!$BF$37,\"○\",\"\")","v":""},{"$f":"IF(理科!$AS$9=理科!$BF$38,\"○\",\"\")","v":""},{"$f":"IF(理科!$AS$9=理科!$BF$39,\"○\",\"\")","v":""},null,null,null,{"$f":"理科得点!AP$60*100","v":0},{"$f":"理科!AS$66*100","v":{"$error":"#DIV/0!"}},{"$error":"#DIV/0!"}]
[42,{"$f":"理科得点!BJ45","v":0},{"$f":"理科得点!BK45","v":0},{"$f":"理科得点!BL45","v":0},null,null,null,null,{"$f":"IF(理科!$AT$9=理科!$BF$35,\"○\",\"\")","v":""},{"$f":"IF(理科!$AT$9=理科!$BF$36,\"○\",\"\")","v":""},{"$f":"IF(理科!$AT$9=理科!$BF$37,\"○\",\"\")","v":""},{"$f":"IF(理科!$AT$9=理科!$BF$38,\"○\",\"\")","v":""},{"$f":"IF(理科!$AT$9=理科!$BF$39,\"○\",\"\")","v":""},null,null,null,{"$f":"理科得点!AQ$60*100","v":0},{"$f":"理科!AT$66*100","v":{"$error":"#DIV/0!"}},{"$error":"#DIV/0!"}]
[43,{"$f":"理科得点!BJ46","v":0},{"$f":"理科得点!BK46","v":0},{"$f":"理科得点!BL46","v":0},null,null,null,null,{"$f":"IF(理科!$AU$9=理科!$BF$35,\"○\",\"\")","v":""},{"$f":"IF(理科!$AU$9=理科!$BF$36,\"○\",\"\")","v":""},{"$f":"IF(理科!$AU$9=理科!$BF$37,\"○\",\"\")","v":""},{"$f":"IF(理科!$AU$9=理科!$BF$38,\"○\",\"\")","v":""},{"$f":"IF(理科!$AU$9=理科!$BF$39,\"○\",\"\")","v":""},null,null,null,{"$f":"理科得点!AR$60*100","v":0},{"$f":"理科!AU$66*100","v":{"$error":"#DIV/0!"}},{"$error":"#DIV/0!"}]
[44,{"$f":"理科得点!BJ47","v":0},{"$f":"理科得点!BK47","v":0},{"$f":"理科得点!BL47","v":0},null,null,null,null,{"$f":"IF(理科!$AV$9=理科!$BF$35,\"○\",\"\")","v":""},{"$f":"IF(理科!$AV$9=理科!$BF$36,\"○\",\"\")","v":""},{"$f":"IF(理科!$AV$9=理科!$BF$37,\"○\",\"\")","v":""},{"$f":"IF(理科!$AV$9=理科!$BF$38,\"○\",\"\")","v":""},{"$f":"IF(理科!$AV$9=理科!$BF$39,\"○\",\"\")","v":""},null,null,null,{"$f":"理科得点!AS$60*100","v":0},{"$f":"理科!AV$66*100","v":{"$error":"#DIV/0!"}},{"$error":"#DIV/0!"}]
[45,{"$f":"理科得点!BJ48","v":0},{"$f":"理科得点!BK48","v":0},{"$f":"理科得点!BL48","v":0},null,null,null,null,{"$f":"IF(理科!$AW$9=理科!$BF$35,\"○\",\"\")","v":""},{"$f":"IF(理科!$AW$9=理科!$BF$36,\"○\",\"\")","v":""},{"$f":"IF(理科!$AW$9=理科!$BF$37,\"○\",\"\")","v":""},{"$f":"IF(理科!$AW$9=理科!$BF$38,\"○\",\"\")","v":""},{"$f":"IF(理科!$AW$9=理科!$BF$39,\"○\",\"\")","v":""},null,null,null,{"$f":"理科得点!AT$60*100","v":0},{"$f":"理科!AW$66*100","v":{"$error":"#DIV/0!"}},{"$error":"#DIV/0!"}]
[46,{"$f":"理科得点!BJ49","v":0},{"$f":"理科得点!BK49","v":0},{"$f":"理科得点!BL49","v":0},null,null,null,null,{"$f":"IF(理科!$AX$9=理科!$BF$35,\"○\",\"\")","v":""},{"$f":"IF(理科!$AX$9=理科!$BF$36,\"○\",\"\")","v":""},{"$f":"IF(理科!$AX$9=理科!$BF$37,\"○\",\"\")","v":""},{"$f":"IF(理科!$AX$9=理科!$BF$38,\"○\",\"\")","v":""},{"$f":"IF(理科!$AX$9=理科!$BF$39,\"○\",\"\")","v":""},null,null,null,{"$f":"理科得点!AU$60*100","v":0},{"$f":"理科!AX$66*100","v":{"$error":"#DIV/0!"}},{"$error":"#DIV/0!"}]
[47,{"$f":"理科得点!BJ50","v":0},{"$f":"理科得点!BK50","v":0},{"$f":"理科得点!BL50","v":0},null,null,null,null,{"$f":"IF(理科!$AY$9=理科!$BF$35,\"○\",\"\")","v":""},{"$f":"IF(理科!$AY$9=理科!$BF$36,\"○\",\"\")","v":""},{"$f":"IF(理科!$AY$9=理科!$BF$37,\"○\",\"\")","v":""},{"$f":"IF(理科!$AY$9=理科!$BF$38,\"○\",\"\")","v":""},{"$f":"IF(理科!$AY$9=理科!$BF$39,\"○\",\"\")","v":""},null,null,null,{"$f":"理科得点!AV$60*100","v":0},{"$f":"理科!AY$66*100","v":{"$error":"#DIV/0!"}},{"$error":"#DIV/0!"}]
[48,{"$f":"理科得点!BJ51","v":0},{"$f":"理科得点!BK51","v":0},{"$f":"理科得点!BL51","v":0},null,null,null,null,{"$f":"IF(理科!$AZ$9=理科!$BF$35,\"○\",\"\")","v":""},{"$f":"IF(理科!$AZ$9=理科!$BF$36,\"○\",\"\")","v":""},{"$f":"IF(理科!$AZ$9=理科!$BF$37,\"○\",\"\")","v":""},{"$f":"IF(理科!$AZ$9=理科!$BF$38,\"○\",\"\")","v":""},{"$f":"IF(理科!$AZ$9=理科!$BF$39,\"○\",\"\")","v":""},null,null,null,{"$f":"理科得点!AW$60*100","v":0},{"$f":"理科!AZ$66*100","v":{"$error":"#DIV/0!"}},{"$error":"#DIV/0!"}]
[49,{"$f":"理科得点!BJ52","v":0},{"$f":"理科得点!BK52","v":0},{"$f":"理科得点!BL52","v":0},null,null,null,null,{"$f":"IF(理科!$BA$9=理科!$BF$35,\"○\",\"\")","v":""},{"$f":"IF(理科!$BA$9=理科!$BF$36,\"○\",\"\")","v":""},{"$f":"IF(理科!$BA$9=理科!$BF$37,\"○\",\"\")","v":""},{"$f":"IF(理科!$BA$9=理科!$BF$38,\"○\",\"\")","v":""},{"$f":"IF(理科!$BA$9=理科!$BF$39,\"○\",\"\")","v":""},null,null,null,{"$f":"理科得点!AX$60*100","v":0},{"$f":"理科!BA$66*100","v":{"$error":"#DIV/0!"}},{"$error":"#DIV/0!"}]
[50,{"$f":"理科得点!BJ53","v":0},{"$f":"理科得点!BK53","v":0},{"$f":"理科得点!BL53","v":0},null,null,null,null,{"$f":"IF(理科!$BB$9=理科!$BF$35,\"○\",\"\")","v":""},{"$f":"IF(理科!$BB$9=理科!$BF$36,\"○\",\"\")","v":""},{"$f":"IF(理科!$BB$9=理科!$BF$37,\"○\",\"\")","v":""},{"$f":"IF(理科!$BB$9=理科!$BF$38,\"○\",\"\")","v":""},{"$f":"IF(理科!$BB$9=理科!$BF$39,\"○\",\"\")","v":""},null,null,null,{"$f":"理科得点!AY$60*100","v":0},{"$f":"理科!BB$66*100","v":{"$error":"#DIV/0!"}},{"$error":"#DIV/0!"}]
["平均"]

{"sheet":"⑦理科の平均点⑧理科の得点別分布","index":33,"n_rows":25,"n_cols":4,"rows_kept":25,"cut":false,"hidden":false,"merged":[[5,1,5,3]]}
["⑦理科の平均点⑧理科の得点別分布"]
[]
[]
[]
["◆理科"]
[null,"　　　　平均点"]
[null,"富山県（ア）","自校(イ)","県との差（イーア）"]
["理科",{"$f":"理科!BJ23","v":70.8},{"$f":"理科!BG23","v":{"$error":"#DIV/0!"}},{"$f":"C8-B8","v":{"$error":"#DIV/0!"}}]
[]
[]
[]
["◆理科"]
["得点分布","富山県％（ア）","自校％(イ)"," 県との差(イーア)"]
["0点",{"$f":"理科!BJ20","v":0.2},{"$f":"理科!BH20*100","v":{"$error":"#DIV/0!"}},{"$f":"IF($C14=\"\",\"\",$C14-$B14)","v":{"$error":"#DIV/0!"}}]
["１～９点",{"$f":"理科!BJ19","v":0.1},{"$f":"理科!BH19*100","v":{"$error":"#DIV/0!"}},{"$f":"IF($C15=\"\",\"\",$C15-$B15)","v":{"$error":"#DIV/0!"}}]
["１０～１９点",{"$f":"理科!BJ18","v":0.3},{"$f":"理科!BH18*100","v":{"$error":"#DIV/0!"}},{"$error":"#DIV/0!"}]
["２０～２９点",{"$f":"理科!BJ17","v":2.2000000000000002},{"$f":"理科!BH17*100","v":{"$error":"#DIV/0!"}},{"$error":"#DIV/0!"}]
["３０～３９点",{"$f":"理科!BJ16","v":1.9},{"$f":"理科!BH16*100","v":{"$error":"#DIV/0!"}},{"$error":"#DIV/0!"}]
["４０～４９点",{"$f":"理科!BJ15","v":6.6},{"$f":"理科!BH15*100","v":{"$error":"#DIV/0!"}},{"$error":"#DIV/0!"}]
["５０～５９点",{"$f":"理科!BJ14","v":6.9},{"$f":"理科!BH14*100","v":{"$error":"#DIV/0!"}},{"$error":"#DIV/0!"}]
["６０～６９点",{"$f":"理科!BJ13","v":24.9},{"$f":"理科!BH13*100","v":{"$error":"#DIV/0!"}},{"$error":"#DIV/0!"}]
["７０～７９点",{"$f":"理科!BJ12","v":20},{"$f":"理科!BH12*100","v":{"$error":"#DIV/0!"}},{"$error":"#DIV/0!"}]
["８０～８９点",{"$f":"理科!BJ11","v":27.7},{"$f":"理科!BH11*100","v":{"$error":"#DIV/0!"}},{"$error":"#DIV/0!"}]
["９０～９９点",{"$f":"理科!BJ10","v":8.8000000000000007},{"$f":"理科!BH10*100","v":{"$error":"#DIV/0!"}},{"$error":"#DIV/0!"}]
["100点",{"$f":"理科!BJ9","v":0.6},{"$f":"理科!BH9*100","v":{"$error":"#DIV/0!"}},{"$error":"#DIV/0!"}]

{"sheet":"理科","index":34,"n_rows":76,"n_cols":62,"rows_kept":76,"cut":false,"hidden":false,"merged":[[8,55,9,55],[6,61,7,61],[21,60,22,60],[36,58,36,61],[37,58,37,61],[35,58,35,59],[35,60,35,61],[52,0,52,1],[53,0,53,1],[54,0,54,1],[47,0,47,1],[48,0,48,1],[49,0,49,1],[50,0,50,1],[51,0,51,1],[39,0,39,1],[40,0,40,1],[43,0,43,1],[37,0,37,1],[46,0,46,1],[25,0,25,1],[26,0,26,1],[28,0,28,1],[32,0,32,1],[45,0,45,1],[42,0,42,1],[33,0,33,1],[38,0,38,1],[44,0,44,1],[35,0,35,1],[34,0,34,1],[30,0,30,1],[31,0,31,1],[29,0,29,1],[41,0,41,1],[36,0,36,1],[12,0,12,1],[13,0,13,1],[14,0,14,1],[11,0,11,1],[8,54,9,54],[10,0,10,1],[8,0,9,1],[22,0,22,1],[23,0,23,1],[27,0,27,1],[24,0,24,1],[3,2,3,3],[15,0,15,1],[21,0,21,1],[17,0,17,1],[4,2,5,3],[7,2,7,3],[3,0,7,1],[16,0,16,1],[6,2,6,3],[18,0,18,1],[19,0,19,1],[20,0,20,1],[0,49,0,53],[0,38,0,42],[0,11,0,17],[0,44,0,48],[0,27,0,31],[0,33,0,37],[0,22,0,26],[69,5,69,7],[69,10,69,12],[69,15,69,17],[69,20,69,22],[69,25,69,27],[70,5,70,7],[70,10,70,12],[70,15,70,17],[70,20,70,22],[70,25,70,27],[71,5,71,7],[71,10,71,12],[71,15,71,17],[71,20,71,22],[71,25,71,27],[38,58,38,61],[75,5,75,7],[75,10,75,12],[75,15,75,17],[75,20,75,22],[75,25,75,27],[73,5,73,7],[73,10,73,12],[73,15,73,17],[73,20,73,22],[73,25,73,27],[72,5,72,7],[72,10,72,12],[72,15,72,17],[72,20,72,22],[72,25,72,27]]}
["６年理科（正誤）",null,null,null,null,null,null,null,"クラス名",null,null,{"$f":"[1]国語!$L$1","v":0},null,null,null,null,null,null,null,null,null,null,"受検者数",null,null,null,null,{"$f":"BG30","v":0},null,null,null,null,null,"配点合計",null,null,null,null,{"$f":"SUM(E10:BB10)","v":100},null,null,null,null,null,"問題数",null,null,null,null,{"$f":"COUNT(E10:BB10)","v":25}]
["※『男女』の欄には、男子「0」及び女子「1」を入力してください。"]
["※正答を「1」、誤答を「2」、無答を「3」で入力してください。"]
[null,null,"問題№",null,1,1,1,1,1,1,2,2,2,2,3,3,4,4,4,4,4,4,5,5,5,5,6,6,6]
[null,null,"小問№",null,"⑴","⑵","⑶","⑷","⑸","⑹","⑴","⑵","⑶","⑷","⑴","⑵","⑴","⑵","⑶","⑷","⑸","⑹","⑴","⑵","⑶","⑷","⑴","⑵-1","⑵-2"]
[null,null,null,null,null,null,null,null,null,null,null,null,null,null,null,null,null,null,null,null,null,null,null,null,null,null,null,"Ａ","Ｂ"]
[null,null,"◎…活用する力をみる問題\n★…経年比較問題\n※…複数学年共通問題",null,null,null,null,"※","※",null,null,null,null,null,"★","★","◎","◎","◎","◎","◎","◎",null,null,null,null,null,null,null,null,null,null,null,null,null,null,null,null,null,null,null,null,null,null,null,null,null,null,null,null,null,null,null,null,null,null,null,null,null,null,null,"富山県の\n分布率％"]
[null,null,"通し番号",null,1,2,3,4,5,6,7,8,9,10,11,12,13,14,15,16,17,18,19,20,21,22,23,24,25,26,27,28,29,30,31,32,33,34,35,36,37,38,39,40,41,42,43,44,45,46,47,48,49,50,null,null,null,"得点分布","分布人数","分布率"]
["№",null,"男　  名","観点","知・技","知・技","知・技","思・表","知・技","思・表","知・技","思・表","知・技","思・表","思・表","思・表","思・表","思・表","思・表","知・技","知・技","思・表","知・技","知・技","思・表","知・技","思・表","知・技","知・技",null,null,null,null,null,null,null,null,null,null,null,null,null,null,null,null,null,null,null,null,null,null,null,null,null,"計算\n結果","正答数",null,100,{"$f":"COUNTIF(BC11:BC55,100)","v":0},{"$f":"BG9/BG$21","v":{"$error":"#DIV/0!"}},null,0.6]
[null,null,"女　  前","配点",4,4,4,4,4,4,4,4,4,4,4,4,4,4,4,4,4,4,4,4,4,4,4,4,4,null,null,null,null,null,null,null,null,null,null,null,null,null,null,null,null,null,null,null,null,null,null,null,null,null,null,null,null,"90～99",{"$f":"COUNTIF(BC11:BC55,99)+COUNTIF(BC11:BC55,98)+COUNTIF(BC11:BC55,97)+COUNTIF(BC11:BC55,96)+COUNTIF(BC11:BC55,95)+COUNTIF(BC11:BC55,94)+COUNTIF(BC11:BC55,93)+COUNTIF(BC11:BC55,92)+COUNTIF(BC11:BC55,91)+COUNTIF(BC11:BC55,90)","v":0},{"$f":"BG10/BG$21","v":{"$error":"#DIV/0!"}},null,8.8000000000000007]
[1,null,null,null,null,null,null,null,null,null,null,null,null,null,null,null,null,null,null,null,null,null,null,null,null,null,null,null,null,null,null,null,null,null,null,null,null,null,null,null,null,null,null,null,null,null,null,null,null,null,null,null,null,null,{"$f":"[1]理科得点!AZ4","v":0},{"$f":"COUNTIF(E11:BB11,1)","v":0},null,"80～89",{"$f":"COUNTIF(BC11:BC55,89)+COUNTIF(BC11:BC55,88)+COUNTIF(BC11:BC55,87)+COUNTIF(BC11:BC55,86)+COUNTIF(BC11:BC55,85)+COUNTIF(BC11:BC55,84)+COUNTIF(BC11:BC55,83)+COUNTIF(BC11:BC55,82)+COUNTIF(BC11:BC55,81)+COUNTIF(BC11:BC55,80)","v":0},{"$error":"#DIV/0!"},null,27.7]
[2,null,null,null,null,null,null,null,null,null,null,null,null,null,null,null,null,null,null,null,null,null,null,null,null,null,null,null,null,null,null,null,null,null,null,null,null,null,null,null,null,null,null,null,null,null,null,null,null,null,null,null,null,null,{"$f":"[1]理科得点!AZ5","v":0},0,null,"70～79",{"$f":"COUNTIF(BC11:BC55,79)+COUNTIF(BC11:BC55,78)+COUNTIF(BC11:BC55,77)+COUNTIF(BC11:BC55,76)+COUNTIF(BC11:BC55,75)+COUNTIF(BC11:BC55,74)+COUNTIF(BC11:BC55,73)+COUNTIF(BC11:BC55,72)+COUNTIF(BC11:BC55,71)+COUNTIF(BC11:BC55,70)","v":0},{"$error":"#DIV/0!"},null,20]
[3,null,null,null,null,null,null,null,null,null,null,null,null,null,null,null,null,null,null,null,null,null,null,null,null,null,null,null,null,null,null,null,null,null,null,null,null,null,null,null,null,null,null,null,null,null,null,null,null,null,null,null,null,null,{"$f":"[1]理科得点!AZ6","v":0},0,null,"60～69",{"$f":"COUNTIF(BC11:BC55,69)+COUNTIF(BC11:BC55,68)+COUNTIF(BC11:BC55,67)+COUNTIF(BC11:BC55,66)+COUNTIF(BC11:BC55,65)+COUNTIF(BC11:BC55,64)+COUNTIF(BC11:BC55,63)+COUNTIF(BC11:BC55,62)+COUNTIF(BC11:BC55,61)+COUNTIF(BC11:BC55,60)","v":0},{"$error":"#DIV/0!"},null,24.9]
[4,null,null,null,null,null,null,null,null,null,null,null,null,null,null,null,null,null,null,null,null,null,null,null,null,null,null,null,null,null,null,null,null,null,null,null,null,null,null,null,null,null,null,null,null,null,null,null,null,null,null,null,null,null,{"$f":"[1]理科得点!AZ7","v":0},0,null,"50～59",{"$f":"COUNTIF(BC11:BC55,59)+COUNTIF(BC11:BC55,58)+COUNTIF(BC11:BC55,57)+COUNTIF(BC11:BC55,56)+COUNTIF(BC11:BC55,55)+COUNTIF(BC11:BC55,54)+COUNTIF(BC11:BC55,53)+COUNTIF(BC11:BC55,52)+COUNTIF(BC11:BC55,51)+COUNTIF(BC11:BC55,50)","v":0},{"$error":"#DIV/0!"},null,6.9]
[5,null,null,null,null,null,null,null,null,null,null,null,null,null,null,null,null,null,null,null,null,null,null,null,null,null,null,null,null,null,null,null,null,null,null,null,null,null,null,null,null,null,null,null,null,null,null,null,null,null,null,null,null,null,{"$f":"[1]理科得点!AZ8","v":0},0,null,"40～49",{"$f":"COUNTIF(BC11:BC55,49)+COUNTIF(BC11:BC55,48)+COUNTIF(BC11:BC55,47)+COUNTIF(BC11:BC55,46)+COUNTIF(BC11:BC55,45)+COUNTIF(BC11:BC55,44)+COUNTIF(BC11:BC55,43)+COUNTIF(BC11:BC55,42)+COUNTIF(BC11:BC55,41)+COUNTIF(BC11:BC55,40)","v":0},{"$error":"#DIV/0!"},null,6.6]
[6,null,null,null,null,null,null,null,null,null,null,null,null,null,null,null,null,null,null,null,null,null,null,null,null,null,null,null,null,null,null,null,null,null,null,null,null,null,null,null,null,null,null,null,null,null,null,null,null,null,null,null,null,null,{"$f":"[1]理科得点!AZ9","v":0},0,null,"30～39",{"$f":"COUNTIF(BC11:BC55,39)+COUNTIF(BC11:BC55,38)+COUNTIF(BC11:BC55,37)+COUNTIF(BC11:BC55,36)+COUNTIF(BC11:BC55,35)+COUNTIF(BC11:BC55,34)+COUNTIF(BC11:BC55,33)+COUNTIF(BC11:BC55,32)+COUNTIF(BC11:BC55,31)+COUNTIF(BC11:BC55,30)","v":0},{"$error":"#DIV/0!"},null,1.9]
[7,null,null,null,null,null,null,null,null,null,null,null,null,null,null,null,null,null,null,null,null,null,null,null,null,null,null,null,null,null,null,null,null,null,null,null,null,null,null,null,null,null,null,null,null,null,null,null,null,null,null,null,null,null,{"$f":"[1]理科得点!AZ10","v":0},0,null,"20～29",{"$f":"COUNTIF( BC11:BC55,29)+COUNTIF(BC11:BC55,28)+COUNTIF(BC11:BC55,27)+COUNTIF(BC11:BC55,26)+COUNTIF(BC11:BC55,25)+COUNTIF(BC11:BC55,24)+COUNTIF(BC11:BC55,23)+COUNTIF(BC11:BC55,22)+COUNTIF(BC11:BC55,21)+COUNTIF(BC11:BC55,20)","v":0},{"$error":"#DIV/0!"},null,2.2000000000000002]
[8,null,null,null,null,null,null,null,null,null,null,null,null,null,null,null,null,null,null,null,null,null,null,null,null,null,null,null,null,null,null,null,null,null,null,null,null,null,null,null,null,null,null,null,null,null,null,null,null,null,null,null,null,null,{"$f":"[1]理科得点!AZ11","v":0},0,null,"10～19",{"$f":"COUNTIF(BC11:BC55,19)+COUNTIF(BC11:BC55,18)+COUNTIF(BC11:BC55,17)+COUNTIF(BC11:BC55,16)+COUNTIF(BC11:BC55,15)+COUNTIF(BC11:BC55,14)+COUNTIF(BC11:BC55,13)+COUNTIF(BC11:BC55,12)+COUNTIF(BC11:BC55,11)+COUNTIF(BC11:BC55,10)","v":0},{"$error":"#DIV/0!"},null,0.3]
[9,null,null,null,null,null,null,null,null,null,null,null,null,null,null,null,null,null,null,null,null,null,null,null,null,null,null,null,null,null,null,null,null,null,null,null,null,null,null,null,null,null,null,null,null,null,null,null,null,null,null,null,null,null,{"$f":"[1]理科得点!AZ12","v":0},0,null,"1 ～ 9",{"$f":"COUNTIF(BC11:BC55,9)+COUNTIF(BC11:BC55,8)+COUNTIF(BC11:BC55,7)+COUNTIF(BC11:BC55,6)+COUNTIF(BC11:BC55,5)+COUNTIF(BC11:BC55,4)+COUNTIF(BC11:BC55,3)+COUNTIF(BC11:BC55,2)+COUNTIF(BC11:BC55,1)","v":0},{"$error":"#DIV/0!"},null,0.1]
[10,null,null,null,null,null,null,null,null,null,null,null,null,null,null,null,null,null,null,null,null,null,null,null,null,null,null,null,null,null,null,null,null,null,null,null,null,null,null,null,null,null,null,null,null,null,null,null,null,null,null,null,null,null,{"$f":"[1]理科得点!AZ13","v":0},0,null,0,{"$f":"BG30-SUM(BG9:BG19)","v":0},{"$error":"#DIV/0!"},null,0.2]
[11,null,null,null,null,null,null,null,null,null,null,null,null,null,null,null,null,null,null,null,null,null,null,null,null,null,null,null,null,null,null,null,null,null,null,null,null,null,null,null,null,null,null,null,null,null,null,null,null,null,null,null,null,null,{"$f":"[1]理科得点!AZ14","v":0},0,null,"集計人数計",{"$f":"SUM(BG9:BG20)","v":0}]
[12,null,null,null,null,null,null,null,null,null,null,null,null,null,null,null,null,null,null,null,null,null,null,null,null,null,null,null,null,null,null,null,null,null,null,null,null,null,null,null,null,null,null,null,null,null,null,null,null,null,null,null,null,null,{"$f":"[1]理科得点!AZ15","v":0},0,null,"得点合計",{"$f":"SUM(BC11:BC55)","v":0},null,"富山県の\n平均点"]
[13,null,null,null,null,null,null,null,null,null,null,null,null,null,null,null,null,null,null,null,null,null,null,null,null,null,null,null,null,null,null,null,null,null,null,null,null,null,null,null,null,null,null,null,null,null,null,null,null,null,null,null,null,null,{"$f":"[1]理科得点!AZ16","v":0},0,null,"平均点",{"$f":"BG22/BG21","v":{"$error":"#DIV/0!"}},null,null,70.8]
[14,null,null,null,null,null,null,null,null,null,null,null,null,null,null,null,null,null,null,null,null,null,null,null,null,null,null,null,null,null,null,null,null,null,null,null,null,null,null,null,null,null,null,null,null,null,null,null,null,null,null,null,null,null,{"$f":"[1]理科得点!AZ17","v":0},0]
[15,null,null,null,null,null,null,null,null,null,null,null,null,null,null,null,null,null,null,null,null,null,null,null,null,null,null,null,null,null,null,null,null,null,null,null,null,null,null,null,null,null,null,null,null,null,null,null,null,null,null,null,null,null,{"$f":"[1]理科得点!AZ18","v":0},0]
[16,null,null,null,null,null,null,null,null,null,null,null,null,null,null,null,null,null,null,null,null,null,null,null,null,null,null,null,null,null,null,null,null,null,null,null,null,null,null,null,null,null,null,null,null,null,null,null,null,null,null,null,null,null,{"$f":"[1]理科得点!AZ19","v":0},0]
[17,null,null,null,null,null,null,null,null,null,null,null,null,null,null,null,null,null,null,null,null,null,null,null,null,null,null,null,null,null,null,null,null,null,null,null,null,null,null,null,null,null,null,null,null,null,null,null,null,null,null,null,null,null,{"$f":"[1]理科得点!AZ20","v":0},0,null,"男女別人数"]
[18,null,null,null,null,null,null,null,null,null,null,null,null,null,null,null,null,null,null,null,null,null,null,null,null,null,null,null,null,null,null,null,null,null,null,null,null,null,null,null,null,null,null,null,null,null,null,null,null,null,null,null,null,null,{"$f":"[1]理科得点!AZ21","v":0},0,null,"男　　子",{"$f":"COUNTIF(C11:C55,0)","v":0}]
[19,null,null,null,null,null,null,null,null,null,null,null,null,null,null,null,null,null,null,null,null,null,null,null,null,null,null,null,null,null,null,null,null,null,null,null,null,null,null,null,null,null,null,null,null,null,null,null,null,null,null,null,null,null,{"$f":"[1]理科得点!AZ22","v":0},0,null,"女　　子",{"$f":"COUNTIF(C11:C55,1)","v":0}]
[20,null,null,null,null,null,null,null,null,null,null,null,null,null,null,null,null,null,null,null,null,null,null,null,null,null,null,null,null,null,null,null,null,null,null,null,null,null,null,null,null,null,null,null,null,null,null,null,null,null,null,null,null,null,{"$f":"[1]理科得点!AZ23","v":0},0,null,"計",{"$f":"SUM(BG28:BG29)","v":0}]
[21,null,null,null,null,null,null,null,null,null,null,null,null,null,null,null,null,null,null,null,null,null,null,null,null,null,null,null,null,null,null,null,null,null,null,null,null,null,null,null,null,null,null,null,null,null,null,null,null,null,null,null,null,null,{"$f":"[1]理科得点!AZ24","v":0},0]
[22,null,null,null,null,null,null,null,null,null,null,null,null,null,null,null,null,null,null,null,null,null,null,null,null,null,null,null,null,null,null,null,null,null,null,null,null,null,null,null,null,null,null,null,null,null,null,null,null,null,null,null,null,null,{"$f":"[1]理科得点!AZ25","v":0},0]
[23,null,null,null,null,null,null,null,null,null,null,null,null,null,null,null,null,null,null,null,null,null,null,null,null,null,null,null,null,null,null,null,null,null,null,null,null,null,null,null,null,null,null,null,null,null,null,null,null,null,null,null,null,null,{"$f":"[1]理科得点!AZ26","v":0},0]
[24,null,null,null,null,null,null,null,null,null,null,null,null,null,null,null,null,null,null,null,null,null,null,null,null,null,null,null,null,null,null,null,null,null,null,null,null,null,null,null,null,null,null,null,null,null,null,null,null,null,null,null,null,null,{"$f":"[1]理科得点!AZ27","v":0},0,null,"観点別記号"]
[25,null,null,null,null,null,null,null,null,null,null,null,null,null,null,null,null,null,null,null,null,null,null,null,null,null,null,null,null,null,null,null,null,null,null,null,null,null,null,null,null,null,null,null,null,null,null,null,null,null,null,null,null,null,{"$f":"[1]理科得点!AZ28","v":0},0,null,"思・表","科学的な思考・表現"]
[26,null,null,null,null,null,null,null,null,null,null,null,null,null,null,null,null,null,null,null,null,null,null,null,null,null,null,null,null,null,null,null,null,null,null,null,null,null,null,null,null,null,null,null,null,null,null,null,null,null,null,null,null,null,{"$f":"[1]理科得点!AZ29","v":0},0,null,"知・技","自然事象の知識・理解\n観察・実験の技能",null,"観察・実験の技能"]
[27,null,null,null,null,null,null,null,null,null,null,null,null,null,null,null,null,null,null,null,null,null,null,null,null,null,null,null,null,null,null,null,null,null,null,null,null,null,null,null,null,null,null,null,null,null,null,null,null,null,null,null,null,null,{"$f":"[1]理科得点!AZ30","v":0},0,null,"-","－"]
[28,null,null,null,null,null,null,null,null,null,null,null,null,null,null,null,null,null,null,null,null,null,null,null,null,null,null,null,null,null,null,null,null,null,null,null,null,null,null,null,null,null,null,null,null,null,null,null,null,null,null,null,null,null,{"$f":"[1]理科得点!AZ31","v":0},0,null,"-","－"]
[29,null,null,null,null,null,null,null,null,null,null,null,null,null,null,null,null,null,null,null,null,null,null,null,null,null,null,null,null,null,null,null,null,null,null,null,null,null,null,null,null,null,null,null,null,null,null,null,null,null,null,null,null,null,{"$f":"[1]理科得点!AZ32","v":0},0,null,"-","－"]
[30,null,null,null,null,null,null,null,null,null,null,null,null,null,null,null,null,null,null,null,null,null,null,null,null,null,null,null,null,null,null,null,null,null,null,null,null,null,null,null,null,null,null,null,null,null,null,null,null,null,null,null,null,null,{"$f":"[1]理科得点!AZ33","v":0},0]
[31,null,null,null,null,null,null,null,null,null,null,null,null,null,null,null,null,null,null,null,null,null,null,null,null,null,null,null,null,null,null,null,null,null,null,null,null,null,null,null,null,null,null,null,null,null,null,null,null,null,null,null,null,null,{"$f":"[1]理科得点!AZ34","v":0},0,null,"観点数",{"$f":"SUMPRODUCT((BF35:BF39<>\"\")*1)-COUNTIF(BF35:BF39,\"-\")","v":2}]
[32,null,null,null,null,null,null,null,null,null,null,null,null,null,null,null,null,null,null,null,null,null,null,null,null,null,null,null,null,null,null,null,null,null,null,null,null,null,null,null,null,null,null,null,null,null,null,null,null,null,null,null,null,null,{"$f":"[1]理科得点!AZ35","v":0},0]
[33,null,null,null,null,null,null,null,null,null,null,null,null,null,null,null,null,null,null,null,null,null,null,null,null,null,null,null,null,null,null,null,null,null,null,null,null,null,null,null,null,null,null,null,null,null,null,null,null,null,null,null,null,null,{"$f":"[1]理科得点!AZ36","v":0},0]
[34,null,null,null,null,null,null,null,null,null,null,null,null,null,null,null,null,null,null,null,null,null,null,null,null,null,null,null,null,null,null,null,null,null,null,null,null,null,null,null,null,null,null,null,null,null,null,null,null,null,null,null,null,null,{"$f":"[1]理科得点!AZ37","v":0},0]
[35,null,null,null,null,null,null,null,null,null,null,null,null,null,null,null,null,null,null,null,null,null,null,null,null,null,null,null,null,null,null,null,null,null,null,null,null,null,null,null,null,null,null,null,null,null,null,null,null,null,null,null,null,null,{"$f":"[1]理科得点!AZ38","v":0},0]
[36,null,null,null,null,null,null,null,null,null,null,null,null,null,null,null,null,null,null,null,null,null,null,null,null,null,null,null,null,null,null,null,null,null,null,null,null,null,null,null,null,null,null,null,null,null,null,null,null,null,null,null,null,null,{"$f":"[1]理科得点!AZ39","v":0},0]
[37,null,null,null,null,null,null,null,null,null,null,null,null,null,null,null,null,null,null,null,null,null,null,null,null,null,null,null,null,null,null,null,null,null,null,null,null,null,null,null,null,null,null,null,null,null,null,null,null,null,null,null,null,null,{"$f":"[1]理科得点!AZ40","v":0},0]
[38,null,null,null,null,null,null,null,null,null,null,null,null,null,null,null,null,null,null,null,null,null,null,null,null,null,null,null,null,null,null,null,null,null,null,null,null,null,null,null,null,null,null,null,null,null,null,null,null,null,null,null,null,null,{"$f":"[1]理科得点!AZ41","v":0},0]
[39,null,null,null,null,null,null,null,null,null,null,null,null,null,null,null,null,null,null,null,null,null,null,null,null,null,null,null,null,null,null,null,null,null,null,null,null,null,null,null,null,null,null,null,null,null,null,null,null,null,null,null,null,null,{"$f":"[1]理科得点!AZ42","v":0},0]
[40,null,null,null,null,null,null,null,null,null,null,null,null,null,null,null,null,null,null,null,null,null,null,null,null,null,null,null,null,null,null,null,null,null,null,null,null,null,null,null,null,null,null,null,null,null,null,null,null,null,null,null,null,null,{"$f":"[1]理科得点!AZ43","v":0},0]
[41,null,null,null,null,null,null,null,null,null,null,null,null,null,null,null,null,null,null,null,null,null,null,null,null,null,null,null,null,null,null,null,null,null,null,null,null,null,null,null,null,null,null,null,null,null,null,null,null,null,null,null,null,null,{"$f":"[1]理科得点!AZ44","v":0},0]
[42,null,null,null,null,null,null,null,null,null,null,null,null,null,null,null,null,null,null,null,null,null,null,null,null,null,null,null,null,null,null,null,null,null,null,null,null,null,null,null,null,null,null,null,null,null,null,null,null,null,null,null,null,null,{"$f":"[1]理科得点!AZ45","v":0},0]
[43,null,null,null,null,null,null,null,null,null,null,null,null,null,null,null,null,null,null,null,null,null,null,null,null,null,null,null,null,null,null,null,null,null,null,null,null,null,null,null,null,null,null,null,null,null,null,null,null,null,null,null,null,null,{"$f":"[1]理科得点!AZ46","v":0},0]
[44,null,null,null,null,null,null,null,null,null,null,null,null,null,null,null,null,null,null,null,null,null,null,null,null,null,null,null,null,null,null,null,null,null,null,null,null,null,null,null,null,null,null,null,null,null,null,null,null,null,null,null,null,null,{"$f":"[1]理科得点!AZ47","v":0},0]
[45,null,null,null,null,null,null,null,null,null,null,null,null,null,null,null,null,null,null,null,null,null,null,null,null,null,null,null,null,null,null,null,null,null,null,null,null,null,null,null,null,null,null,null,null,null,null,null,null,null,null,null,null,null,{"$f":"[1]理科得点!AZ48","v":0},0]
[]
[null,null,"数",null,1,2,3,4,5,6,7,8,9,10,11,12,13,14,15,16,17,18,19,20,21,22,23,24,25,26,27,28,29,30,31,32,33,34,35,36,37,38,39,40,41,42,43,44,45,46,47,48,49,50]
[null,null,"正答",null,{"$f":"COUNTIF(E11:E55,1)","v":0},{"$f":"COUNTIF(F11:F55,1)","v":0},0,0,0,0,0,0,0,0,0,0,0,0,0,0,0,0,0,0,0,0,0,0,0,0,0,0,0,0,0,0,0,0,0,0,0,0,0,0,0,0,0,0,0,0,0,0,0,0]
[null,null,"誤答",null,{"$f":"COUNTIF(E11:E55,2)","v":0},{"$f":"COUNTIF(F11:F55,2)","v":0},0,0,0,0,0,0,0,0,0,0,0,0,0,0,0,0,0,0,0,0,0,0,0,0,0,0,0,0,0,0,0,0,0,0,0,0,0,0,0,0,0,0,0,0,0,0,0,0]
[null,null,"無答",null,{"$f":"COUNTIF(E11:E55,3)","v":0},{"$f":"COUNTIF(F11:F55,3)","v":0},0,0,0,0,0,0,0,0,0,0,0,0,0,0,0,0,0,0,0,0,0,0,0,0,0,0,0,0,0,0,0,0,0,0,0,0,0,0,0,0,0,0,0,0,0,0,0,0]
[null,null,"合計",null,{"$f":"SUM(E58:E60)","v":0},{"$f":"SUM(F58:F60)","v":0},0,0,0,0,0,0,0,0,0,0,0,0,0,0,0,0,0,0,0,0,0,0,0,0,0,0,0,0,0,0,0,0,0,0,0,0,0,0,0,0,0,0,0,0,0,0,0,0]
[]
[null,null,"割合",null,{"$f":"E57","v":1},2,3,4,5,6,7,8,9,10,11,12,13,14,15,16,17,18,19,20,21,22,23,24,25,26,27,28,29,30,31,32,33,34,35,36,37,38,39,40,41,42,43,44,45,46,47,48,49,50]
[null,null,{"$f":"C58","v":"正答"},null,{"$f":"E58/E61","v":{"$error":"#DIV/0!"}},{"$error":"#DIV/0!"},{"$error":"#DIV/0!"},{"$error":"#DIV/0!"},{"$error":"#DIV/0!"},{"$error":"#DIV/0!"},{"$error":"#DIV/0!"},{"$error":"#DIV/0!"},{"$error":"#DIV/0!"},{"$error":"#DIV/0!"},{"$error":"#DIV/0!"},{"$error":"#DIV/0!"},{"$error":"#DIV/0!"},{"$error":"#DIV/0!"},{"$error":"#DIV/0!"},{"$error":"#DIV/0!"},{"$error":"#DIV/0!"},{"$error":"#DIV/0!"},{"$error":"#DIV/0!"},{"$error":"#DIV/0!"},{"$error":"#DIV/0!"},{"$error":"#DIV/0!"},{"$error":"#DIV/0!"},{"$error":"#DIV/0!"},{"$error":"#DIV/0!"},{"$error":"#DIV/0!"},{"$error":"#DIV/0!"},{"$error":"#DIV/0!"},{"$error":"#DIV/0!"},{"$error":"#DIV/0!"},{"$error":"#DIV/0!"},{"$error":"#DIV/0!"},{"$error":"#DIV/0!"},{"$error":"#DIV/0!"},{"$error":"#DIV/0!"},{"$error":"#DIV/0!"},{"$error":"#DIV/0!"},{"$error":"#DIV/0!"},{"$error":"#DIV/0!"},{"$error":"#DIV/0!"},{"$error":"#DIV/0!"},{"$error":"#DIV/0!"},{"$error":"#DIV/0!"},{"$error":"#DIV/0!"},{"$error":"#DIV/0!"},{"$error":"#DIV/0!"},{"$error":"#DIV/0!"},{"$error":"#DIV/0!"},{"$error":"#DIV/0!"},{"$error":"#DIV/0!"}]
[null,null,{"$f":"C59","v":"誤答"},null,{"$f":"E59/E61","v":{"$error":"#DIV/0!"}},{"$error":"#DIV/0!"},{"$error":"#DIV/0!"},{"$error":"#DIV/0!"},{"$error":"#DIV/0!"},{"$error":"#DIV/0!"},{"$error":"#DIV/0!"},{"$error":"#DIV/0!"},{"$error":"#DIV/0!"},{"$error":"#DIV/0!"},{"$error":"#DIV/0!"},{"$error":"#DIV/0!"},{"$error":"#DIV/0!"},{"$error":"#DIV/0!"},{"$error":"#DIV/0!"},{"$error":"#DIV/0!"},{"$error":"#DIV/0!"},{"$error":"#DIV/0!"},{"$error":"#DIV/0!"},{"$error":"#DIV/0!"},{"$error":"#DIV/0!"},{"$error":"#DIV/0!"},{"$error":"#DIV/0!"},{"$error":"#DIV/0!"},{"$error":"#DIV/0!"},{"$error":"#DIV/0!"},{"$error":"#DIV/0!"},{"$error":"#DIV/0!"},{"$error":"#DIV/0!"},{"$error":"#DIV/0!"},{"$error":"#DIV/0!"},{"$error":"#DIV/0!"},{"$error":"#DIV/0!"},{"$error":"#DIV/0!"},{"$error":"#DIV/0!"},{"$error":"#DIV/0!"},{"$error":"#DIV/0!"},{"$error":"#DIV/0!"},{"$error":"#DIV/0!"},{"$error":"#DIV/0!"},{"$error":"#DIV/0!"},{"$error":"#DIV/0!"},{"$error":"#DIV/0!"},{"$error":"#DIV/0!"},{"$error":"#DIV/0!"},{"$error":"#DIV/0!"},{"$error":"#DIV/0!"},{"$error":"#DIV/0!"},{"$error":"#DIV/0!"},{"$error":"#DIV/0!"}]
[null,null,{"$f":"C60","v":"無答"},null,{"$f":"E60/E61","v":{"$error":"#DIV/0!"}},{"$error":"#DIV/0!"},{"$error":"#DIV/0!"},{"$error":"#DIV/0!"},{"$error":"#DIV/0!"},{"$error":"#DIV/0!"},{"$error":"#DIV/0!"},{"$error":"#DIV/0!"},{"$error":"#DIV/0!"},{"$error":"#DIV/0!"},{"$error":"#DIV/0!"},{"$error":"#DIV/0!"},{"$error":"#DIV/0!"},{"$error":"#DIV/0!"},{"$error":"#DIV/0!"},{"$error":"#DIV/0!"},{"$error":"#DIV/0!"},{"$error":"#DIV/0!"},{"$error":"#DIV/0!"},{"$error":"#DIV/0!"},{"$error":"#DIV/0!"},{"$error":"#DIV/0!"},{"$error":"#DIV/0!"},{"$error":"#DIV/0!"},{"$error":"#DIV/0!"},{"$error":"#DIV/0!"},{"$error":"#DIV/0!"},{"$error":"#DIV/0!"},{"$error":"#DIV/0!"},{"$error":"#DIV/0!"},{"$error":"#DIV/0!"},{"$error":"#DIV/0!"},{"$error":"#DIV/0!"},{"$error":"#DIV/0!"},{"$error":"#DIV/0!"},{"$error":"#DIV/0!"},{"$error":"#DIV/0!"},{"$error":"#DIV/0!"},{"$error":"#DIV/0!"},{"$error":"#DIV/0!"},{"$error":"#DIV/0!"},{"$error":"#DIV/0!"},{"$error":"#DIV/0!"},{"$error":"#DIV/0!"},{"$error":"#DIV/0!"},{"$error":"#DIV/0!"},{"$error":"#DIV/0!"},{"$error":"#DIV/0!"},{"$error":"#DIV/0!"},{"$error":"#DIV/0!"}]
[null,null,{"$f":"C61","v":"合計"},null,{"$f":"SUM(E64:E66)","v":{"$error":"#DIV/0!"}},{"$error":"#DIV/0!"},{"$error":"#DIV/0!"},{"$error":"#DIV/0!"},{"$error":"#DIV/0!"},{"$error":"#DIV/0!"},{"$error":"#DIV/0!"},{"$error":"#DIV/0!"},{"$error":"#DIV/0!"},{"$error":"#DIV/0!"},{"$error":"#DIV/0!"},{"$error":"#DIV/0!"},{"$error":"#DIV/0!"},{"$error":"#DIV/0!"},{"$error":"#DIV/0!"},{"$error":"#DIV/0!"},{"$error":"#DIV/0!"},{"$error":"#DIV/0!"},{"$error":"#DIV/0!"},{"$error":"#DIV/0!"},{"$error":"#DIV/0!"},{"$error":"#DIV/0!"},{"$error":"#DIV/0!"},{"$error":"#DIV/0!"},{"$error":"#DIV/0!"},{"$error":"#DIV/0!"},{"$error":"#DIV/0!"},{"$error":"#DIV/0!"},{"$error":"#DIV/0!"},{"$error":"#DIV/0!"},{"$error":"#DIV/0!"},{"$error":"#DIV/0!"},{"$error":"#DIV/0!"},{"$error":"#DIV/0!"},{"$error":"#DIV/0!"},{"$error":"#DIV/0!"},{"$error":"#DIV/0!"},{"$error":"#DIV/0!"},{"$error":"#DIV/0!"},{"$error":"#DIV/0!"},{"$error":"#DIV/0!"},{"$error":"#DIV/0!"},{"$error":"#DIV/0!"},{"$error":"#DIV/0!"},{"$error":"#DIV/0!"},{"$error":"#DIV/0!"},{"$error":"#DIV/0!"},{"$error":"#DIV/0!"},{"$error":"#DIV/0!"},{"$error":"#DIV/0!"}]
[]
[null,null,"観点別集計"]
[null,null,null,null,null,{"$f":"BF35","v":"思・表"},null,null,null,null,{"$f":"BF36","v":"知・技"},null,null,null,null,{"$f":"BF37","v":"-"},null,null,null,null,{"$f":"BF38","v":"-"},null,null,null,null,{"$f":"BF39","v":"-"}]
[null,null,"正答",null,null,{"$f":"[1]理科得点!BB64","v":{"$error":"#DIV/0!"}},null,null,null,null,{"$f":"[1]理科得点!BB65","v":{"$error":"#DIV/0!"}},null,null,null,null,{"$f":"[1]理科得点!BB66","v":{"$error":"#DIV/0!"}},null,null,null,null,{"$f":"[1]理科得点!BB67","v":{"$error":"#DIV/0!"}},null,null,null,null,{"$f":"[1]理科得点!BB68","v":{"$error":"#DIV/0!"}}]
[null,null,"誤答",null,null,{"$f":"[1]理科得点!BB71","v":{"$error":"#DIV/0!"}},null,null,null,null,{"$f":"[1]理科得点!BB72","v":{"$error":"#DIV/0!"}},null,null,null,null,{"$f":"[1]理科得点!BB73","v":{"$error":"#DIV/0!"}},null,null,null,null,{"$f":"[1]理科得点!BB74","v":{"$error":"#DIV/0!"}},null,null,null,null,{"$f":"[1]理科得点!BB75","v":{"$error":"#DIV/0!"}}]
[null,null,"無答",null,null,{"$f":"[1]理科得点!BB78","v":{"$error":"#DIV/0!"}},null,null,null,null,{"$f":"[1]理科得点!BB79","v":{"$error":"#DIV/0!"}},null,null,null,null,{"$f":"[1]理科得点!BB80","v":{"$error":"#DIV/0!"}},null,null,null,null,{"$f":"[1]理科得点!BB81","v":{"$error":"#DIV/0!"}},null,null,null,null,{"$f":"[1]理科得点!BB82","v":{"$error":"#DIV/0!"}}]
[null,null,"合計",null,null,{"$f":"SUM(F71:H73)","v":{"$error":"#DIV/0!"}},null,null,null,null,{"$f":"SUM(K71:M73)","v":{"$error":"#DIV/0!"}},null,null,null,null,{"$f":"SUM(P71:R73)","v":{"$error":"#DIV/0!"}},null,null,null,null,{"$f":"SUM(U71:W73)","v":{"$error":"#DIV/0!"}},null,null,null,null,{"$f":"SUM(Z71:AB73)","v":{"$error":"#DIV/0!"}}]
[]
[null,null,"富山県平均正答率％",null,null,{"$f":"[1]理科得点!BB85","v":0.64133333333333342},null,null,null,null,{"$f":"[1]理科得点!BB86","v":0.76861538461538459},null,null,null,null,{"$f":"[1]理科得点!BB87","v":{"$error":"#DIV/0!"}},null,null,null,null,{"$f":"[1]理科得点!BB88","v":{"$error":"#DIV/0!"}},null,null,null,null,{"$f":"[1]理科得点!BB89","v":{"$error":"#DIV/0!"}}]

{"sheet":"理科得点","index":35,"n_rows":82,"n_cols":64,"rows_kept":82,"cut":false,"hidden":false,"merged":[[1,63,2,63],[1,61,2,61],[1,62,2,62],[0,6,0,10],[0,11,0,13],[1,60,2,60],[1,54,1,55],[1,57,1,58]]}
["理科（得点）",null,null,null,null,null,"受検者数",null,null,null,null,{"$f":"[1]理科!$AB$1","v":0}]
["№",1,2,3,4,5,6,7,8,9,10,11,12,13,14,15,16,17,18,19,20,21,22,23,24,25,26,27,28,29,30,31,32,33,34,35,36,37,38,39,40,41,42,43,44,45,46,47,48,49,50,"得点",null,null,"正答数別の児童数(人)",null,null,"富山県正答数％",null,null,"通し\n番号","問題\n番号","小問\n番号","問題の領域"]
["観点",{"$f":"[1]理科!E9","v":"知・技"},{"$f":"[1]理科!F9","v":"知・技"},{"$f":"[1]理科!G9","v":"知・技"},{"$f":"[1]理科!H9","v":"思・表"},{"$f":"[1]理科!I9","v":"知・技"},{"$f":"[1]理科!J9","v":"思・表"},{"$f":"[1]理科!K9","v":"知・技"},{"$f":"[1]理科!L9","v":"思・表"},{"$f":"[1]理科!M9","v":"知・技"},{"$f":"[1]理科!N9","v":"思・表"},{"$f":"[1]理科!O9","v":"思・表"},{"$f":"[1]理科!P9","v":"思・表"},{"$f":"[1]理科!Q9","v":"思・表"},{"$f":"[1]理科!R9","v":"思・表"},{"$f":"[1]理科!S9","v":"思・表"},{"$f":"[1]理科!T9","v":"知・技"},{"$f":"[1]理科!U9","v":"知・技"},{"$f":"[1]理科!V9","v":"思・表"},{"$f":"[1]理科!W9","v":"知・技"},{"$f":"[1]理科!X9","v":"知・技"},{"$f":"[1]理科!Y9","v":"思・表"},{"$f":"[1]理科!Z9","v":"知・技"},{"$f":"[1]理科!AA9","v":"思・表"},{"$f":"[1]理科!AB9","v":"知・技"},{"$f":"[1]理科!AC9","v":"知・技"},{"$f":"[1]理科!AD9","v":0},{"$f":"[1]理科!AE9","v":0},{"$f":"[1]理科!AF9","v":0},{"$f":"[1]理科!AG9","v":0},{"$f":"[1]理科!AH9","v":0},{"$f":"[1]理科!AI9","v":0},{"$f":"[1]理科!AJ9","v":0},{"$f":"[1]理科!AK9","v":0},{"$f":"[1]理科!AL9","v":0},{"$f":"[1]理科!AO9","v":0},{"$f":"[1]理科!AP9","v":0},{"$f":"[1]理科!AO9","v":0},{"$f":"[1]理科!AP9","v":0},{"$f":"[1]理科!AQ9","v":0},{"$f":"[1]理科!AR9","v":0},{"$f":"[1]理科!AS9","v":0},{"$f":"[1]理科!AT9","v":0},{"$f":"[1]理科!AU9","v":0},{"$f":"[1]理科!AV9","v":0},{"$f":"[1]理科!AW9","v":0},{"$f":"[1]理科!AX9","v":0},{"$f":"[1]理科!AY9","v":0},{"$f":"[1]理科!AZ9","v":0},{"$f":"[1]理科!BA9","v":0},{"$f":"[1]理科!BB9","v":0},null,null,null,"0問",null,null,"0問"]
[1,{"$f":"COUNTIF([1]理科!E11,1)*[1]理科!$E$10","v":0},{"$f":"COUNTIF([1]理科!F11,1)*[1]理科!$F$10","v":0},{"$f":"COUNTIF([1]理科!G11,1)*[1]理科!$G$10","v":0},{"$f":"COUNTIF([1]理科!H11,1)*[1]理科!$H$10","v":0},{"$f":"COUNTIF([1]理科!I11,1)*[1]理科!$I$10","v":0},{"$f":"COUNTIF([1]理科!J11,1)*[1]理科!$J$10","v":0},{"$f":"COUNTIF([1]理科!K11,1)*[1]理科!$K$10","v":0},{"$f":"COUNTIF([1]理科!L11,1)*[1]理科!$L$10","v":0},{"$f":"COUNTIF([1]理科!M11,1)*[1]理科!$M$10","v":0},{"$f":"COUNTIF([1]理科!N11,1)*[1]理科!$N$10","v":0},{"$f":"COUNTIF([1]理科!O11,1)*[1]理科!$O$10","v":0},{"$f":"COUNTIF([1]理科!P11,1)*[1]理科!$P$10","v":0},{"$f":"COUNTIF([1]理科!Q11,1)*[1]理科!$Q$10","v":0},{"$f":"COUNTIF([1]理科!R11,1)*[1]理科!$R$10","v":0},{"$f":"COUNTIF([1]理科!S11,1)*[1]理科!$S$10","v":0},{"$f":"COUNTIF([1]理科!T11,1)*[1]理科!$T$10","v":0},{"$f":"COUNTIF([1]理科!U11,1)*[1]理科!$U$10","v":0},{"$f":"COUNTIF([1]理科!V11,1)*[1]理科!$V$10","v":0},{"$f":"COUNTIF([1]理科!W11,1)*[1]理科!$W$10","v":0},{"$f":"COUNTIF([1]理科!X11,1)*[1]理科!$X$10","v":0},{"$f":"COUNTIF([1]理科!Y11,1)*[1]理科!$Y$10","v":0},{"$f":"COUNTIF([1]理科!Z11,1)*[1]理科!$Z$10","v":0},{"$f":"COUNTIF([1]理科!AA11,1)*[1]理科!$AA$10","v":0},{"$f":"COUNTIF([1]理科!AB11,1)*[1]理科!$AB$10","v":0},{"$f":"COUNTIF([1]理科!AC11,1)*[1]理科!$AC$10","v":0},{"$f":"COUNTIF([1]理科!AD11,1)*[1]理科!$AD$10","v":0},{"$f":"COUNTIF([1]理科!AE11,1)*[1]理科!$AE$10","v":0},{"$f":"COUNTIF([1]理科!AF11,1)*[1]理科!$AF$10","v":0},{"$f":"COUNTIF([1]理科!AG11,1)*[1]理科!$AG$10","v":0},{"$f":"COUNTIF([1]理科!AH11,1)*[1]理科!$AH$10","v":0},{"$f":"COUNTIF([1]理科!AI11,1)*[1]理科!$AI$10","v":0},{"$f":"COUNTIF([1]理科!AJ11,1)*[1]理科!$AJ$10","v":0},{"$f":"COUNTIF([1]理科!AK11,1)*[1]理科!$AK$10","v":0},{"$f":"COUNTIF([1]理科!AL11,1)*[1]理科!$AL$10","v":0},{"$f":"COUNTIF([1]理科!AM11,1)*[1]理科!$AM$10","v":0},{"$f":"COUNTIF([1]理科!AN11,1)*[1]理科!$AN$10","v":0},{"$f":"COUNTIF([1]理科!AO11,1)*[1]理科!$AO$10","v":0},{"$f":"COUNTIF([1]理科!AP11,1)*[1]理科!$AP$10","v":0},{"$f":"COUNTIF([1]理科!AQ11,1)*[1]理科!$AQ$10","v":0},{"$f":"COUNTIF([1]理科!AR11,1)*[1]理科!$AR$10","v":0},{"$f":"COUNTIF([1]理科!AS11,1)*[1]理科!$AS$10","v":0},{"$f":"COUNTIF([1]理科!AT11,1)*[1]理科!$AT$10","v":0},{"$f":"COUNTIF([1]理科!AU11,1)*[1]理科!$AU$10","v":0},{"$f":"COUNTIF([1]理科!AV11,1)*[1]理科!$AV$10","v":0},{"$f":"COUNTIF([1]理科!AW11,1)*[1]理科!$AW$10","v":0},{"$f":"COUNTIF([1]理科!AX11,1)*[1]理科!$AX$10","v":0},{"$f":"COUNTIF([1]理科!AY11,1)*[1]理科!$AY$10","v":0},{"$f":"COUNTIF([1]理科!AZ11,1)*[1]理科!$AZ$10","v":0},{"$f":"COUNTIF([1]理科!BA11,1)*[1]理科!$BA$10","v":0},{"$f":"COUNTIF([1]理科!BB11,1)*[1]理科!$BB$10","v":0},{"$f":"SUM(B4:AY4)","v":0},null,null,"1問",{"$f":"[1]理科!E58","v":0},null,"1問",33,null,1,1,"（１）","生命"]
[2,{"$f":"COUNTIF([1]理科!E12,1)*[1]理科!$E$10","v":0},{"$f":"COUNTIF([1]理科!F12,1)*[1]理科!$F$10","v":0},{"$f":"COUNTIF([1]理科!G12,1)*[1]理科!$G$10","v":0},{"$f":"COUNTIF([1]理科!H12,1)*[1]理科!$H$10","v":0},{"$f":"COUNTIF([1]理科!I12,1)*[1]理科!$I$10","v":0},{"$f":"COUNTIF([1]理科!J12,1)*[1]理科!$J$10","v":0},{"$f":"COUNTIF([1]理科!K12,1)*[1]理科!$K$10","v":0},{"$f":"COUNTIF([1]理科!L12,1)*[1]理科!$L$10","v":0},{"$f":"COUNTIF([1]理科!M12,1)*[1]理科!$M$10","v":0},{"$f":"COUNTIF([1]理科!N12,1)*[1]理科!$N$10","v":0},{"$f":"COUNTIF([1]理科!O12,1)*[1]理科!$O$10","v":0},{"$f":"COUNTIF([1]理科!P12,1)*[1]理科!$P$10","v":0},{"$f":"COUNTIF([1]理科!Q12,1)*[1]理科!$Q$10","v":0},{"$f":"COUNTIF([1]理科!R12,1)*[1]理科!$R$10","v":0},{"$f":"COUNTIF([1]理科!S12,1)*[1]理科!$S$10","v":0},{"$f":"COUNTIF([1]理科!T12,1)*[1]理科!$T$10","v":0},{"$f":"COUNTIF([1]理科!U12,1)*[1]理科!$U$10","v":0},{"$f":"COUNTIF([1]理科!V12,1)*[1]理科!$V$10","v":0},{"$f":"COUNTIF([1]理科!W12,1)*[1]理科!$W$10","v":0},{"$f":"COUNTIF([1]理科!X12,1)*[1]理科!$X$10","v":0},{"$f":"COUNTIF([1]理科!Y12,1)*[1]理科!$Y$10","v":0},{"$f":"COUNTIF([1]理科!Z12,1)*[1]理科!$Z$10","v":0},{"$f":"COUNTIF([1]理科!AA12,1)*[1]理科!$AA$10","v":0},{"$f":"COUNTIF([1]理科!AB12,1)*[1]理科!$AB$10","v":0},{"$f":"COUNTIF([1]理科!AC12,1)*[1]理科!$AC$10","v":0},{"$f":"COUNTIF([1]理科!AD12,1)*[1]理科!$AD$10","v":0},{"$f":"COUNTIF([1]理科!AE12,1)*[1]理科!$AE$10","v":0},{"$f":"COUNTIF([1]理科!AF12,1)*[1]理科!$AF$10","v":0},{"$f":"COUNTIF([1]理科!AG12,1)*[1]理科!$AG$10","v":0},{"$f":"COUNTIF([1]理科!AH12,1)*[1]理科!$AH$10","v":0},{"$f":"COUNTIF([1]理科!AI12,1)*[1]理科!$AI$10","v":0},{"$f":"COUNTIF([1]理科!AJ12,1)*[1]理科!$AJ$10","v":0},{"$f":"COUNTIF([1]理科!AK12,1)*[1]理科!$AK$10","v":0},{"$f":"COUNTIF([1]理科!AL12,1)*[1]理科!$AL$10","v":0},{"$f":"COUNTIF([1]理科!AM12,1)*[1]理科!$AM$10","v":0},{"$f":"COUNTIF([1]理科!AN12,1)*[1]理科!$AN$10","v":0},{"$f":"COUNTIF([1]理科!AO12,1)*[1]理科!$AO$10","v":0},{"$f":"COUNTIF([1]理科!AP12,1)*[1]理科!$AP$10","v":0},{"$f":"COUNTIF([1]理科!AQ12,1)*[1]理科!$AQ$10","v":0},{"$f":"COUNTIF([1]理科!AR12,1)*[1]理科!$AR$10","v":0},{"$f":"COUNTIF([1]理科!AS12,1)*[1]理科!$AS$10","v":0},{"$f":"COUNTIF([1]理科!AT12,1)*[1]理科!$AT$10","v":0},{"$f":"COUNTIF([1]理科!AU12,1)*[1]理科!$AU$10","v":0},{"$f":"COUNTIF([1]理科!AV12,1)*[1]理科!$AV$10","v":0},{"$f":"COUNTIF([1]理科!AW12,1)*[1]理科!$AW$10","v":0},{"$f":"COUNTIF([1]理科!AX12,1)*[1]理科!$AX$10","v":0},{"$f":"COUNTIF([1]理科!AY12,1)*[1]理科!$AY$10","v":0},{"$f":"COUNTIF([1]理科!AZ12,1)*[1]理科!$AZ$10","v":0},{"$f":"COUNTIF([1]理科!BA12,1)*[1]理科!$BA$10","v":0},{"$f":"COUNTIF([1]理科!BB12,1)*[1]理科!$BB$10","v":0},{"$f":"SUM(B5:AY5)","v":0},null,null,"2問",{"$f":"[1]理科!F58","v":0},null,"2問",85.8,null,2,1,"（２）","生命"]
[3,{"$f":"COUNTIF([1]理科!E13,1)*[1]理科!$E$10","v":0},{"$f":"COUNTIF([1]理科!F13,1)*[1]理科!$F$10","v":0},{"$f":"COUNTIF([1]理科!G13,1)*[1]理科!$G$10","v":0},{"$f":"COUNTIF([1]理科!H13,1)*[1]理科!$H$10","v":0},{"$f":"COUNTIF([1]理科!I13,1)*[1]理科!$I$10","v":0},{"$f":"COUNTIF([1]理科!J13,1)*[1]理科!$J$10","v":0},{"$f":"COUNTIF([1]理科!K13,1)*[1]理科!$K$10","v":0},{"$f":"COUNTIF([1]理科!L13,1)*[1]理科!$L$10","v":0},{"$f":"COUNTIF([1]理科!M13,1)*[1]理科!$M$10","v":0},{"$f":"COUNTIF([1]理科!N13,1)*[1]理科!$N$10","v":0},{"$f":"COUNTIF([1]理科!O13,1)*[1]理科!$O$10","v":0},{"$f":"COUNTIF([1]理科!P13,1)*[1]理科!$P$10","v":0},{"$f":"COUNTIF([1]理科!Q13,1)*[1]理科!$Q$10","v":0},{"$f":"COUNTIF([1]理科!R13,1)*[1]理科!$R$10","v":0},{"$f":"COUNTIF([1]理科!S13,1)*[1]理科!$S$10","v":0},{"$f":"COUNTIF([1]理科!T13,1)*[1]理科!$T$10","v":0},{"$f":"COUNTIF([1]理科!U13,1)*[1]理科!$U$10","v":0},{"$f":"COUNTIF([1]理科!V13,1)*[1]理科!$V$10","v":0},{"$f":"COUNTIF([1]理科!W13,1)*[1]理科!$W$10","v":0},{"$f":"COUNTIF([1]理科!X13,1)*[1]理科!$X$10","v":0},{"$f":"COUNTIF([1]理科!Y13,1)*[1]理科!$Y$10","v":0},{"$f":"COUNTIF([1]理科!Z13,1)*[1]理科!$Z$10","v":0},{"$f":"COUNTIF([1]理科!AA13,1)*[1]理科!$AA$10","v":0},{"$f":"COUNTIF([1]理科!AB13,1)*[1]理科!$AB$10","v":0},{"$f":"COUNTIF([1]理科!AC13,1)*[1]理科!$AC$10","v":0},{"$f":"COUNTIF([1]理科!AD13,1)*[1]理科!$AD$10","v":0},{"$f":"COUNTIF([1]理科!AE13,1)*[1]理科!$AE$10","v":0},{"$f":"COUNTIF([1]理科!AF13,1)*[1]理科!$AF$10","v":0},{"$f":"COUNTIF([1]理科!AG13,1)*[1]理科!$AG$10","v":0},{"$f":"COUNTIF([1]理科!AH13,1)*[1]理科!$AH$10","v":0},{"$f":"COUNTIF([1]理科!AI13,1)*[1]理科!$AI$10","v":0},{"$f":"COUNTIF([1]理科!AJ13,1)*[1]理科!$AJ$10","v":0},{"$f":"COUNTIF([1]理科!AK13,1)*[1]理科!$AK$10","v":0},{"$f":"COUNTIF([1]理科!AL13,1)*[1]理科!$AL$10","v":0},{"$f":"COUNTIF([1]理科!AM13,1)*[1]理科!$AM$10","v":0},{"$f":"COUNTIF([1]理科!AN13,1)*[1]理科!$AN$10","v":0},{"$f":"COUNTIF([1]理科!AO13,1)*[1]理科!$AO$10","v":0},{"$f":"COUNTIF([1]理科!AP13,1)*[1]理科!$AP$10","v":0},{"$f":"COUNTIF([1]理科!AQ13,1)*[1]理科!$AQ$10","v":0},{"$f":"COUNTIF([1]理科!AR13,1)*[1]理科!$AR$10","v":0},{"$f":"COUNTIF([1]理科!AS13,1)*[1]理科!$AS$10","v":0},{"$f":"COUNTIF([1]理科!AT13,1)*[1]理科!$AT$10","v":0},{"$f":"COUNTIF([1]理科!AU13,1)*[1]理科!$AU$10","v":0},{"$f":"COUNTIF([1]理科!AV13,1)*[1]理科!$AV$10","v":0},{"$f":"COUNTIF([1]理科!AW13,1)*[1]理科!$AW$10","v":0},{"$f":"COUNTIF([1]理科!AX13,1)*[1]理科!$AX$10","v":0},{"$f":"COUNTIF([1]理科!AY13,1)*[1]理科!$AY$10","v":0},{"$f":"COUNTIF([1]理科!AZ13,1)*[1]理科!$AZ$10","v":0},{"$f":"COUNTIF([1]理科!BA13,1)*[1]理科!$BA$10","v":0},{"$f":"COUNTIF([1]理科!BB13,1)*[1]理科!$BB$10","v":0},0,null,null,"3問",{"$f":"[1]理科!G58","v":0},null,"3問",72.899999999999991,null,3,1,"（３）","生命"]
[4,{"$f":"COUNTIF([1]理科!E14,1)*[1]理科!$E$10","v":0},{"$f":"COUNTIF([1]理科!F14,1)*[1]理科!$F$10","v":0},{"$f":"COUNTIF([1]理科!G14,1)*[1]理科!$G$10","v":0},{"$f":"COUNTIF([1]理科!H14,1)*[1]理科!$H$10","v":0},{"$f":"COUNTIF([1]理科!I14,1)*[1]理科!$I$10","v":0},{"$f":"COUNTIF([1]理科!J14,1)*[1]理科!$J$10","v":0},{"$f":"COUNTIF([1]理科!K14,1)*[1]理科!$K$10","v":0},{"$f":"COUNTIF([1]理科!L14,1)*[1]理科!$L$10","v":0},{"$f":"COUNTIF([1]理科!M14,1)*[1]理科!$M$10","v":0},{"$f":"COUNTIF([1]理科!N14,1)*[1]理科!$N$10","v":0},{"$f":"COUNTIF([1]理科!O14,1)*[1]理科!$O$10","v":0},{"$f":"COUNTIF([1]理科!P14,1)*[1]理科!$P$10","v":0},{"$f":"COUNTIF([1]理科!Q14,1)*[1]理科!$Q$10","v":0},{"$f":"COUNTIF([1]理科!R14,1)*[1]理科!$R$10","v":0},{"$f":"COUNTIF([1]理科!S14,1)*[1]理科!$S$10","v":0},{"$f":"COUNTIF([1]理科!T14,1)*[1]理科!$T$10","v":0},{"$f":"COUNTIF([1]理科!U14,1)*[1]理科!$U$10","v":0},{"$f":"COUNTIF([1]理科!V14,1)*[1]理科!$V$10","v":0},{"$f":"COUNTIF([1]理科!W14,1)*[1]理科!$W$10","v":0},{"$f":"COUNTIF([1]理科!X14,1)*[1]理科!$X$10","v":0},{"$f":"COUNTIF([1]理科!Y14,1)*[1]理科!$Y$10","v":0},{"$f":"COUNTIF([1]理科!Z14,1)*[1]理科!$Z$10","v":0},{"$f":"COUNTIF([1]理科!AA14,1)*[1]理科!$AA$10","v":0},{"$f":"COUNTIF([1]理科!AB14,1)*[1]理科!$AB$10","v":0},{"$f":"COUNTIF([1]理科!AC14,1)*[1]理科!$AC$10","v":0},{"$f":"COUNTIF([1]理科!AD14,1)*[1]理科!$AD$10","v":0},{"$f":"COUNTIF([1]理科!AE14,1)*[1]理科!$AE$10","v":0},{"$f":"COUNTIF([1]理科!AF14,1)*[1]理科!$AF$10","v":0},{"$f":"COUNTIF([1]理科!AG14,1)*[1]理科!$AG$10","v":0},{"$f":"COUNTIF([1]理科!AH14,1)*[1]理科!$AH$10","v":0},{"$f":"COUNTIF([1]理科!AI14,1)*[1]理科!$AI$10","v":0},{"$f":"COUNTIF([1]理科!AJ14,1)*[1]理科!$AJ$10","v":0},{"$f":"COUNTIF([1]理科!AK14,1)*[1]理科!$AK$10","v":0},{"$f":"COUNTIF([1]理科!AL14,1)*[1]理科!$AL$10","v":0},{"$f":"COUNTIF([1]理科!AM14,1)*[1]理科!$AM$10","v":0},{"$f":"COUNTIF([1]理科!AN14,1)*[1]理科!$AN$10","v":0},{"$f":"COUNTIF([1]理科!AO14,1)*[1]理科!$AO$10","v":0},{"$f":"COUNTIF([1]理科!AP14,1)*[1]理科!$AP$10","v":0},{"$f":"COUNTIF([1]理科!AQ14,1)*[1]理科!$AQ$10","v":0},{"$f":"COUNTIF([1]理科!AR14,1)*[1]理科!$AR$10","v":0},{"$f":"COUNTIF([1]理科!AS14,1)*[1]理科!$AS$10","v":0},{"$f":"COUNTIF([1]理科!AT14,1)*[1]理科!$AT$10","v":0},{"$f":"COUNTIF([1]理科!AU14,1)*[1]理科!$AU$10","v":0},{"$f":"COUNTIF([1]理科!AV14,1)*[1]理科!$AV$10","v":0},{"$f":"COUNTIF([1]理科!AW14,1)*[1]理科!$AW$10","v":0},{"$f":"COUNTIF([1]理科!AX14,1)*[1]理科!$AX$10","v":0},{"$f":"COUNTIF([1]理科!AY14,1)*[1]理科!$AY$10","v":0},{"$f":"COUNTIF([1]理科!AZ14,1)*[1]理科!$AZ$10","v":0},{"$f":"COUNTIF([1]理科!BA14,1)*[1]理科!$BA$10","v":0},{"$f":"COUNTIF([1]理科!BB14,1)*[1]理科!$BB$10","v":0},0,null,null,"4問",{"$f":"[1]理科!H58","v":0},null,"4問",45.800000000000004,null,4,1,"（４）","地球"]
[5,{"$f":"COUNTIF([1]理科!E15,1)*[1]理科!$E$10","v":0},{"$f":"COUNTIF([1]理科!F15,1)*[1]理科!$F$10","v":0},{"$f":"COUNTIF([1]理科!G15,1)*[1]理科!$G$10","v":0},{"$f":"COUNTIF([1]理科!H15,1)*[1]理科!$H$10","v":0},{"$f":"COUNTIF([1]理科!I15,1)*[1]理科!$I$10","v":0},{"$f":"COUNTIF([1]理科!J15,1)*[1]理科!$J$10","v":0},{"$f":"COUNTIF([1]理科!K15,1)*[1]理科!$K$10","v":0},{"$f":"COUNTIF([1]理科!L15,1)*[1]理科!$L$10","v":0},{"$f":"COUNTIF([1]理科!M15,1)*[1]理科!$M$10","v":0},{"$f":"COUNTIF([1]理科!N15,1)*[1]理科!$N$10","v":0},{"$f":"COUNTIF([1]理科!O15,1)*[1]理科!$O$10","v":0},{"$f":"COUNTIF([1]理科!P15,1)*[1]理科!$P$10","v":0},{"$f":"COUNTIF([1]理科!Q15,1)*[1]理科!$Q$10","v":0},{"$f":"COUNTIF([1]理科!R15,1)*[1]理科!$R$10","v":0},{"$f":"COUNTIF([1]理科!S15,1)*[1]理科!$S$10","v":0},{"$f":"COUNTIF([1]理科!T15,1)*[1]理科!$T$10","v":0},{"$f":"COUNTIF([1]理科!U15,1)*[1]理科!$U$10","v":0},{"$f":"COUNTIF([1]理科!V15,1)*[1]理科!$V$10","v":0},{"$f":"COUNTIF([1]理科!W15,1)*[1]理科!$W$10","v":0},{"$f":"COUNTIF([1]理科!X15,1)*[1]理科!$X$10","v":0},{"$f":"COUNTIF([1]理科!Y15,1)*[1]理科!$Y$10","v":0},{"$f":"COUNTIF([1]理科!Z15,1)*[1]理科!$Z$10","v":0},{"$f":"COUNTIF([1]理科!AA15,1)*[1]理科!$AA$10","v":0},{"$f":"COUNTIF([1]理科!AB15,1)*[1]理科!$AB$10","v":0},{"$f":"COUNTIF([1]理科!AC15,1)*[1]理科!$AC$10","v":0},{"$f":"COUNTIF([1]理科!AD15,1)*[1]理科!$AD$10","v":0},{"$f":"COUNTIF([1]理科!AE15,1)*[1]理科!$AE$10","v":0},{"$f":"COUNTIF([1]理科!AF15,1)*[1]理科!$AF$10","v":0},{"$f":"COUNTIF([1]理科!AG15,1)*[1]理科!$AG$10","v":0},{"$f":"COUNTIF([1]理科!AH15,1)*[1]理科!$AH$10","v":0},{"$f":"COUNTIF([1]理科!AI15,1)*[1]理科!$AI$10","v":0},{"$f":"COUNTIF([1]理科!AJ15,1)*[1]理科!$AJ$10","v":0},{"$f":"COUNTIF([1]理科!AK15,1)*[1]理科!$AK$10","v":0},{"$f":"COUNTIF([1]理科!AL15,1)*[1]理科!$AL$10","v":0},{"$f":"COUNTIF([1]理科!AM15,1)*[1]理科!$AM$10","v":0},{"$f":"COUNTIF([1]理科!AN15,1)*[1]理科!$AN$10","v":0},{"$f":"COUNTIF([1]理科!AO15,1)*[1]理科!$AO$10","v":0},{"$f":"COUNTIF([1]理科!AP15,1)*[1]理科!$AP$10","v":0},{"$f":"COUNTIF([1]理科!AQ15,1)*[1]理科!$AQ$10","v":0},{"$f":"COUNTIF([1]理科!AR15,1)*[1]理科!$AR$10","v":0},{"$f":"COUNTIF([1]理科!AS15,1)*[1]理科!$AS$10","v":0},{"$f":"COUNTIF([1]理科!AT15,1)*[1]理科!$AT$10","v":0},{"$f":"COUNTIF([1]理科!AU15,1)*[1]理科!$AU$10","v":0},{"$f":"COUNTIF([1]理科!AV15,1)*[1]理科!$AV$10","v":0},{"$f":"COUNTIF([1]理科!AW15,1)*[1]理科!$AW$10","v":0},{"$f":"COUNTIF([1]理科!AX15,1)*[1]理科!$AX$10","v":0},{"$f":"COUNTIF([1]理科!AY15,1)*[1]理科!$AY$10","v":0},{"$f":"COUNTIF([1]理科!AZ15,1)*[1]理科!$AZ$10","v":0},{"$f":"COUNTIF([1]理科!BA15,1)*[1]理科!$BA$10","v":0},{"$f":"COUNTIF([1]理科!BB15,1)*[1]理科!$BB$10","v":0},0,null,null,"5問",{"$f":"[1]理科!I58","v":0},null,"5問",88.3,null,5,1,"（５）","地球"]
[6,{"$f":"COUNTIF([1]理科!E16,1)*[1]理科!$E$10","v":0},{"$f":"COUNTIF([1]理科!F16,1)*[1]理科!$F$10","v":0},{"$f":"COUNTIF([1]理科!G16,1)*[1]理科!$G$10","v":0},{"$f":"COUNTIF([1]理科!H16,1)*[1]理科!$H$10","v":0},{"$f":"COUNTIF([1]理科!I16,1)*[1]理科!$I$10","v":0},{"$f":"COUNTIF([1]理科!J16,1)*[1]理科!$J$10","v":0},{"$f":"COUNTIF([1]理科!K16,1)*[1]理科!$K$10","v":0},{"$f":"COUNTIF([1]理科!L16,1)*[1]理科!$L$10","v":0},{"$f":"COUNTIF([1]理科!M16,1)*[1]理科!$M$10","v":0},{"$f":"COUNTIF([1]理科!N16,1)*[1]理科!$N$10","v":0},{"$f":"COUNTIF([1]理科!O16,1)*[1]理科!$O$10","v":0},{"$f":"COUNTIF([1]理科!P16,1)*[1]理科!$P$10","v":0},{"$f":"COUNTIF([1]理科!Q16,1)*[1]理科!$Q$10","v":0},{"$f":"COUNTIF([1]理科!R16,1)*[1]理科!$R$10","v":0},{"$f":"COUNTIF([1]理科!S16,1)*[1]理科!$S$10","v":0},{"$f":"COUNTIF([1]理科!T16,1)*[1]理科!$T$10","v":0},{"$f":"COUNTIF([1]理科!U16,1)*[1]理科!$U$10","v":0},{"$f":"COUNTIF([1]理科!V16,1)*[1]理科!$V$10","v":0},{"$f":"COUNTIF([1]理科!W16,1)*[1]理科!$W$10","v":0},{"$f":"COUNTIF([1]理科!X16,1)*[1]理科!$X$10","v":0},{"$f":"COUNTIF([1]理科!Y16,1)*[1]理科!$Y$10","v":0},{"$f":"COUNTIF([1]理科!Z16,1)*[1]理科!$Z$10","v":0},{"$f":"COUNTIF([1]理科!AA16,1)*[1]理科!$AA$10","v":0},{"$f":"COUNTIF([1]理科!AB16,1)*[1]理科!$AB$10","v":0},{"$f":"COUNTIF([1]理科!AC16,1)*[1]理科!$AC$10","v":0},{"$f":"COUNTIF([1]理科!AD16,1)*[1]理科!$AD$10","v":0},{"$f":"COUNTIF([1]理科!AE16,1)*[1]理科!$AE$10","v":0},{"$f":"COUNTIF([1]理科!AF16,1)*[1]理科!$AF$10","v":0},{"$f":"COUNTIF([1]理科!AG16,1)*[1]理科!$AG$10","v":0},{"$f":"COUNTIF([1]理科!AH16,1)*[1]理科!$AH$10","v":0},{"$f":"COUNTIF([1]理科!AI16,1)*[1]理科!$AI$10","v":0},{"$f":"COUNTIF([1]理科!AJ16,1)*[1]理科!$AJ$10","v":0},{"$f":"COUNTIF([1]理科!AK16,1)*[1]理科!$AK$10","v":0},{"$f":"COUNTIF([1]理科!AL16,1)*[1]理科!$AL$10","v":0},{"$f":"COUNTIF([1]理科!AM16,1)*[1]理科!$AM$10","v":0},{"$f":"COUNTIF([1]理科!AN16,1)*[1]理科!$AN$10","v":0},{"$f":"COUNTIF([1]理科!AO16,1)*[1]理科!$AO$10","v":0},{"$f":"COUNTIF([1]理科!AP16,1)*[1]理科!$AP$10","v":0},{"$f":"COUNTIF([1]理科!AQ16,1)*[1]理科!$AQ$10","v":0},{"$f":"COUNTIF([1]理科!AR16,1)*[1]理科!$AR$10","v":0},{"$f":"COUNTIF([1]理科!AS16,1)*[1]理科!$AS$10","v":0},{"$f":"COUNTIF([1]理科!AT16,1)*[1]理科!$AT$10","v":0},{"$f":"COUNTIF([1]理科!AU16,1)*[1]理科!$AU$10","v":0},{"$f":"COUNTIF([1]理科!AV16,1)*[1]理科!$AV$10","v":0},{"$f":"COUNTIF([1]理科!AW16,1)*[1]理科!$AW$10","v":0},{"$f":"COUNTIF([1]理科!AX16,1)*[1]理科!$AX$10","v":0},{"$f":"COUNTIF([1]理科!AY16,1)*[1]理科!$AY$10","v":0},{"$f":"COUNTIF([1]理科!AZ16,1)*[1]理科!$AZ$10","v":0},{"$f":"COUNTIF([1]理科!BA16,1)*[1]理科!$BA$10","v":0},{"$f":"COUNTIF([1]理科!BB16,1)*[1]理科!$BB$10","v":0},0,null,null,"6問",{"$f":"[1]理科!J58","v":0},null,"6問",80.400000000000006,null,6,1,"（６）","生命"]
[7,{"$f":"COUNTIF([1]理科!E17,1)*[1]理科!$E$10","v":0},{"$f":"COUNTIF([1]理科!F17,1)*[1]理科!$F$10","v":0},{"$f":"COUNTIF([1]理科!G17,1)*[1]理科!$G$10","v":0},{"$f":"COUNTIF([1]理科!H17,1)*[1]理科!$H$10","v":0},{"$f":"COUNTIF([1]理科!I17,1)*[1]理科!$I$10","v":0},{"$f":"COUNTIF([1]理科!J17,1)*[1]理科!$J$10","v":0},{"$f":"COUNTIF([1]理科!K17,1)*[1]理科!$K$10","v":0},{"$f":"COUNTIF([1]理科!L17,1)*[1]理科!$L$10","v":0},{"$f":"COUNTIF([1]理科!M17,1)*[1]理科!$M$10","v":0},{"$f":"COUNTIF([1]理科!N17,1)*[1]理科!$N$10","v":0},{"$f":"COUNTIF([1]理科!O17,1)*[1]理科!$O$10","v":0},{"$f":"COUNTIF([1]理科!P17,1)*[1]理科!$P$10","v":0},{"$f":"COUNTIF([1]理科!Q17,1)*[1]理科!$Q$10","v":0},{"$f":"COUNTIF([1]理科!R17,1)*[1]理科!$R$10","v":0},{"$f":"COUNTIF([1]理科!S17,1)*[1]理科!$S$10","v":0},{"$f":"COUNTIF([1]理科!T17,1)*[1]理科!$T$10","v":0},{"$f":"COUNTIF([1]理科!U17,1)*[1]理科!$U$10","v":0},{"$f":"COUNTIF([1]理科!V17,1)*[1]理科!$V$10","v":0},{"$f":"COUNTIF([1]理科!W17,1)*[1]理科!$W$10","v":0},{"$f":"COUNTIF([1]理科!X17,1)*[1]理科!$X$10","v":0},{"$f":"COUNTIF([1]理科!Y17,1)*[1]理科!$Y$10","v":0},{"$f":"COUNTIF([1]理科!Z17,1)*[1]理科!$Z$10","v":0},{"$f":"COUNTIF([1]理科!AA17,1)*[1]理科!$AA$10","v":0},{"$f":"COUNTIF([1]理科!AB17,1)*[1]理科!$AB$10","v":0},{"$f":"COUNTIF([1]理科!AC17,1)*[1]理科!$AC$10","v":0},{"$f":"COUNTIF([1]理科!AD17,1)*[1]理科!$AD$10","v":0},{"$f":"COUNTIF([1]理科!AE17,1)*[1]理科!$AE$10","v":0},{"$f":"COUNTIF([1]理科!AF17,1)*[1]理科!$AF$10","v":0},{"$f":"COUNTIF([1]理科!AG17,1)*[1]理科!$AG$10","v":0},{"$f":"COUNTIF([1]理科!AH17,1)*[1]理科!$AH$10","v":0},{"$f":"COUNTIF([1]理科!AI17,1)*[1]理科!$AI$10","v":0},{"$f":"COUNTIF([1]理科!AJ17,1)*[1]理科!$AJ$10","v":0},{"$f":"COUNTIF([1]理科!AK17,1)*[1]理科!$AK$10","v":0},{"$f":"COUNTIF([1]理科!AL17,1)*[1]理科!$AL$10","v":0},{"$f":"COUNTIF([1]理科!AM17,1)*[1]理科!$AM$10","v":0},{"$f":"COUNTIF([1]理科!AN17,1)*[1]理科!$AN$10","v":0},{"$f":"COUNTIF([1]理科!AO17,1)*[1]理科!$AO$10","v":0},{"$f":"COUNTIF([1]理科!AP17,1)*[1]理科!$AP$10","v":0},{"$f":"COUNTIF([1]理科!AQ17,1)*[1]理科!$AQ$10","v":0},{"$f":"COUNTIF([1]理科!AR17,1)*[1]理科!$AR$10","v":0},{"$f":"COUNTIF([1]理科!AS17,1)*[1]理科!$AS$10","v":0},{"$f":"COUNTIF([1]理科!AT17,1)*[1]理科!$AT$10","v":0},{"$f":"COUNTIF([1]理科!AU17,1)*[1]理科!$AU$10","v":0},{"$f":"COUNTIF([1]理科!AV17,1)*[1]理科!$AV$10","v":0},{"$f":"COUNTIF([1]理科!AW17,1)*[1]理科!$AW$10","v":0},{"$f":"COUNTIF([1]理科!AX17,1)*[1]理科!$AX$10","v":0},{"$f":"COUNTIF([1]理科!AY17,1)*[1]理科!$AY$10","v":0},{"$f":"COUNTIF([1]理科!AZ17,1)*[1]理科!$AZ$10","v":0},{"$f":"COUNTIF([1]理科!BA17,1)*[1]理科!$BA$10","v":0},{"$f":"COUNTIF([1]理科!BB17,1)*[1]理科!$BB$10","v":0},0,null,null,"7問",{"$f":"[1]理科!K58","v":0},null,"7問",84.899999999999991,null,7,2,"（１）","地球"]
[8,{"$f":"COUNTIF([1]理科!E18,1)*[1]理科!$E$10","v":0},{"$f":"COUNTIF([1]理科!F18,1)*[1]理科!$F$10","v":0},{"$f":"COUNTIF([1]理科!G18,1)*[1]理科!$G$10","v":0},{"$f":"COUNTIF([1]理科!H18,1)*[1]理科!$H$10","v":0},{"$f":"COUNTIF([1]理科!I18,1)*[1]理科!$I$10","v":0},{"$f":"COUNTIF([1]理科!J18,1)*[1]理科!$J$10","v":0},{"$f":"COUNTIF([1]理科!K18,1)*[1]理科!$K$10","v":0},{"$f":"COUNTIF([1]理科!L18,1)*[1]理科!$L$10","v":0},{"$f":"COUNTIF([1]理科!M18,1)*[1]理科!$M$10","v":0},{"$f":"COUNTIF([1]理科!N18,1)*[1]理科!$N$10","v":0},{"$f":"COUNTIF([1]理科!O18,1)*[1]理科!$O$10","v":0},{"$f":"COUNTIF([1]理科!P18,1)*[1]理科!$P$10","v":0},{"$f":"COUNTIF([1]理科!Q18,1)*[1]理科!$Q$10","v":0},{"$f":"COUNTIF([1]理科!R18,1)*[1]理科!$R$10","v":0},{"$f":"COUNTIF([1]理科!S18,1)*[1]理科!$S$10","v":0},{"$f":"COUNTIF([1]理科!T18,1)*[1]理科!$T$10","v":0},{"$f":"COUNTIF([1]理科!U18,1)*[1]理科!$U$10","v":0},{"$f":"COUNTIF([1]理科!V18,1)*[1]理科!$V$10","v":0},{"$f":"COUNTIF([1]理科!W18,1)*[1]理科!$W$10","v":0},{"$f":"COUNTIF([1]理科!X18,1)*[1]理科!$X$10","v":0},{"$f":"COUNTIF([1]理科!Y18,1)*[1]理科!$Y$10","v":0},{"$f":"COUNTIF([1]理科!Z18,1)*[1]理科!$Z$10","v":0},{"$f":"COUNTIF([1]理科!AA18,1)*[1]理科!$AA$10","v":0},{"$f":"COUNTIF([1]理科!AB18,1)*[1]理科!$AB$10","v":0},{"$f":"COUNTIF([1]理科!AC18,1)*[1]理科!$AC$10","v":0},{"$f":"COUNTIF([1]理科!AD18,1)*[1]理科!$AD$10","v":0},{"$f":"COUNTIF([1]理科!AE18,1)*[1]理科!$AE$10","v":0},{"$f":"COUNTIF([1]理科!AF18,1)*[1]理科!$AF$10","v":0},{"$f":"COUNTIF([1]理科!AG18,1)*[1]理科!$AG$10","v":0},{"$f":"COUNTIF([1]理科!AH18,1)*[1]理科!$AH$10","v":0},{"$f":"COUNTIF([1]理科!AI18,1)*[1]理科!$AI$10","v":0},{"$f":"COUNTIF([1]理科!AJ18,1)*[1]理科!$AJ$10","v":0},{"$f":"COUNTIF([1]理科!AK18,1)*[1]理科!$AK$10","v":0},{"$f":"COUNTIF([1]理科!AL18,1)*[1]理科!$AL$10","v":0},{"$f":"COUNTIF([1]理科!AM18,1)*[1]理科!$AM$10","v":0},{"$f":"COUNTIF([1]理科!AN18,1)*[1]理科!$AN$10","v":0},{"$f":"COUNTIF([1]理科!AO18,1)*[1]理科!$AO$10","v":0},{"$f":"COUNTIF([1]理科!AP18,1)*[1]理科!$AP$10","v":0},{"$f":"COUNTIF([1]理科!AQ18,1)*[1]理科!$AQ$10","v":0},{"$f":"COUNTIF([1]理科!AR18,1)*[1]理科!$AR$10","v":0},{"$f":"COUNTIF([1]理科!AS18,1)*[1]理科!$AS$10","v":0},{"$f":"COUNTIF([1]理科!AT18,1)*[1]理科!$AT$10","v":0},{"$f":"COUNTIF([1]理科!AU18,1)*[1]理科!$AU$10","v":0},{"$f":"COUNTIF([1]理科!AV18,1)*[1]理科!$AV$10","v":0},{"$f":"COUNTIF([1]理科!AW18,1)*[1]理科!$AW$10","v":0},{"$f":"COUNTIF([1]理科!AX18,1)*[1]理科!$AX$10","v":0},{"$f":"COUNTIF([1]理科!AY18,1)*[1]理科!$AY$10","v":0},{"$f":"COUNTIF([1]理科!AZ18,1)*[1]理科!$AZ$10","v":0},{"$f":"COUNTIF([1]理科!BA18,1)*[1]理科!$BA$10","v":0},{"$f":"COUNTIF([1]理科!BB18,1)*[1]理科!$BB$10","v":0},0,null,null,"8問",{"$f":"[1]理科!L58","v":0},null,"8問",90.8,null,8,2,"（２）","地球"]
[9,{"$f":"COUNTIF([1]理科!E19,1)*[1]理科!$E$10","v":0},{"$f":"COUNTIF([1]理科!F19,1)*[1]理科!$F$10","v":0},{"$f":"COUNTIF([1]理科!G19,1)*[1]理科!$G$10","v":0},{"$f":"COUNTIF([1]理科!H19,1)*[1]理科!$H$10","v":0},{"$f":"COUNTIF([1]理科!I19,1)*[1]理科!$I$10","v":0},{"$f":"COUNTIF([1]理科!J19,1)*[1]理科!$J$10","v":0},{"$f":"COUNTIF([1]理科!K19,1)*[1]理科!$K$10","v":0},{"$f":"COUNTIF([1]理科!L19,1)*[1]理科!$L$10","v":0},{"$f":"COUNTIF([1]理科!M19,1)*[1]理科!$M$10","v":0},{"$f":"COUNTIF([1]理科!N19,1)*[1]理科!$N$10","v":0},{"$f":"COUNTIF([1]理科!O19,1)*[1]理科!$O$10","v":0},{"$f":"COUNTIF([1]理科!P19,1)*[1]理科!$P$10","v":0},{"$f":"COUNTIF([1]理科!Q19,1)*[1]理科!$Q$10","v":0},{"$f":"COUNTIF([1]理科!R19,1)*[1]理科!$R$10","v":0},{"$f":"COUNTIF([1]理科!S19,1)*[1]理科!$S$10","v":0},{"$f":"COUNTIF([1]理科!T19,1)*[1]理科!$T$10","v":0},{"$f":"COUNTIF([1]理科!U19,1)*[1]理科!$U$10","v":0},{"$f":"COUNTIF([1]理科!V19,1)*[1]理科!$V$10","v":0},{"$f":"COUNTIF([1]理科!W19,1)*[1]理科!$W$10","v":0},{"$f":"COUNTIF([1]理科!X19,1)*[1]理科!$X$10","v":0},{"$f":"COUNTIF([1]理科!Y19,1)*[1]理科!$Y$10","v":0},{"$f":"COUNTIF([1]理科!Z19,1)*[1]理科!$Z$10","v":0},{"$f":"COUNTIF([1]理科!AA19,1)*[1]理科!$AA$10","v":0},{"$f":"COUNTIF([1]理科!AB19,1)*[1]理科!$AB$10","v":0},{"$f":"COUNTIF([1]理科!AC19,1)*[1]理科!$AC$10","v":0},{"$f":"COUNTIF([1]理科!AD19,1)*[1]理科!$AD$10","v":0},{"$f":"COUNTIF([1]理科!AE19,1)*[1]理科!$AE$10","v":0},{"$f":"COUNTIF([1]理科!AF19,1)*[1]理科!$AF$10","v":0},{"$f":"COUNTIF([1]理科!AG19,1)*[1]理科!$AG$10","v":0},{"$f":"COUNTIF([1]理科!AH19,1)*[1]理科!$AH$10","v":0},{"$f":"COUNTIF([1]理科!AI19,1)*[1]理科!$AI$10","v":0},{"$f":"COUNTIF([1]理科!AJ19,1)*[1]理科!$AJ$10","v":0},{"$f":"COUNTIF([1]理科!AK19,1)*[1]理科!$AK$10","v":0},{"$f":"COUNTIF([1]理科!AL19,1)*[1]理科!$AL$10","v":0},{"$f":"COUNTIF([1]理科!AM19,1)*[1]理科!$AM$10","v":0},{"$f":"COUNTIF([1]理科!AN19,1)*[1]理科!$AN$10","v":0},{"$f":"COUNTIF([1]理科!AO19,1)*[1]理科!$AO$10","v":0},{"$f":"COUNTIF([1]理科!AP19,1)*[1]理科!$AP$10","v":0},{"$f":"COUNTIF([1]理科!AQ19,1)*[1]理科!$AQ$10","v":0},{"$f":"COUNTIF([1]理科!AR19,1)*[1]理科!$AR$10","v":0},{"$f":"COUNTIF([1]理科!AS19,1)*[1]理科!$AS$10","v":0},{"$f":"COUNTIF([1]理科!AT19,1)*[1]理科!$AT$10","v":0},{"$f":"COUNTIF([1]理科!AU19,1)*[1]理科!$AU$10","v":0},{"$f":"COUNTIF([1]理科!AV19,1)*[1]理科!$AV$10","v":0},{"$f":"COUNTIF([1]理科!AW19,1)*[1]理科!$AW$10","v":0},{"$f":"COUNTIF([1]理科!AX19,1)*[1]理科!$AX$10","v":0},{"$f":"COUNTIF([1]理科!AY19,1)*[1]理科!$AY$10","v":0},{"$f":"COUNTIF([1]理科!AZ19,1)*[1]理科!$AZ$10","v":0},{"$f":"COUNTIF([1]理科!BA19,1)*[1]理科!$BA$10","v":0},{"$f":"COUNTIF([1]理科!BB19,1)*[1]理科!$BB$10","v":0},0,null,null,"9問",{"$f":"[1]理科!M58","v":0},null,"9問",94.1,null,9,2,"（３）","地球"]
[10,{"$f":"COUNTIF([1]理科!E20,1)*[1]理科!$E$10","v":0},{"$f":"COUNTIF([1]理科!F20,1)*[1]理科!$F$10","v":0},{"$f":"COUNTIF([1]理科!G20,1)*[1]理科!$G$10","v":0},{"$f":"COUNTIF([1]理科!H20,1)*[1]理科!$H$10","v":0},{"$f":"COUNTIF([1]理科!I20,1)*[1]理科!$I$10","v":0},{"$f":"COUNTIF([1]理科!J20,1)*[1]理科!$J$10","v":0},{"$f":"COUNTIF([1]理科!K20,1)*[1]理科!$K$10","v":0},{"$f":"COUNTIF([1]理科!L20,1)*[1]理科!$L$10","v":0},{"$f":"COUNTIF([1]理科!M20,1)*[1]理科!$M$10","v":0},{"$f":"COUNTIF([1]理科!N20,1)*[1]理科!$N$10","v":0},{"$f":"COUNTIF([1]理科!O20,1)*[1]理科!$O$10","v":0},{"$f":"COUNTIF([1]理科!P20,1)*[1]理科!$P$10","v":0},{"$f":"COUNTIF([1]理科!Q20,1)*[1]理科!$Q$10","v":0},{"$f":"COUNTIF([1]理科!R20,1)*[1]理科!$R$10","v":0},{"$f":"COUNTIF([1]理科!S20,1)*[1]理科!$S$10","v":0},{"$f":"COUNTIF([1]理科!T20,1)*[1]理科!$T$10","v":0},{"$f":"COUNTIF([1]理科!U20,1)*[1]理科!$U$10","v":0},{"$f":"COUNTIF([1]理科!V20,1)*[1]理科!$V$10","v":0},{"$f":"COUNTIF([1]理科!W20,1)*[1]理科!$W$10","v":0},{"$f":"COUNTIF([1]理科!X20,1)*[1]理科!$X$10","v":0},{"$f":"COUNTIF([1]理科!Y20,1)*[1]理科!$Y$10","v":0},{"$f":"COUNTIF([1]理科!Z20,1)*[1]理科!$Z$10","v":0},{"$f":"COUNTIF([1]理科!AA20,1)*[1]理科!$AA$10","v":0},{"$f":"COUNTIF([1]理科!AB20,1)*[1]理科!$AB$10","v":0},{"$f":"COUNTIF([1]理科!AC20,1)*[1]理科!$AC$10","v":0},{"$f":"COUNTIF([1]理科!AD20,1)*[1]理科!$AD$10","v":0},{"$f":"COUNTIF([1]理科!AE20,1)*[1]理科!$AE$10","v":0},{"$f":"COUNTIF([1]理科!AF20,1)*[1]理科!$AF$10","v":0},{"$f":"COUNTIF([1]理科!AG20,1)*[1]理科!$AG$10","v":0},{"$f":"COUNTIF([1]理科!AH20,1)*[1]理科!$AH$10","v":0},{"$f":"COUNTIF([1]理科!AI20,1)*[1]理科!$AI$10","v":0},{"$f":"COUNTIF([1]理科!AJ20,1)*[1]理科!$AJ$10","v":0},{"$f":"COUNTIF([1]理科!AK20,1)*[1]理科!$AK$10","v":0},{"$f":"COUNTIF([1]理科!AL20,1)*[1]理科!$AL$10","v":0},{"$f":"COUNTIF([1]理科!AM20,1)*[1]理科!$AM$10","v":0},{"$f":"COUNTIF([1]理科!AN20,1)*[1]理科!$AN$10","v":0},{"$f":"COUNTIF([1]理科!AO20,1)*[1]理科!$AO$10","v":0},{"$f":"COUNTIF([1]理科!AP20,1)*[1]理科!$AP$10","v":0},{"$f":"COUNTIF([1]理科!AQ20,1)*[1]理科!$AQ$10","v":0},{"$f":"COUNTIF([1]理科!AR20,1)*[1]理科!$AR$10","v":0},{"$f":"COUNTIF([1]理科!AS20,1)*[1]理科!$AS$10","v":0},{"$f":"COUNTIF([1]理科!AT20,1)*[1]理科!$AT$10","v":0},{"$f":"COUNTIF([1]理科!AU20,1)*[1]理科!$AU$10","v":0},{"$f":"COUNTIF([1]理科!AV20,1)*[1]理科!$AV$10","v":0},{"$f":"COUNTIF([1]理科!AW20,1)*[1]理科!$AW$10","v":0},{"$f":"COUNTIF([1]理科!AX20,1)*[1]理科!$AX$10","v":0},{"$f":"COUNTIF([1]理科!AY20,1)*[1]理科!$AY$10","v":0},{"$f":"COUNTIF([1]理科!AZ20,1)*[1]理科!$AZ$10","v":0},{"$f":"COUNTIF([1]理科!BA20,1)*[1]理科!$BA$10","v":0},{"$f":"COUNTIF([1]理科!BB20,1)*[1]理科!$BB$10","v":0},0,null,null,"10問",{"$f":"[1]理科!N58","v":0},null,"10問",83.8,null,10,2,"（４）","地球"]
[11,{"$f":"COUNTIF([1]理科!E21,1)*[1]理科!$E$10","v":0},{"$f":"COUNTIF([1]理科!F21,1)*[1]理科!$F$10","v":0},{"$f":"COUNTIF([1]理科!G21,1)*[1]理科!$G$10","v":0},{"$f":"COUNTIF([1]理科!H21,1)*[1]理科!$H$10","v":0},{"$f":"COUNTIF([1]理科!I21,1)*[1]理科!$I$10","v":0},{"$f":"COUNTIF([1]理科!J21,1)*[1]理科!$J$10","v":0},{"$f":"COUNTIF([1]理科!K21,1)*[1]理科!$K$10","v":0},{"$f":"COUNTIF([1]理科!L21,1)*[1]理科!$L$10","v":0},{"$f":"COUNTIF([1]理科!M21,1)*[1]理科!$M$10","v":0},{"$f":"COUNTIF([1]理科!N21,1)*[1]理科!$N$10","v":0},{"$f":"COUNTIF([1]理科!O21,1)*[1]理科!$O$10","v":0},{"$f":"COUNTIF([1]理科!P21,1)*[1]理科!$P$10","v":0},{"$f":"COUNTIF([1]理科!Q21,1)*[1]理科!$Q$10","v":0},{"$f":"COUNTIF([1]理科!R21,1)*[1]理科!$R$10","v":0},{"$f":"COUNTIF([1]理科!S21,1)*[1]理科!$S$10","v":0},{"$f":"COUNTIF([1]理科!T21,1)*[1]理科!$T$10","v":0},{"$f":"COUNTIF([1]理科!U21,1)*[1]理科!$U$10","v":0},{"$f":"COUNTIF([1]理科!V21,1)*[1]理科!$V$10","v":0},{"$f":"COUNTIF([1]理科!W21,1)*[1]理科!$W$10","v":0},{"$f":"COUNTIF([1]理科!X21,1)*[1]理科!$X$10","v":0},{"$f":"COUNTIF([1]理科!Y21,1)*[1]理科!$Y$10","v":0},{"$f":"COUNTIF([1]理科!Z21,1)*[1]理科!$Z$10","v":0},{"$f":"COUNTIF([1]理科!AA21,1)*[1]理科!$AA$10","v":0},{"$f":"COUNTIF([1]理科!AB21,1)*[1]理科!$AB$10","v":0},{"$f":"COUNTIF([1]理科!AC21,1)*[1]理科!$AC$10","v":0},{"$f":"COUNTIF([1]理科!AD21,1)*[1]理科!$AD$10","v":0},{"$f":"COUNTIF([1]理科!AE21,1)*[1]理科!$AE$10","v":0},{"$f":"COUNTIF([1]理科!AF21,1)*[1]理科!$AF$10","v":0},{"$f":"COUNTIF([1]理科!AG21,1)*[1]理科!$AG$10","v":0},{"$f":"COUNTIF([1]理科!AH21,1)*[1]理科!$AH$10","v":0},{"$f":"COUNTIF([1]理科!AI21,1)*[1]理科!$AI$10","v":0},{"$f":"COUNTIF([1]理科!AJ21,1)*[1]理科!$AJ$10","v":0},{"$f":"COUNTIF([1]理科!AK21,1)*[1]理科!$AK$10","v":0},{"$f":"COUNTIF([1]理科!AL21,1)*[1]理科!$AL$10","v":0},{"$f":"COUNTIF([1]理科!AM21,1)*[1]理科!$AM$10","v":0},{"$f":"COUNTIF([1]理科!AN21,1)*[1]理科!$AN$10","v":0},{"$f":"COUNTIF([1]理科!AO21,1)*[1]理科!$AO$10","v":0},{"$f":"COUNTIF([1]理科!AP21,1)*[1]理科!$AP$10","v":0},{"$f":"COUNTIF([1]理科!AQ21,1)*[1]理科!$AQ$10","v":0},{"$f":"COUNTIF([1]理科!AR21,1)*[1]理科!$AR$10","v":0},{"$f":"COUNTIF([1]理科!AS21,1)*[1]理科!$AS$10","v":0},{"$f":"COUNTIF([1]理科!AT21,1)*[1]理科!$AT$10","v":0},{"$f":"COUNTIF([1]理科!AU21,1)*[1]理科!$AU$10","v":0},{"$f":"COUNTIF([1]理科!AV21,1)*[1]理科!$AV$10","v":0},{"$f":"COUNTIF([1]理科!AW21,1)*[1]理科!$AW$10","v":0},{"$f":"COUNTIF([1]理科!AX21,1)*[1]理科!$AX$10","v":0},{"$f":"COUNTIF([1]理科!AY21,1)*[1]理科!$AY$10","v":0},{"$f":"COUNTIF([1]理科!AZ21,1)*[1]理科!$AZ$10","v":0},{"$f":"COUNTIF([1]理科!BA21,1)*[1]理科!$BA$10","v":0},{"$f":"COUNTIF([1]理科!BB21,1)*[1]理科!$BB$10","v":0},0,null,null,"11問",{"$f":"[1]理科!O58","v":0},null,"11問",41.8,null,11,3,"（１）","エネルギー"]
[12,{"$f":"COUNTIF([1]理科!E22,1)*[1]理科!$E$10","v":0},{"$f":"COUNTIF([1]理科!F22,1)*[1]理科!$F$10","v":0},{"$f":"COUNTIF([1]理科!G22,1)*[1]理科!$G$10","v":0},{"$f":"COUNTIF([1]理科!H22,1)*[1]理科!$H$10","v":0},{"$f":"COUNTIF([1]理科!I22,1)*[1]理科!$I$10","v":0},{"$f":"COUNTIF([1]理科!J22,1)*[1]理科!$J$10","v":0},{"$f":"COUNTIF([1]理科!K22,1)*[1]理科!$K$10","v":0},{"$f":"COUNTIF([1]理科!L22,1)*[1]理科!$L$10","v":0},{"$f":"COUNTIF([1]理科!M22,1)*[1]理科!$M$10","v":0},{"$f":"COUNTIF([1]理科!N22,1)*[1]理科!$N$10","v":0},{"$f":"COUNTIF([1]理科!O22,1)*[1]理科!$O$10","v":0},{"$f":"COUNTIF([1]理科!P22,1)*[1]理科!$P$10","v":0},{"$f":"COUNTIF([1]理科!Q22,1)*[1]理科!$Q$10","v":0},{"$f":"COUNTIF([1]理科!R22,1)*[1]理科!$R$10","v":0},{"$f":"COUNTIF([1]理科!S22,1)*[1]理科!$S$10","v":0},{"$f":"COUNTIF([1]理科!T22,1)*[1]理科!$T$10","v":0},{"$f":"COUNTIF([1]理科!U22,1)*[1]理科!$U$10","v":0},{"$f":"COUNTIF([1]理科!V22,1)*[1]理科!$V$10","v":0},{"$f":"COUNTIF([1]理科!W22,1)*[1]理科!$W$10","v":0},{"$f":"COUNTIF([1]理科!X22,1)*[1]理科!$X$10","v":0},{"$f":"COUNTIF([1]理科!Y22,1)*[1]理科!$Y$10","v":0},{"$f":"COUNTIF([1]理科!Z22,1)*[1]理科!$Z$10","v":0},{"$f":"COUNTIF([1]理科!AA22,1)*[1]理科!$AA$10","v":0},{"$f":"COUNTIF([1]理科!AB22,1)*[1]理科!$AB$10","v":0},{"$f":"COUNTIF([1]理科!AC22,1)*[1]理科!$AC$10","v":0},{"$f":"COUNTIF([1]理科!AD22,1)*[1]理科!$AD$10","v":0},{"$f":"COUNTIF([1]理科!AE22,1)*[1]理科!$AE$10","v":0},{"$f":"COUNTIF([1]理科!AF22,1)*[1]理科!$AF$10","v":0},{"$f":"COUNTIF([1]理科!AG22,1)*[1]理科!$AG$10","v":0},{"$f":"COUNTIF([1]理科!AH22,1)*[1]理科!$AH$10","v":0},{"$f":"COUNTIF([1]理科!AI22,1)*[1]理科!$AI$10","v":0},{"$f":"COUNTIF([1]理科!AJ22,1)*[1]理科!$AJ$10","v":0},{"$f":"COUNTIF([1]理科!AK22,1)*[1]理科!$AK$10","v":0},{"$f":"COUNTIF([1]理科!AL22,1)*[1]理科!$AL$10","v":0},{"$f":"COUNTIF([1]理科!AM22,1)*[1]理科!$AM$10","v":0},{"$f":"COUNTIF([1]理科!AN22,1)*[1]理科!$AN$10","v":0},{"$f":"COUNTIF([1]理科!AO22,1)*[1]理科!$AO$10","v":0},{"$f":"COUNTIF([1]理科!AP22,1)*[1]理科!$AP$10","v":0},{"$f":"COUNTIF([1]理科!AQ22,1)*[1]理科!$AQ$10","v":0},{"$f":"COUNTIF([1]理科!AR22,1)*[1]理科!$AR$10","v":0},{"$f":"COUNTIF([1]理科!AS22,1)*[1]理科!$AS$10","v":0},{"$f":"COUNTIF([1]理科!AT22,1)*[1]理科!$AT$10","v":0},{"$f":"COUNTIF([1]理科!AU22,1)*[1]理科!$AU$10","v":0},{"$f":"COUNTIF([1]理科!AV22,1)*[1]理科!$AV$10","v":0},{"$f":"COUNTIF([1]理科!AW22,1)*[1]理科!$AW$10","v":0},{"$f":"COUNTIF([1]理科!AX22,1)*[1]理科!$AX$10","v":0},{"$f":"COUNTIF([1]理科!AY22,1)*[1]理科!$AY$10","v":0},{"$f":"COUNTIF([1]理科!AZ22,1)*[1]理科!$AZ$10","v":0},{"$f":"COUNTIF([1]理科!BA22,1)*[1]理科!$BA$10","v":0},{"$f":"COUNTIF([1]理科!BB22,1)*[1]理科!$BB$10","v":0},0,null,null,"12問",{"$f":"[1]理科!P58","v":0},null,"12問",36.4,null,12,3,"（２）","エネルギー"]
[13,{"$f":"COUNTIF([1]理科!E23,1)*[1]理科!$E$10","v":0},{"$f":"COUNTIF([1]理科!F23,1)*[1]理科!$F$10","v":0},{"$f":"COUNTIF([1]理科!G23,1)*[1]理科!$G$10","v":0},{"$f":"COUNTIF([1]理科!H23,1)*[1]理科!$H$10","v":0},{"$f":"COUNTIF([1]理科!I23,1)*[1]理科!$I$10","v":0},{"$f":"COUNTIF([1]理科!J23,1)*[1]理科!$J$10","v":0},{"$f":"COUNTIF([1]理科!K23,1)*[1]理科!$K$10","v":0},{"$f":"COUNTIF([1]理科!L23,1)*[1]理科!$L$10","v":0},{"$f":"COUNTIF([1]理科!M23,1)*[1]理科!$M$10","v":0},{"$f":"COUNTIF([1]理科!N23,1)*[1]理科!$N$10","v":0},{"$f":"COUNTIF([1]理科!O23,1)*[1]理科!$O$10","v":0},{"$f":"COUNTIF([1]理科!P23,1)*[1]理科!$P$10","v":0},{"$f":"COUNTIF([1]理科!Q23,1)*[1]理科!$Q$10","v":0},{"$f":"COUNTIF([1]理科!R23,1)*[1]理科!$R$10","v":0},{"$f":"COUNTIF([1]理科!S23,1)*[1]理科!$S$10","v":0},{"$f":"COUNTIF([1]理科!T23,1)*[1]理科!$T$10","v":0},{"$f":"COUNTIF([1]理科!U23,1)*[1]理科!$U$10","v":0},{"$f":"COUNTIF([1]理科!V23,1)*[1]理科!$V$10","v":0},{"$f":"COUNTIF([1]理科!W23,1)*[1]理科!$W$10","v":0},{"$f":"COUNTIF([1]理科!X23,1)*[1]理科!$X$10","v":0},{"$f":"COUNTIF([1]理科!Y23,1)*[1]理科!$Y$10","v":0},{"$f":"COUNTIF([1]理科!Z23,1)*[1]理科!$Z$10","v":0},{"$f":"COUNTIF([1]理科!AA23,1)*[1]理科!$AA$10","v":0},{"$f":"COUNTIF([1]理科!AB23,1)*[1]理科!$AB$10","v":0},{"$f":"COUNTIF([1]理科!AC23,1)*[1]理科!$AC$10","v":0},{"$f":"COUNTIF([1]理科!AD23,1)*[1]理科!$AD$10","v":0},{"$f":"COUNTIF([1]理科!AE23,1)*[1]理科!$AE$10","v":0},{"$f":"COUNTIF([1]理科!AF23,1)*[1]理科!$AF$10","v":0},{"$f":"COUNTIF([1]理科!AG23,1)*[1]理科!$AG$10","v":0},{"$f":"COUNTIF([1]理科!AH23,1)*[1]理科!$AH$10","v":0},{"$f":"COUNTIF([1]理科!AI23,1)*[1]理科!$AI$10","v":0},{"$f":"COUNTIF([1]理科!AJ23,1)*[1]理科!$AJ$10","v":0},{"$f":"COUNTIF([1]理科!AK23,1)*[1]理科!$AK$10","v":0},{"$f":"COUNTIF([1]理科!AL23,1)*[1]理科!$AL$10","v":0},{"$f":"COUNTIF([1]理科!AM23,1)*[1]理科!$AM$10","v":0},{"$f":"COUNTIF([1]理科!AN23,1)*[1]理科!$AN$10","v":0},{"$f":"COUNTIF([1]理科!AO23,1)*[1]理科!$AO$10","v":0},{"$f":"COUNTIF([1]理科!AP23,1)*[1]理科!$AP$10","v":0},{"$f":"COUNTIF([1]理科!AQ23,1)*[1]理科!$AQ$10","v":0},{"$f":"COUNTIF([1]理科!AR23,1)*[1]理科!$AR$10","v":0},{"$f":"COUNTIF([1]理科!AS23,1)*[1]理科!$AS$10","v":0},{"$f":"COUNTIF([1]理科!AT23,1)*[1]理科!$AT$10","v":0},{"$f":"COUNTIF([1]理科!AU23,1)*[1]理科!$AU$10","v":0},{"$f":"COUNTIF([1]理科!AV23,1)*[1]理科!$AV$10","v":0},{"$f":"COUNTIF([1]理科!AW23,1)*[1]理科!$AW$10","v":0},{"$f":"COUNTIF([1]理科!AX23,1)*[1]理科!$AX$10","v":0},{"$f":"COUNTIF([1]理科!AY23,1)*[1]理科!$AY$10","v":0},{"$f":"COUNTIF([1]理科!AZ23,1)*[1]理科!$AZ$10","v":0},{"$f":"COUNTIF([1]理科!BA23,1)*[1]理科!$BA$10","v":0},{"$f":"COUNTIF([1]理科!BB23,1)*[1]理科!$BB$10","v":0},0,null,null,"13問",{"$f":"[1]理科!Q58","v":0},null,"13問",79.100000000000009,null,13,4,"（１）","物質"]
[14,{"$f":"COUNTIF([1]理科!E24,1)*[1]理科!$E$10","v":0},{"$f":"COUNTIF([1]理科!F24,1)*[1]理科!$F$10","v":0},{"$f":"COUNTIF([1]理科!G24,1)*[1]理科!$G$10","v":0},{"$f":"COUNTIF([1]理科!H24,1)*[1]理科!$H$10","v":0},{"$f":"COUNTIF([1]理科!I24,1)*[1]理科!$I$10","v":0},{"$f":"COUNTIF([1]理科!J24,1)*[1]理科!$J$10","v":0},{"$f":"COUNTIF([1]理科!K24,1)*[1]理科!$K$10","v":0},{"$f":"COUNTIF([1]理科!L24,1)*[1]理科!$L$10","v":0},{"$f":"COUNTIF([1]理科!M24,1)*[1]理科!$M$10","v":0},{"$f":"COUNTIF([1]理科!N24,1)*[1]理科!$N$10","v":0},{"$f":"COUNTIF([1]理科!O24,1)*[1]理科!$O$10","v":0},{"$f":"COUNTIF([1]理科!P24,1)*[1]理科!$P$10","v":0},{"$f":"COUNTIF([1]理科!Q24,1)*[1]理科!$Q$10","v":0},{"$f":"COUNTIF([1]理科!R24,1)*[1]理科!$R$10","v":0},{"$f":"COUNTIF([1]理科!S24,1)*[1]理科!$S$10","v":0},{"$f":"COUNTIF([1]理科!T24,1)*[1]理科!$T$10","v":0},{"$f":"COUNTIF([1]理科!U24,1)*[1]理科!$U$10","v":0},{"$f":"COUNTIF([1]理科!V24,1)*[1]理科!$V$10","v":0},{"$f":"COUNTIF([1]理科!W24,1)*[1]理科!$W$10","v":0},{"$f":"COUNTIF([1]理科!X24,1)*[1]理科!$X$10","v":0},{"$f":"COUNTIF([1]理科!Y24,1)*[1]理科!$Y$10","v":0},{"$f":"COUNTIF([1]理科!Z24,1)*[1]理科!$Z$10","v":0},{"$f":"COUNTIF([1]理科!AA24,1)*[1]理科!$AA$10","v":0},{"$f":"COUNTIF([1]理科!AB24,1)*[1]理科!$AB$10","v":0},{"$f":"COUNTIF([1]理科!AC24,1)*[1]理科!$AC$10","v":0},{"$f":"COUNTIF([1]理科!AD24,1)*[1]理科!$AD$10","v":0},{"$f":"COUNTIF([1]理科!AE24,1)*[1]理科!$AE$10","v":0},{"$f":"COUNTIF([1]理科!AF24,1)*[1]理科!$AF$10","v":0},{"$f":"COUNTIF([1]理科!AG24,1)*[1]理科!$AG$10","v":0},{"$f":"COUNTIF([1]理科!AH24,1)*[1]理科!$AH$10","v":0},{"$f":"COUNTIF([1]理科!AI24,1)*[1]理科!$AI$10","v":0},{"$f":"COUNTIF([1]理科!AJ24,1)*[1]理科!$AJ$10","v":0},{"$f":"COUNTIF([1]理科!AK24,1)*[1]理科!$AK$10","v":0},{"$f":"COUNTIF([1]理科!AL24,1)*[1]理科!$AL$10","v":0},{"$f":"COUNTIF([1]理科!AM24,1)*[1]理科!$AM$10","v":0},{"$f":"COUNTIF([1]理科!AN24,1)*[1]理科!$AN$10","v":0},{"$f":"COUNTIF([1]理科!AO24,1)*[1]理科!$AO$10","v":0},{"$f":"COUNTIF([1]理科!AP24,1)*[1]理科!$AP$10","v":0},{"$f":"COUNTIF([1]理科!AQ24,1)*[1]理科!$AQ$10","v":0},{"$f":"COUNTIF([1]理科!AR24,1)*[1]理科!$AR$10","v":0},{"$f":"COUNTIF([1]理科!AS24,1)*[1]理科!$AS$10","v":0},{"$f":"COUNTIF([1]理科!AT24,1)*[1]理科!$AT$10","v":0},{"$f":"COUNTIF([1]理科!AU24,1)*[1]理科!$AU$10","v":0},{"$f":"COUNTIF([1]理科!AV24,1)*[1]理科!$AV$10","v":0},{"$f":"COUNTIF([1]理科!AW24,1)*[1]理科!$AW$10","v":0},{"$f":"COUNTIF([1]理科!AX24,1)*[1]理科!$AX$10","v":0},{"$f":"COUNTIF([1]理科!AY24,1)*[1]理科!$AY$10","v":0},{"$f":"COUNTIF([1]理科!AZ24,1)*[1]理科!$AZ$10","v":0},{"$f":"COUNTIF([1]理科!BA24,1)*[1]理科!$BA$10","v":0},{"$f":"COUNTIF([1]理科!BB24,1)*[1]理科!$BB$10","v":0},0,null,null,"14問",{"$f":"[1]理科!R58","v":0},null,"14問",61.8,null,14,4,"（２）","物質"]
[15,{"$f":"COUNTIF([1]理科!E25,1)*[1]理科!$E$10","v":0},{"$f":"COUNTIF([1]理科!F25,1)*[1]理科!$F$10","v":0},{"$f":"COUNTIF([1]理科!G25,1)*[1]理科!$G$10","v":0},{"$f":"COUNTIF([1]理科!H25,1)*[1]理科!$H$10","v":0},{"$f":"COUNTIF([1]理科!I25,1)*[1]理科!$I$10","v":0},{"$f":"COUNTIF([1]理科!J25,1)*[1]理科!$J$10","v":0},{"$f":"COUNTIF([1]理科!K25,1)*[1]理科!$K$10","v":0},{"$f":"COUNTIF([1]理科!L25,1)*[1]理科!$L$10","v":0},{"$f":"COUNTIF([1]理科!M25,1)*[1]理科!$M$10","v":0},{"$f":"COUNTIF([1]理科!N25,1)*[1]理科!$N$10","v":0},{"$f":"COUNTIF([1]理科!O25,1)*[1]理科!$O$10","v":0},{"$f":"COUNTIF([1]理科!P25,1)*[1]理科!$P$10","v":0},{"$f":"COUNTIF([1]理科!Q25,1)*[1]理科!$Q$10","v":0},{"$f":"COUNTIF([1]理科!R25,1)*[1]理科!$R$10","v":0},{"$f":"COUNTIF([1]理科!S25,1)*[1]理科!$S$10","v":0},{"$f":"COUNTIF([1]理科!T25,1)*[1]理科!$T$10","v":0},{"$f":"COUNTIF([1]理科!U25,1)*[1]理科!$U$10","v":0},{"$f":"COUNTIF([1]理科!V25,1)*[1]理科!$V$10","v":0},{"$f":"COUNTIF([1]理科!W25,1)*[1]理科!$W$10","v":0},{"$f":"COUNTIF([1]理科!X25,1)*[1]理科!$X$10","v":0},{"$f":"COUNTIF([1]理科!Y25,1)*[1]理科!$Y$10","v":0},{"$f":"COUNTIF([1]理科!Z25,1)*[1]理科!$Z$10","v":0},{"$f":"COUNTIF([1]理科!AA25,1)*[1]理科!$AA$10","v":0},{"$f":"COUNTIF([1]理科!AB25,1)*[1]理科!$AB$10","v":0},{"$f":"COUNTIF([1]理科!AC25,1)*[1]理科!$AC$10","v":0},{"$f":"COUNTIF([1]理科!AD25,1)*[1]理科!$AD$10","v":0},{"$f":"COUNTIF([1]理科!AE25,1)*[1]理科!$AE$10","v":0},{"$f":"COUNTIF([1]理科!AF25,1)*[1]理科!$AF$10","v":0},{"$f":"COUNTIF([1]理科!AG25,1)*[1]理科!$AG$10","v":0},{"$f":"COUNTIF([1]理科!AH25,1)*[1]理科!$AH$10","v":0},{"$f":"COUNTIF([1]理科!AI25,1)*[1]理科!$AI$10","v":0},{"$f":"COUNTIF([1]理科!AJ25,1)*[1]理科!$AJ$10","v":0},{"$f":"COUNTIF([1]理科!AK25,1)*[1]理科!$AK$10","v":0},{"$f":"COUNTIF([1]理科!AL25,1)*[1]理科!$AL$10","v":0},{"$f":"COUNTIF([1]理科!AM25,1)*[1]理科!$AM$10","v":0},{"$f":"COUNTIF([1]理科!AN25,1)*[1]理科!$AN$10","v":0},{"$f":"COUNTIF([1]理科!AO25,1)*[1]理科!$AO$10","v":0},{"$f":"COUNTIF([1]理科!AP25,1)*[1]理科!$AP$10","v":0},{"$f":"COUNTIF([1]理科!AQ25,1)*[1]理科!$AQ$10","v":0},{"$f":"COUNTIF([1]理科!AR25,1)*[1]理科!$AR$10","v":0},{"$f":"COUNTIF([1]理科!AS25,1)*[1]理科!$AS$10","v":0},{"$f":"COUNTIF([1]理科!AT25,1)*[1]理科!$AT$10","v":0},{"$f":"COUNTIF([1]理科!AU25,1)*[1]理科!$AU$10","v":0},{"$f":"COUNTIF([1]理科!AV25,1)*[1]理科!$AV$10","v":0},{"$f":"COUNTIF([1]理科!AW25,1)*[1]理科!$AW$10","v":0},{"$f":"COUNTIF([1]理科!AX25,1)*[1]理科!$AX$10","v":0},{"$f":"COUNTIF([1]理科!AY25,1)*[1]理科!$AY$10","v":0},{"$f":"COUNTIF([1]理科!AZ25,1)*[1]理科!$AZ$10","v":0},{"$f":"COUNTIF([1]理科!BA25,1)*[1]理科!$BA$10","v":0},{"$f":"COUNTIF([1]理科!BB25,1)*[1]理科!$BB$10","v":0},0,null,null,"15問",{"$f":"[1]理科!S58","v":0},null,"15問",70.899999999999991,null,15,4,"（３）","物質"]
[16,{"$f":"COUNTIF([1]理科!E26,1)*[1]理科!$E$10","v":0},{"$f":"COUNTIF([1]理科!F26,1)*[1]理科!$F$10","v":0},{"$f":"COUNTIF([1]理科!G26,1)*[1]理科!$G$10","v":0},{"$f":"COUNTIF([1]理科!H26,1)*[1]理科!$H$10","v":0},{"$f":"COUNTIF([1]理科!I26,1)*[1]理科!$I$10","v":0},{"$f":"COUNTIF([1]理科!J26,1)*[1]理科!$J$10","v":0},{"$f":"COUNTIF([1]理科!K26,1)*[1]理科!$K$10","v":0},{"$f":"COUNTIF([1]理科!L26,1)*[1]理科!$L$10","v":0},{"$f":"COUNTIF([1]理科!M26,1)*[1]理科!$M$10","v":0},{"$f":"COUNTIF([1]理科!N26,1)*[1]理科!$N$10","v":0},{"$f":"COUNTIF([1]理科!O26,1)*[1]理科!$O$10","v":0},{"$f":"COUNTIF([1]理科!P26,1)*[1]理科!$P$10","v":0},{"$f":"COUNTIF([1]理科!Q26,1)*[1]理科!$Q$10","v":0},{"$f":"COUNTIF([1]理科!R26,1)*[1]理科!$R$10","v":0},{"$f":"COUNTIF([1]理科!S26,1)*[1]理科!$S$10","v":0},{"$f":"COUNTIF([1]理科!T26,1)*[1]理科!$T$10","v":0},{"$f":"COUNTIF([1]理科!U26,1)*[1]理科!$U$10","v":0},{"$f":"COUNTIF([1]理科!V26,1)*[1]理科!$V$10","v":0},{"$f":"COUNTIF([1]理科!W26,1)*[1]理科!$W$10","v":0},{"$f":"COUNTIF([1]理科!X26,1)*[1]理科!$X$10","v":0},{"$f":"COUNTIF([1]理科!Y26,1)*[1]理科!$Y$10","v":0},{"$f":"COUNTIF([1]理科!Z26,1)*[1]理科!$Z$10","v":0},{"$f":"COUNTIF([1]理科!AA26,1)*[1]理科!$AA$10","v":0},{"$f":"COUNTIF([1]理科!AB26,1)*[1]理科!$AB$10","v":0},{"$f":"COUNTIF([1]理科!AC26,1)*[1]理科!$AC$10","v":0},{"$f":"COUNTIF([1]理科!AD26,1)*[1]理科!$AD$10","v":0},{"$f":"COUNTIF([1]理科!AE26,1)*[1]理科!$AE$10","v":0},{"$f":"COUNTIF([1]理科!AF26,1)*[1]理科!$AF$10","v":0},{"$f":"COUNTIF([1]理科!AG26,1)*[1]理科!$AG$10","v":0},{"$f":"COUNTIF([1]理科!AH26,1)*[1]理科!$AH$10","v":0},{"$f":"COUNTIF([1]理科!AI26,1)*[1]理科!$AI$10","v":0},{"$f":"COUNTIF([1]理科!AJ26,1)*[1]理科!$AJ$10","v":0},{"$f":"COUNTIF([1]理科!AK26,1)*[1]理科!$AK$10","v":0},{"$f":"COUNTIF([1]理科!AL26,1)*[1]理科!$AL$10","v":0},{"$f":"COUNTIF([1]理科!AM26,1)*[1]理科!$AM$10","v":0},{"$f":"COUNTIF([1]理科!AN26,1)*[1]理科!$AN$10","v":0},{"$f":"COUNTIF([1]理科!AO26,1)*[1]理科!$AO$10","v":0},{"$f":"COUNTIF([1]理科!AP26,1)*[1]理科!$AP$10","v":0},{"$f":"COUNTIF([1]理科!AQ26,1)*[1]理科!$AQ$10","v":0},{"$f":"COUNTIF([1]理科!AR26,1)*[1]理科!$AR$10","v":0},{"$f":"COUNTIF([1]理科!AS26,1)*[1]理科!$AS$10","v":0},{"$f":"COUNTIF([1]理科!AT26,1)*[1]理科!$AT$10","v":0},{"$f":"COUNTIF([1]理科!AU26,1)*[1]理科!$AU$10","v":0},{"$f":"COUNTIF([1]理科!AV26,1)*[1]理科!$AV$10","v":0},{"$f":"COUNTIF([1]理科!AW26,1)*[1]理科!$AW$10","v":0},{"$f":"COUNTIF([1]理科!AX26,1)*[1]理科!$AX$10","v":0},{"$f":"COUNTIF([1]理科!AY26,1)*[1]理科!$AY$10","v":0},{"$f":"COUNTIF([1]理科!AZ26,1)*[1]理科!$AZ$10","v":0},{"$f":"COUNTIF([1]理科!BA26,1)*[1]理科!$BA$10","v":0},{"$f":"COUNTIF([1]理科!BB26,1)*[1]理科!$BB$10","v":0},0,null,null,"16問",{"$f":"[1]理科!T58","v":0},null,"16問",26.6,null,16,4,"（４）","物質"]
[17,{"$f":"COUNTIF([1]理科!E27,1)*[1]理科!$E$10","v":0},{"$f":"COUNTIF([1]理科!F27,1)*[1]理科!$F$10","v":0},{"$f":"COUNTIF([1]理科!G27,1)*[1]理科!$G$10","v":0},{"$f":"COUNTIF([1]理科!H27,1)*[1]理科!$H$10","v":0},{"$f":"COUNTIF([1]理科!I27,1)*[1]理科!$I$10","v":0},{"$f":"COUNTIF([1]理科!J27,1)*[1]理科!$J$10","v":0},{"$f":"COUNTIF([1]理科!K27,1)*[1]理科!$K$10","v":0},{"$f":"COUNTIF([1]理科!L27,1)*[1]理科!$L$10","v":0},{"$f":"COUNTIF([1]理科!M27,1)*[1]理科!$M$10","v":0},{"$f":"COUNTIF([1]理科!N27,1)*[1]理科!$N$10","v":0},{"$f":"COUNTIF([1]理科!O27,1)*[1]理科!$O$10","v":0},{"$f":"COUNTIF([1]理科!P27,1)*[1]理科!$P$10","v":0},{"$f":"COUNTIF([1]理科!Q27,1)*[1]理科!$Q$10","v":0},{"$f":"COUNTIF([1]理科!R27,1)*[1]理科!$R$10","v":0},{"$f":"COUNTIF([1]理科!S27,1)*[1]理科!$S$10","v":0},{"$f":"COUNTIF([1]理科!T27,1)*[1]理科!$T$10","v":0},{"$f":"COUNTIF([1]理科!U27,1)*[1]理科!$U$10","v":0},{"$f":"COUNTIF([1]理科!V27,1)*[1]理科!$V$10","v":0},{"$f":"COUNTIF([1]理科!W27,1)*[1]理科!$W$10","v":0},{"$f":"COUNTIF([1]理科!X27,1)*[1]理科!$X$10","v":0},{"$f":"COUNTIF([1]理科!Y27,1)*[1]理科!$Y$10","v":0},{"$f":"COUNTIF([1]理科!Z27,1)*[1]理科!$Z$10","v":0},{"$f":"COUNTIF([1]理科!AA27,1)*[1]理科!$AA$10","v":0},{"$f":"COUNTIF([1]理科!AB27,1)*[1]理科!$AB$10","v":0},{"$f":"COUNTIF([1]理科!AC27,1)*[1]理科!$AC$10","v":0},{"$f":"COUNTIF([1]理科!AD27,1)*[1]理科!$AD$10","v":0},{"$f":"COUNTIF([1]理科!AE27,1)*[1]理科!$AE$10","v":0},{"$f":"COUNTIF([1]理科!AF27,1)*[1]理科!$AF$10","v":0},{"$f":"COUNTIF([1]理科!AG27,1)*[1]理科!$AG$10","v":0},{"$f":"COUNTIF([1]理科!AH27,1)*[1]理科!$AH$10","v":0},{"$f":"COUNTIF([1]理科!AI27,1)*[1]理科!$AI$10","v":0},{"$f":"COUNTIF([1]理科!AJ27,1)*[1]理科!$AJ$10","v":0},{"$f":"COUNTIF([1]理科!AK27,1)*[1]理科!$AK$10","v":0},{"$f":"COUNTIF([1]理科!AL27,1)*[1]理科!$AL$10","v":0},{"$f":"COUNTIF([1]理科!AM27,1)*[1]理科!$AM$10","v":0},{"$f":"COUNTIF([1]理科!AN27,1)*[1]理科!$AN$10","v":0},{"$f":"COUNTIF([1]理科!AO27,1)*[1]理科!$AO$10","v":0},{"$f":"COUNTIF([1]理科!AP27,1)*[1]理科!$AP$10","v":0},{"$f":"COUNTIF([1]理科!AQ27,1)*[1]理科!$AQ$10","v":0},{"$f":"COUNTIF([1]理科!AR27,1)*[1]理科!$AR$10","v":0},{"$f":"COUNTIF([1]理科!AS27,1)*[1]理科!$AS$10","v":0},{"$f":"COUNTIF([1]理科!AT27,1)*[1]理科!$AT$10","v":0},{"$f":"COUNTIF([1]理科!AU27,1)*[1]理科!$AU$10","v":0},{"$f":"COUNTIF([1]理科!AV27,1)*[1]理科!$AV$10","v":0},{"$f":"COUNTIF([1]理科!AW27,1)*[1]理科!$AW$10","v":0},{"$f":"COUNTIF([1]理科!AX27,1)*[1]理科!$AX$10","v":0},{"$f":"COUNTIF([1]理科!AY27,1)*[1]理科!$AY$10","v":0},{"$f":"COUNTIF([1]理科!AZ27,1)*[1]理科!$AZ$10","v":0},{"$f":"COUNTIF([1]理科!BA27,1)*[1]理科!$BA$10","v":0},{"$f":"COUNTIF([1]理科!BB27,1)*[1]理科!$BB$10","v":0},0,null,null,"17問",{"$f":"[1]理科!U58","v":0},null,"17問",83,null,17,4,"（５）","物質"]
[18,{"$f":"COUNTIF([1]理科!E28,1)*[1]理科!$E$10","v":0},{"$f":"COUNTIF([1]理科!F28,1)*[1]理科!$F$10","v":0},{"$f":"COUNTIF([1]理科!G28,1)*[1]理科!$G$10","v":0},{"$f":"COUNTIF([1]理科!H28,1)*[1]理科!$H$10","v":0},{"$f":"COUNTIF([1]理科!I28,1)*[1]理科!$I$10","v":0},{"$f":"COUNTIF([1]理科!J28,1)*[1]理科!$J$10","v":0},{"$f":"COUNTIF([1]理科!K28,1)*[1]理科!$K$10","v":0},{"$f":"COUNTIF([1]理科!L28,1)*[1]理科!$L$10","v":0},{"$f":"COUNTIF([1]理科!M28,1)*[1]理科!$M$10","v":0},{"$f":"COUNTIF([1]理科!N28,1)*[1]理科!$N$10","v":0},{"$f":"COUNTIF([1]理科!O28,1)*[1]理科!$O$10","v":0},{"$f":"COUNTIF([1]理科!P28,1)*[1]理科!$P$10","v":0},{"$f":"COUNTIF([1]理科!Q28,1)*[1]理科!$Q$10","v":0},{"$f":"COUNTIF([1]理科!R28,1)*[1]理科!$R$10","v":0},{"$f":"COUNTIF([1]理科!S28,1)*[1]理科!$S$10","v":0},{"$f":"COUNTIF([1]理科!T28,1)*[1]理科!$T$10","v":0},{"$f":"COUNTIF([1]理科!U28,1)*[1]理科!$U$10","v":0},{"$f":"COUNTIF([1]理科!V28,1)*[1]理科!$V$10","v":0},{"$f":"COUNTIF([1]理科!W28,1)*[1]理科!$W$10","v":0},{"$f":"COUNTIF([1]理科!X28,1)*[1]理科!$X$10","v":0},{"$f":"COUNTIF([1]理科!Y28,1)*[1]理科!$Y$10","v":0},{"$f":"COUNTIF([1]理科!Z28,1)*[1]理科!$Z$10","v":0},{"$f":"COUNTIF([1]理科!AA28,1)*[1]理科!$AA$10","v":0},{"$f":"COUNTIF([1]理科!AB28,1)*[1]理科!$AB$10","v":0},{"$f":"COUNTIF([1]理科!AC28,1)*[1]理科!$AC$10","v":0},{"$f":"COUNTIF([1]理科!AD28,1)*[1]理科!$AD$10","v":0},{"$f":"COUNTIF([1]理科!AE28,1)*[1]理科!$AE$10","v":0},{"$f":"COUNTIF([1]理科!AF28,1)*[1]理科!$AF$10","v":0},{"$f":"COUNTIF([1]理科!AG28,1)*[1]理科!$AG$10","v":0},{"$f":"COUNTIF([1]理科!AH28,1)*[1]理科!$AH$10","v":0},{"$f":"COUNTIF([1]理科!AI28,1)*[1]理科!$AI$10","v":0},{"$f":"COUNTIF([1]理科!AJ28,1)*[1]理科!$AJ$10","v":0},{"$f":"COUNTIF([1]理科!AK28,1)*[1]理科!$AK$10","v":0},{"$f":"COUNTIF([1]理科!AL28,1)*[1]理科!$AL$10","v":0},{"$f":"COUNTIF([1]理科!AM28,1)*[1]理科!$AM$10","v":0},{"$f":"COUNTIF([1]理科!AN28,1)*[1]理科!$AN$10","v":0},{"$f":"COUNTIF([1]理科!AO28,1)*[1]理科!$AO$10","v":0},{"$f":"COUNTIF([1]理科!AP28,1)*[1]理科!$AP$10","v":0},{"$f":"COUNTIF([1]理科!AQ28,1)*[1]理科!$AQ$10","v":0},{"$f":"COUNTIF([1]理科!AR28,1)*[1]理科!$AR$10","v":0},{"$f":"COUNTIF([1]理科!AS28,1)*[1]理科!$AS$10","v":0},{"$f":"COUNTIF([1]理科!AT28,1)*[1]理科!$AT$10","v":0},{"$f":"COUNTIF([1]理科!AU28,1)*[1]理科!$AU$10","v":0},{"$f":"COUNTIF([1]理科!AV28,1)*[1]理科!$AV$10","v":0},{"$f":"COUNTIF([1]理科!AW28,1)*[1]理科!$AW$10","v":0},{"$f":"COUNTIF([1]理科!AX28,1)*[1]理科!$AX$10","v":0},{"$f":"COUNTIF([1]理科!AY28,1)*[1]理科!$AY$10","v":0},{"$f":"COUNTIF([1]理科!AZ28,1)*[1]理科!$AZ$10","v":0},{"$f":"COUNTIF([1]理科!BA28,1)*[1]理科!$BA$10","v":0},{"$f":"COUNTIF([1]理科!BB28,1)*[1]理科!$BB$10","v":0},0,null,null,"18問",{"$f":"[1]理科!V58","v":0},null,"18問",62.5,null,18,4,"（６）","物質"]
[19,{"$f":"COUNTIF([1]理科!E29,1)*[1]理科!$E$10","v":0},{"$f":"COUNTIF([1]理科!F29,1)*[1]理科!$F$10","v":0},{"$f":"COUNTIF([1]理科!G29,1)*[1]理科!$G$10","v":0},{"$f":"COUNTIF([1]理科!H29,1)*[1]理科!$H$10","v":0},{"$f":"COUNTIF([1]理科!I29,1)*[1]理科!$I$10","v":0},{"$f":"COUNTIF([1]理科!J29,1)*[1]理科!$J$10","v":0},{"$f":"COUNTIF([1]理科!K29,1)*[1]理科!$K$10","v":0},{"$f":"COUNTIF([1]理科!L29,1)*[1]理科!$L$10","v":0},{"$f":"COUNTIF([1]理科!M29,1)*[1]理科!$M$10","v":0},{"$f":"COUNTIF([1]理科!N29,1)*[1]理科!$N$10","v":0},{"$f":"COUNTIF([1]理科!O29,1)*[1]理科!$O$10","v":0},{"$f":"COUNTIF([1]理科!P29,1)*[1]理科!$P$10","v":0},{"$f":"COUNTIF([1]理科!Q29,1)*[1]理科!$Q$10","v":0},{"$f":"COUNTIF([1]理科!R29,1)*[1]理科!$R$10","v":0},{"$f":"COUNTIF([1]理科!S29,1)*[1]理科!$S$10","v":0},{"$f":"COUNTIF([1]理科!T29,1)*[1]理科!$T$10","v":0},{"$f":"COUNTIF([1]理科!U29,1)*[1]理科!$U$10","v":0},{"$f":"COUNTIF([1]理科!V29,1)*[1]理科!$V$10","v":0},{"$f":"COUNTIF([1]理科!W29,1)*[1]理科!$W$10","v":0},{"$f":"COUNTIF([1]理科!X29,1)*[1]理科!$X$10","v":0},{"$f":"COUNTIF([1]理科!Y29,1)*[1]理科!$Y$10","v":0},{"$f":"COUNTIF([1]理科!Z29,1)*[1]理科!$Z$10","v":0},{"$f":"COUNTIF([1]理科!AA29,1)*[1]理科!$AA$10","v":0},{"$f":"COUNTIF([1]理科!AB29,1)*[1]理科!$AB$10","v":0},{"$f":"COUNTIF([1]理科!AC29,1)*[1]理科!$AC$10","v":0},{"$f":"COUNTIF([1]理科!AD29,1)*[1]理科!$AD$10","v":0},{"$f":"COUNTIF([1]理科!AE29,1)*[1]理科!$AE$10","v":0},{"$f":"COUNTIF([1]理科!AF29,1)*[1]理科!$AF$10","v":0},{"$f":"COUNTIF([1]理科!AG29,1)*[1]理科!$AG$10","v":0},{"$f":"COUNTIF([1]理科!AH29,1)*[1]理科!$AH$10","v":0},{"$f":"COUNTIF([1]理科!AI29,1)*[1]理科!$AI$10","v":0},{"$f":"COUNTIF([1]理科!AJ29,1)*[1]理科!$AJ$10","v":0},{"$f":"COUNTIF([1]理科!AK29,1)*[1]理科!$AK$10","v":0},{"$f":"COUNTIF([1]理科!AL29,1)*[1]理科!$AL$10","v":0},{"$f":"COUNTIF([1]理科!AM29,1)*[1]理科!$AM$10","v":0},{"$f":"COUNTIF([1]理科!AN29,1)*[1]理科!$AN$10","v":0},{"$f":"COUNTIF([1]理科!AO29,1)*[1]理科!$AO$10","v":0},{"$f":"COUNTIF([1]理科!AP29,1)*[1]理科!$AP$10","v":0},{"$f":"COUNTIF([1]理科!AQ29,1)*[1]理科!$AQ$10","v":0},{"$f":"COUNTIF([1]理科!AR29,1)*[1]理科!$AR$10","v":0},{"$f":"COUNTIF([1]理科!AS29,1)*[1]理科!$AS$10","v":0},{"$f":"COUNTIF([1]理科!AT29,1)*[1]理科!$AT$10","v":0},{"$f":"COUNTIF([1]理科!AU29,1)*[1]理科!$AU$10","v":0},{"$f":"COUNTIF([1]理科!AV29,1)*[1]理科!$AV$10","v":0},{"$f":"COUNTIF([1]理科!AW29,1)*[1]理科!$AW$10","v":0},{"$f":"COUNTIF([1]理科!AX29,1)*[1]理科!$AX$10","v":0},{"$f":"COUNTIF([1]理科!AY29,1)*[1]理科!$AY$10","v":0},{"$f":"COUNTIF([1]理科!AZ29,1)*[1]理科!$AZ$10","v":0},{"$f":"COUNTIF([1]理科!BA29,1)*[1]理科!$BA$10","v":0},{"$f":"COUNTIF([1]理科!BB29,1)*[1]理科!$BB$10","v":0},0,null,null,"19問",{"$f":"[1]理科!W58","v":0},null,"19問",85.3,null,19,5,"（１）","地球"]
[20,{"$f":"COUNTIF([1]理科!E30,1)*[1]理科!$E$10","v":0},{"$f":"COUNTIF([1]理科!F30,1)*[1]理科!$F$10","v":0},{"$f":"COUNTIF([1]理科!G30,1)*[1]理科!$G$10","v":0},{"$f":"COUNTIF([1]理科!H30,1)*[1]理科!$H$10","v":0},{"$f":"COUNTIF([1]理科!I30,1)*[1]理科!$I$10","v":0},{"$f":"COUNTIF([1]理科!J30,1)*[1]理科!$J$10","v":0},{"$f":"COUNTIF([1]理科!K30,1)*[1]理科!$K$10","v":0},{"$f":"COUNTIF([1]理科!L30,1)*[1]理科!$L$10","v":0},{"$f":"COUNTIF([1]理科!M30,1)*[1]理科!$M$10","v":0},{"$f":"COUNTIF([1]理科!N30,1)*[1]理科!$N$10","v":0},{"$f":"COUNTIF([1]理科!O30,1)*[1]理科!$O$10","v":0},{"$f":"COUNTIF([1]理科!P30,1)*[1]理科!$P$10","v":0},{"$f":"COUNTIF([1]理科!Q30,1)*[1]理科!$Q$10","v":0},{"$f":"COUNTIF([1]理科!R30,1)*[1]理科!$R$10","v":0},{"$f":"COUNTIF([1]理科!S30,1)*[1]理科!$S$10","v":0},{"$f":"COUNTIF([1]理科!T30,1)*[1]理科!$T$10","v":0},{"$f":"COUNTIF([1]理科!U30,1)*[1]理科!$U$10","v":0},{"$f":"COUNTIF([1]理科!V30,1)*[1]理科!$V$10","v":0},{"$f":"COUNTIF([1]理科!W30,1)*[1]理科!$W$10","v":0},{"$f":"COUNTIF([1]理科!X30,1)*[1]理科!$X$10","v":0},{"$f":"COUNTIF([1]理科!Y30,1)*[1]理科!$Y$10","v":0},{"$f":"COUNTIF([1]理科!Z30,1)*[1]理科!$Z$10","v":0},{"$f":"COUNTIF([1]理科!AA30,1)*[1]理科!$AA$10","v":0},{"$f":"COUNTIF([1]理科!AB30,1)*[1]理科!$AB$10","v":0},{"$f":"COUNTIF([1]理科!AC30,1)*[1]理科!$AC$10","v":0},{"$f":"COUNTIF([1]理科!AD30,1)*[1]理科!$AD$10","v":0},{"$f":"COUNTIF([1]理科!AE30,1)*[1]理科!$AE$10","v":0},{"$f":"COUNTIF([1]理科!AF30,1)*[1]理科!$AF$10","v":0},{"$f":"COUNTIF([1]理科!AG30,1)*[1]理科!$AG$10","v":0},{"$f":"COUNTIF([1]理科!AH30,1)*[1]理科!$AH$10","v":0},{"$f":"COUNTIF([1]理科!AI30,1)*[1]理科!$AI$10","v":0},{"$f":"COUNTIF([1]理科!AJ30,1)*[1]理科!$AJ$10","v":0},{"$f":"COUNTIF([1]理科!AK30,1)*[1]理科!$AK$10","v":0},{"$f":"COUNTIF([1]理科!AL30,1)*[1]理科!$AL$10","v":0},{"$f":"COUNTIF([1]理科!AM30,1)*[1]理科!$AM$10","v":0},{"$f":"COUNTIF([1]理科!AN30,1)*[1]理科!$AN$10","v":0},{"$f":"COUNTIF([1]理科!AO30,1)*[1]理科!$AO$10","v":0},{"$f":"COUNTIF([1]理科!AP30,1)*[1]理科!$AP$10","v":0},{"$f":"COUNTIF([1]理科!AQ30,1)*[1]理科!$AQ$10","v":0},{"$f":"COUNTIF([1]理科!AR30,1)*[1]理科!$AR$10","v":0},{"$f":"COUNTIF([1]理科!AS30,1)*[1]理科!$AS$10","v":0},{"$f":"COUNTIF([1]理科!AT30,1)*[1]理科!$AT$10","v":0},{"$f":"COUNTIF([1]理科!AU30,1)*[1]理科!$AU$10","v":0},{"$f":"COUNTIF([1]理科!AV30,1)*[1]理科!$AV$10","v":0},{"$f":"COUNTIF([1]理科!AW30,1)*[1]理科!$AW$10","v":0},{"$f":"COUNTIF([1]理科!AX30,1)*[1]理科!$AX$10","v":0},{"$f":"COUNTIF([1]理科!AY30,1)*[1]理科!$AY$10","v":0},{"$f":"COUNTIF([1]理科!AZ30,1)*[1]理科!$AZ$10","v":0},{"$f":"COUNTIF([1]理科!BA30,1)*[1]理科!$BA$10","v":0},{"$f":"COUNTIF([1]理科!BB30,1)*[1]理科!$BB$10","v":0},0,null,null,"20問",{"$f":"[1]理科!X58","v":0},null,"20問",79.400000000000006,null,20,5,"（２）","地球"]
[21,{"$f":"COUNTIF([1]理科!E31,1)*[1]理科!$E$10","v":0},{"$f":"COUNTIF([1]理科!F31,1)*[1]理科!$F$10","v":0},{"$f":"COUNTIF([1]理科!G31,1)*[1]理科!$G$10","v":0},{"$f":"COUNTIF([1]理科!H31,1)*[1]理科!$H$10","v":0},{"$f":"COUNTIF([1]理科!I31,1)*[1]理科!$I$10","v":0},{"$f":"COUNTIF([1]理科!J31,1)*[1]理科!$J$10","v":0},{"$f":"COUNTIF([1]理科!K31,1)*[1]理科!$K$10","v":0},{"$f":"COUNTIF([1]理科!L31,1)*[1]理科!$L$10","v":0},{"$f":"COUNTIF([1]理科!M31,1)*[1]理科!$M$10","v":0},{"$f":"COUNTIF([1]理科!N31,1)*[1]理科!$N$10","v":0},{"$f":"COUNTIF([1]理科!O31,1)*[1]理科!$O$10","v":0},{"$f":"COUNTIF([1]理科!P31,1)*[1]理科!$P$10","v":0},{"$f":"COUNTIF([1]理科!Q31,1)*[1]理科!$Q$10","v":0},{"$f":"COUNTIF([1]理科!R31,1)*[1]理科!$R$10","v":0},{"$f":"COUNTIF([1]理科!S31,1)*[1]理科!$S$10","v":0},{"$f":"COUNTIF([1]理科!T31,1)*[1]理科!$T$10","v":0},{"$f":"COUNTIF([1]理科!U31,1)*[1]理科!$U$10","v":0},{"$f":"COUNTIF([1]理科!V31,1)*[1]理科!$V$10","v":0},{"$f":"COUNTIF([1]理科!W31,1)*[1]理科!$W$10","v":0},{"$f":"COUNTIF([1]理科!X31,1)*[1]理科!$X$10","v":0},{"$f":"COUNTIF([1]理科!Y31,1)*[1]理科!$Y$10","v":0},{"$f":"COUNTIF([1]理科!Z31,1)*[1]理科!$Z$10","v":0},{"$f":"COUNTIF([1]理科!AA31,1)*[1]理科!$AA$10","v":0},{"$f":"COUNTIF([1]理科!AB31,1)*[1]理科!$AB$10","v":0},{"$f":"COUNTIF([1]理科!AC31,1)*[1]理科!$AC$10","v":0},{"$f":"COUNTIF([1]理科!AD31,1)*[1]理科!$AD$10","v":0},{"$f":"COUNTIF([1]理科!AE31,1)*[1]理科!$AE$10","v":0},{"$f":"COUNTIF([1]理科!AF31,1)*[1]理科!$AF$10","v":0},{"$f":"COUNTIF([1]理科!AG31,1)*[1]理科!$AG$10","v":0},{"$f":"COUNTIF([1]理科!AH31,1)*[1]理科!$AH$10","v":0},{"$f":"COUNTIF([1]理科!AI31,1)*[1]理科!$AI$10","v":0},{"$f":"COUNTIF([1]理科!AJ31,1)*[1]理科!$AJ$10","v":0},{"$f":"COUNTIF([1]理科!AK31,1)*[1]理科!$AK$10","v":0},{"$f":"COUNTIF([1]理科!AL31,1)*[1]理科!$AL$10","v":0},{"$f":"COUNTIF([1]理科!AM31,1)*[1]理科!$AM$10","v":0},{"$f":"COUNTIF([1]理科!AN31,1)*[1]理科!$AN$10","v":0},{"$f":"COUNTIF([1]理科!AO31,1)*[1]理科!$AO$10","v":0},{"$f":"COUNTIF([1]理科!AP31,1)*[1]理科!$AP$10","v":0},{"$f":"COUNTIF([1]理科!AQ31,1)*[1]理科!$AQ$10","v":0},{"$f":"COUNTIF([1]理科!AR31,1)*[1]理科!$AR$10","v":0},{"$f":"COUNTIF([1]理科!AS31,1)*[1]理科!$AS$10","v":0},{"$f":"COUNTIF([1]理科!AT31,1)*[1]理科!$AT$10","v":0},{"$f":"COUNTIF([1]理科!AU31,1)*[1]理科!$AU$10","v":0},{"$f":"COUNTIF([1]理科!AV31,1)*[1]理科!$AV$10","v":0},{"$f":"COUNTIF([1]理科!AW31,1)*[1]理科!$AW$10","v":0},{"$f":"COUNTIF([1]理科!AX31,1)*[1]理科!$AX$10","v":0},{"$f":"COUNTIF([1]理科!AY31,1)*[1]理科!$AY$10","v":0},{"$f":"COUNTIF([1]理科!AZ31,1)*[1]理科!$AZ$10","v":0},{"$f":"COUNTIF([1]理科!BA31,1)*[1]理科!$BA$10","v":0},{"$f":"COUNTIF([1]理科!BB31,1)*[1]理科!$BB$10","v":0},0,null,null,"21問",{"$f":"[1]理科!Y58","v":0},null,"21問",42.3,null,21,5,"（３）","地球"]
[22,{"$f":"COUNTIF([1]理科!E32,1)*[1]理科!$E$10","v":0},{"$f":"COUNTIF([1]理科!F32,1)*[1]理科!$F$10","v":0},{"$f":"COUNTIF([1]理科!G32,1)*[1]理科!$G$10","v":0},{"$f":"COUNTIF([1]理科!H32,1)*[1]理科!$H$10","v":0},{"$f":"COUNTIF([1]理科!I32,1)*[1]理科!$I$10","v":0},{"$f":"COUNTIF([1]理科!J32,1)*[1]理科!$J$10","v":0},{"$f":"COUNTIF([1]理科!K32,1)*[1]理科!$K$10","v":0},{"$f":"COUNTIF([1]理科!L32,1)*[1]理科!$L$10","v":0},{"$f":"COUNTIF([1]理科!M32,1)*[1]理科!$M$10","v":0},{"$f":"COUNTIF([1]理科!N32,1)*[1]理科!$N$10","v":0},{"$f":"COUNTIF([1]理科!O32,1)*[1]理科!$O$10","v":0},{"$f":"COUNTIF([1]理科!P32,1)*[1]理科!$P$10","v":0},{"$f":"COUNTIF([1]理科!Q32,1)*[1]理科!$Q$10","v":0},{"$f":"COUNTIF([1]理科!R32,1)*[1]理科!$R$10","v":0},{"$f":"COUNTIF([1]理科!S32,1)*[1]理科!$S$10","v":0},{"$f":"COUNTIF([1]理科!T32,1)*[1]理科!$T$10","v":0},{"$f":"COUNTIF([1]理科!U32,1)*[1]理科!$U$10","v":0},{"$f":"COUNTIF([1]理科!V32,1)*[1]理科!$V$10","v":0},{"$f":"COUNTIF([1]理科!W32,1)*[1]理科!$W$10","v":0},{"$f":"COUNTIF([1]理科!X32,1)*[1]理科!$X$10","v":0},{"$f":"COUNTIF([1]理科!Y32,1)*[1]理科!$Y$10","v":0},{"$f":"COUNTIF([1]理科!Z32,1)*[1]理科!$Z$10","v":0},{"$f":"COUNTIF([1]理科!AA32,1)*[1]理科!$AA$10","v":0},{"$f":"COUNTIF([1]理科!AB32,1)*[1]理科!$AB$10","v":0},{"$f":"COUNTIF([1]理科!AC32,1)*[1]理科!$AC$10","v":0},{"$f":"COUNTIF([1]理科!AD32,1)*[1]理科!$AD$10","v":0},{"$f":"COUNTIF([1]理科!AE32,1)*[1]理科!$AE$10","v":0},{"$f":"COUNTIF([1]理科!AF32,1)*[1]理科!$AF$10","v":0},{"$f":"COUNTIF([1]理科!AG32,1)*[1]理科!$AG$10","v":0},{"$f":"COUNTIF([1]理科!AH32,1)*[1]理科!$AH$10","v":0},{"$f":"COUNTIF([1]理科!AI32,1)*[1]理科!$AI$10","v":0},{"$f":"COUNTIF([1]理科!AJ32,1)*[1]理科!$AJ$10","v":0},{"$f":"COUNTIF([1]理科!AK32,1)*[1]理科!$AK$10","v":0},{"$f":"COUNTIF([1]理科!AL32,1)*[1]理科!$AL$10","v":0},{"$f":"COUNTIF([1]理科!AM32,1)*[1]理科!$AM$10","v":0},{"$f":"COUNTIF([1]理科!AN32,1)*[1]理科!$AN$10","v":0},{"$f":"COUNTIF([1]理科!AO32,1)*[1]理科!$AO$10","v":0},{"$f":"COUNTIF([1]理科!AP32,1)*[1]理科!$AP$10","v":0},{"$f":"COUNTIF([1]理科!AQ32,1)*[1]理科!$AQ$10","v":0},{"$f":"COUNTIF([1]理科!AR32,1)*[1]理科!$AR$10","v":0},{"$f":"COUNTIF([1]理科!AS32,1)*[1]理科!$AS$10","v":0},{"$f":"COUNTIF([1]理科!AT32,1)*[1]理科!$AT$10","v":0},{"$f":"COUNTIF([1]理科!AU32,1)*[1]理科!$AU$10","v":0},{"$f":"COUNTIF([1]理科!AV32,1)*[1]理科!$AV$10","v":0},{"$f":"COUNTIF([1]理科!AW32,1)*[1]理科!$AW$10","v":0},{"$f":"COUNTIF([1]理科!AX32,1)*[1]理科!$AX$10","v":0},{"$f":"COUNTIF([1]理科!AY32,1)*[1]理科!$AY$10","v":0},{"$f":"COUNTIF([1]理科!AZ32,1)*[1]理科!$AZ$10","v":0},{"$f":"COUNTIF([1]理科!BA32,1)*[1]理科!$BA$10","v":0},{"$f":"COUNTIF([1]理科!BB32,1)*[1]理科!$BB$10","v":0},0,null,null,"22問",{"$f":"[1]理科!Z58","v":0},null,"22問",88.2,null,22,5,"（４）","地球"]
[23,{"$f":"COUNTIF([1]理科!E33,1)*[1]理科!$E$10","v":0},{"$f":"COUNTIF([1]理科!F33,1)*[1]理科!$F$10","v":0},{"$f":"COUNTIF([1]理科!G33,1)*[1]理科!$G$10","v":0},{"$f":"COUNTIF([1]理科!H33,1)*[1]理科!$H$10","v":0},{"$f":"COUNTIF([1]理科!I33,1)*[1]理科!$I$10","v":0},{"$f":"COUNTIF([1]理科!J33,1)*[1]理科!$J$10","v":0},{"$f":"COUNTIF([1]理科!K33,1)*[1]理科!$K$10","v":0},{"$f":"COUNTIF([1]理科!L33,1)*[1]理科!$L$10","v":0},{"$f":"COUNTIF([1]理科!M33,1)*[1]理科!$M$10","v":0},{"$f":"COUNTIF([1]理科!N33,1)*[1]理科!$N$10","v":0},{"$f":"COUNTIF([1]理科!O33,1)*[1]理科!$O$10","v":0},{"$f":"COUNTIF([1]理科!P33,1)*[1]理科!$P$10","v":0},{"$f":"COUNTIF([1]理科!Q33,1)*[1]理科!$Q$10","v":0},{"$f":"COUNTIF([1]理科!R33,1)*[1]理科!$R$10","v":0},{"$f":"COUNTIF([1]理科!S33,1)*[1]理科!$S$10","v":0},{"$f":"COUNTIF([1]理科!T33,1)*[1]理科!$T$10","v":0},{"$f":"COUNTIF([1]理科!U33,1)*[1]理科!$U$10","v":0},{"$f":"COUNTIF([1]理科!V33,1)*[1]理科!$V$10","v":0},{"$f":"COUNTIF([1]理科!W33,1)*[1]理科!$W$10","v":0},{"$f":"COUNTIF([1]理科!X33,1)*[1]理科!$X$10","v":0},{"$f":"COUNTIF([1]理科!Y33,1)*[1]理科!$Y$10","v":0},{"$f":"COUNTIF([1]理科!Z33,1)*[1]理科!$Z$10","v":0},{"$f":"COUNTIF([1]理科!AA33,1)*[1]理科!$AA$10","v":0},{"$f":"COUNTIF([1]理科!AB33,1)*[1]理科!$AB$10","v":0},{"$f":"COUNTIF([1]理科!AC33,1)*[1]理科!$AC$10","v":0},{"$f":"COUNTIF([1]理科!AD33,1)*[1]理科!$AD$10","v":0},{"$f":"COUNTIF([1]理科!AE33,1)*[1]理科!$AE$10","v":0},{"$f":"COUNTIF([1]理科!AF33,1)*[1]理科!$AF$10","v":0},{"$f":"COUNTIF([1]理科!AG33,1)*[1]理科!$AG$10","v":0},{"$f":"COUNTIF([1]理科!AH33,1)*[1]理科!$AH$10","v":0},{"$f":"COUNTIF([1]理科!AI33,1)*[1]理科!$AI$10","v":0},{"$f":"COUNTIF([1]理科!AJ33,1)*[1]理科!$AJ$10","v":0},{"$f":"COUNTIF([1]理科!AK33,1)*[1]理科!$AK$10","v":0},{"$f":"COUNTIF([1]理科!AL33,1)*[1]理科!$AL$10","v":0},{"$f":"COUNTIF([1]理科!AM33,1)*[1]理科!$AM$10","v":0},{"$f":"COUNTIF([1]理科!AN33,1)*[1]理科!$AN$10","v":0},{"$f":"COUNTIF([1]理科!AO33,1)*[1]理科!$AO$10","v":0},{"$f":"COUNTIF([1]理科!AP33,1)*[1]理科!$AP$10","v":0},{"$f":"COUNTIF([1]理科!AQ33,1)*[1]理科!$AQ$10","v":0},{"$f":"COUNTIF([1]理科!AR33,1)*[1]理科!$AR$10","v":0},{"$f":"COUNTIF([1]理科!AS33,1)*[1]理科!$AS$10","v":0},{"$f":"COUNTIF([1]理科!AT33,1)*[1]理科!$AT$10","v":0},{"$f":"COUNTIF([1]理科!AU33,1)*[1]理科!$AU$10","v":0},{"$f":"COUNTIF([1]理科!AV33,1)*[1]理科!$AV$10","v":0},{"$f":"COUNTIF([1]理科!AW33,1)*[1]理科!$AW$10","v":0},{"$f":"COUNTIF([1]理科!AX33,1)*[1]理科!$AX$10","v":0},{"$f":"COUNTIF([1]理科!AY33,1)*[1]理科!$AY$10","v":0},{"$f":"COUNTIF([1]理科!AZ33,1)*[1]理科!$AZ$10","v":0},{"$f":"COUNTIF([1]理科!BA33,1)*[1]理科!$BA$10","v":0},{"$f":"COUNTIF([1]理科!BB33,1)*[1]理科!$BB$10","v":0},0,null,null,"23問",{"$f":"[1]理科!AA58","v":0},null,"23問",74,null,23,6,"（１）","エネルギー"]
[24,{"$f":"COUNTIF([1]理科!E34,1)*[1]理科!$E$10","v":0},{"$f":"COUNTIF([1]理科!F34,1)*[1]理科!$F$10","v":0},{"$f":"COUNTIF([1]理科!G34,1)*[1]理科!$G$10","v":0},{"$f":"COUNTIF([1]理科!H34,1)*[1]理科!$H$10","v":0},{"$f":"COUNTIF([1]理科!I34,1)*[1]理科!$I$10","v":0},{"$f":"COUNTIF([1]理科!J34,1)*[1]理科!$J$10","v":0},{"$f":"COUNTIF([1]理科!K34,1)*[1]理科!$K$10","v":0},{"$f":"COUNTIF([1]理科!L34,1)*[1]理科!$L$10","v":0},{"$f":"COUNTIF([1]理科!M34,1)*[1]理科!$M$10","v":0},{"$f":"COUNTIF([1]理科!N34,1)*[1]理科!$N$10","v":0},{"$f":"COUNTIF([1]理科!O34,1)*[1]理科!$O$10","v":0},{"$f":"COUNTIF([1]理科!P34,1)*[1]理科!$P$10","v":0},{"$f":"COUNTIF([1]理科!Q34,1)*[1]理科!$Q$10","v":0},{"$f":"COUNTIF([1]理科!R34,1)*[1]理科!$R$10","v":0},{"$f":"COUNTIF([1]理科!S34,1)*[1]理科!$S$10","v":0},{"$f":"COUNTIF([1]理科!T34,1)*[1]理科!$T$10","v":0},{"$f":"COUNTIF([1]理科!U34,1)*[1]理科!$U$10","v":0},{"$f":"COUNTIF([1]理科!V34,1)*[1]理科!$V$10","v":0},{"$f":"COUNTIF([1]理科!W34,1)*[1]理科!$W$10","v":0},{"$f":"COUNTIF([1]理科!X34,1)*[1]理科!$X$10","v":0},{"$f":"COUNTIF([1]理科!Y34,1)*[1]理科!$Y$10","v":0},{"$f":"COUNTIF([1]理科!Z34,1)*[1]理科!$Z$10","v":0},{"$f":"COUNTIF([1]理科!AA34,1)*[1]理科!$AA$10","v":0},{"$f":"COUNTIF([1]理科!AB34,1)*[1]理科!$AB$10","v":0},{"$f":"COUNTIF([1]理科!AC34,1)*[1]理科!$AC$10","v":0},{"$f":"COUNTIF([1]理科!AD34,1)*[1]理科!$AD$10","v":0},{"$f":"COUNTIF([1]理科!AE34,1)*[1]理科!$AE$10","v":0},{"$f":"COUNTIF([1]理科!AF34,1)*[1]理科!$AF$10","v":0},{"$f":"COUNTIF([1]理科!AG34,1)*[1]理科!$AG$10","v":0},{"$f":"COUNTIF([1]理科!AH34,1)*[1]理科!$AH$10","v":0},{"$f":"COUNTIF([1]理科!AI34,1)*[1]理科!$AI$10","v":0},{"$f":"COUNTIF([1]理科!AJ34,1)*[1]理科!$AJ$10","v":0},{"$f":"COUNTIF([1]理科!AK34,1)*[1]理科!$AK$10","v":0},{"$f":"COUNTIF([1]理科!AL34,1)*[1]理科!$AL$10","v":0},{"$f":"COUNTIF([1]理科!AM34,1)*[1]理科!$AM$10","v":0},{"$f":"COUNTIF([1]理科!AN34,1)*[1]理科!$AN$10","v":0},{"$f":"COUNTIF([1]理科!AO34,1)*[1]理科!$AO$10","v":0},{"$f":"COUNTIF([1]理科!AP34,1)*[1]理科!$AP$10","v":0},{"$f":"COUNTIF([1]理科!AQ34,1)*[1]理科!$AQ$10","v":0},{"$f":"COUNTIF([1]理科!AR34,1)*[1]理科!$AR$10","v":0},{"$f":"COUNTIF([1]理科!AS34,1)*[1]理科!$AS$10","v":0},{"$f":"COUNTIF([1]理科!AT34,1)*[1]理科!$AT$10","v":0},{"$f":"COUNTIF([1]理科!AU34,1)*[1]理科!$AU$10","v":0},{"$f":"COUNTIF([1]理科!AV34,1)*[1]理科!$AV$10","v":0},{"$f":"COUNTIF([1]理科!AW34,1)*[1]理科!$AW$10","v":0},{"$f":"COUNTIF([1]理科!AX34,1)*[1]理科!$AX$10","v":0},{"$f":"COUNTIF([1]理科!AY34,1)*[1]理科!$AY$10","v":0},{"$f":"COUNTIF([1]理科!AZ34,1)*[1]理科!$AZ$10","v":0},{"$f":"COUNTIF([1]理科!BA34,1)*[1]理科!$BA$10","v":0},{"$f":"COUNTIF([1]理科!BB34,1)*[1]理科!$BB$10","v":0},0,null,null,"24問",{"$f":"[1]理科!AB58","v":0},null,"24問",90.8,null,24,6,"（２）A","エネルギー"]
[25,{"$f":"COUNTIF([1]理科!E35,1)*[1]理科!$E$10","v":0},{"$f":"COUNTIF([1]理科!F35,1)*[1]理科!$F$10","v":0},{"$f":"COUNTIF([1]理科!G35,1)*[1]理科!$G$10","v":0},{"$f":"COUNTIF([1]理科!H35,1)*[1]理科!$H$10","v":0},{"$f":"COUNTIF([1]理科!I35,1)*[1]理科!$I$10","v":0},{"$f":"COUNTIF([1]理科!J35,1)*[1]理科!$J$10","v":0},{"$f":"COUNTIF([1]理科!K35,1)*[1]理科!$K$10","v":0},{"$f":"COUNTIF([1]理科!L35,1)*[1]理科!$L$10","v":0},{"$f":"COUNTIF([1]理科!M35,1)*[1]理科!$M$10","v":0},{"$f":"COUNTIF([1]理科!N35,1)*[1]理科!$N$10","v":0},{"$f":"COUNTIF([1]理科!O35,1)*[1]理科!$O$10","v":0},{"$f":"COUNTIF([1]理科!P35,1)*[1]理科!$P$10","v":0},{"$f":"COUNTIF([1]理科!Q35,1)*[1]理科!$Q$10","v":0},{"$f":"COUNTIF([1]理科!R35,1)*[1]理科!$R$10","v":0},{"$f":"COUNTIF([1]理科!S35,1)*[1]理科!$S$10","v":0},{"$f":"COUNTIF([1]理科!T35,1)*[1]理科!$T$10","v":0},{"$f":"COUNTIF([1]理科!U35,1)*[1]理科!$U$10","v":0},{"$f":"COUNTIF([1]理科!V35,1)*[1]理科!$V$10","v":0},{"$f":"COUNTIF([1]理科!W35,1)*[1]理科!$W$10","v":0},{"$f":"COUNTIF([1]理科!X35,1)*[1]理科!$X$10","v":0},{"$f":"COUNTIF([1]理科!Y35,1)*[1]理科!$Y$10","v":0},{"$f":"COUNTIF([1]理科!Z35,1)*[1]理科!$Z$10","v":0},{"$f":"COUNTIF([1]理科!AA35,1)*[1]理科!$AA$10","v":0},{"$f":"COUNTIF([1]理科!AB35,1)*[1]理科!$AB$10","v":0},{"$f":"COUNTIF([1]理科!AC35,1)*[1]理科!$AC$10","v":0},{"$f":"COUNTIF([1]理科!AD35,1)*[1]理科!$AD$10","v":0},{"$f":"COUNTIF([1]理科!AE35,1)*[1]理科!$AE$10","v":0},{"$f":"COUNTIF([1]理科!AF35,1)*[1]理科!$AF$10","v":0},{"$f":"COUNTIF([1]理科!AG35,1)*[1]理科!$AG$10","v":0},{"$f":"COUNTIF([1]理科!AH35,1)*[1]理科!$AH$10","v":0},{"$f":"COUNTIF([1]理科!AI35,1)*[1]理科!$AI$10","v":0},{"$f":"COUNTIF([1]理科!AJ35,1)*[1]理科!$AJ$10","v":0},{"$f":"COUNTIF([1]理科!AK35,1)*[1]理科!$AK$10","v":0},{"$f":"COUNTIF([1]理科!AL35,1)*[1]理科!$AL$10","v":0},{"$f":"COUNTIF([1]理科!AM35,1)*[1]理科!$AM$10","v":0},{"$f":"COUNTIF([1]理科!AN35,1)*[1]理科!$AN$10","v":0},{"$f":"COUNTIF([1]理科!AO35,1)*[1]理科!$AO$10","v":0},{"$f":"COUNTIF([1]理科!AP35,1)*[1]理科!$AP$10","v":0},{"$f":"COUNTIF([1]理科!AQ35,1)*[1]理科!$AQ$10","v":0},{"$f":"COUNTIF([1]理科!AR35,1)*[1]理科!$AR$10","v":0},{"$f":"COUNTIF([1]理科!AS35,1)*[1]理科!$AS$10","v":0},{"$f":"COUNTIF([1]理科!AT35,1)*[1]理科!$AT$10","v":0},{"$f":"COUNTIF([1]理科!AU35,1)*[1]理科!$AU$10","v":0},{"$f":"COUNTIF([1]理科!AV35,1)*[1]理科!$AV$10","v":0},{"$f":"COUNTIF([1]理科!AW35,1)*[1]理科!$AW$10","v":0},{"$f":"COUNTIF([1]理科!AX35,1)*[1]理科!$AX$10","v":0},{"$f":"COUNTIF([1]理科!AY35,1)*[1]理科!$AY$10","v":0},{"$f":"COUNTIF([1]理科!AZ35,1)*[1]理科!$AZ$10","v":0},{"$f":"COUNTIF([1]理科!BA35,1)*[1]理科!$BA$10","v":0},{"$f":"COUNTIF([1]理科!BB35,1)*[1]理科!$BB$10","v":0},0,null,null,"25問",{"$f":"[1]理科!AC58","v":0},null,"25問",86.9,null,25,6,"（２）B","エネルギー"]
[26,{"$f":"COUNTIF([1]理科!E36,1)*[1]理科!$E$10","v":0},{"$f":"COUNTIF([1]理科!F36,1)*[1]理科!$F$10","v":0},{"$f":"COUNTIF([1]理科!G36,1)*[1]理科!$G$10","v":0},{"$f":"COUNTIF([1]理科!H36,1)*[1]理科!$H$10","v":0},{"$f":"COUNTIF([1]理科!I36,1)*[1]理科!$I$10","v":0},{"$f":"COUNTIF([1]理科!J36,1)*[1]理科!$J$10","v":0},{"$f":"COUNTIF([1]理科!K36,1)*[1]理科!$K$10","v":0},{"$f":"COUNTIF([1]理科!L36,1)*[1]理科!$L$10","v":0},{"$f":"COUNTIF([1]理科!M36,1)*[1]理科!$M$10","v":0},{"$f":"COUNTIF([1]理科!N36,1)*[1]理科!$N$10","v":0},{"$f":"COUNTIF([1]理科!O36,1)*[1]理科!$O$10","v":0},{"$f":"COUNTIF([1]理科!P36,1)*[1]理科!$P$10","v":0},{"$f":"COUNTIF([1]理科!Q36,1)*[1]理科!$Q$10","v":0},{"$f":"COUNTIF([1]理科!R36,1)*[1]理科!$R$10","v":0},{"$f":"COUNTIF([1]理科!S36,1)*[1]理科!$S$10","v":0},{"$f":"COUNTIF([1]理科!T36,1)*[1]理科!$T$10","v":0},{"$f":"COUNTIF([1]理科!U36,1)*[1]理科!$U$10","v":0},{"$f":"COUNTIF([1]理科!V36,1)*[1]理科!$V$10","v":0},{"$f":"COUNTIF([1]理科!W36,1)*[1]理科!$W$10","v":0},{"$f":"COUNTIF([1]理科!X36,1)*[1]理科!$X$10","v":0},{"$f":"COUNTIF([1]理科!Y36,1)*[1]理科!$Y$10","v":0},{"$f":"COUNTIF([1]理科!Z36,1)*[1]理科!$Z$10","v":0},{"$f":"COUNTIF([1]理科!AA36,1)*[1]理科!$AA$10","v":0},{"$f":"COUNTIF([1]理科!AB36,1)*[1]理科!$AB$10","v":0},{"$f":"COUNTIF([1]理科!AC36,1)*[1]理科!$AC$10","v":0},{"$f":"COUNTIF([1]理科!AD36,1)*[1]理科!$AD$10","v":0},{"$f":"COUNTIF([1]理科!AE36,1)*[1]理科!$AE$10","v":0},{"$f":"COUNTIF([1]理科!AF36,1)*[1]理科!$AF$10","v":0},{"$f":"COUNTIF([1]理科!AG36,1)*[1]理科!$AG$10","v":0},{"$f":"COUNTIF([1]理科!AH36,1)*[1]理科!$AH$10","v":0},{"$f":"COUNTIF([1]理科!AI36,1)*[1]理科!$AI$10","v":0},{"$f":"COUNTIF([1]理科!AJ36,1)*[1]理科!$AJ$10","v":0},{"$f":"COUNTIF([1]理科!AK36,1)*[1]理科!$AK$10","v":0},{"$f":"COUNTIF([1]理科!AL36,1)*[1]理科!$AL$10","v":0},{"$f":"COUNTIF([1]理科!AM36,1)*[1]理科!$AM$10","v":0},{"$f":"COUNTIF([1]理科!AN36,1)*[1]理科!$AN$10","v":0},{"$f":"COUNTIF([1]理科!AO36,1)*[1]理科!$AO$10","v":0},{"$f":"COUNTIF([1]理科!AP36,1)*[1]理科!$AP$10","v":0},{"$f":"COUNTIF([1]理科!AQ36,1)*[1]理科!$AQ$10","v":0},{"$f":"COUNTIF([1]理科!AR36,1)*[1]理科!$AR$10","v":0},{"$f":"COUNTIF([1]理科!AS36,1)*[1]理科!$AS$10","v":0},{"$f":"COUNTIF([1]理科!AT36,1)*[1]理科!$AT$10","v":0},{"$f":"COUNTIF([1]理科!AU36,1)*[1]理科!$AU$10","v":0},{"$f":"COUNTIF([1]理科!AV36,1)*[1]理科!$AV$10","v":0},{"$f":"COUNTIF([1]理科!AW36,1)*[1]理科!$AW$10","v":0},{"$f":"COUNTIF([1]理科!AX36,1)*[1]理科!$AX$10","v":0},{"$f":"COUNTIF([1]理科!AY36,1)*[1]理科!$AY$10","v":0},{"$f":"COUNTIF([1]理科!AZ36,1)*[1]理科!$AZ$10","v":0},{"$f":"COUNTIF([1]理科!BA36,1)*[1]理科!$BA$10","v":0},{"$f":"COUNTIF([1]理科!BB36,1)*[1]理科!$BB$10","v":0},0,null,null,"26問",{"$f":"[1]理科!AD58","v":0},null,"26問",null,null,26]
[27,{"$f":"COUNTIF([1]理科!E37,1)*[1]理科!$E$10","v":0},{"$f":"COUNTIF([1]理科!F37,1)*[1]理科!$F$10","v":0},{"$f":"COUNTIF([1]理科!G37,1)*[1]理科!$G$10","v":0},{"$f":"COUNTIF([1]理科!H37,1)*[1]理科!$H$10","v":0},{"$f":"COUNTIF([1]理科!I37,1)*[1]理科!$I$10","v":0},{"$f":"COUNTIF([1]理科!J37,1)*[1]理科!$J$10","v":0},{"$f":"COUNTIF([1]理科!K37,1)*[1]理科!$K$10","v":0},{"$f":"COUNTIF([1]理科!L37,1)*[1]理科!$L$10","v":0},{"$f":"COUNTIF([1]理科!M37,1)*[1]理科!$M$10","v":0},{"$f":"COUNTIF([1]理科!N37,1)*[1]理科!$N$10","v":0},{"$f":"COUNTIF([1]理科!O37,1)*[1]理科!$O$10","v":0},{"$f":"COUNTIF([1]理科!P37,1)*[1]理科!$P$10","v":0},{"$f":"COUNTIF([1]理科!Q37,1)*[1]理科!$Q$10","v":0},{"$f":"COUNTIF([1]理科!R37,1)*[1]理科!$R$10","v":0},{"$f":"COUNTIF([1]理科!S37,1)*[1]理科!$S$10","v":0},{"$f":"COUNTIF([1]理科!T37,1)*[1]理科!$T$10","v":0},{"$f":"COUNTIF([1]理科!U37,1)*[1]理科!$U$10","v":0},{"$f":"COUNTIF([1]理科!V37,1)*[1]理科!$V$10","v":0},{"$f":"COUNTIF([1]理科!W37,1)*[1]理科!$W$10","v":0},{"$f":"COUNTIF([1]理科!X37,1)*[1]理科!$X$10","v":0},{"$f":"COUNTIF([1]理科!Y37,1)*[1]理科!$Y$10","v":0},{"$f":"COUNTIF([1]理科!Z37,1)*[1]理科!$Z$10","v":0},{"$f":"COUNTIF([1]理科!AA37,1)*[1]理科!$AA$10","v":0},{"$f":"COUNTIF([1]理科!AB37,1)*[1]理科!$AB$10","v":0},{"$f":"COUNTIF([1]理科!AC37,1)*[1]理科!$AC$10","v":0},{"$f":"COUNTIF([1]理科!AD37,1)*[1]理科!$AD$10","v":0},{"$f":"COUNTIF([1]理科!AE37,1)*[1]理科!$AE$10","v":0},{"$f":"COUNTIF([1]理科!AF37,1)*[1]理科!$AF$10","v":0},{"$f":"COUNTIF([1]理科!AG37,1)*[1]理科!$AG$10","v":0},{"$f":"COUNTIF([1]理科!AH37,1)*[1]理科!$AH$10","v":0},{"$f":"COUNTIF([1]理科!AI37,1)*[1]理科!$AI$10","v":0},{"$f":"COUNTIF([1]理科!AJ37,1)*[1]理科!$AJ$10","v":0},{"$f":"COUNTIF([1]理科!AK37,1)*[1]理科!$AK$10","v":0},{"$f":"COUNTIF([1]理科!AL37,1)*[1]理科!$AL$10","v":0},{"$f":"COUNTIF([1]理科!AM37,1)*[1]理科!$AM$10","v":0},{"$f":"COUNTIF([1]理科!AN37,1)*[1]理科!$AN$10","v":0},{"$f":"COUNTIF([1]理科!AO37,1)*[1]理科!$AO$10","v":0},{"$f":"COUNTIF([1]理科!AP37,1)*[1]理科!$AP$10","v":0},{"$f":"COUNTIF([1]理科!AQ37,1)*[1]理科!$AQ$10","v":0},{"$f":"COUNTIF([1]理科!AR37,1)*[1]理科!$AR$10","v":0},{"$f":"COUNTIF([1]理科!AS37,1)*[1]理科!$AS$10","v":0},{"$f":"COUNTIF([1]理科!AT37,1)*[1]理科!$AT$10","v":0},{"$f":"COUNTIF([1]理科!AU37,1)*[1]理科!$AU$10","v":0},{"$f":"COUNTIF([1]理科!AV37,1)*[1]理科!$AV$10","v":0},{"$f":"COUNTIF([1]理科!AW37,1)*[1]理科!$AW$10","v":0},{"$f":"COUNTIF([1]理科!AX37,1)*[1]理科!$AX$10","v":0},{"$f":"COUNTIF([1]理科!AY37,1)*[1]理科!$AY$10","v":0},{"$f":"COUNTIF([1]理科!AZ37,1)*[1]理科!$AZ$10","v":0},{"$f":"COUNTIF([1]理科!BA37,1)*[1]理科!$BA$10","v":0},{"$f":"COUNTIF([1]理科!BB37,1)*[1]理科!$BB$10","v":0},0,null,null,"27問",{"$f":"[1]理科!AE58","v":0},null,"27問",null,null,27]
[28,{"$f":"COUNTIF([1]理科!E38,1)*[1]理科!$E$10","v":0},{"$f":"COUNTIF([1]理科!F38,1)*[1]理科!$F$10","v":0},{"$f":"COUNTIF([1]理科!G38,1)*[1]理科!$G$10","v":0},{"$f":"COUNTIF([1]理科!H38,1)*[1]理科!$H$10","v":0},{"$f":"COUNTIF([1]理科!I38,1)*[1]理科!$I$10","v":0},{"$f":"COUNTIF([1]理科!J38,1)*[1]理科!$J$10","v":0},{"$f":"COUNTIF([1]理科!K38,1)*[1]理科!$K$10","v":0},{"$f":"COUNTIF([1]理科!L38,1)*[1]理科!$L$10","v":0},{"$f":"COUNTIF([1]理科!M38,1)*[1]理科!$M$10","v":0},{"$f":"COUNTIF([1]理科!N38,1)*[1]理科!$N$10","v":0},{"$f":"COUNTIF([1]理科!O38,1)*[1]理科!$O$10","v":0},{"$f":"COUNTIF([1]理科!P38,1)*[1]理科!$P$10","v":0},{"$f":"COUNTIF([1]理科!Q38,1)*[1]理科!$Q$10","v":0},{"$f":"COUNTIF([1]理科!R38,1)*[1]理科!$R$10","v":0},{"$f":"COUNTIF([1]理科!S38,1)*[1]理科!$S$10","v":0},{"$f":"COUNTIF([1]理科!T38,1)*[1]理科!$T$10","v":0},{"$f":"COUNTIF([1]理科!U38,1)*[1]理科!$U$10","v":0},{"$f":"COUNTIF([1]理科!V38,1)*[1]理科!$V$10","v":0},{"$f":"COUNTIF([1]理科!W38,1)*[1]理科!$W$10","v":0},{"$f":"COUNTIF([1]理科!X38,1)*[1]理科!$X$10","v":0},{"$f":"COUNTIF([1]理科!Y38,1)*[1]理科!$Y$10","v":0},{"$f":"COUNTIF([1]理科!Z38,1)*[1]理科!$Z$10","v":0},{"$f":"COUNTIF([1]理科!AA38,1)*[1]理科!$AA$10","v":0},{"$f":"COUNTIF([1]理科!AB38,1)*[1]理科!$AB$10","v":0},{"$f":"COUNTIF([1]理科!AC38,1)*[1]理科!$AC$10","v":0},{"$f":"COUNTIF([1]理科!AD38,1)*[1]理科!$AD$10","v":0},{"$f":"COUNTIF([1]理科!AE38,1)*[1]理科!$AE$10","v":0},{"$f":"COUNTIF([1]理科!AF38,1)*[1]理科!$AF$10","v":0},{"$f":"COUNTIF([1]理科!AG38,1)*[1]理科!$AG$10","v":0},{"$f":"COUNTIF([1]理科!AH38,1)*[1]理科!$AH$10","v":0},{"$f":"COUNTIF([1]理科!AI38,1)*[1]理科!$AI$10","v":0},{"$f":"COUNTIF([1]理科!AJ38,1)*[1]理科!$AJ$10","v":0},{"$f":"COUNTIF([1]理科!AK38,1)*[1]理科!$AK$10","v":0},{"$f":"COUNTIF([1]理科!AL38,1)*[1]理科!$AL$10","v":0},{"$f":"COUNTIF([1]理科!AM38,1)*[1]理科!$AM$10","v":0},{"$f":"COUNTIF([1]理科!AN38,1)*[1]理科!$AN$10","v":0},{"$f":"COUNTIF([1]理科!AO38,1)*[1]理科!$AO$10","v":0},{"$f":"COUNTIF([1]理科!AP38,1)*[1]理科!$AP$10","v":0},{"$f":"COUNTIF([1]理科!AQ38,1)*[1]理科!$AQ$10","v":0},{"$f":"COUNTIF([1]理科!AR38,1)*[1]理科!$AR$10","v":0},{"$f":"COUNTIF([1]理科!AS38,1)*[1]理科!$AS$10","v":0},{"$f":"COUNTIF([1]理科!AT38,1)*[1]理科!$AT$10","v":0},{"$f":"COUNTIF([1]理科!AU38,1)*[1]理科!$AU$10","v":0},{"$f":"COUNTIF([1]理科!AV38,1)*[1]理科!$AV$10","v":0},{"$f":"COUNTIF([1]理科!AW38,1)*[1]理科!$AW$10","v":0},{"$f":"COUNTIF([1]理科!AX38,1)*[1]理科!$AX$10","v":0},{"$f":"COUNTIF([1]理科!AY38,1)*[1]理科!$AY$10","v":0},{"$f":"COUNTIF([1]理科!AZ38,1)*[1]理科!$AZ$10","v":0},{"$f":"COUNTIF([1]理科!BA38,1)*[1]理科!$BA$10","v":0},{"$f":"COUNTIF([1]理科!BB38,1)*[1]理科!$BB$10","v":0},0,null,null,"28問",{"$f":"[1]理科!AF58","v":0},null,"28問",null,null,28]
[29,{"$f":"COUNTIF([1]理科!E39,1)*[1]理科!$E$10","v":0},{"$f":"COUNTIF([1]理科!F39,1)*[1]理科!$F$10","v":0},{"$f":"COUNTIF([1]理科!G39,1)*[1]理科!$G$10","v":0},{"$f":"COUNTIF([1]理科!H39,1)*[1]理科!$H$10","v":0},{"$f":"COUNTIF([1]理科!I39,1)*[1]理科!$I$10","v":0},{"$f":"COUNTIF([1]理科!J39,1)*[1]理科!$J$10","v":0},{"$f":"COUNTIF([1]理科!K39,1)*[1]理科!$K$10","v":0},{"$f":"COUNTIF([1]理科!L39,1)*[1]理科!$L$10","v":0},{"$f":"COUNTIF([1]理科!M39,1)*[1]理科!$M$10","v":0},{"$f":"COUNTIF([1]理科!N39,1)*[1]理科!$N$10","v":0},{"$f":"COUNTIF([1]理科!O39,1)*[1]理科!$O$10","v":0},{"$f":"COUNTIF([1]理科!P39,1)*[1]理科!$P$10","v":0},{"$f":"COUNTIF([1]理科!Q39,1)*[1]理科!$Q$10","v":0},{"$f":"COUNTIF([1]理科!R39,1)*[1]理科!$R$10","v":0},{"$f":"COUNTIF([1]理科!S39,1)*[1]理科!$S$10","v":0},{"$f":"COUNTIF([1]理科!T39,1)*[1]理科!$T$10","v":0},{"$f":"COUNTIF([1]理科!U39,1)*[1]理科!$U$10","v":0},{"$f":"COUNTIF([1]理科!V39,1)*[1]理科!$V$10","v":0},{"$f":"COUNTIF([1]理科!W39,1)*[1]理科!$W$10","v":0},{"$f":"COUNTIF([1]理科!X39,1)*[1]理科!$X$10","v":0},{"$f":"COUNTIF([1]理科!Y39,1)*[1]理科!$Y$10","v":0},{"$f":"COUNTIF([1]理科!Z39,1)*[1]理科!$Z$10","v":0},{"$f":"COUNTIF([1]理科!AA39,1)*[1]理科!$AA$10","v":0},{"$f":"COUNTIF([1]理科!AB39,1)*[1]理科!$AB$10","v":0},{"$f":"COUNTIF([1]理科!AC39,1)*[1]理科!$AC$10","v":0},{"$f":"COUNTIF([1]理科!AD39,1)*[1]理科!$AD$10","v":0},{"$f":"COUNTIF([1]理科!AE39,1)*[1]理科!$AE$10","v":0},{"$f":"COUNTIF([1]理科!AF39,1)*[1]理科!$AF$10","v":0},{"$f":"COUNTIF([1]理科!AG39,1)*[1]理科!$AG$10","v":0},{"$f":"COUNTIF([1]理科!AH39,1)*[1]理科!$AH$10","v":0},{"$f":"COUNTIF([1]理科!AI39,1)*[1]理科!$AI$10","v":0},{"$f":"COUNTIF([1]理科!AJ39,1)*[1]理科!$AJ$10","v":0},{"$f":"COUNTIF([1]理科!AK39,1)*[1]理科!$AK$10","v":0},{"$f":"COUNTIF([1]理科!AL39,1)*[1]理科!$AL$10","v":0},{"$f":"COUNTIF([1]理科!AM39,1)*[1]理科!$AM$10","v":0},{"$f":"COUNTIF([1]理科!AN39,1)*[1]理科!$AN$10","v":0},{"$f":"COUNTIF([1]理科!AO39,1)*[1]理科!$AO$10","v":0},{"$f":"COUNTIF([1]理科!AP39,1)*[1]理科!$AP$10","v":0},{"$f":"COUNTIF([1]理科!AQ39,1)*[1]理科!$AQ$10","v":0},{"$f":"COUNTIF([1]理科!AR39,1)*[1]理科!$AR$10","v":0},{"$f":"COUNTIF([1]理科!AS39,1)*[1]理科!$AS$10","v":0},{"$f":"COUNTIF([1]理科!AT39,1)*[1]理科!$AT$10","v":0},{"$f":"COUNTIF([1]理科!AU39,1)*[1]理科!$AU$10","v":0},{"$f":"COUNTIF([1]理科!AV39,1)*[1]理科!$AV$10","v":0},{"$f":"COUNTIF([1]理科!AW39,1)*[1]理科!$AW$10","v":0},{"$f":"COUNTIF([1]理科!AX39,1)*[1]理科!$AX$10","v":0},{"$f":"COUNTIF([1]理科!AY39,1)*[1]理科!$AY$10","v":0},{"$f":"COUNTIF([1]理科!AZ39,1)*[1]理科!$AZ$10","v":0},{"$f":"COUNTIF([1]理科!BA39,1)*[1]理科!$BA$10","v":0},{"$f":"COUNTIF([1]理科!BB39,1)*[1]理科!$BB$10","v":0},0,null,null,"29問",{"$f":"[1]理科!AG58","v":0},null,"29問",null,null,29]
[30,{"$f":"COUNTIF([1]理科!E40,1)*[1]理科!$E$10","v":0},{"$f":"COUNTIF([1]理科!F40,1)*[1]理科!$F$10","v":0},{"$f":"COUNTIF([1]理科!G40,1)*[1]理科!$G$10","v":0},{"$f":"COUNTIF([1]理科!H40,1)*[1]理科!$H$10","v":0},{"$f":"COUNTIF([1]理科!I40,1)*[1]理科!$I$10","v":0},{"$f":"COUNTIF([1]理科!J40,1)*[1]理科!$J$10","v":0},{"$f":"COUNTIF([1]理科!K40,1)*[1]理科!$K$10","v":0},{"$f":"COUNTIF([1]理科!L40,1)*[1]理科!$L$10","v":0},{"$f":"COUNTIF([1]理科!M40,1)*[1]理科!$M$10","v":0},{"$f":"COUNTIF([1]理科!N40,1)*[1]理科!$N$10","v":0},{"$f":"COUNTIF([1]理科!O40,1)*[1]理科!$O$10","v":0},{"$f":"COUNTIF([1]理科!P40,1)*[1]理科!$P$10","v":0},{"$f":"COUNTIF([1]理科!Q40,1)*[1]理科!$Q$10","v":0},{"$f":"COUNTIF([1]理科!R40,1)*[1]理科!$R$10","v":0},{"$f":"COUNTIF([1]理科!S40,1)*[1]理科!$S$10","v":0},{"$f":"COUNTIF([1]理科!T40,1)*[1]理科!$T$10","v":0},{"$f":"COUNTIF([1]理科!U40,1)*[1]理科!$U$10","v":0},{"$f":"COUNTIF([1]理科!V40,1)*[1]理科!$V$10","v":0},{"$f":"COUNTIF([1]理科!W40,1)*[1]理科!$W$10","v":0},{"$f":"COUNTIF([1]理科!X40,1)*[1]理科!$X$10","v":0},{"$f":"COUNTIF([1]理科!Y40,1)*[1]理科!$Y$10","v":0},{"$f":"COUNTIF([1]理科!Z40,1)*[1]理科!$Z$10","v":0},{"$f":"COUNTIF([1]理科!AA40,1)*[1]理科!$AA$10","v":0},{"$f":"COUNTIF([1]理科!AB40,1)*[1]理科!$AB$10","v":0},{"$f":"COUNTIF([1]理科!AC40,1)*[1]理科!$AC$10","v":0},{"$f":"COUNTIF([1]理科!AD40,1)*[1]理科!$AD$10","v":0},{"$f":"COUNTIF([1]理科!AE40,1)*[1]理科!$AE$10","v":0},{"$f":"COUNTIF([1]理科!AF40,1)*[1]理科!$AF$10","v":0},{"$f":"COUNTIF([1]理科!AG40,1)*[1]理科!$AG$10","v":0},{"$f":"COUNTIF([1]理科!AH40,1)*[1]理科!$AH$10","v":0},{"$f":"COUNTIF([1]理科!AI40,1)*[1]理科!$AI$10","v":0},{"$f":"COUNTIF([1]理科!AJ40,1)*[1]理科!$AJ$10","v":0},{"$f":"COUNTIF([1]理科!AK40,1)*[1]理科!$AK$10","v":0},{"$f":"COUNTIF([1]理科!AL40,1)*[1]理科!$AL$10","v":0},{"$f":"COUNTIF([1]理科!AM40,1)*[1]理科!$AM$10","v":0},{"$f":"COUNTIF([1]理科!AN40,1)*[1]理科!$AN$10","v":0},{"$f":"COUNTIF([1]理科!AO40,1)*[1]理科!$AO$10","v":0},{"$f":"COUNTIF([1]理科!AP40,1)*[1]理科!$AP$10","v":0},{"$f":"COUNTIF([1]理科!AQ40,1)*[1]理科!$AQ$10","v":0},{"$f":"COUNTIF([1]理科!AR40,1)*[1]理科!$AR$10","v":0},{"$f":"COUNTIF([1]理科!AS40,1)*[1]理科!$AS$10","v":0},{"$f":"COUNTIF([1]理科!AT40,1)*[1]理科!$AT$10","v":0},{"$f":"COUNTIF([1]理科!AU40,1)*[1]理科!$AU$10","v":0},{"$f":"COUNTIF([1]理科!AV40,1)*[1]理科!$AV$10","v":0},{"$f":"COUNTIF([1]理科!AW40,1)*[1]理科!$AW$10","v":0},{"$f":"COUNTIF([1]理科!AX40,1)*[1]理科!$AX$10","v":0},{"$f":"COUNTIF([1]理科!AY40,1)*[1]理科!$AY$10","v":0},{"$f":"COUNTIF([1]理科!AZ40,1)*[1]理科!$AZ$10","v":0},{"$f":"COUNTIF([1]理科!BA40,1)*[1]理科!$BA$10","v":0},{"$f":"COUNTIF([1]理科!BB40,1)*[1]理科!$BB$10","v":0},0,null,null,"30問",{"$f":"[1]理科!AH58","v":0},null,"30問",null,null,30]
[31,{"$f":"COUNTIF([1]理科!E41,1)*[1]理科!$E$10","v":0},{"$f":"COUNTIF([1]理科!F41,1)*[1]理科!$F$10","v":0},{"$f":"COUNTIF([1]理科!G41,1)*[1]理科!$G$10","v":0},{"$f":"COUNTIF([1]理科!H41,1)*[1]理科!$H$10","v":0},{"$f":"COUNTIF([1]理科!I41,1)*[1]理科!$I$10","v":0},{"$f":"COUNTIF([1]理科!J41,1)*[1]理科!$J$10","v":0},{"$f":"COUNTIF([1]理科!K41,1)*[1]理科!$K$10","v":0},{"$f":"COUNTIF([1]理科!L41,1)*[1]理科!$L$10","v":0},{"$f":"COUNTIF([1]理科!M41,1)*[1]理科!$M$10","v":0},{"$f":"COUNTIF([1]理科!N41,1)*[1]理科!$N$10","v":0},{"$f":"COUNTIF([1]理科!O41,1)*[1]理科!$O$10","v":0},{"$f":"COUNTIF([1]理科!P41,1)*[1]理科!$P$10","v":0},{"$f":"COUNTIF([1]理科!Q41,1)*[1]理科!$Q$10","v":0},{"$f":"COUNTIF([1]理科!R41,1)*[1]理科!$R$10","v":0},{"$f":"COUNTIF([1]理科!S41,1)*[1]理科!$S$10","v":0},{"$f":"COUNTIF([1]理科!T41,1)*[1]理科!$T$10","v":0},{"$f":"COUNTIF([1]理科!U41,1)*[1]理科!$U$10","v":0},{"$f":"COUNTIF([1]理科!V41,1)*[1]理科!$V$10","v":0},{"$f":"COUNTIF([1]理科!W41,1)*[1]理科!$W$10","v":0},{"$f":"COUNTIF([1]理科!X41,1)*[1]理科!$X$10","v":0},{"$f":"COUNTIF([1]理科!Y41,1)*[1]理科!$Y$10","v":0},{"$f":"COUNTIF([1]理科!Z41,1)*[1]理科!$Z$10","v":0},{"$f":"COUNTIF([1]理科!AA41,1)*[1]理科!$AA$10","v":0},{"$f":"COUNTIF([1]理科!AB41,1)*[1]理科!$AB$10","v":0},{"$f":"COUNTIF([1]理科!AC41,1)*[1]理科!$AC$10","v":0},{"$f":"COUNTIF([1]理科!AD41,1)*[1]理科!$AD$10","v":0},{"$f":"COUNTIF([1]理科!AE41,1)*[1]理科!$AE$10","v":0},{"$f":"COUNTIF([1]理科!AF41,1)*[1]理科!$AF$10","v":0},{"$f":"COUNTIF([1]理科!AG41,1)*[1]理科!$AG$10","v":0},{"$f":"COUNTIF([1]理科!AH41,1)*[1]理科!$AH$10","v":0},{"$f":"COUNTIF([1]理科!AI41,1)*[1]理科!$AI$10","v":0},{"$f":"COUNTIF([1]理科!AJ41,1)*[1]理科!$AJ$10","v":0},{"$f":"COUNTIF([1]理科!AK41,1)*[1]理科!$AK$10","v":0},{"$f":"COUNTIF([1]理科!AL41,1)*[1]理科!$AL$10","v":0},{"$f":"COUNTIF([1]理科!AM41,1)*[1]理科!$AM$10","v":0},{"$f":"COUNTIF([1]理科!AN41,1)*[1]理科!$AN$10","v":0},{"$f":"COUNTIF([1]理科!AO41,1)*[1]理科!$AO$10","v":0},{"$f":"COUNTIF([1]理科!AP41,1)*[1]理科!$AP$10","v":0},{"$f":"COUNTIF([1]理科!AQ41,1)*[1]理科!$AQ$10","v":0},{"$f":"COUNTIF([1]理科!AR41,1)*[1]理科!$AR$10","v":0},{"$f":"COUNTIF([1]理科!AS41,1)*[1]理科!$AS$10","v":0},{"$f":"COUNTIF([1]理科!AT41,1)*[1]理科!$AT$10","v":0},{"$f":"COUNTIF([1]理科!AU41,1)*[1]理科!$AU$10","v":0},{"$f":"COUNTIF([1]理科!AV41,1)*[1]理科!$AV$10","v":0},{"$f":"COUNTIF([1]理科!AW41,1)*[1]理科!$AW$10","v":0},{"$f":"COUNTIF([1]理科!AX41,1)*[1]理科!$AX$10","v":0},{"$f":"COUNTIF([1]理科!AY41,1)*[1]理科!$AY$10","v":0},{"$f":"COUNTIF([1]理科!AZ41,1)*[1]理科!$AZ$10","v":0},{"$f":"COUNTIF([1]理科!BA41,1)*[1]理科!$BA$10","v":0},{"$f":"COUNTIF([1]理科!BB41,1)*[1]理科!$BB$10","v":0},0,null,null,"31問",{"$f":"[1]理科!AI58","v":0},null,"31問",null,null,31]
[32,{"$f":"COUNTIF([1]理科!E42,1)*[1]理科!$E$10","v":0},{"$f":"COUNTIF([1]理科!F42,1)*[1]理科!$F$10","v":0},{"$f":"COUNTIF([1]理科!G42,1)*[1]理科!$G$10","v":0},{"$f":"COUNTIF([1]理科!H42,1)*[1]理科!$H$10","v":0},{"$f":"COUNTIF([1]理科!I42,1)*[1]理科!$I$10","v":0},{"$f":"COUNTIF([1]理科!J42,1)*[1]理科!$J$10","v":0},{"$f":"COUNTIF([1]理科!K42,1)*[1]理科!$K$10","v":0},{"$f":"COUNTIF([1]理科!L42,1)*[1]理科!$L$10","v":0},{"$f":"COUNTIF([1]理科!M42,1)*[1]理科!$M$10","v":0},{"$f":"COUNTIF([1]理科!N42,1)*[1]理科!$N$10","v":0},{"$f":"COUNTIF([1]理科!O42,1)*[1]理科!$O$10","v":0},{"$f":"COUNTIF([1]理科!P42,1)*[1]理科!$P$10","v":0},{"$f":"COUNTIF([1]理科!Q42,1)*[1]理科!$Q$10","v":0},{"$f":"COUNTIF([1]理科!R42,1)*[1]理科!$R$10","v":0},{"$f":"COUNTIF([1]理科!S42,1)*[1]理科!$S$10","v":0},{"$f":"COUNTIF([1]理科!T42,1)*[1]理科!$T$10","v":0},{"$f":"COUNTIF([1]理科!U42,1)*[1]理科!$U$10","v":0},{"$f":"COUNTIF([1]理科!V42,1)*[1]理科!$V$10","v":0},{"$f":"COUNTIF([1]理科!W42,1)*[1]理科!$W$10","v":0},{"$f":"COUNTIF([1]理科!X42,1)*[1]理科!$X$10","v":0},{"$f":"COUNTIF([1]理科!Y42,1)*[1]理科!$Y$10","v":0},{"$f":"COUNTIF([1]理科!Z42,1)*[1]理科!$Z$10","v":0},{"$f":"COUNTIF([1]理科!AA42,1)*[1]理科!$AA$10","v":0},{"$f":"COUNTIF([1]理科!AB42,1)*[1]理科!$AB$10","v":0},{"$f":"COUNTIF([1]理科!AC42,1)*[1]理科!$AC$10","v":0},{"$f":"COUNTIF([1]理科!AD42,1)*[1]理科!$AD$10","v":0},{"$f":"COUNTIF([1]理科!AE42,1)*[1]理科!$AE$10","v":0},{"$f":"COUNTIF([1]理科!AF42,1)*[1]理科!$AF$10","v":0},{"$f":"COUNTIF([1]理科!AG42,1)*[1]理科!$AG$10","v":0},{"$f":"COUNTIF([1]理科!AH42,1)*[1]理科!$AH$10","v":0},{"$f":"COUNTIF([1]理科!AI42,1)*[1]理科!$AI$10","v":0},{"$f":"COUNTIF([1]理科!AJ42,1)*[1]理科!$AJ$10","v":0},{"$f":"COUNTIF([1]理科!AK42,1)*[1]理科!$AK$10","v":0},{"$f":"COUNTIF([1]理科!AL42,1)*[1]理科!$AL$10","v":0},{"$f":"COUNTIF([1]理科!AM42,1)*[1]理科!$AM$10","v":0},{"$f":"COUNTIF([1]理科!AN42,1)*[1]理科!$AN$10","v":0},{"$f":"COUNTIF([1]理科!AO42,1)*[1]理科!$AO$10","v":0},{"$f":"COUNTIF([1]理科!AP42,1)*[1]理科!$AP$10","v":0},{"$f":"COUNTIF([1]理科!AQ42,1)*[1]理科!$AQ$10","v":0},{"$f":"COUNTIF([1]理科!AR42,1)*[1]理科!$AR$10","v":0},{"$f":"COUNTIF([1]理科!AS42,1)*[1]理科!$AS$10","v":0},{"$f":"COUNTIF([1]理科!AT42,1)*[1]理科!$AT$10","v":0},{"$f":"COUNTIF([1]理科!AU42,1)*[1]理科!$AU$10","v":0},{"$f":"COUNTIF([1]理科!AV42,1)*[1]理科!$AV$10","v":0},{"$f":"COUNTIF([1]理科!AW42,1)*[1]理科!$AW$10","v":0},{"$f":"COUNTIF([1]理科!AX42,1)*[1]理科!$AX$10","v":0},{"$f":"COUNTIF([1]理科!AY42,1)*[1]理科!$AY$10","v":0},{"$f":"COUNTIF([1]理科!AZ42,1)*[1]理科!$AZ$10","v":0},{"$f":"COUNTIF([1]理科!BA42,1)*[1]理科!$BA$10","v":0},{"$f":"COUNTIF([1]理科!BB42,1)*[1]理科!$BB$10","v":0},0,null,null,"32問",{"$f":"[1]理科!AJ58","v":0},null,"32問",null,null,32]
[33,{"$f":"COUNTIF([1]理科!E43,1)*[1]理科!$E$10","v":0},{"$f":"COUNTIF([1]理科!F43,1)*[1]理科!$F$10","v":0},{"$f":"COUNTIF([1]理科!G43,1)*[1]理科!$G$10","v":0},{"$f":"COUNTIF([1]理科!H43,1)*[1]理科!$H$10","v":0},{"$f":"COUNTIF([1]理科!I43,1)*[1]理科!$I$10","v":0},{"$f":"COUNTIF([1]理科!J43,1)*[1]理科!$J$10","v":0},{"$f":"COUNTIF([1]理科!K43,1)*[1]理科!$K$10","v":0},{"$f":"COUNTIF([1]理科!L43,1)*[1]理科!$L$10","v":0},{"$f":"COUNTIF([1]理科!M43,1)*[1]理科!$M$10","v":0},{"$f":"COUNTIF([1]理科!N43,1)*[1]理科!$N$10","v":0},{"$f":"COUNTIF([1]理科!O43,1)*[1]理科!$O$10","v":0},{"$f":"COUNTIF([1]理科!P43,1)*[1]理科!$P$10","v":0},{"$f":"COUNTIF([1]理科!Q43,1)*[1]理科!$Q$10","v":0},{"$f":"COUNTIF([1]理科!R43,1)*[1]理科!$R$10","v":0},{"$f":"COUNTIF([1]理科!S43,1)*[1]理科!$S$10","v":0},{"$f":"COUNTIF([1]理科!T43,1)*[1]理科!$T$10","v":0},{"$f":"COUNTIF([1]理科!U43,1)*[1]理科!$U$10","v":0},{"$f":"COUNTIF([1]理科!V43,1)*[1]理科!$V$10","v":0},{"$f":"COUNTIF([1]理科!W43,1)*[1]理科!$W$10","v":0},{"$f":"COUNTIF([1]理科!X43,1)*[1]理科!$X$10","v":0},{"$f":"COUNTIF([1]理科!Y43,1)*[1]理科!$Y$10","v":0},{"$f":"COUNTIF([1]理科!Z43,1)*[1]理科!$Z$10","v":0},{"$f":"COUNTIF([1]理科!AA43,1)*[1]理科!$AA$10","v":0},{"$f":"COUNTIF([1]理科!AB43,1)*[1]理科!$AB$10","v":0},{"$f":"COUNTIF([1]理科!AC43,1)*[1]理科!$AC$10","v":0},{"$f":"COUNTIF([1]理科!AD43,1)*[1]理科!$AD$10","v":0},{"$f":"COUNTIF([1]理科!AE43,1)*[1]理科!$AE$10","v":0},{"$f":"COUNTIF([1]理科!AF43,1)*[1]理科!$AF$10","v":0},{"$f":"COUNTIF([1]理科!AG43,1)*[1]理科!$AG$10","v":0},{"$f":"COUNTIF([1]理科!AH43,1)*[1]理科!$AH$10","v":0},{"$f":"COUNTIF([1]理科!AI43,1)*[1]理科!$AI$10","v":0},{"$f":"COUNTIF([1]理科!AJ43,1)*[1]理科!$AJ$10","v":0},{"$f":"COUNTIF([1]理科!AK43,1)*[1]理科!$AK$10","v":0},{"$f":"COUNTIF([1]理科!AL43,1)*[1]理科!$AL$10","v":0},{"$f":"COUNTIF([1]理科!AM43,1)*[1]理科!$AM$10","v":0},{"$f":"COUNTIF([1]理科!AN43,1)*[1]理科!$AN$10","v":0},{"$f":"COUNTIF([1]理科!AO43,1)*[1]理科!$AO$10","v":0},{"$f":"COUNTIF([1]理科!AP43,1)*[1]理科!$AP$10","v":0},{"$f":"COUNTIF([1]理科!AQ43,1)*[1]理科!$AQ$10","v":0},{"$f":"COUNTIF([1]理科!AR43,1)*[1]理科!$AR$10","v":0},{"$f":"COUNTIF([1]理科!AS43,1)*[1]理科!$AS$10","v":0},{"$f":"COUNTIF([1]理科!AT43,1)*[1]理科!$AT$10","v":0},{"$f":"COUNTIF([1]理科!AU43,1)*[1]理科!$AU$10","v":0},{"$f":"COUNTIF([1]理科!AV43,1)*[1]理科!$AV$10","v":0},{"$f":"COUNTIF([1]理科!AW43,1)*[1]理科!$AW$10","v":0},{"$f":"COUNTIF([1]理科!AX43,1)*[1]理科!$AX$10","v":0},{"$f":"COUNTIF([1]理科!AY43,1)*[1]理科!$AY$10","v":0},{"$f":"COUNTIF([1]理科!AZ43,1)*[1]理科!$AZ$10","v":0},{"$f":"COUNTIF([1]理科!BA43,1)*[1]理科!$BA$10","v":0},{"$f":"COUNTIF([1]理科!BB43,1)*[1]理科!$BB$10","v":0},0,null,null,"33問",{"$f":"[1]理科!AK58","v":0},null,"33問",null,null,33]
[34,{"$f":"COUNTIF([1]理科!E44,1)*[1]理科!$E$10","v":0},{"$f":"COUNTIF([1]理科!F44,1)*[1]理科!$F$10","v":0},{"$f":"COUNTIF([1]理科!G44,1)*[1]理科!$G$10","v":0},{"$f":"COUNTIF([1]理科!H44,1)*[1]理科!$H$10","v":0},{"$f":"COUNTIF([1]理科!I44,1)*[1]理科!$I$10","v":0},{"$f":"COUNTIF([1]理科!J44,1)*[1]理科!$J$10","v":0},{"$f":"COUNTIF([1]理科!K44,1)*[1]理科!$K$10","v":0},{"$f":"COUNTIF([1]理科!L44,1)*[1]理科!$L$10","v":0},{"$f":"COUNTIF([1]理科!M44,1)*[1]理科!$M$10","v":0},{"$f":"COUNTIF([1]理科!N44,1)*[1]理科!$N$10","v":0},{"$f":"COUNTIF([1]理科!O44,1)*[1]理科!$O$10","v":0},{"$f":"COUNTIF([1]理科!P44,1)*[1]理科!$P$10","v":0},{"$f":"COUNTIF([1]理科!Q44,1)*[1]理科!$Q$10","v":0},{"$f":"COUNTIF([1]理科!R44,1)*[1]理科!$R$10","v":0},{"$f":"COUNTIF([1]理科!S44,1)*[1]理科!$S$10","v":0},{"$f":"COUNTIF([1]理科!T44,1)*[1]理科!$T$10","v":0},{"$f":"COUNTIF([1]理科!U44,1)*[1]理科!$U$10","v":0},{"$f":"COUNTIF([1]理科!V44,1)*[1]理科!$V$10","v":0},{"$f":"COUNTIF([1]理科!W44,1)*[1]理科!$W$10","v":0},{"$f":"COUNTIF([1]理科!X44,1)*[1]理科!$X$10","v":0},{"$f":"COUNTIF([1]理科!Y44,1)*[1]理科!$Y$10","v":0},{"$f":"COUNTIF([1]理科!Z44,1)*[1]理科!$Z$10","v":0},{"$f":"COUNTIF([1]理科!AA44,1)*[1]理科!$AA$10","v":0},{"$f":"COUNTIF([1]理科!AB44,1)*[1]理科!$AB$10","v":0},{"$f":"COUNTIF([1]理科!AC44,1)*[1]理科!$AC$10","v":0},{"$f":"COUNTIF([1]理科!AD44,1)*[1]理科!$AD$10","v":0},{"$f":"COUNTIF([1]理科!AE44,1)*[1]理科!$AE$10","v":0},{"$f":"COUNTIF([1]理科!AF44,1)*[1]理科!$AF$10","v":0},{"$f":"COUNTIF([1]理科!AG44,1)*[1]理科!$AG$10","v":0},{"$f":"COUNTIF([1]理科!AH44,1)*[1]理科!$AH$10","v":0},{"$f":"COUNTIF([1]理科!AI44,1)*[1]理科!$AI$10","v":0},{"$f":"COUNTIF([1]理科!AJ44,1)*[1]理科!$AJ$10","v":0},{"$f":"COUNTIF([1]理科!AK44,1)*[1]理科!$AK$10","v":0},{"$f":"COUNTIF([1]理科!AL44,1)*[1]理科!$AL$10","v":0},{"$f":"COUNTIF([1]理科!AM44,1)*[1]理科!$AM$10","v":0},{"$f":"COUNTIF([1]理科!AN44,1)*[1]理科!$AN$10","v":0},{"$f":"COUNTIF([1]理科!AO44,1)*[1]理科!$AO$10","v":0},{"$f":"COUNTIF([1]理科!AP44,1)*[1]理科!$AP$10","v":0},{"$f":"COUNTIF([1]理科!AQ44,1)*[1]理科!$AQ$10","v":0},{"$f":"COUNTIF([1]理科!AR44,1)*[1]理科!$AR$10","v":0},{"$f":"COUNTIF([1]理科!AS44,1)*[1]理科!$AS$10","v":0},{"$f":"COUNTIF([1]理科!AT44,1)*[1]理科!$AT$10","v":0},{"$f":"COUNTIF([1]理科!AU44,1)*[1]理科!$AU$10","v":0},{"$f":"COUNTIF([1]理科!AV44,1)*[1]理科!$AV$10","v":0},{"$f":"COUNTIF([1]理科!AW44,1)*[1]理科!$AW$10","v":0},{"$f":"COUNTIF([1]理科!AX44,1)*[1]理科!$AX$10","v":0},{"$f":"COUNTIF([1]理科!AY44,1)*[1]理科!$AY$10","v":0},{"$f":"COUNTIF([1]理科!AZ44,1)*[1]理科!$AZ$10","v":0},{"$f":"COUNTIF([1]理科!BA44,1)*[1]理科!$BA$10","v":0},{"$f":"COUNTIF([1]理科!BB44,1)*[1]理科!$BB$10","v":0},0,null,null,"34問",{"$f":"[1]理科!AL58","v":0},null,"34問",null,null,34]
[35,{"$f":"COUNTIF([1]理科!E45,1)*[1]理科!$E$10","v":0},{"$f":"COUNTIF([1]理科!F45,1)*[1]理科!$F$10","v":0},{"$f":"COUNTIF([1]理科!G45,1)*[1]理科!$G$10","v":0},{"$f":"COUNTIF([1]理科!H45,1)*[1]理科!$H$10","v":0},{"$f":"COUNTIF([1]理科!I45,1)*[1]理科!$I$10","v":0},{"$f":"COUNTIF([1]理科!J45,1)*[1]理科!$J$10","v":0},{"$f":"COUNTIF([1]理科!K45,1)*[1]理科!$K$10","v":0},{"$f":"COUNTIF([1]理科!L45,1)*[1]理科!$L$10","v":0},{"$f":"COUNTIF([1]理科!M45,1)*[1]理科!$M$10","v":0},{"$f":"COUNTIF([1]理科!N45,1)*[1]理科!$N$10","v":0},{"$f":"COUNTIF([1]理科!O45,1)*[1]理科!$O$10","v":0},{"$f":"COUNTIF([1]理科!P45,1)*[1]理科!$P$10","v":0},{"$f":"COUNTIF([1]理科!Q45,1)*[1]理科!$Q$10","v":0},{"$f":"COUNTIF([1]理科!R45,1)*[1]理科!$R$10","v":0},{"$f":"COUNTIF([1]理科!S45,1)*[1]理科!$S$10","v":0},{"$f":"COUNTIF([1]理科!T45,1)*[1]理科!$T$10","v":0},{"$f":"COUNTIF([1]理科!U45,1)*[1]理科!$U$10","v":0},{"$f":"COUNTIF([1]理科!V45,1)*[1]理科!$V$10","v":0},{"$f":"COUNTIF([1]理科!W45,1)*[1]理科!$W$10","v":0},{"$f":"COUNTIF([1]理科!X45,1)*[1]理科!$X$10","v":0},{"$f":"COUNTIF([1]理科!Y45,1)*[1]理科!$Y$10","v":0},{"$f":"COUNTIF([1]理科!Z45,1)*[1]理科!$Z$10","v":0},{"$f":"COUNTIF([1]理科!AA45,1)*[1]理科!$AA$10","v":0},{"$f":"COUNTIF([1]理科!AB45,1)*[1]理科!$AB$10","v":0},{"$f":"COUNTIF([1]理科!AC45,1)*[1]理科!$AC$10","v":0},{"$f":"COUNTIF([1]理科!AD45,1)*[1]理科!$AD$10","v":0},{"$f":"COUNTIF([1]理科!AE45,1)*[1]理科!$AE$10","v":0},{"$f":"COUNTIF([1]理科!AF45,1)*[1]理科!$AF$10","v":0},{"$f":"COUNTIF([1]理科!AG45,1)*[1]理科!$AG$10","v":0},{"$f":"COUNTIF([1]理科!AH45,1)*[1]理科!$AH$10","v":0},{"$f":"COUNTIF([1]理科!AI45,1)*[1]理科!$AI$10","v":0},{"$f":"COUNTIF([1]理科!AJ45,1)*[1]理科!$AJ$10","v":0},{"$f":"COUNTIF([1]理科!AK45,1)*[1]理科!$AK$10","v":0},{"$f":"COUNTIF([1]理科!AL45,1)*[1]理科!$AL$10","v":0},{"$f":"COUNTIF([1]理科!AM45,1)*[1]理科!$AM$10","v":0},{"$f":"COUNTIF([1]理科!AN45,1)*[1]理科!$AN$10","v":0},{"$f":"COUNTIF([1]理科!AO45,1)*[1]理科!$AO$10","v":0},{"$f":"COUNTIF([1]理科!AP45,1)*[1]理科!$AP$10","v":0},{"$f":"COUNTIF([1]理科!AQ45,1)*[1]理科!$AQ$10","v":0},{"$f":"COUNTIF([1]理科!AR45,1)*[1]理科!$AR$10","v":0},{"$f":"COUNTIF([1]理科!AS45,1)*[1]理科!$AS$10","v":0},{"$f":"COUNTIF([1]理科!AT45,1)*[1]理科!$AT$10","v":0},{"$f":"COUNTIF([1]理科!AU45,1)*[1]理科!$AU$10","v":0},{"$f":"COUNTIF([1]理科!AV45,1)*[1]理科!$AV$10","v":0},{"$f":"COUNTIF([1]理科!AW45,1)*[1]理科!$AW$10","v":0},{"$f":"COUNTIF([1]理科!AX45,1)*[1]理科!$AX$10","v":0},{"$f":"COUNTIF([1]理科!AY45,1)*[1]理科!$AY$10","v":0},{"$f":"COUNTIF([1]理科!AZ45,1)*[1]理科!$AZ$10","v":0},{"$f":"COUNTIF([1]理科!BA45,1)*[1]理科!$BA$10","v":0},{"$f":"COUNTIF([1]理科!BB45,1)*[1]理科!$BB$10","v":0},0,null,null,"35問",{"$f":"[1]理科!AM58","v":0},null,"35問",null,null,35]
[36,{"$f":"COUNTIF([1]理科!E46,1)*[1]理科!$E$10","v":0},{"$f":"COUNTIF([1]理科!F46,1)*[1]理科!$F$10","v":0},{"$f":"COUNTIF([1]理科!G46,1)*[1]理科!$G$10","v":0},{"$f":"COUNTIF([1]理科!H46,1)*[1]理科!$H$10","v":0},{"$f":"COUNTIF([1]理科!I46,1)*[1]理科!$I$10","v":0},{"$f":"COUNTIF([1]理科!J46,1)*[1]理科!$J$10","v":0},{"$f":"COUNTIF([1]理科!K46,1)*[1]理科!$K$10","v":0},{"$f":"COUNTIF([1]理科!L46,1)*[1]理科!$L$10","v":0},{"$f":"COUNTIF([1]理科!M46,1)*[1]理科!$M$10","v":0},{"$f":"COUNTIF([1]理科!N46,1)*[1]理科!$N$10","v":0},{"$f":"COUNTIF([1]理科!O46,1)*[1]理科!$O$10","v":0},{"$f":"COUNTIF([1]理科!P46,1)*[1]理科!$P$10","v":0},{"$f":"COUNTIF([1]理科!Q46,1)*[1]理科!$Q$10","v":0},{"$f":"COUNTIF([1]理科!R46,1)*[1]理科!$R$10","v":0},{"$f":"COUNTIF([1]理科!S46,1)*[1]理科!$S$10","v":0},{"$f":"COUNTIF([1]理科!T46,1)*[1]理科!$T$10","v":0},{"$f":"COUNTIF([1]理科!U46,1)*[1]理科!$U$10","v":0},{"$f":"COUNTIF([1]理科!V46,1)*[1]理科!$V$10","v":0},{"$f":"COUNTIF([1]理科!W46,1)*[1]理科!$W$10","v":0},{"$f":"COUNTIF([1]理科!X46,1)*[1]理科!$X$10","v":0},{"$f":"COUNTIF([1]理科!Y46,1)*[1]理科!$Y$10","v":0},{"$f":"COUNTIF([1]理科!Z46,1)*[1]理科!$Z$10","v":0},{"$f":"COUNTIF([1]理科!AA46,1)*[1]理科!$AA$10","v":0},{"$f":"COUNTIF([1]理科!AB46,1)*[1]理科!$AB$10","v":0},{"$f":"COUNTIF([1]理科!AC46,1)*[1]理科!$AC$10","v":0},{"$f":"COUNTIF([1]理科!AD46,1)*[1]理科!$AD$10","v":0},{"$f":"COUNTIF([1]理科!AE46,1)*[1]理科!$AE$10","v":0},{"$f":"COUNTIF([1]理科!AF46,1)*[1]理科!$AF$10","v":0},{"$f":"COUNTIF([1]理科!AG46,1)*[1]理科!$AG$10","v":0},{"$f":"COUNTIF([1]理科!AH46,1)*[1]理科!$AH$10","v":0},{"$f":"COUNTIF([1]理科!AI46,1)*[1]理科!$AI$10","v":0},{"$f":"COUNTIF([1]理科!AJ46,1)*[1]理科!$AJ$10","v":0},{"$f":"COUNTIF([1]理科!AK46,1)*[1]理科!$AK$10","v":0},{"$f":"COUNTIF([1]理科!AL46,1)*[1]理科!$AL$10","v":0},{"$f":"COUNTIF([1]理科!AM46,1)*[1]理科!$AM$10","v":0},{"$f":"COUNTIF([1]理科!AN46,1)*[1]理科!$AN$10","v":0},{"$f":"COUNTIF([1]理科!AO46,1)*[1]理科!$AO$10","v":0},{"$f":"COUNTIF([1]理科!AP46,1)*[1]理科!$AP$10","v":0},{"$f":"COUNTIF([1]理科!AQ46,1)*[1]理科!$AQ$10","v":0},{"$f":"COUNTIF([1]理科!AR46,1)*[1]理科!$AR$10","v":0},{"$f":"COUNTIF([1]理科!AS46,1)*[1]理科!$AS$10","v":0},{"$f":"COUNTIF([1]理科!AT46,1)*[1]理科!$AT$10","v":0},{"$f":"COUNTIF([1]理科!AU46,1)*[1]理科!$AU$10","v":0},{"$f":"COUNTIF([1]理科!AV46,1)*[1]理科!$AV$10","v":0},{"$f":"COUNTIF([1]理科!AW46,1)*[1]理科!$AW$10","v":0},{"$f":"COUNTIF([1]理科!AX46,1)*[1]理科!$AX$10","v":0},{"$f":"COUNTIF([1]理科!AY46,1)*[1]理科!$AY$10","v":0},{"$f":"COUNTIF([1]理科!AZ46,1)*[1]理科!$AZ$10","v":0},{"$f":"COUNTIF([1]理科!BA46,1)*[1]理科!$BA$10","v":0},{"$f":"COUNTIF([1]理科!BB46,1)*[1]理科!$BB$10","v":0},0,null,null,"36問",{"$f":"[1]理科!AN58","v":0},null,"36問",null,null,36]
[37,{"$f":"COUNTIF([1]理科!E47,1)*[1]理科!$E$10","v":0},{"$f":"COUNTIF([1]理科!F47,1)*[1]理科!$F$10","v":0},{"$f":"COUNTIF([1]理科!G47,1)*[1]理科!$G$10","v":0},{"$f":"COUNTIF([1]理科!H47,1)*[1]理科!$H$10","v":0},{"$f":"COUNTIF([1]理科!I47,1)*[1]理科!$I$10","v":0},{"$f":"COUNTIF([1]理科!J47,1)*[1]理科!$J$10","v":0},{"$f":"COUNTIF([1]理科!K47,1)*[1]理科!$K$10","v":0},{"$f":"COUNTIF([1]理科!L47,1)*[1]理科!$L$10","v":0},{"$f":"COUNTIF([1]理科!M47,1)*[1]理科!$M$10","v":0},{"$f":"COUNTIF([1]理科!N47,1)*[1]理科!$N$10","v":0},{"$f":"COUNTIF([1]理科!O47,1)*[1]理科!$O$10","v":0},{"$f":"COUNTIF([1]理科!P47,1)*[1]理科!$P$10","v":0},{"$f":"COUNTIF([1]理科!Q47,1)*[1]理科!$Q$10","v":0},{"$f":"COUNTIF([1]理科!R47,1)*[1]理科!$R$10","v":0},{"$f":"COUNTIF([1]理科!S47,1)*[1]理科!$S$10","v":0},{"$f":"COUNTIF([1]理科!T47,1)*[1]理科!$T$10","v":0},{"$f":"COUNTIF([1]理科!U47,1)*[1]理科!$U$10","v":0},{"$f":"COUNTIF([1]理科!V47,1)*[1]理科!$V$10","v":0},{"$f":"COUNTIF([1]理科!W47,1)*[1]理科!$W$10","v":0},{"$f":"COUNTIF([1]理科!X47,1)*[1]理科!$X$10","v":0},{"$f":"COUNTIF([1]理科!Y47,1)*[1]理科!$Y$10","v":0},{"$f":"COUNTIF([1]理科!Z47,1)*[1]理科!$Z$10","v":0},{"$f":"COUNTIF([1]理科!AA47,1)*[1]理科!$AA$10","v":0},{"$f":"COUNTIF([1]理科!AB47,1)*[1]理科!$AB$10","v":0},{"$f":"COUNTIF([1]理科!AC47,1)*[1]理科!$AC$10","v":0},{"$f":"COUNTIF([1]理科!AD47,1)*[1]理科!$AD$10","v":0},{"$f":"COUNTIF([1]理科!AE47,1)*[1]理科!$AE$10","v":0},{"$f":"COUNTIF([1]理科!AF47,1)*[1]理科!$AF$10","v":0},{"$f":"COUNTIF([1]理科!AG47,1)*[1]理科!$AG$10","v":0},{"$f":"COUNTIF([1]理科!AH47,1)*[1]理科!$AH$10","v":0},{"$f":"COUNTIF([1]理科!AI47,1)*[1]理科!$AI$10","v":0},{"$f":"COUNTIF([1]理科!AJ47,1)*[1]理科!$AJ$10","v":0},{"$f":"COUNTIF([1]理科!AK47,1)*[1]理科!$AK$10","v":0},{"$f":"COUNTIF([1]理科!AL47,1)*[1]理科!$AL$10","v":0},{"$f":"COUNTIF([1]理科!AM47,1)*[1]理科!$AM$10","v":0},{"$f":"COUNTIF([1]理科!AN47,1)*[1]理科!$AN$10","v":0},{"$f":"COUNTIF([1]理科!AO47,1)*[1]理科!$AO$10","v":0},{"$f":"COUNTIF([1]理科!AP47,1)*[1]理科!$AP$10","v":0},{"$f":"COUNTIF([1]理科!AQ47,1)*[1]理科!$AQ$10","v":0},{"$f":"COUNTIF([1]理科!AR47,1)*[1]理科!$AR$10","v":0},{"$f":"COUNTIF([1]理科!AS47,1)*[1]理科!$AS$10","v":0},{"$f":"COUNTIF([1]理科!AT47,1)*[1]理科!$AT$10","v":0},{"$f":"COUNTIF([1]理科!AU47,1)*[1]理科!$AU$10","v":0},{"$f":"COUNTIF([1]理科!AV47,1)*[1]理科!$AV$10","v":0},{"$f":"COUNTIF([1]理科!AW47,1)*[1]理科!$AW$10","v":0},{"$f":"COUNTIF([1]理科!AX47,1)*[1]理科!$AX$10","v":0},{"$f":"COUNTIF([1]理科!AY47,1)*[1]理科!$AY$10","v":0},{"$f":"COUNTIF([1]理科!AZ47,1)*[1]理科!$AZ$10","v":0},{"$f":"COUNTIF([1]理科!BA47,1)*[1]理科!$BA$10","v":0},{"$f":"COUNTIF([1]理科!BB47,1)*[1]理科!$BB$10","v":0},0,null,null,"37問",{"$f":"[1]理科!AO58","v":0},null,"37問",null,null,37]
[38,{"$f":"COUNTIF([1]理科!E48,1)*[1]理科!$E$10","v":0},{"$f":"COUNTIF([1]理科!F48,1)*[1]理科!$F$10","v":0},{"$f":"COUNTIF([1]理科!G48,1)*[1]理科!$G$10","v":0},{"$f":"COUNTIF([1]理科!H48,1)*[1]理科!$H$10","v":0},{"$f":"COUNTIF([1]理科!I48,1)*[1]理科!$I$10","v":0},{"$f":"COUNTIF([1]理科!J48,1)*[1]理科!$J$10","v":0},{"$f":"COUNTIF([1]理科!K48,1)*[1]理科!$K$10","v":0},{"$f":"COUNTIF([1]理科!L48,1)*[1]理科!$L$10","v":0},{"$f":"COUNTIF([1]理科!M48,1)*[1]理科!$M$10","v":0},{"$f":"COUNTIF([1]理科!N48,1)*[1]理科!$N$10","v":0},{"$f":"COUNTIF([1]理科!O48,1)*[1]理科!$O$10","v":0},{"$f":"COUNTIF([1]理科!P48,1)*[1]理科!$P$10","v":0},{"$f":"COUNTIF([1]理科!Q48,1)*[1]理科!$Q$10","v":0},{"$f":"COUNTIF([1]理科!R48,1)*[1]理科!$R$10","v":0},{"$f":"COUNTIF([1]理科!S48,1)*[1]理科!$S$10","v":0},{"$f":"COUNTIF([1]理科!T48,1)*[1]理科!$T$10","v":0},{"$f":"COUNTIF([1]理科!U48,1)*[1]理科!$U$10","v":0},{"$f":"COUNTIF([1]理科!V48,1)*[1]理科!$V$10","v":0},{"$f":"COUNTIF([1]理科!W48,1)*[1]理科!$W$10","v":0},{"$f":"COUNTIF([1]理科!X48,1)*[1]理科!$X$10","v":0},{"$f":"COUNTIF([1]理科!Y48,1)*[1]理科!$Y$10","v":0},{"$f":"COUNTIF([1]理科!Z48,1)*[1]理科!$Z$10","v":0},{"$f":"COUNTIF([1]理科!AA48,1)*[1]理科!$AA$10","v":0},{"$f":"COUNTIF([1]理科!AB48,1)*[1]理科!$AB$10","v":0},{"$f":"COUNTIF([1]理科!AC48,1)*[1]理科!$AC$10","v":0},{"$f":"COUNTIF([1]理科!AD48,1)*[1]理科!$AD$10","v":0},{"$f":"COUNTIF([1]理科!AE48,1)*[1]理科!$AE$10","v":0},{"$f":"COUNTIF([1]理科!AF48,1)*[1]理科!$AF$10","v":0},{"$f":"COUNTIF([1]理科!AG48,1)*[1]理科!$AG$10","v":0},{"$f":"COUNTIF([1]理科!AH48,1)*[1]理科!$AH$10","v":0},{"$f":"COUNTIF([1]理科!AI48,1)*[1]理科!$AI$10","v":0},{"$f":"COUNTIF([1]理科!AJ48,1)*[1]理科!$AJ$10","v":0},{"$f":"COUNTIF([1]理科!AK48,1)*[1]理科!$AK$10","v":0},{"$f":"COUNTIF([1]理科!AL48,1)*[1]理科!$AL$10","v":0},{"$f":"COUNTIF([1]理科!AM48,1)*[1]理科!$AM$10","v":0},{"$f":"COUNTIF([1]理科!AN48,1)*[1]理科!$AN$10","v":0},{"$f":"COUNTIF([1]理科!AO48,1)*[1]理科!$AO$10","v":0},{"$f":"COUNTIF([1]理科!AP48,1)*[1]理科!$AP$10","v":0},{"$f":"COUNTIF([1]理科!AQ48,1)*[1]理科!$AQ$10","v":0},{"$f":"COUNTIF([1]理科!AR48,1)*[1]理科!$AR$10","v":0},{"$f":"COUNTIF([1]理科!AS48,1)*[1]理科!$AS$10","v":0},{"$f":"COUNTIF([1]理科!AT48,1)*[1]理科!$AT$10","v":0},{"$f":"COUNTIF([1]理科!AU48,1)*[1]理科!$AU$10","v":0},{"$f":"COUNTIF([1]理科!AV48,1)*[1]理科!$AV$10","v":0},{"$f":"COUNTIF([1]理科!AW48,1)*[1]理科!$AW$10","v":0},{"$f":"COUNTIF([1]理科!AX48,1)*[1]理科!$AX$10","v":0},{"$f":"COUNTIF([1]理科!AY48,1)*[1]理科!$AY$10","v":0},{"$f":"COUNTIF([1]理科!AZ48,1)*[1]理科!$AZ$10","v":0},{"$f":"COUNTIF([1]理科!BA48,1)*[1]理科!$BA$10","v":0},{"$f":"COUNTIF([1]理科!BB48,1)*[1]理科!$BB$10","v":0},0,null,null,"38問",{"$f":"[1]理科!AP58","v":0},null,"38問",null,null,38]
[39,{"$f":"COUNTIF([1]理科!E49,1)*[1]理科!$E$10","v":0},{"$f":"COUNTIF([1]理科!F49,1)*[1]理科!$F$10","v":0},{"$f":"COUNTIF([1]理科!G49,1)*[1]理科!$G$10","v":0},{"$f":"COUNTIF([1]理科!H49,1)*[1]理科!$H$10","v":0},{"$f":"COUNTIF([1]理科!I49,1)*[1]理科!$I$10","v":0},{"$f":"COUNTIF([1]理科!J49,1)*[1]理科!$J$10","v":0},{"$f":"COUNTIF([1]理科!K49,1)*[1]理科!$K$10","v":0},{"$f":"COUNTIF([1]理科!L49,1)*[1]理科!$L$10","v":0},{"$f":"COUNTIF([1]理科!M49,1)*[1]理科!$M$10","v":0},{"$f":"COUNTIF([1]理科!N49,1)*[1]理科!$N$10","v":0},{"$f":"COUNTIF([1]理科!O49,1)*[1]理科!$O$10","v":0},{"$f":"COUNTIF([1]理科!P49,1)*[1]理科!$P$10","v":0},{"$f":"COUNTIF([1]理科!Q49,1)*[1]理科!$Q$10","v":0},{"$f":"COUNTIF([1]理科!R49,1)*[1]理科!$R$10","v":0},{"$f":"COUNTIF([1]理科!S49,1)*[1]理科!$S$10","v":0},{"$f":"COUNTIF([1]理科!T49,1)*[1]理科!$T$10","v":0},{"$f":"COUNTIF([1]理科!U49,1)*[1]理科!$U$10","v":0},{"$f":"COUNTIF([1]理科!V49,1)*[1]理科!$V$10","v":0},{"$f":"COUNTIF([1]理科!W49,1)*[1]理科!$W$10","v":0},{"$f":"COUNTIF([1]理科!X49,1)*[1]理科!$X$10","v":0},{"$f":"COUNTIF([1]理科!Y49,1)*[1]理科!$Y$10","v":0},{"$f":"COUNTIF([1]理科!Z49,1)*[1]理科!$Z$10","v":0},{"$f":"COUNTIF([1]理科!AA49,1)*[1]理科!$AA$10","v":0},{"$f":"COUNTIF([1]理科!AB49,1)*[1]理科!$AB$10","v":0},{"$f":"COUNTIF([1]理科!AC49,1)*[1]理科!$AC$10","v":0},{"$f":"COUNTIF([1]理科!AD49,1)*[1]理科!$AD$10","v":0},{"$f":"COUNTIF([1]理科!AE49,1)*[1]理科!$AE$10","v":0},{"$f":"COUNTIF([1]理科!AF49,1)*[1]理科!$AF$10","v":0},{"$f":"COUNTIF([1]理科!AG49,1)*[1]理科!$AG$10","v":0},{"$f":"COUNTIF([1]理科!AH49,1)*[1]理科!$AH$10","v":0},{"$f":"COUNTIF([1]理科!AI49,1)*[1]理科!$AI$10","v":0},{"$f":"COUNTIF([1]理科!AJ49,1)*[1]理科!$AJ$10","v":0},{"$f":"COUNTIF([1]理科!AK49,1)*[1]理科!$AK$10","v":0},{"$f":"COUNTIF([1]理科!AL49,1)*[1]理科!$AL$10","v":0},{"$f":"COUNTIF([1]理科!AM49,1)*[1]理科!$AM$10","v":0},{"$f":"COUNTIF([1]理科!AN49,1)*[1]理科!$AN$10","v":0},{"$f":"COUNTIF([1]理科!AO49,1)*[1]理科!$AO$10","v":0},{"$f":"COUNTIF([1]理科!AP49,1)*[1]理科!$AP$10","v":0},{"$f":"COUNTIF([1]理科!AQ49,1)*[1]理科!$AQ$10","v":0},{"$f":"COUNTIF([1]理科!AR49,1)*[1]理科!$AR$10","v":0},{"$f":"COUNTIF([1]理科!AS49,1)*[1]理科!$AS$10","v":0},{"$f":"COUNTIF([1]理科!AT49,1)*[1]理科!$AT$10","v":0},{"$f":"COUNTIF([1]理科!AU49,1)*[1]理科!$AU$10","v":0},{"$f":"COUNTIF([1]理科!AV49,1)*[1]理科!$AV$10","v":0},{"$f":"COUNTIF([1]理科!AW49,1)*[1]理科!$AW$10","v":0},{"$f":"COUNTIF([1]理科!AX49,1)*[1]理科!$AX$10","v":0},{"$f":"COUNTIF([1]理科!AY49,1)*[1]理科!$AY$10","v":0},{"$f":"COUNTIF([1]理科!AZ49,1)*[1]理科!$AZ$10","v":0},{"$f":"COUNTIF([1]理科!BA49,1)*[1]理科!$BA$10","v":0},{"$f":"COUNTIF([1]理科!BB49,1)*[1]理科!$BB$10","v":0},0,null,null,"39問",{"$f":"[1]理科!AQ58","v":0},null,"39問",null,null,39]
[40,{"$f":"COUNTIF([1]理科!E50,1)*[1]理科!$E$10","v":0},{"$f":"COUNTIF([1]理科!F50,1)*[1]理科!$F$10","v":0},{"$f":"COUNTIF([1]理科!G50,1)*[1]理科!$G$10","v":0},{"$f":"COUNTIF([1]理科!H50,1)*[1]理科!$H$10","v":0},{"$f":"COUNTIF([1]理科!I50,1)*[1]理科!$I$10","v":0},{"$f":"COUNTIF([1]理科!J50,1)*[1]理科!$J$10","v":0},{"$f":"COUNTIF([1]理科!K50,1)*[1]理科!$K$10","v":0},{"$f":"COUNTIF([1]理科!L50,1)*[1]理科!$L$10","v":0},{"$f":"COUNTIF([1]理科!M50,1)*[1]理科!$M$10","v":0},{"$f":"COUNTIF([1]理科!N50,1)*[1]理科!$N$10","v":0},{"$f":"COUNTIF([1]理科!O50,1)*[1]理科!$O$10","v":0},{"$f":"COUNTIF([1]理科!P50,1)*[1]理科!$P$10","v":0},{"$f":"COUNTIF([1]理科!Q50,1)*[1]理科!$Q$10","v":0},{"$f":"COUNTIF([1]理科!R50,1)*[1]理科!$R$10","v":0},{"$f":"COUNTIF([1]理科!S50,1)*[1]理科!$S$10","v":0},{"$f":"COUNTIF([1]理科!T50,1)*[1]理科!$T$10","v":0},{"$f":"COUNTIF([1]理科!U50,1)*[1]理科!$U$10","v":0},{"$f":"COUNTIF([1]理科!V50,1)*[1]理科!$V$10","v":0},{"$f":"COUNTIF([1]理科!W50,1)*[1]理科!$W$10","v":0},{"$f":"COUNTIF([1]理科!X50,1)*[1]理科!$X$10","v":0},{"$f":"COUNTIF([1]理科!Y50,1)*[1]理科!$Y$10","v":0},{"$f":"COUNTIF([1]理科!Z50,1)*[1]理科!$Z$10","v":0},{"$f":"COUNTIF([1]理科!AA50,1)*[1]理科!$AA$10","v":0},{"$f":"COUNTIF([1]理科!AB50,1)*[1]理科!$AB$10","v":0},{"$f":"COUNTIF([1]理科!AC50,1)*[1]理科!$AC$10","v":0},{"$f":"COUNTIF([1]理科!AD50,1)*[1]理科!$AD$10","v":0},{"$f":"COUNTIF([1]理科!AE50,1)*[1]理科!$AE$10","v":0},{"$f":"COUNTIF([1]理科!AF50,1)*[1]理科!$AF$10","v":0},{"$f":"COUNTIF([1]理科!AG50,1)*[1]理科!$AG$10","v":0},{"$f":"COUNTIF([1]理科!AH50,1)*[1]理科!$AH$10","v":0},{"$f":"COUNTIF([1]理科!AI50,1)*[1]理科!$AI$10","v":0},{"$f":"COUNTIF([1]理科!AJ50,1)*[1]理科!$AJ$10","v":0},{"$f":"COUNTIF([1]理科!AK50,1)*[1]理科!$AK$10","v":0},{"$f":"COUNTIF([1]理科!AL50,1)*[1]理科!$AL$10","v":0},{"$f":"COUNTIF([1]理科!AM50,1)*[1]理科!$AM$10","v":0},{"$f":"COUNTIF([1]理科!AN50,1)*[1]理科!$AN$10","v":0},{"$f":"COUNTIF([1]理科!AO50,1)*[1]理科!$AO$10","v":0},{"$f":"COUNTIF([1]理科!AP50,1)*[1]理科!$AP$10","v":0},{"$f":"COUNTIF([1]理科!AQ50,1)*[1]理科!$AQ$10","v":0},{"$f":"COUNTIF([1]理科!AR50,1)*[1]理科!$AR$10","v":0},{"$f":"COUNTIF([1]理科!AS50,1)*[1]理科!$AS$10","v":0},{"$f":"COUNTIF([1]理科!AT50,1)*[1]理科!$AT$10","v":0},{"$f":"COUNTIF([1]理科!AU50,1)*[1]理科!$AU$10","v":0},{"$f":"COUNTIF([1]理科!AV50,1)*[1]理科!$AV$10","v":0},{"$f":"COUNTIF([1]理科!AW50,1)*[1]理科!$AW$10","v":0},{"$f":"COUNTIF([1]理科!AX50,1)*[1]理科!$AX$10","v":0},{"$f":"COUNTIF([1]理科!AY50,1)*[1]理科!$AY$10","v":0},{"$f":"COUNTIF([1]理科!AZ50,1)*[1]理科!$AZ$10","v":0},{"$f":"COUNTIF([1]理科!BA50,1)*[1]理科!$BA$10","v":0},{"$f":"COUNTIF([1]理科!BB50,1)*[1]理科!$BB$10","v":0},0,null,null,"40問",{"$f":"[1]理科!AR58","v":0},null,"40問",null,null,40]
[41,{"$f":"COUNTIF([1]理科!E51,1)*[1]理科!$E$10","v":0},{"$f":"COUNTIF([1]理科!F51,1)*[1]理科!$F$10","v":0},{"$f":"COUNTIF([1]理科!G51,1)*[1]理科!$G$10","v":0},{"$f":"COUNTIF([1]理科!H51,1)*[1]理科!$H$10","v":0},{"$f":"COUNTIF([1]理科!I51,1)*[1]理科!$I$10","v":0},{"$f":"COUNTIF([1]理科!J51,1)*[1]理科!$J$10","v":0},{"$f":"COUNTIF([1]理科!K51,1)*[1]理科!$K$10","v":0},{"$f":"COUNTIF([1]理科!L51,1)*[1]理科!$L$10","v":0},{"$f":"COUNTIF([1]理科!M51,1)*[1]理科!$M$10","v":0},{"$f":"COUNTIF([1]理科!N51,1)*[1]理科!$N$10","v":0},{"$f":"COUNTIF([1]理科!O51,1)*[1]理科!$O$10","v":0},{"$f":"COUNTIF([1]理科!P51,1)*[1]理科!$P$10","v":0},{"$f":"COUNTIF([1]理科!Q51,1)*[1]理科!$Q$10","v":0},{"$f":"COUNTIF([1]理科!R51,1)*[1]理科!$R$10","v":0},{"$f":"COUNTIF([1]理科!S51,1)*[1]理科!$S$10","v":0},{"$f":"COUNTIF([1]理科!T51,1)*[1]理科!$T$10","v":0},{"$f":"COUNTIF([1]理科!U51,1)*[1]理科!$U$10","v":0},{"$f":"COUNTIF([1]理科!V51,1)*[1]理科!$V$10","v":0},{"$f":"COUNTIF([1]理科!W51,1)*[1]理科!$W$10","v":0},{"$f":"COUNTIF([1]理科!X51,1)*[1]理科!$X$10","v":0},{"$f":"COUNTIF([1]理科!Y51,1)*[1]理科!$Y$10","v":0},{"$f":"COUNTIF([1]理科!Z51,1)*[1]理科!$Z$10","v":0},{"$f":"COUNTIF([1]理科!AA51,1)*[1]理科!$AA$10","v":0},{"$f":"COUNTIF([1]理科!AB51,1)*[1]理科!$AB$10","v":0},{"$f":"COUNTIF([1]理科!AC51,1)*[1]理科!$AC$10","v":0},{"$f":"COUNTIF([1]理科!AD51,1)*[1]理科!$AD$10","v":0},{"$f":"COUNTIF([1]理科!AE51,1)*[1]理科!$AE$10","v":0},{"$f":"COUNTIF([1]理科!AF51,1)*[1]理科!$AF$10","v":0},{"$f":"COUNTIF([1]理科!AG51,1)*[1]理科!$AG$10","v":0},{"$f":"COUNTIF([1]理科!AH51,1)*[1]理科!$AH$10","v":0},{"$f":"COUNTIF([1]理科!AI51,1)*[1]理科!$AI$10","v":0},{"$f":"COUNTIF([1]理科!AJ51,1)*[1]理科!$AJ$10","v":0},{"$f":"COUNTIF([1]理科!AK51,1)*[1]理科!$AK$10","v":0},{"$f":"COUNTIF([1]理科!AL51,1)*[1]理科!$AL$10","v":0},{"$f":"COUNTIF([1]理科!AM51,1)*[1]理科!$AM$10","v":0},{"$f":"COUNTIF([1]理科!AN51,1)*[1]理科!$AN$10","v":0},{"$f":"COUNTIF([1]理科!AO51,1)*[1]理科!$AO$10","v":0},{"$f":"COUNTIF([1]理科!AP51,1)*[1]理科!$AP$10","v":0},{"$f":"COUNTIF([1]理科!AQ51,1)*[1]理科!$AQ$10","v":0},{"$f":"COUNTIF([1]理科!AR51,1)*[1]理科!$AR$10","v":0},{"$f":"COUNTIF([1]理科!AS51,1)*[1]理科!$AS$10","v":0},{"$f":"COUNTIF([1]理科!AT51,1)*[1]理科!$AT$10","v":0},{"$f":"COUNTIF([1]理科!AU51,1)*[1]理科!$AU$10","v":0},{"$f":"COUNTIF([1]理科!AV51,1)*[1]理科!$AV$10","v":0},{"$f":"COUNTIF([1]理科!AW51,1)*[1]理科!$AW$10","v":0},{"$f":"COUNTIF([1]理科!AX51,1)*[1]理科!$AX$10","v":0},{"$f":"COUNTIF([1]理科!AY51,1)*[1]理科!$AY$10","v":0},{"$f":"COUNTIF([1]理科!AZ51,1)*[1]理科!$AZ$10","v":0},{"$f":"COUNTIF([1]理科!BA51,1)*[1]理科!$BA$10","v":0},{"$f":"COUNTIF([1]理科!BB51,1)*[1]理科!$BB$10","v":0},0,null,null,"41問",{"$f":"[1]理科!AS58","v":0},null,"41問",null,null,41]
[42,{"$f":"COUNTIF([1]理科!E52,1)*[1]理科!$E$10","v":0},{"$f":"COUNTIF([1]理科!F52,1)*[1]理科!$F$10","v":0},{"$f":"COUNTIF([1]理科!G52,1)*[1]理科!$G$10","v":0},{"$f":"COUNTIF([1]理科!H52,1)*[1]理科!$H$10","v":0},{"$f":"COUNTIF([1]理科!I52,1)*[1]理科!$I$10","v":0},{"$f":"COUNTIF([1]理科!J52,1)*[1]理科!$J$10","v":0},{"$f":"COUNTIF([1]理科!K52,1)*[1]理科!$K$10","v":0},{"$f":"COUNTIF([1]理科!L52,1)*[1]理科!$L$10","v":0},{"$f":"COUNTIF([1]理科!M52,1)*[1]理科!$M$10","v":0},{"$f":"COUNTIF([1]理科!N52,1)*[1]理科!$N$10","v":0},{"$f":"COUNTIF([1]理科!O52,1)*[1]理科!$O$10","v":0},{"$f":"COUNTIF([1]理科!P52,1)*[1]理科!$P$10","v":0},{"$f":"COUNTIF([1]理科!Q52,1)*[1]理科!$Q$10","v":0},{"$f":"COUNTIF([1]理科!R52,1)*[1]理科!$R$10","v":0},{"$f":"COUNTIF([1]理科!S52,1)*[1]理科!$S$10","v":0},{"$f":"COUNTIF([1]理科!T52,1)*[1]理科!$T$10","v":0},{"$f":"COUNTIF([1]理科!U52,1)*[1]理科!$U$10","v":0},{"$f":"COUNTIF([1]理科!V52,1)*[1]理科!$V$10","v":0},{"$f":"COUNTIF([1]理科!W52,1)*[1]理科!$W$10","v":0},{"$f":"COUNTIF([1]理科!X52,1)*[1]理科!$X$10","v":0},{"$f":"COUNTIF([1]理科!Y52,1)*[1]理科!$Y$10","v":0},{"$f":"COUNTIF([1]理科!Z52,1)*[1]理科!$Z$10","v":0},{"$f":"COUNTIF([1]理科!AA52,1)*[1]理科!$AA$10","v":0},{"$f":"COUNTIF([1]理科!AB52,1)*[1]理科!$AB$10","v":0},{"$f":"COUNTIF([1]理科!AC52,1)*[1]理科!$AC$10","v":0},{"$f":"COUNTIF([1]理科!AD52,1)*[1]理科!$AD$10","v":0},{"$f":"COUNTIF([1]理科!AE52,1)*[1]理科!$AE$10","v":0},{"$f":"COUNTIF([1]理科!AF52,1)*[1]理科!$AF$10","v":0},{"$f":"COUNTIF([1]理科!AG52,1)*[1]理科!$AG$10","v":0},{"$f":"COUNTIF([1]理科!AH52,1)*[1]理科!$AH$10","v":0},{"$f":"COUNTIF([1]理科!AI52,1)*[1]理科!$AI$10","v":0},{"$f":"COUNTIF([1]理科!AJ52,1)*[1]理科!$AJ$10","v":0},{"$f":"COUNTIF([1]理科!AK52,1)*[1]理科!$AK$10","v":0},{"$f":"COUNTIF([1]理科!AL52,1)*[1]理科!$AL$10","v":0},{"$f":"COUNTIF([1]理科!AM52,1)*[1]理科!$AM$10","v":0},{"$f":"COUNTIF([1]理科!AN52,1)*[1]理科!$AN$10","v":0},{"$f":"COUNTIF([1]理科!AO52,1)*[1]理科!$AO$10","v":0},{"$f":"COUNTIF([1]理科!AP52,1)*[1]理科!$AP$10","v":0},{"$f":"COUNTIF([1]理科!AQ52,1)*[1]理科!$AQ$10","v":0},{"$f":"COUNTIF([1]理科!AR52,1)*[1]理科!$AR$10","v":0},{"$f":"COUNTIF([1]理科!AS52,1)*[1]理科!$AS$10","v":0},{"$f":"COUNTIF([1]理科!AT52,1)*[1]理科!$AT$10","v":0},{"$f":"COUNTIF([1]理科!AU52,1)*[1]理科!$AU$10","v":0},{"$f":"COUNTIF([1]理科!AV52,1)*[1]理科!$AV$10","v":0},{"$f":"COUNTIF([1]理科!AW52,1)*[1]理科!$AW$10","v":0},{"$f":"COUNTIF([1]理科!AX52,1)*[1]理科!$AX$10","v":0},{"$f":"COUNTIF([1]理科!AY52,1)*[1]理科!$AY$10","v":0},{"$f":"COUNTIF([1]理科!AZ52,1)*[1]理科!$AZ$10","v":0},{"$f":"COUNTIF([1]理科!BA52,1)*[1]理科!$BA$10","v":0},{"$f":"COUNTIF([1]理科!BB52,1)*[1]理科!$BB$10","v":0},0,null,null,"42問",{"$f":"[1]理科!AT58","v":0},null,"42問",null,null,42]
[43,{"$f":"COUNTIF([1]理科!E53,1)*[1]理科!$E$10","v":0},{"$f":"COUNTIF([1]理科!F53,1)*[1]理科!$F$10","v":0},{"$f":"COUNTIF([1]理科!G53,1)*[1]理科!$G$10","v":0},{"$f":"COUNTIF([1]理科!H53,1)*[1]理科!$H$10","v":0},{"$f":"COUNTIF([1]理科!I53,1)*[1]理科!$I$10","v":0},{"$f":"COUNTIF([1]理科!J53,1)*[1]理科!$J$10","v":0},{"$f":"COUNTIF([1]理科!K53,1)*[1]理科!$K$10","v":0},{"$f":"COUNTIF([1]理科!L53,1)*[1]理科!$L$10","v":0},{"$f":"COUNTIF([1]理科!M53,1)*[1]理科!$M$10","v":0},{"$f":"COUNTIF([1]理科!N53,1)*[1]理科!$N$10","v":0},{"$f":"COUNTIF([1]理科!O53,1)*[1]理科!$O$10","v":0},{"$f":"COUNTIF([1]理科!P53,1)*[1]理科!$P$10","v":0},{"$f":"COUNTIF([1]理科!Q53,1)*[1]理科!$Q$10","v":0},{"$f":"COUNTIF([1]理科!R53,1)*[1]理科!$R$10","v":0},{"$f":"COUNTIF([1]理科!S53,1)*[1]理科!$S$10","v":0},{"$f":"COUNTIF([1]理科!T53,1)*[1]理科!$T$10","v":0},{"$f":"COUNTIF([1]理科!U53,1)*[1]理科!$U$10","v":0},{"$f":"COUNTIF([1]理科!V53,1)*[1]理科!$V$10","v":0},{"$f":"COUNTIF([1]理科!W53,1)*[1]理科!$W$10","v":0},{"$f":"COUNTIF([1]理科!X53,1)*[1]理科!$X$10","v":0},{"$f":"COUNTIF([1]理科!Y53,1)*[1]理科!$Y$10","v":0},{"$f":"COUNTIF([1]理科!Z53,1)*[1]理科!$Z$10","v":0},{"$f":"COUNTIF([1]理科!AA53,1)*[1]理科!$AA$10","v":0},{"$f":"COUNTIF([1]理科!AB53,1)*[1]理科!$AB$10","v":0},{"$f":"COUNTIF([1]理科!AC53,1)*[1]理科!$AC$10","v":0},{"$f":"COUNTIF([1]理科!AD53,1)*[1]理科!$AD$10","v":0},{"$f":"COUNTIF([1]理科!AE53,1)*[1]理科!$AE$10","v":0},{"$f":"COUNTIF([1]理科!AF53,1)*[1]理科!$AF$10","v":0},{"$f":"COUNTIF([1]理科!AG53,1)*[1]理科!$AG$10","v":0},{"$f":"COUNTIF([1]理科!AH53,1)*[1]理科!$AH$10","v":0},{"$f":"COUNTIF([1]理科!AI53,1)*[1]理科!$AI$10","v":0},{"$f":"COUNTIF([1]理科!AJ53,1)*[1]理科!$AJ$10","v":0},{"$f":"COUNTIF([1]理科!AK53,1)*[1]理科!$AK$10","v":0},{"$f":"COUNTIF([1]理科!AL53,1)*[1]理科!$AL$10","v":0},{"$f":"COUNTIF([1]理科!AM53,1)*[1]理科!$AM$10","v":0},{"$f":"COUNTIF([1]理科!AN53,1)*[1]理科!$AN$10","v":0},{"$f":"COUNTIF([1]理科!AO53,1)*[1]理科!$AO$10","v":0},{"$f":"COUNTIF([1]理科!AP53,1)*[1]理科!$AP$10","v":0},{"$f":"COUNTIF([1]理科!AQ53,1)*[1]理科!$AQ$10","v":0},{"$f":"COUNTIF([1]理科!AR53,1)*[1]理科!$AR$10","v":0},{"$f":"COUNTIF([1]理科!AS53,1)*[1]理科!$AS$10","v":0},{"$f":"COUNTIF([1]理科!AT53,1)*[1]理科!$AT$10","v":0},{"$f":"COUNTIF([1]理科!AU53,1)*[1]理科!$AU$10","v":0},{"$f":"COUNTIF([1]理科!AV53,1)*[1]理科!$AV$10","v":0},{"$f":"COUNTIF([1]理科!AW53,1)*[1]理科!$AW$10","v":0},{"$f":"COUNTIF([1]理科!AX53,1)*[1]理科!$AX$10","v":0},{"$f":"COUNTIF([1]理科!AY53,1)*[1]理科!$AY$10","v":0},{"$f":"COUNTIF([1]理科!AZ53,1)*[1]理科!$AZ$10","v":0},{"$f":"COUNTIF([1]理科!BA53,1)*[1]理科!$BA$10","v":0},{"$f":"COUNTIF([1]理科!BB53,1)*[1]理科!$BB$10","v":0},0,null,null,"43問",{"$f":"[1]理科!AU58","v":0},null,"43問",null,null,43]
[44,{"$f":"COUNTIF([1]理科!E54,1)*[1]理科!$E$10","v":0},{"$f":"COUNTIF([1]理科!F54,1)*[1]理科!$F$10","v":0},{"$f":"COUNTIF([1]理科!G54,1)*[1]理科!$G$10","v":0},{"$f":"COUNTIF([1]理科!H54,1)*[1]理科!$H$10","v":0},{"$f":"COUNTIF([1]理科!I54,1)*[1]理科!$I$10","v":0},{"$f":"COUNTIF([1]理科!J54,1)*[1]理科!$J$10","v":0},{"$f":"COUNTIF([1]理科!K54,1)*[1]理科!$K$10","v":0},{"$f":"COUNTIF([1]理科!L54,1)*[1]理科!$L$10","v":0},{"$f":"COUNTIF([1]理科!M54,1)*[1]理科!$M$10","v":0},{"$f":"COUNTIF([1]理科!N54,1)*[1]理科!$N$10","v":0},{"$f":"COUNTIF([1]理科!O54,1)*[1]理科!$O$10","v":0},{"$f":"COUNTIF([1]理科!P54,1)*[1]理科!$P$10","v":0},{"$f":"COUNTIF([1]理科!Q54,1)*[1]理科!$Q$10","v":0},{"$f":"COUNTIF([1]理科!R54,1)*[1]理科!$R$10","v":0},{"$f":"COUNTIF([1]理科!S54,1)*[1]理科!$S$10","v":0},{"$f":"COUNTIF([1]理科!T54,1)*[1]理科!$T$10","v":0},{"$f":"COUNTIF([1]理科!U54,1)*[1]理科!$U$10","v":0},{"$f":"COUNTIF([1]理科!V54,1)*[1]理科!$V$10","v":0},{"$f":"COUNTIF([1]理科!W54,1)*[1]理科!$W$10","v":0},{"$f":"COUNTIF([1]理科!X54,1)*[1]理科!$X$10","v":0},{"$f":"COUNTIF([1]理科!Y54,1)*[1]理科!$Y$10","v":0},{"$f":"COUNTIF([1]理科!Z54,1)*[1]理科!$Z$10","v":0},{"$f":"COUNTIF([1]理科!AA54,1)*[1]理科!$AA$10","v":0},{"$f":"COUNTIF([1]理科!AB54,1)*[1]理科!$AB$10","v":0},{"$f":"COUNTIF([1]理科!AC54,1)*[1]理科!$AC$10","v":0},{"$f":"COUNTIF([1]理科!AD54,1)*[1]理科!$AD$10","v":0},{"$f":"COUNTIF([1]理科!AE54,1)*[1]理科!$AE$10","v":0},{"$f":"COUNTIF([1]理科!AF54,1)*[1]理科!$AF$10","v":0},{"$f":"COUNTIF([1]理科!AG54,1)*[1]理科!$AG$10","v":0},{"$f":"COUNTIF([1]理科!AH54,1)*[1]理科!$AH$10","v":0},{"$f":"COUNTIF([1]理科!AI54,1)*[1]理科!$AI$10","v":0},{"$f":"COUNTIF([1]理科!AJ54,1)*[1]理科!$AJ$10","v":0},{"$f":"COUNTIF([1]理科!AK54,1)*[1]理科!$AK$10","v":0},{"$f":"COUNTIF([1]理科!AL54,1)*[1]理科!$AL$10","v":0},{"$f":"COUNTIF([1]理科!AM54,1)*[1]理科!$AM$10","v":0},{"$f":"COUNTIF([1]理科!AN54,1)*[1]理科!$AN$10","v":0},{"$f":"COUNTIF([1]理科!AO54,1)*[1]理科!$AO$10","v":0},{"$f":"COUNTIF([1]理科!AP54,1)*[1]理科!$AP$10","v":0},{"$f":"COUNTIF([1]理科!AQ54,1)*[1]理科!$AQ$10","v":0},{"$f":"COUNTIF([1]理科!AR54,1)*[1]理科!$AR$10","v":0},{"$f":"COUNTIF([1]理科!AS54,1)*[1]理科!$AS$10","v":0},{"$f":"COUNTIF([1]理科!AT54,1)*[1]理科!$AT$10","v":0},{"$f":"COUNTIF([1]理科!AU54,1)*[1]理科!$AU$10","v":0},{"$f":"COUNTIF([1]理科!AV54,1)*[1]理科!$AV$10","v":0},{"$f":"COUNTIF([1]理科!AW54,1)*[1]理科!$AW$10","v":0},{"$f":"COUNTIF([1]理科!AX54,1)*[1]理科!$AX$10","v":0},{"$f":"COUNTIF([1]理科!AY54,1)*[1]理科!$AY$10","v":0},{"$f":"COUNTIF([1]理科!AZ54,1)*[1]理科!$AZ$10","v":0},{"$f":"COUNTIF([1]理科!BA54,1)*[1]理科!$BA$10","v":0},{"$f":"COUNTIF([1]理科!BB54,1)*[1]理科!$BB$10","v":0},0,null,null,"44問",{"$f":"[1]理科!AV58","v":0},null,"44問",null,null,44]
[45,{"$f":"COUNTIF([1]理科!E55,1)*[1]理科!$E$10","v":0},{"$f":"COUNTIF([1]理科!F55,1)*[1]理科!$F$10","v":0},{"$f":"COUNTIF([1]理科!G55,1)*[1]理科!$G$10","v":0},{"$f":"COUNTIF([1]理科!H55,1)*[1]理科!$H$10","v":0},{"$f":"COUNTIF([1]理科!I55,1)*[1]理科!$I$10","v":0},{"$f":"COUNTIF([1]理科!J55,1)*[1]理科!$J$10","v":0},{"$f":"COUNTIF([1]理科!K55,1)*[1]理科!$K$10","v":0},{"$f":"COUNTIF([1]理科!L55,1)*[1]理科!$L$10","v":0},{"$f":"COUNTIF([1]理科!M55,1)*[1]理科!$M$10","v":0},{"$f":"COUNTIF([1]理科!N55,1)*[1]理科!$N$10","v":0},{"$f":"COUNTIF([1]理科!O55,1)*[1]理科!$O$10","v":0},{"$f":"COUNTIF([1]理科!P55,1)*[1]理科!$P$10","v":0},{"$f":"COUNTIF([1]理科!Q55,1)*[1]理科!$Q$10","v":0},{"$f":"COUNTIF([1]理科!R55,1)*[1]理科!$R$10","v":0},{"$f":"COUNTIF([1]理科!S55,1)*[1]理科!$S$10","v":0},{"$f":"COUNTIF([1]理科!T55,1)*[1]理科!$T$10","v":0},{"$f":"COUNTIF([1]理科!U55,1)*[1]理科!$U$10","v":0},{"$f":"COUNTIF([1]理科!V55,1)*[1]理科!$V$10","v":0},{"$f":"COUNTIF([1]理科!W55,1)*[1]理科!$W$10","v":0},{"$f":"COUNTIF([1]理科!X55,1)*[1]理科!$X$10","v":0},{"$f":"COUNTIF([1]理科!Y55,1)*[1]理科!$Y$10","v":0},{"$f":"COUNTIF([1]理科!Z55,1)*[1]理科!$Z$10","v":0},{"$f":"COUNTIF([1]理科!AA55,1)*[1]理科!$AA$10","v":0},{"$f":"COUNTIF([1]理科!AB55,1)*[1]理科!$AB$10","v":0},{"$f":"COUNTIF([1]理科!AC55,1)*[1]理科!$AC$10","v":0},{"$f":"COUNTIF([1]理科!AD55,1)*[1]理科!$AD$10","v":0},{"$f":"COUNTIF([1]理科!AE55,1)*[1]理科!$AE$10","v":0},{"$f":"COUNTIF([1]理科!AF55,1)*[1]理科!$AF$10","v":0},{"$f":"COUNTIF([1]理科!AG55,1)*[1]理科!$AG$10","v":0},{"$f":"COUNTIF([1]理科!AH55,1)*[1]理科!$AH$10","v":0},{"$f":"COUNTIF([1]理科!AI55,1)*[1]理科!$AI$10","v":0},{"$f":"COUNTIF([1]理科!AJ55,1)*[1]理科!$AJ$10","v":0},{"$f":"COUNTIF([1]理科!AK55,1)*[1]理科!$AK$10","v":0},{"$f":"COUNTIF([1]理科!AL55,1)*[1]理科!$AL$10","v":0},{"$f":"COUNTIF([1]理科!AM55,1)*[1]理科!$AM$10","v":0},{"$f":"COUNTIF([1]理科!AN55,1)*[1]理科!$AN$10","v":0},{"$f":"COUNTIF([1]理科!AO55,1)*[1]理科!$AO$10","v":0},{"$f":"COUNTIF([1]理科!AP55,1)*[1]理科!$AP$10","v":0},{"$f":"COUNTIF([1]理科!AQ55,1)*[1]理科!$AQ$10","v":0},{"$f":"COUNTIF([1]理科!AR55,1)*[1]理科!$AR$10","v":0},{"$f":"COUNTIF([1]理科!AS55,1)*[1]理科!$AS$10","v":0},{"$f":"COUNTIF([1]理科!AT55,1)*[1]理科!$AT$10","v":0},{"$f":"COUNTIF([1]理科!AU55,1)*[1]理科!$AU$10","v":0},{"$f":"COUNTIF([1]理科!AV55,1)*[1]理科!$AV$10","v":0},{"$f":"COUNTIF([1]理科!AW55,1)*[1]理科!$AW$10","v":0},{"$f":"COUNTIF([1]理科!AX55,1)*[1]理科!$AX$10","v":0},{"$f":"COUNTIF([1]理科!AY55,1)*[1]理科!$AY$10","v":0},{"$f":"COUNTIF([1]理科!AZ55,1)*[1]理科!$AZ$10","v":0},{"$f":"COUNTIF([1]理科!BA55,1)*[1]理科!$BA$10","v":0},{"$f":"COUNTIF([1]理科!BB55,1)*[1]理科!$BB$10","v":0},0,null,null,"45問",{"$f":"[1]理科!AW58","v":0},null,"45問",null,null,45]
[null,null,null,null,null,null,null,null,null,null,null,null,null,null,null,null,null,null,null,null,null,null,null,null,null,null,null,null,null,null,null,null,null,null,null,null,null,null,null,null,null,null,null,null,null,null,null,null,null,null,null,null,null,null,"46問",{"$f":"[1]理科!AX58","v":0},null,"46問",null,null,46]
[null,null,null,null,null,null,null,null,null,null,null,null,null,null,null,null,null,null,null,null,null,null,null,null,null,null,null,null,null,null,null,null,null,null,null,null,null,null,null,null,null,null,null,null,null,null,null,null,null,null,null,null,null,null,"47問",{"$f":"[1]理科!AY58","v":0},null,"47問",null,null,47]
["数",1,2,3,4,5,6,7,8,9,10,11,12,13,14,15,16,17,18,19,20,21,22,23,24,25,26,27,28,29,30,31,32,33,34,35,36,37,38,39,40,41,42,43,44,45,46,47,48,49,50,null,null,null,"48問",{"$f":"[1]理科!AZ58","v":0},null,"48問",null,null,48]
["正答",{"$f":"[1]理科!E58","v":0},{"$f":"[1]理科!F58","v":0},{"$f":"[1]理科!G58","v":0},{"$f":"[1]理科!H58","v":0},{"$f":"[1]理科!I58","v":0},{"$f":"[1]理科!J58","v":0},{"$f":"[1]理科!K58","v":0},{"$f":"[1]理科!L58","v":0},{"$f":"[1]理科!M58","v":0},{"$f":"[1]理科!N58","v":0},{"$f":"[1]理科!O58","v":0},{"$f":"[1]理科!P58","v":0},{"$f":"[1]理科!Q58","v":0},{"$f":"[1]理科!R58","v":0},{"$f":"[1]理科!S58","v":0},{"$f":"[1]理科!T58","v":0},{"$f":"[1]理科!U58","v":0},{"$f":"[1]理科!V58","v":0},{"$f":"[1]理科!W58","v":0},{"$f":"[1]理科!X58","v":0},{"$f":"[1]理科!Y58","v":0},{"$f":"[1]理科!Z58","v":0},{"$f":"[1]理科!AA58","v":0},{"$f":"[1]理科!AB58","v":0},{"$f":"[1]理科!AC58","v":0},{"$f":"[1]理科!AD58","v":0},{"$f":"[1]理科!AE58","v":0},{"$f":"[1]理科!AF58","v":0},{"$f":"[1]理科!AG58","v":0},{"$f":"[1]理科!AH58","v":0},{"$f":"[1]理科!AI58","v":0},{"$f":"[1]理科!AJ58","v":0},{"$f":"[1]理科!AK58","v":0},{"$f":"[1]理科!AL58","v":0},{"$f":"[1]理科!AM58","v":0},{"$f":"[1]理科!AN58","v":0},{"$f":"[1]理科!AO58","v":0},{"$f":"[1]理科!AP58","v":0},{"$f":"[1]理科!AQ58","v":0},{"$f":"[1]理科!AR58","v":0},{"$f":"[1]理科!AS58","v":0},{"$f":"[1]理科!AT58","v":0},{"$f":"[1]理科!AU58","v":0},{"$f":"[1]理科!AV58","v":0},{"$f":"[1]理科!AW58","v":0},{"$f":"[1]理科!AX58","v":0},{"$f":"[1]理科!AY58","v":0},{"$f":"[1]理科!AZ58","v":0},{"$f":"[1]理科!BA58","v":0},{"$f":"[1]理科!BB58","v":0},null,null,null,"49問",{"$f":"[1]理科!BA58","v":0},null,"49問",null,null,49]
["誤答",{"$f":"[1]理科!E59","v":0},{"$f":"[1]理科!F59","v":0},{"$f":"[1]理科!G59","v":0},{"$f":"[1]理科!H59","v":0},{"$f":"[1]理科!I59","v":0},{"$f":"[1]理科!J59","v":0},{"$f":"[1]理科!K59","v":0},{"$f":"[1]理科!L59","v":0},{"$f":"[1]理科!M59","v":0},{"$f":"[1]理科!N59","v":0},{"$f":"[1]理科!O59","v":0},{"$f":"[1]理科!P59","v":0},{"$f":"[1]理科!Q59","v":0},{"$f":"[1]理科!R59","v":0},{"$f":"[1]理科!S59","v":0},{"$f":"[1]理科!T59","v":0},{"$f":"[1]理科!U59","v":0},{"$f":"[1]理科!V59","v":0},{"$f":"[1]理科!W59","v":0},{"$f":"[1]理科!X59","v":0},{"$f":"[1]理科!Y59","v":0},{"$f":"[1]理科!Z59","v":0},{"$f":"[1]理科!AA59","v":0},{"$f":"[1]理科!AB59","v":0},{"$f":"[1]理科!AC59","v":0},{"$f":"[1]理科!AD59","v":0},{"$f":"[1]理科!AE59","v":0},{"$f":"[1]理科!AF59","v":0},{"$f":"[1]理科!AG59","v":0},{"$f":"[1]理科!AH59","v":0},{"$f":"[1]理科!AI59","v":0},{"$f":"[1]理科!AJ59","v":0},{"$f":"[1]理科!AK59","v":0},{"$f":"[1]理科!AL59","v":0},{"$f":"[1]理科!AM59","v":0},{"$f":"[1]理科!AN59","v":0},{"$f":"[1]理科!AO59","v":0},{"$f":"[1]理科!AP59","v":0},{"$f":"[1]理科!AQ59","v":0},{"$f":"[1]理科!AR59","v":0},{"$f":"[1]理科!AS59","v":0},{"$f":"[1]理科!AT59","v":0},{"$f":"[1]理科!AU59","v":0},{"$f":"[1]理科!AV59","v":0},{"$f":"[1]理科!AW59","v":0},{"$f":"[1]理科!AX59","v":0},{"$f":"[1]理科!AY59","v":0},{"$f":"[1]理科!AZ59","v":0},{"$f":"[1]理科!BA59","v":0},{"$f":"[1]理科!BB59","v":0},null,null,null,"50問",{"$f":"[1]理科!BB58","v":0},null,"50問",null,null,50]
["無答",{"$f":"[1]理科!E60","v":0},{"$f":"[1]理科!F60","v":0},{"$f":"[1]理科!G60","v":0},{"$f":"[1]理科!H60","v":0},{"$f":"[1]理科!I60","v":0},{"$f":"[1]理科!J60","v":0},{"$f":"[1]理科!K60","v":0},{"$f":"[1]理科!L60","v":0},{"$f":"[1]理科!M60","v":0},{"$f":"[1]理科!N60","v":0},{"$f":"[1]理科!O60","v":0},{"$f":"[1]理科!P60","v":0},{"$f":"[1]理科!Q60","v":0},{"$f":"[1]理科!R60","v":0},{"$f":"[1]理科!S60","v":0},{"$f":"[1]理科!T60","v":0},{"$f":"[1]理科!U60","v":0},{"$f":"[1]理科!V60","v":0},{"$f":"[1]理科!W60","v":0},{"$f":"[1]理科!X60","v":0},{"$f":"[1]理科!Y60","v":0},{"$f":"[1]理科!Z60","v":0},{"$f":"[1]理科!AA60","v":0},{"$f":"[1]理科!AB60","v":0},{"$f":"[1]理科!AC60","v":0},{"$f":"[1]理科!AD60","v":0},{"$f":"[1]理科!AE60","v":0},{"$f":"[1]理科!AF60","v":0},{"$f":"[1]理科!AG60","v":0},{"$f":"[1]理科!AH60","v":0},{"$f":"[1]理科!AI60","v":0},{"$f":"[1]理科!AJ60","v":0},{"$f":"[1]理科!AK60","v":0},{"$f":"[1]理科!AL60","v":0},{"$f":"[1]理科!AM60","v":0},{"$f":"[1]理科!AN60","v":0},{"$f":"[1]理科!AO60","v":0},{"$f":"[1]理科!AP60","v":0},{"$f":"[1]理科!AQ60","v":0},{"$f":"[1]理科!AR60","v":0},{"$f":"[1]理科!AS60","v":0},{"$f":"[1]理科!AT60","v":0},{"$f":"[1]理科!AU60","v":0},{"$f":"[1]理科!AV60","v":0},{"$f":"[1]理科!AW60","v":0},{"$f":"[1]理科!AX60","v":0},{"$f":"[1]理科!AY60","v":0},{"$f":"[1]理科!AZ60","v":0},{"$f":"[1]理科!BA60","v":0},{"$f":"[1]理科!BB60","v":0},null,null,null,"児童数合計",{"$f":"L1","v":0},null,"合計",{"$f":"SUM(BG3:BG53)","v":1768.8}]
["合計",{"$f":"[1]理科!E61","v":0},{"$f":"[1]理科!F61","v":0},{"$f":"[1]理科!G61","v":0},{"$f":"[1]理科!H61","v":0},{"$f":"[1]理科!I61","v":0},{"$f":"[1]理科!J61","v":0},{"$f":"[1]理科!K61","v":0},{"$f":"[1]理科!L61","v":0},{"$f":"[1]理科!M61","v":0},{"$f":"[1]理科!N61","v":0},{"$f":"[1]理科!O61","v":0},{"$f":"[1]理科!P61","v":0},{"$f":"[1]理科!Q61","v":0},{"$f":"[1]理科!R61","v":0},{"$f":"[1]理科!S61","v":0},{"$f":"[1]理科!T61","v":0},{"$f":"[1]理科!U61","v":0},{"$f":"[1]理科!V61","v":0},{"$f":"[1]理科!W61","v":0},{"$f":"[1]理科!X61","v":0},{"$f":"[1]理科!Y61","v":0},{"$f":"[1]理科!Z61","v":0},{"$f":"[1]理科!AA61","v":0},{"$f":"[1]理科!AB61","v":0},{"$f":"[1]理科!AC61","v":0},{"$f":"[1]理科!AD61","v":0},{"$f":"[1]理科!AE61","v":0},{"$f":"[1]理科!AF61","v":0},{"$f":"[1]理科!AG61","v":0},{"$f":"[1]理科!AH61","v":0},{"$f":"[1]理科!AI61","v":0},{"$f":"[1]理科!AJ61","v":0},{"$f":"[1]理科!AK61","v":0},{"$f":"[1]理科!AL61","v":0},{"$f":"[1]理科!AM61","v":0},{"$f":"[1]理科!AN61","v":0},{"$f":"[1]理科!AO61","v":0},{"$f":"[1]理科!AP61","v":0},{"$f":"[1]理科!AQ61","v":0},{"$f":"[1]理科!AR61","v":0},{"$f":"[1]理科!AS61","v":0},{"$f":"[1]理科!AT61","v":0},{"$f":"[1]理科!AU61","v":0},{"$f":"[1]理科!AV61","v":0},{"$f":"[1]理科!AW61","v":0},{"$f":"[1]理科!AX61","v":0},{"$f":"[1]理科!AY61","v":0},{"$f":"[1]理科!AZ61","v":0},{"$f":"[1]理科!BA61","v":0},{"$f":"[1]理科!BB61","v":0}]
["６年理科",{"$f":"[1]理科!E9","v":"知・技"},{"$f":"[1]理科!F9","v":"知・技"},{"$f":"[1]理科!G9","v":"知・技"},{"$f":"[1]理科!H9","v":"思・表"},{"$f":"[1]理科!I9","v":"知・技"},{"$f":"[1]理科!J9","v":"思・表"},{"$f":"[1]理科!K9","v":"知・技"},{"$f":"[1]理科!L9","v":"思・表"},{"$f":"[1]理科!M9","v":"知・技"},{"$f":"[1]理科!N9","v":"思・表"},{"$f":"[1]理科!O9","v":"思・表"},{"$f":"[1]理科!P9","v":"思・表"},{"$f":"[1]理科!Q9","v":"思・表"},{"$f":"[1]理科!R9","v":"思・表"},{"$f":"[1]理科!S9","v":"思・表"},{"$f":"[1]理科!T9","v":"知・技"},{"$f":"[1]理科!U9","v":"知・技"},{"$f":"[1]理科!V9","v":"思・表"},{"$f":"[1]理科!W9","v":"知・技"},{"$f":"[1]理科!X9","v":"知・技"},{"$f":"[1]理科!Y9","v":"思・表"},{"$f":"[1]理科!Z9","v":"知・技"},{"$f":"[1]理科!AA9","v":"思・表"},{"$f":"[1]理科!AB9","v":"知・技"},{"$f":"[1]理科!AC9","v":"知・技"},{"$f":"[1]理科!AD9","v":0},{"$f":"[1]理科!AE9","v":0},{"$f":"[1]理科!AF9","v":0},{"$f":"[1]理科!AG9","v":0},{"$f":"[1]理科!AH9","v":0}]
["富山県\n割合％",1,2,3,4,5,6,7,8,9,10,11,12,13,14,15,16,17,18,19,20,21,22,23,24,25,26,27,28,29,30,31,32,33,34,35,36,37,38,39,40,41,42,43,44,45,46,47,48,49,50]
["正答率",0.33,0.85799999999999998,0.72899999999999998,0.45800000000000002,0.88300000000000001,0.80400000000000005,0.84899999999999998,0.90800000000000003,0.94099999999999995,0.83799999999999997,0.41799999999999998,0.36399999999999999,0.79100000000000004,0.61799999999999999,0.70899999999999996,0.26600000000000001,0.83,0.625,0.85299999999999998,0.79400000000000004,0.42299999999999999,0.88200000000000001,0.74,0.90800000000000003,0.86899999999999999]
["誤答率",0.66900000000000004,0.13700000000000001,0.248,0.52800000000000002,0.111,0.189,0.14799999999999999,8.7999999999999995E-2,5.6000000000000001E-2,0.157,0.57599999999999996,0.628,0.20100000000000001,0.376,0.27900000000000003,0.72299999999999998,0.161,0.36199999999999999,0.13700000000000001,0.19400000000000001,0.56399999999999995,0.106,0.24099999999999999,7.2999999999999995E-2,0.112]
["無答率",9.9999999999988987E-4,5.0000000000000044E-3,2.300000000000002E-2,1.4000000000000012E-2,6.0000000000000053E-3,6.9999999999998952E-3,3.0000000000000027E-3,4.0000000000000036E-3,3.0000000000000027E-3,5.0000000000000044E-3,6.0000000000000053E-3,8.0000000000000071E-3,8.0000000000000071E-3,6.0000000000000053E-3,1.2000000000000011E-2,1.100000000000001E-2,9.000000000000008E-3,1.3000000000000012E-2,1.0000000000000009E-2,1.2000000000000011E-2,1.3000000000000123E-2,1.2000000000000011E-2,1.9000000000000017E-2,1.9000000000000017E-2,1.9000000000000017E-2]
["合計",{"$f":"SUM(B58:B60)","v":1},1,1,1,1,1,1,1,1,1,1,1,1,1,1,1,1,1,1,1,1,1,1,1,1,0,0,0,0,0,0,0,0,0,0,0,0,0,0,0,0,0,0,0,0,0,0,0,0,0]
[]
["観点別正答数",null,null,null,null,null,null,null,null,null,null,null,null,null,null,null,null,null,null,null,null,null,null,null,null,null,null,null,null,null,null,null,null,null,null,null,null,null,null,null,null,null,null,null,null,null,null,null,null,null,null,"計","数","割合",{"$f":"A63","v":"観点別正答数"}]
[{"$f":"[1]理科!BF35","v":"思・表"},{"$f":"IF(COUNTIF(B3,$A$64),SUM(B52),0)","v":0},0,0,0,0,0,0,0,0,0,0,0,0,0,0,0,0,0,0,0,0,0,0,0,0,0,0,0,0,0,0,0,{"$f":"IF(COUNTIF(AH3,$A$64),SUM(AH52),0)","v":0},0,0,0,0,0,0,0,0,0,0,0,0,0,0,0,0,0,{"$f":"SUM(B64:AY64)","v":0},{"$f":"COUNTIF($B$3:$AY$3,A64)","v":12},{"$f":"AZ64/BA64/$L$1","v":{"$error":"#DIV/0!"}},{"$f":"A64","v":"思・表"}]
[{"$f":"[1]理科!BF36","v":"知・技"},{"$f":"IF(COUNTIF(B3,$A$65),SUM(B52),0)","v":0},0,0,0,0,0,0,0,0,0,0,0,0,0,0,0,0,0,0,0,0,0,0,0,0,0,0,0,0,0,0,0,0,0,0,0,0,0,0,0,0,0,0,0,0,0,0,0,0,0,{"$f":"SUM(B65:AY65)","v":0},{"$f":"COUNTIF($B$3:$AY$3,A65)","v":13},{"$f":"AZ65/BA65/$L$1","v":{"$error":"#DIV/0!"}},"知・技"]
[{"$f":"[1]理科!BF37","v":"-"},{"$f":"IF(COUNTIF(B3,$A$66),SUM(B52),0)","v":0},0,0,0,0,0,0,0,0,0,0,0,0,0,0,0,0,0,0,0,0,0,0,0,0,0,0,0,0,0,0,0,0,0,0,0,0,0,0,0,0,0,0,0,0,0,0,0,0,0,{"$f":"SUM(B66:AY66)","v":0},{"$f":"COUNTIF($B$3:$AY$3,A66)","v":0},{"$f":"AZ66/BA66/$L$1","v":{"$error":"#DIV/0!"}},"-"]
[{"$f":"[1]理科!BF38","v":"-"},{"$f":"IF(COUNTIF(B3,$A$67),SUM(B52),0)","v":0},0,0,0,0,0,0,0,0,0,0,0,0,0,0,0,0,0,0,0,0,0,0,0,0,0,0,0,0,0,0,0,0,0,0,0,0,0,0,0,0,0,0,0,0,0,0,0,0,0,{"$f":"SUM(B67:AY67)","v":0},{"$f":"COUNTIF($B$3:$AY$3,A67)","v":0},{"$f":"AZ67/BA67/$L$1","v":{"$error":"#DIV/0!"}},"-"]
[{"$f":"[1]理科!BF39","v":"-"},{"$f":"IF(COUNTIF(B3,$A$68),SUM(B52),0)","v":0},0,0,0,0,0,0,0,0,0,0,0,0,0,0,0,0,0,0,0,0,0,0,0,0,0,0,0,0,0,0,0,0,0,0,0,0,0,0,0,0,0,0,0,0,0,0,0,0,0,{"$f":"SUM(B68:AY68)","v":0},{"$f":"COUNTIF($B$3:$AY$3,A68)","v":0},{"$f":"AZ68/BA68/$L$1","v":{"$error":"#DIV/0!"}},"-"]
[]
["観点別誤答数",null,null,null,null,null,null,null,null,null,null,null,null,null,null,null,null,null,null,null,null,null,null,null,null,null,null,null,null,null,null,null,null,null,null,null,null,null,null,null,null,null,null,null,null,null,null,null,null,null,null,null,null,null,"観点別誤答数"]
[{"$f":"A64","v":"思・表"},{"$f":"IF(COUNTIF(B3,$A$64),SUM(B53),0)","v":0},0,0,0,0,0,0,0,0,0,0,0,0,0,0,0,0,0,0,0,0,0,0,0,0,0,0,0,0,0,0,0,0,0,0,0,0,0,0,0,0,0,0,0,0,0,0,0,0,0,{"$f":"SUM(B71:AY71)","v":0},{"$f":"BA64","v":12},{"$f":"AZ71/BA71/$L$1","v":{"$error":"#DIV/0!"}},"思・表"]
[{"$f":"A65","v":"知・技"},{"$f":"IF(COUNTIF(B3,$A$65),SUM(B53),0)","v":0},0,0,0,0,0,0,0,0,0,0,0,0,0,0,0,0,0,0,0,0,0,0,0,0,0,0,0,0,0,0,0,0,0,0,0,0,0,0,0,0,0,0,0,0,0,0,0,0,0,{"$f":"SUM(B72:AY72)","v":0},{"$f":"BA65","v":13},{"$f":"AZ72/BA72/$L$1","v":{"$error":"#DIV/0!"}},"知・技"]
[{"$f":"A66","v":"-"},{"$f":"IF(COUNTIF(B3,$A$66),SUM(B53),0)","v":0},0,0,0,0,0,0,0,0,0,0,0,0,0,0,0,0,0,0,0,0,0,0,0,0,0,0,0,0,0,0,0,0,0,0,0,0,0,0,0,0,0,0,0,0,0,0,0,0,0,{"$f":"SUM(B73:AY73)","v":0},{"$f":"BA66","v":0},{"$f":"AZ73/BA73/$L$1","v":{"$error":"#DIV/0!"}},"-"]
[{"$f":"A67","v":"-"},{"$f":"IF(COUNTIF(B3,$A$67),SUM(B53),0)","v":0},0,0,0,0,0,0,0,0,0,0,0,0,0,0,0,0,0,0,0,0,0,0,0,0,0,0,0,0,0,0,0,0,0,0,0,0,0,0,0,0,0,0,0,0,0,0,0,0,0,{"$f":"SUM(B74:AY74)","v":0},{"$f":"BA67","v":0},{"$f":"AZ74/BA74/$L$1","v":{"$error":"#DIV/0!"}},"-"]
[{"$f":"A68","v":"-"},{"$f":"IF(COUNTIF(B3,$A$68),SUM(B53),0)","v":0},0,0,0,0,0,0,0,0,0,0,0,0,0,0,0,0,0,0,0,0,0,0,0,0,0,0,0,0,0,0,0,0,0,0,0,0,0,0,0,0,0,0,0,0,0,0,0,0,0,{"$f":"SUM(B75:AY75)","v":0},{"$f":"BA68","v":0},{"$f":"AZ75/BA75/$L$1","v":{"$error":"#DIV/0!"}},"-"]
[]
["観点別無答数",null,null,null,null,null,null,null,null,null,null,null,null,null,null,null,null,null,null,null,null,null,null,null,null,null,null,null,null,null,null,null,null,null,null,null,null,null,null,null,null,null,null,null,null,null,null,null,null,null,null,null,null,null,"観点別無答数"]
[{"$f":"A64","v":"思・表"},{"$f":"IF(COUNTIF(B3,$A$64),SUM(B54),0)","v":0},0,0,0,0,0,0,0,0,0,0,0,0,0,0,0,0,0,0,0,0,0,0,0,0,0,0,0,0,0,0,0,0,0,0,0,0,0,0,0,0,0,0,0,0,0,0,0,0,0,{"$f":"SUM(B78:AY78)","v":0},{"$f":"BA64","v":12},{"$f":"AZ78/BA78/$L$1","v":{"$error":"#DIV/0!"}},"思・表"]
[{"$f":"A65","v":"知・技"},{"$f":"IF(COUNTIF(B3,$A$65),SUM(B54),0)","v":0},0,0,0,0,0,0,0,0,0,0,0,0,0,0,0,0,0,0,0,0,0,0,0,0,0,0,0,0,0,0,0,0,0,0,0,0,0,0,0,0,0,0,0,0,0,0,0,0,0,{"$f":"SUM(B79:AY79)","v":0},{"$f":"BA65","v":13},{"$f":"AZ79/BA79/$L$1","v":{"$error":"#DIV/0!"}},"知・技"]
[{"$f":"A66","v":"-"},{"$f":"IF(COUNTIF(B3,$A$66),SUM(B54),0)","v":0},0,0,0,0,0,0,0,0,0,0,0,0,0,0,0,0,0,0,0,0,0,0,0,0,0,0,0,0,0,0,0,0,0,0,0,0,0,0,0,0,0,0,0,0,0,0,0,0,0,{"$f":"SUM(B80:AY80)","v":0},{"$f":"BA66","v":0},{"$f":"AZ80/BA80/$L$1","v":{"$error":"#DIV/0!"}},"-"]
[{"$f":"A67","v":"-"},{"$f":"IF(COUNTIF(B3,$A$67),SUM(B54),0)","v":0},0,0,0,0,0,0,0,0,0,0,0,0,0,0,0,0,0,0,0,0,0,0,0,0,0,0,0,0,0,0,0,0,0,0,0,0,0,0,0,0,0,0,0,0,0,0,0,0,0,{"$f":"SUM(B81:AY81)","v":0},{"$f":"BA67","v":0},{"$f":"AZ81/BA81/$L$1","v":{"$error":"#DIV/0!"}},"-"]
[{"$f":"A68","v":"-"},{"$f":"IF(COUNTIF(B3,$A$68),SUM(B54),0)","v":0},0,0,0,0,0,0,0,0,0,0,0,0,0,0,0,0,0,0,0,0,0,0,0,0,0,0,0,0,0,0,0,0,0,0,0,0,0,0,0,0,0,0,0,0,0,0,0,0,0,{"$f":"SUM(B82:AY82)","v":0},{"$f":"BA68","v":0},{"$f":"AZ82/BA82/$L$1","v":{"$error":"#DIV/0!"}},"-"]

{"sheet":"⑨個人データ出力","index":36,"n_rows":318,"n_cols":66,"rows_kept":318,"cut":false,"hidden":false,"merged":[]}
["⑨個人データ出力(観点別得点率)"]
[null,"↓","通し番号を入力して、Enterキーを押すと、個人が変更されます。"]
["No.",1]
[]
["名前",{"$f":"VLOOKUP($B$3,国語!$A$11:$D$55,4)&\"さん\"","v":"01あさん"}]
[]
[]
[]
["国語",null,{"$f":"BK90","v":"県"},{"$f":"BL90","v":"自校"},{"$f":"BM90","v":"個人"},null,"算数",null,{"$f":"BK208","v":"県"},{"$f":"BL208","v":"自校"},{"$f":"BM208","v":"個人"}]
[null,{"$f":"BJ91","v":"知識・技能"},{"$f":"IF(ISERR(BK91),0,(BK91))","v":0.77150000000000007},0.21481481481481482,{"$f":"IF(ISERR(BM91),0,(BM91))","v":1},null,null,{"$f":"BJ209","v":"知識・技能"},{"$f":"IF(ISERR(BK209),0,(BK209))","v":0.59244444444444444},0,{"$f":"IF(ISERR(BM209),0,(BM209))","v":0}]
[null,{"$f":"BJ92","v":"思考・判断・表現"},{"$f":"IF(ISERR(BK92),0,(BK92))","v":0.64469230769230756},0.73162393162393158,{"$f":"IF(ISERR(BM92),0,(BM92))","v":1},null,null,{"$f":"BJ210","v":"思考・判断・表現"},{"$f":"IF(ISERR(BK210),0,(BK210))","v":0.43085714285714288},0,{"$f":"IF(ISERR(BM210),0,(BM210))","v":0}]
[null,{"$f":"BJ93","v":"-"},{"$f":"IF(ISERR(BK93),0,(BK93))","v":0},0,{"$f":"IF(ISERR(BM93),0,(BM93))","v":0},null,null,{"$f":"BJ211","v":"-"},{"$f":"IF(ISERR(BK211),0,(BK211))","v":0},0,{"$f":"IF(ISERR(BM211),0,(BM211))","v":0}]
[null,{"$f":"BJ94","v":"-"},{"$f":"IF(ISERR(BK94),0,(BK94))","v":0},0,{"$f":"IF(ISERR(BM94),0,(BM94))","v":0},null,null,{"$f":"BJ212","v":"-"},{"$f":"IF(ISERR(BK212),0,(BK212))","v":0},0,{"$f":"IF(ISERR(BM212),0,(BM212))","v":0}]
[null,{"$f":"BJ95","v":"-"},{"$f":"IF(ISERR(BK95),0,(BK95))","v":0},0,{"$f":"IF(ISERR(BM95),0,(BM95))","v":0},null,null,{"$f":"BJ213","v":"-"},{"$f":"IF(ISERR(BK213),0,(BK213))","v":0},0,{"$f":"IF(ISERR(BM213),0,(BM213))","v":0}]
[]
[]
[]
["社会",null,{"$f":"BK149","v":"県"},{"$f":"BL149","v":"自校"},{"$f":"BM149","v":"個人"},null,"理科",null,{"$f":"BK267","v":"県"},{"$f":"BL267","v":"自校"},{"$f":"BM267","v":"個人"}]
[null,{"$f":"BJ150","v":"思考・判断・表現"},{"$f":"IF(ISERR(BK150),0,(BK150))","v":0.57328571428571429},0,0,null,null,{"$f":"BJ268","v":"科学的な思考・表現"},{"$f":"IF(ISERR(BK268),0,(BK268))","v":0.64133333333333342},0,0]
[null,{"$f":"BJ151","v":"知識・技能"},0.67200000000000015,0,0,null,null,{"$f":"BJ269","v":"自然事象の知識・理解\n観察・実験の技能"},0.76861538461538459,0,0]
[null,{"$f":"BJ152","v":"-"},0,0,0,null,null,{"$f":"BJ270","v":"－"},0,0,0]
[null,{"$f":"BJ153","v":"-"},0,0,0,null,null,{"$f":"BJ271","v":"－"},0,0,0]
[null,{"$f":"BJ154","v":"-"},0,0,0,null,null,{"$f":"BJ272","v":"－"},0,0,0]
[]
[]
[]
[]
[]
[]
[]
[]
[]
[]
[]
[]
[]
[]
[]
[]
[]
[]
[]
[]
[]
[]
[]
[]
[]
[]
[]
[]
[]
[]
[]
[]
[]
[]
[]
[]
[]
[]
[]
[]
[]
[]
[]
[]
[]
[]
[]
[]
[]
[]
[]
[]
[]
[]
[]
[]
[]
[]
[]
[]
["国語","県",null,"通し番号",1,2,3,4,5,6,7,8,9,10,11,12,13,14,15,16,17,18,19,20,21,22,23,24,25,26,27,28,29,30,31,32,33,34,35,36,37,38,39,40,41,42,43,44,45,46,47,48,49,50]
[null,null,null,"観点",{"$f":"国語!E9","v":"知・技"},{"$f":"国語!F9","v":"知・技"},{"$f":"国語!G9","v":"知・技"},{"$f":"国語!H9","v":"知・技"},{"$f":"国語!I9","v":"知・技"},{"$f":"国語!J9","v":"知・技"},{"$f":"国語!K9","v":"知・技"},{"$f":"国語!L9","v":"知・技"},{"$f":"国語!M9","v":"知・技"},{"$f":"国語!N9","v":"知・技"},{"$f":"国語!O9","v":"知・技"},{"$f":"国語!P9","v":"知・技"},{"$f":"国語!Q9","v":"思判表"},{"$f":"国語!R9","v":"思判表"},{"$f":"国語!S9","v":"思判表"},{"$f":"国語!T9","v":"思判表"},{"$f":"国語!U9","v":"思判表"},{"$f":"国語!V9","v":"思判表"},{"$f":"国語!W9","v":"思判表"},{"$f":"国語!X9","v":"思判表"},{"$f":"国語!Y9","v":"思判表"},{"$f":"国語!Z9","v":"思判表"},{"$f":"国語!AA9","v":"思判表"},{"$f":"国語!AB9","v":"思判表"},{"$f":"国語!AC9","v":"思判表"},{"$f":"国語!AD9","v":0},{"$f":"国語!AE9","v":0},{"$f":"国語!AF9","v":0},{"$f":"国語!AG9","v":0},{"$f":"国語!AH9","v":0},{"$f":"国語!AI9","v":0},{"$f":"国語!AJ9","v":0},{"$f":"国語!AK9","v":0},{"$f":"国語!AL9","v":0},{"$f":"国語!AM9","v":0},{"$f":"国語!AN9","v":0},{"$f":"国語!AO9","v":0},{"$f":"国語!AP9","v":0},{"$f":"国語!AQ9","v":0},{"$f":"国語!AR9","v":0},{"$f":"国語!AS9","v":0},{"$f":"国語!AT9","v":0},{"$f":"国語!AU9","v":0},{"$f":"国語!AV9","v":0},{"$f":"国語!AW9","v":0},{"$f":"国語!AX9","v":0},{"$f":"国語!AY9","v":0},{"$f":"国語!AZ9","v":0},{"$f":"国語!BA9","v":0},{"$f":"国語!BB9","v":0},null,{"$f":"国語!BF35","v":"知・技"},{"$f":"国語!BF36","v":"思判表"},{"$f":"国語!BF37","v":"-"},{"$f":"国語!BF38","v":"-"},{"$f":"国語!BF39","v":"-"}]
[null,null,null,"配点",{"$f":"国語!E10","v":4},{"$f":"国語!F10","v":4},{"$f":"国語!G10","v":4},{"$f":"国語!H10","v":4},{"$f":"国語!I10","v":4},{"$f":"国語!J10","v":4},{"$f":"国語!K10","v":4},{"$f":"国語!L10","v":4},{"$f":"国語!M10","v":4},{"$f":"国語!N10","v":4},{"$f":"国語!O10","v":4},{"$f":"国語!P10","v":4},{"$f":"国語!Q10","v":4},{"$f":"国語!R10","v":4},{"$f":"国語!S10","v":4},{"$f":"国語!T10","v":4},{"$f":"国語!U10","v":4},{"$f":"国語!V10","v":4},{"$f":"国語!W10","v":4},{"$f":"国語!X10","v":4},{"$f":"国語!Y10","v":4},{"$f":"国語!Z10","v":4},{"$f":"国語!AA10","v":4},{"$f":"国語!AB10","v":4},{"$f":"国語!AC10","v":4},{"$f":"国語!AD10","v":0},{"$f":"国語!AE10","v":0},{"$f":"国語!AF10","v":0},{"$f":"国語!AG10","v":0},{"$f":"国語!AH10","v":0},{"$f":"国語!AI10","v":0},{"$f":"国語!AJ10","v":0},{"$f":"国語!AK10","v":0},{"$f":"国語!AL10","v":0},{"$f":"国語!AM10","v":0},{"$f":"国語!AN10","v":0},{"$f":"国語!AO10","v":0},{"$f":"国語!AP10","v":0},{"$f":"国語!AQ10","v":0},{"$f":"国語!AR10","v":0},{"$f":"国語!AS10","v":0},{"$f":"国語!AT10","v":0},{"$f":"国語!AU10","v":0},{"$f":"国語!AV10","v":0},{"$f":"国語!AW10","v":0},{"$f":"国語!AX10","v":0},{"$f":"国語!AY10","v":0},{"$f":"国語!AZ10","v":0},{"$f":"国語!BA10","v":0},{"$f":"国語!BB10","v":0},null,{"$f":"SUMIF($E$85:$BB$85,BD$85,$E86:$BB86)","v":48},{"$f":"SUMIF($E$85:$BB$85,BE$85,$E86:$BB86)","v":52},{"$f":"SUMIF($E$85:$BB$85,BF$85,$E86:$BB86)","v":0},{"$f":"SUMIF($E$85:$BB$85,BG$85,$E86:$BB86)","v":0},{"$f":"SUMIF($E$85:$BB$85,BH$85,$E86:$BB86)","v":0}]
[null,null,null,"得点率",{"$f":"国語得点!B58*E86","v":3.82},{"$f":"国語得点!C58*F86","v":3.8479999999999999},{"$f":"国語得点!D58*G86","v":2.1040000000000001},{"$f":"国語得点!E58*H86","v":3.8559999999999999},{"$f":"国語得点!F58*I86","v":3.2519999999999998},{"$f":"国語得点!G58*J86","v":2.2679999999999998},{"$f":"国語得点!H58*K86","v":3.2639999999999998},{"$f":"国語得点!I58*L86","v":2.1520000000000001},{"$f":"国語得点!J58*M86","v":2.2400000000000002},{"$f":"国語得点!K58*N86","v":2.484},{"$f":"国語得点!L58*O86","v":3.8439999999999999},{"$f":"国語得点!M58*P86","v":3.9},{"$f":"国語得点!N58*Q86","v":3.3519999999999999},{"$f":"国語得点!O58*R86","v":3.3639999999999999},{"$f":"国語得点!P58*S86","v":3.552},{"$f":"国語得点!Q58*T86","v":3.3119999999999998},{"$f":"国語得点!R58*U86","v":1.8680000000000001},{"$f":"国語得点!S58*V86","v":2.3319999999999999},{"$f":"国語得点!T58*W86","v":2.7919999999999998},{"$f":"国語得点!U58*X86","v":3.3239999999999998},{"$f":"国語得点!V58*Y86","v":2.96},{"$f":"国語得点!W58*Z86","v":1.68},{"$f":"国語得点!X58*AA86","v":1.1359999999999999},{"$f":"国語得点!Y58*AB86","v":1.5840000000000001},{"$f":"国語得点!Z58*AC86","v":2.2679999999999998},{"$f":"国語得点!AA58*AD86","v":0},{"$f":"国語得点!AB58*AE86","v":0},{"$f":"国語得点!AC58*AF86","v":0},{"$f":"国語得点!AD58*AG86","v":0},{"$f":"国語得点!AE58*AH86","v":0},{"$f":"国語得点!AF58*AI86","v":0},{"$f":"国語得点!AG58*AJ86","v":0},{"$f":"国語得点!AH58*AK86","v":0},{"$f":"国語得点!AI58*AL86","v":0},{"$f":"国語得点!AJ58*AM86","v":0},{"$f":"国語得点!AK58*AN86","v":0},{"$f":"国語得点!AL58*AO86","v":0},{"$f":"国語得点!AM58*AP86","v":0},{"$f":"国語得点!AN58*AQ86","v":0},{"$f":"国語得点!AO58*AR86","v":0},{"$f":"国語得点!AP58*AS86","v":0},{"$f":"国語得点!AQ58*AT86","v":0},{"$f":"国語得点!AR58*AU86","v":0},{"$f":"国語得点!AS58*AV86","v":0},{"$f":"国語得点!AT58*AW86","v":0},{"$f":"国語得点!AU58*AX86","v":0},{"$f":"国語得点!AV58*AY86","v":0},{"$f":"国語得点!AW58*AZ86","v":0},{"$f":"国語得点!AX58*BA86","v":0},{"$f":"国語得点!AY58*BB86","v":0},null,{"$f":"SUMIF($E$85:$BB$85,BD$85,$E87:$BB87)/BD$86","v":0.77150000000000007},{"$f":"SUMIF($E$85:$BB$85,BE$85,$E87:$BB87)/BE$86","v":0.64469230769230756},{"$f":"SUMIF($E$85:$BB$85,BF$85,$E87:$BB87)/BF$86","v":{"$error":"#DIV/0!"}},{"$f":"SUMIF($E$85:$BB$85,BG$85,$E87:$BB87)/BG$86","v":{"$error":"#DIV/0!"}},{"$f":"SUMIF($E$85:$BB$85,BH$85,$E87:$BB87)/BH$86","v":{"$error":"#DIV/0!"}}]
[]
["国語","自校",null,"通し番号",1,2,3,4,5,6,7,8,9,10,11,12,13,14,15,16,17,18,19,20,21,22,23,24,25,26,27,28,29,30,31,32,33,34,35,36,37,38,39,40,41,42,43,44,45,46,47,48,49,50,null,null,null,null,null,null,null,null,null,null,null,"観点数"]
[null,null,null,"観点",{"$f":"国語!E9","v":"知・技"},{"$f":"国語!F9","v":"知・技"},{"$f":"国語!G9","v":"知・技"},{"$f":"国語!H9","v":"知・技"},{"$f":"国語!I9","v":"知・技"},{"$f":"国語!J9","v":"知・技"},{"$f":"国語!K9","v":"知・技"},{"$f":"国語!L9","v":"知・技"},{"$f":"国語!M9","v":"知・技"},{"$f":"国語!N9","v":"知・技"},{"$f":"国語!O9","v":"知・技"},{"$f":"国語!P9","v":"知・技"},{"$f":"国語!Q9","v":"思判表"},{"$f":"国語!R9","v":"思判表"},{"$f":"国語!S9","v":"思判表"},{"$f":"国語!T9","v":"思判表"},{"$f":"国語!U9","v":"思判表"},{"$f":"国語!V9","v":"思判表"},{"$f":"国語!W9","v":"思判表"},{"$f":"国語!X9","v":"思判表"},{"$f":"国語!Y9","v":"思判表"},{"$f":"国語!Z9","v":"思判表"},{"$f":"国語!AA9","v":"思判表"},{"$f":"国語!AB9","v":"思判表"},{"$f":"国語!AC9","v":"思判表"},{"$f":"国語!AD9","v":0},{"$f":"国語!AE9","v":0},{"$f":"国語!AF9","v":0},{"$f":"国語!AG9","v":0},{"$f":"国語!AH9","v":0},{"$f":"国語!AI9","v":0},{"$f":"国語!AJ9","v":0},{"$f":"国語!AK9","v":0},{"$f":"国語!AL9","v":0},{"$f":"国語!AM9","v":0},{"$f":"国語!AN9","v":0},{"$f":"国語!AO9","v":0},{"$f":"国語!AP9","v":0},{"$f":"国語!AQ9","v":0},{"$f":"国語!AR9","v":0},{"$f":"国語!AS9","v":0},{"$f":"国語!AT9","v":0},{"$f":"国語!AU9","v":0},{"$f":"国語!AV9","v":0},{"$f":"国語!AW9","v":0},{"$f":"国語!AX9","v":0},{"$f":"国語!AY9","v":0},{"$f":"国語!AZ9","v":0},{"$f":"国語!BA9","v":0},{"$f":"国語!BB9","v":0},null,{"$f":"国語!BF35","v":"知・技"},{"$f":"国語!BF36","v":"思判表"},{"$f":"国語!BF37","v":"-"},{"$f":"国語!BF38","v":"-"},{"$f":"国語!BF39","v":"-"},null,null,"県","自校","個人",{"$f":"国語!BG41","v":2}]
[null,null,null,"配点",{"$f":"国語!E10","v":4},{"$f":"国語!F10","v":4},{"$f":"国語!G10","v":4},{"$f":"国語!H10","v":4},{"$f":"国語!I10","v":4},{"$f":"国語!J10","v":4},{"$f":"国語!K10","v":4},{"$f":"国語!L10","v":4},{"$f":"国語!M10","v":4},{"$f":"国語!N10","v":4},{"$f":"国語!O10","v":4},{"$f":"国語!P10","v":4},{"$f":"国語!Q10","v":4},{"$f":"国語!R10","v":4},{"$f":"国語!S10","v":4},{"$f":"国語!T10","v":4},{"$f":"国語!U10","v":4},{"$f":"国語!V10","v":4},{"$f":"国語!W10","v":4},{"$f":"国語!X10","v":4},{"$f":"国語!Y10","v":4},{"$f":"国語!Z10","v":4},{"$f":"国語!AA10","v":4},{"$f":"国語!AB10","v":4},{"$f":"国語!AC10","v":4},{"$f":"国語!AD10","v":0},{"$f":"国語!AE10","v":0},{"$f":"国語!AF10","v":0},{"$f":"国語!AG10","v":0},{"$f":"国語!AH10","v":0},{"$f":"国語!AI10","v":0},{"$f":"国語!AJ10","v":0},{"$f":"国語!AK10","v":0},{"$f":"国語!AL10","v":0},{"$f":"国語!AM10","v":0},{"$f":"国語!AN10","v":0},{"$f":"国語!AO10","v":0},{"$f":"国語!AP10","v":0},{"$f":"国語!AQ10","v":0},{"$f":"国語!AR10","v":0},{"$f":"国語!AS10","v":0},{"$f":"国語!AT10","v":0},{"$f":"国語!AU10","v":0},{"$f":"国語!AV10","v":0},{"$f":"国語!AW10","v":0},{"$f":"国語!AX10","v":0},{"$f":"国語!AY10","v":0},{"$f":"国語!AZ10","v":0},{"$f":"国語!BA10","v":0},{"$f":"国語!BB10","v":0},null,{"$f":"SUMIF($E$90:$BB$90,BD$90,$E91:$BB91)","v":48},{"$f":"SUMIF($E$90:$BB$90,BE$90,$E91:$BB91)","v":52},{"$f":"SUMIF($E$90:$BB$90,BF$90,$E91:$BB91)","v":0},{"$f":"SUMIF($E$90:$BB$90,BG$90,$E91:$BB91)","v":0},{"$f":"SUMIF($E$90:$BB$90,BH$90,$E91:$BB91)","v":0},null,{"$f":"国語!BG35","v":"知識・技能"},{"$f":"BD87","v":0.77150000000000007},{"$f":"BD92","v":0.21481481481481482},{"$f":"VLOOKUP($B$3,$B$97:$BH$141,55)","v":1}]
[null,null,null,"得点率",{"$f":"国語!E64*E91","v":0.17777777777777778},{"$f":"国語!F64*F91","v":0.26666666666666666},{"$f":"国語!G64*G91","v":0.35555555555555557},{"$f":"国語!H64*H91","v":0.44444444444444442},{"$f":"国語!I64*I91","v":0.62222222222222223},{"$f":"国語!J64*J91","v":0.8},{"$f":"国語!K64*K91","v":0.97777777777777775},{"$f":"国語!L64*L91","v":0.97777777777777775},{"$f":"国語!M64*M91","v":1.1555555555555554},{"$f":"国語!N64*N91","v":1.3333333333333333},{"$f":"国語!O64*O91","v":1.5111111111111111},{"$f":"国語!P64*P91","v":1.6888888888888889},{"$f":"国語!Q64*Q91","v":1.8666666666666667},{"$f":"国語!R64*R91","v":2.0444444444444443},{"$f":"国語!S64*S91","v":2.2222222222222223},{"$f":"国語!T64*T91","v":2.4},{"$f":"国語!U64*U91","v":2.5777777777777779},{"$f":"国語!V64*V91","v":2.7555555555555555},{"$f":"国語!W64*W91","v":2.9333333333333331},{"$f":"国語!X64*X91","v":3.1111111111111112},{"$f":"国語!Y64*Y91","v":3.2888888888888888},{"$f":"国語!Z64*Z91","v":3.4666666666666668},{"$f":"国語!AA64*AA91","v":3.6444444444444444},{"$f":"国語!AB64*AB91","v":3.8222222222222224},{"$f":"国語!AC64*AC91","v":3.911111111111111},{"$f":"国語!AD64*AD91","v":{"$error":"#DIV/0!"}},{"$f":"国語!AE64*AE91","v":{"$error":"#DIV/0!"}},{"$f":"国語!AF64*AF91","v":{"$error":"#DIV/0!"}},{"$f":"国語!AG64*AG91","v":{"$error":"#DIV/0!"}},{"$f":"国語!AH64*AH91","v":{"$error":"#DIV/0!"}},{"$f":"国語!AI64*AI91","v":{"$error":"#DIV/0!"}},{"$f":"国語!AJ64*AJ91","v":{"$error":"#DIV/0!"}},{"$f":"国語!AK64*AK91","v":{"$error":"#DIV/0!"}},{"$f":"国語!AL64*AL91","v":{"$error":"#DIV/0!"}},{"$f":"国語!AM64*AM91","v":{"$error":"#DIV/0!"}},{"$f":"国語!AN64*AN91","v":{"$error":"#DIV/0!"}},{"$f":"国語!AO64*AO91","v":{"$error":"#DIV/0!"}},{"$f":"国語!AP64*AP91","v":{"$error":"#DIV/0!"}},{"$f":"国語!AQ64*AQ91","v":{"$error":"#DIV/0!"}},{"$f":"国語!AR64*AR91","v":{"$error":"#DIV/0!"}},{"$f":"国語!AS64*AS91","v":{"$error":"#DIV/0!"}},{"$f":"国語!AT64*AT91","v":{"$error":"#DIV/0!"}},{"$f":"国語!AU64*AU91","v":{"$error":"#DIV/0!"}},{"$f":"国語!AV64*AV91","v":{"$error":"#DIV/0!"}},{"$f":"国語!AW64*AW91","v":{"$error":"#DIV/0!"}},{"$f":"国語!AX64*AX91","v":{"$error":"#DIV/0!"}},{"$f":"国語!AY64*AY91","v":{"$error":"#DIV/0!"}},{"$f":"国語!AZ64*AZ91","v":{"$error":"#DIV/0!"}},{"$f":"国語!BA64*BA91","v":{"$error":"#DIV/0!"}},{"$f":"国語!BB64*BB91","v":{"$error":"#DIV/0!"}},null,{"$f":"SUMIF($E$90:$BB$90,BD$90,$E92:$BB92)/BD$91","v":0.21481481481481482},{"$f":"SUMIF($E$90:$BB$90,BE$90,$E92:$BB92)/BE$91","v":0.73162393162393158},{"$f":"SUMIF($E$90:$BB$90,BF$90,$E92:$BB92)/BF$91","v":{"$error":"#DIV/0!"}},{"$f":"SUMIF($E$90:$BB$90,BG$90,$E92:$BB92)/BG$91","v":{"$error":"#DIV/0!"}},{"$f":"SUMIF($E$90:$BB$90,BH$90,$E92:$BB92)/BH$91","v":{"$error":"#DIV/0!"}},null,{"$f":"国語!BG36","v":"思考・判断・表現"},{"$f":"BE87","v":0.64469230769230756},{"$f":"BE92","v":0.73162393162393158},{"$f":"VLOOKUP($B$3,$B$97:$BH$141,56)","v":1}]
[null,null,null,null,null,null,null,null,null,null,null,null,null,null,null,null,null,null,null,null,null,null,null,null,null,null,null,null,null,null,null,null,null,null,null,null,null,null,null,null,null,null,null,null,null,null,null,null,null,null,null,null,null,null,null,null,null,null,null,null,null,{"$f":"国語!BG37","v":"-"},{"$f":"BF87","v":{"$error":"#DIV/0!"}},{"$f":"BF92","v":{"$error":"#DIV/0!"}},{"$f":"VLOOKUP($B$3,$B$97:$BH$141,57)","v":{"$error":"#DIV/0!"}}]
["国語","個人",null,"通し番号",1,2,3,4,5,6,7,8,9,10,11,12,13,14,15,16,17,18,19,20,21,22,23,24,25,26,27,28,29,30,31,32,33,34,35,36,37,38,39,40,41,42,43,44,45,46,47,48,49,50,null,null,null,null,null,null,null,{"$f":"国語!BG38","v":"-"},{"$f":"BG87","v":{"$error":"#DIV/0!"}},{"$f":"BG92","v":{"$error":"#DIV/0!"}},{"$f":"VLOOKUP($B$3,$B$97:$BH$141,58)","v":{"$error":"#DIV/0!"}}]
[null,null,null,"観点",{"$f":"国語!E9","v":"知・技"},{"$f":"国語!F9","v":"知・技"},{"$f":"国語!G9","v":"知・技"},{"$f":"国語!H9","v":"知・技"},{"$f":"国語!I9","v":"知・技"},{"$f":"国語!J9","v":"知・技"},{"$f":"国語!K9","v":"知・技"},{"$f":"国語!L9","v":"知・技"},{"$f":"国語!M9","v":"知・技"},{"$f":"国語!N9","v":"知・技"},{"$f":"国語!O9","v":"知・技"},{"$f":"国語!P9","v":"知・技"},{"$f":"国語!Q9","v":"思判表"},{"$f":"国語!R9","v":"思判表"},{"$f":"国語!S9","v":"思判表"},{"$f":"国語!T9","v":"思判表"},{"$f":"国語!U9","v":"思判表"},{"$f":"国語!V9","v":"思判表"},{"$f":"国語!W9","v":"思判表"},{"$f":"国語!X9","v":"思判表"},{"$f":"国語!Y9","v":"思判表"},{"$f":"国語!Z9","v":"思判表"},{"$f":"国語!AA9","v":"思判表"},{"$f":"国語!AB9","v":"思判表"},{"$f":"国語!AC9","v":"思判表"},{"$f":"国語!AD9","v":0},{"$f":"国語!AE9","v":0},{"$f":"国語!AF9","v":0},{"$f":"国語!AG9","v":0},{"$f":"国語!AH9","v":0},{"$f":"国語!AI9","v":0},{"$f":"国語!AJ9","v":0},{"$f":"国語!AK9","v":0},{"$f":"国語!AL9","v":0},{"$f":"国語!AM9","v":0},{"$f":"国語!AN9","v":0},{"$f":"国語!AO9","v":0},{"$f":"国語!AP9","v":0},{"$f":"国語!AQ9","v":0},{"$f":"国語!AR9","v":0},{"$f":"国語!AS9","v":0},{"$f":"国語!AT9","v":0},{"$f":"国語!AU9","v":0},{"$f":"国語!AV9","v":0},{"$f":"国語!AW9","v":0},{"$f":"国語!AX9","v":0},{"$f":"国語!AY9","v":0},{"$f":"国語!AZ9","v":0},{"$f":"国語!BA9","v":0},{"$f":"国語!BB9","v":0},null,{"$f":"国語!BF35","v":"知・技"},{"$f":"国語!BF36","v":"思判表"},{"$f":"国語!BF37","v":"-"},{"$f":"国語!BF38","v":"-"},{"$f":"国語!BF39","v":"-"},null,{"$f":"国語!BG39","v":"-"},{"$f":"BH87","v":{"$error":"#DIV/0!"}},{"$f":"BH92","v":{"$error":"#DIV/0!"}},{"$f":"VLOOKUP($B$3,$B$97:$BH$141,59)","v":{"$error":"#DIV/0!"}}]
[null,"Ｎｏ．","氏名","配点",{"$f":"国語!E10","v":4},{"$f":"国語!F10","v":4},{"$f":"国語!G10","v":4},{"$f":"国語!H10","v":4},{"$f":"国語!I10","v":4},{"$f":"国語!J10","v":4},{"$f":"国語!K10","v":4},{"$f":"国語!L10","v":4},{"$f":"国語!M10","v":4},{"$f":"国語!N10","v":4},{"$f":"国語!O10","v":4},{"$f":"国語!P10","v":4},{"$f":"国語!Q10","v":4},{"$f":"国語!R10","v":4},{"$f":"国語!S10","v":4},{"$f":"国語!T10","v":4},{"$f":"国語!U10","v":4},{"$f":"国語!V10","v":4},{"$f":"国語!W10","v":4},{"$f":"国語!X10","v":4},{"$f":"国語!Y10","v":4},{"$f":"国語!Z10","v":4},{"$f":"国語!AA10","v":4},{"$f":"国語!AB10","v":4},{"$f":"国語!AC10","v":4},{"$f":"国語!AD10","v":0},{"$f":"国語!AE10","v":0},{"$f":"国語!AF10","v":0},{"$f":"国語!AG10","v":0},{"$f":"国語!AH10","v":0},{"$f":"国語!AI10","v":0},{"$f":"国語!AJ10","v":0},{"$f":"国語!AK10","v":0},{"$f":"国語!AL10","v":0},{"$f":"国語!AM10","v":0},{"$f":"国語!AN10","v":0},{"$f":"国語!AO10","v":0},{"$f":"国語!AP10","v":0},{"$f":"国語!AQ10","v":0},{"$f":"国語!AR10","v":0},{"$f":"国語!AS10","v":0},{"$f":"国語!AT10","v":0},{"$f":"国語!AU10","v":0},{"$f":"国語!AV10","v":0},{"$f":"国語!AW10","v":0},{"$f":"国語!AX10","v":0},{"$f":"国語!AY10","v":0},{"$f":"国語!AZ10","v":0},{"$f":"国語!BA10","v":0},{"$f":"国語!BB10","v":0},null,{"$f":"SUMIF($E$95:$BB$95,BD$95,$E96:$BB96)","v":48},{"$f":"SUMIF($E$95:$BB$95,BE$95,$E96:$BB96)","v":52},{"$f":"SUMIF($E$95:$BB$95,BF$95,$E96:$BB96)","v":0},{"$f":"SUMIF($E$95:$BB$95,BG$95,$E96:$BB96)","v":0},{"$f":"SUMIF($E$95:$BB$95,BH$95,$E96:$BB96)","v":0}]
[null,1,null,null,{"$f":"IF(国語!E11=1,E$96,0)","v":4},{"$f":"IF(国語!F11=1,F$96,0)","v":4},{"$f":"IF(国語!G11=1,G$96,0)","v":4},{"$f":"IF(国語!H11=1,H$96,0)","v":4},{"$f":"IF(国語!I11=1,I$96,0)","v":4},{"$f":"IF(国語!J11=1,J$96,0)","v":4},{"$f":"IF(国語!K11=1,K$96,0)","v":4},{"$f":"IF(国語!L11=1,L$96,0)","v":4},{"$f":"IF(国語!M11=1,M$96,0)","v":4},{"$f":"IF(国語!N11=1,N$96,0)","v":4},{"$f":"IF(国語!O11=1,O$96,0)","v":4},{"$f":"IF(国語!P11=1,P$96,0)","v":4},{"$f":"IF(国語!Q11=1,Q$96,0)","v":4},{"$f":"IF(国語!R11=1,R$96,0)","v":4},{"$f":"IF(国語!S11=1,S$96,0)","v":4},{"$f":"IF(国語!T11=1,T$96,0)","v":4},{"$f":"IF(国語!U11=1,U$96,0)","v":4},{"$f":"IF(国語!V11=1,V$96,0)","v":4},{"$f":"IF(国語!W11=1,W$96,0)","v":4},{"$f":"IF(国語!X11=1,X$96,0)","v":4},{"$f":"IF(国語!Y11=1,Y$96,0)","v":4},{"$f":"IF(国語!Z11=1,Z$96,0)","v":4},{"$f":"IF(国語!AA11=1,AA$96,0)","v":4},{"$f":"IF(国語!AB11=1,AB$96,0)","v":4},{"$f":"IF(国語!AC11=1,AC$96,0)","v":4},{"$f":"IF(国語!AD11=1,AD$96,0)","v":0},{"$f":"IF(国語!AE11=1,AE$96,0)","v":0},{"$f":"IF(国語!AF11=1,AF$96,0)","v":0},{"$f":"IF(国語!AG11=1,AG$96,0)","v":0},{"$f":"IF(国語!AH11=1,AH$96,0)","v":0},{"$f":"IF(国語!AI11=1,AI$96,0)","v":0},{"$f":"IF(国語!AJ11=1,AJ$96,0)","v":0},{"$f":"IF(国語!AK11=1,AK$96,0)","v":0},{"$f":"IF(国語!AL11=1,AL$96,0)","v":0},{"$f":"IF(国語!AM11=1,AM$96,0)","v":0},{"$f":"IF(国語!AN11=1,AN$96,0)","v":0},{"$f":"IF(国語!AO11=1,AO$96,0)","v":0},{"$f":"IF(国語!AP11=1,AP$96,0)","v":0},{"$f":"IF(国語!AQ11=1,AQ$96,0)","v":0},{"$f":"IF(国語!AR11=1,AR$96,0)","v":0},{"$f":"IF(国語!AS11=1,AS$96,0)","v":0},{"$f":"IF(国語!AT11=1,AT$96,0)","v":0},{"$f":"IF(国語!AU11=1,AU$96,0)","v":0},{"$f":"IF(国語!AV11=1,AV$96,0)","v":0},{"$f":"IF(国語!AW11=1,AW$96,0)","v":0},{"$f":"IF(国語!AX11=1,AX$96,0)","v":0},{"$f":"IF(国語!AY11=1,AY$96,0)","v":0},{"$f":"IF(国語!AZ11=1,AZ$96,0)","v":0},{"$f":"IF(国語!BA11=1,BA$96,0)","v":0},{"$f":"IF(国語!BB11=1,BB$96,0)","v":0},null,{"$f":"SUMIF($E$95:$BB$95,BD$95,$E97:$BB97)/BD$96","v":1},{"$f":"SUMIF($E$95:$BB$95,BE$95,$E97:$BB97)/BE$96","v":1},{"$error":"#DIV/0!"},{"$error":"#DIV/0!"},{"$error":"#DIV/0!"}]
[null,2,null,null,{"$f":"IF(国語!E12=1,E$96,0)","v":0},{"$f":"IF(国語!F12=1,F$96,0)","v":4},{"$f":"IF(国語!G12=1,G$96,0)","v":4},{"$f":"IF(国語!H12=1,H$96,0)","v":4},{"$f":"IF(国語!I12=1,I$96,0)","v":4},{"$f":"IF(国語!J12=1,J$96,0)","v":4},{"$f":"IF(国語!K12=1,K$96,0)","v":4},{"$f":"IF(国語!L12=1,L$96,0)","v":4},{"$f":"IF(国語!M12=1,M$96,0)","v":4},{"$f":"IF(国語!N12=1,N$96,0)","v":4},{"$f":"IF(国語!O12=1,O$96,0)","v":4},{"$f":"IF(国語!P12=1,P$96,0)","v":4},{"$f":"IF(国語!Q12=1,Q$96,0)","v":4},{"$f":"IF(国語!R12=1,R$96,0)","v":4},{"$f":"IF(国語!S12=1,S$96,0)","v":4},{"$f":"IF(国語!T12=1,T$96,0)","v":4},{"$f":"IF(国語!U12=1,U$96,0)","v":4},{"$f":"IF(国語!V12=1,V$96,0)","v":4},{"$f":"IF(国語!W12=1,W$96,0)","v":4},{"$f":"IF(国語!X12=1,X$96,0)","v":4},{"$f":"IF(国語!Y12=1,Y$96,0)","v":4},{"$f":"IF(国語!Z12=1,Z$96,0)","v":4},{"$f":"IF(国語!AA12=1,AA$96,0)","v":4},{"$f":"IF(国語!AB12=1,AB$96,0)","v":4},{"$f":"IF(国語!AC12=1,AC$96,0)","v":4},{"$f":"IF(国語!AD12=1,AD$96,0)","v":0},{"$f":"IF(国語!AE12=1,AE$96,0)","v":0},{"$f":"IF(国語!AF12=1,AF$96,0)","v":0},{"$f":"IF(国語!AG12=1,AG$96,0)","v":0},{"$f":"IF(国語!AH12=1,AH$96,0)","v":0},{"$f":"IF(国語!AI12=1,AI$96,0)","v":0},{"$f":"IF(国語!AJ12=1,AJ$96,0)","v":0},{"$f":"IF(国語!AK12=1,AK$96,0)","v":0},{"$f":"IF(国語!AL12=1,AL$96,0)","v":0},{"$f":"IF(国語!AM12=1,AM$96,0)","v":0},{"$f":"IF(国語!AN12=1,AN$96,0)","v":0},{"$f":"IF(国語!AO12=1,AO$96,0)","v":0},{"$f":"IF(国語!AP12=1,AP$96,0)","v":0},{"$f":"IF(国語!AQ12=1,AQ$96,0)","v":0},{"$f":"IF(国語!AR12=1,AR$96,0)","v":0},{"$f":"IF(国語!AS12=1,AS$96,0)","v":0},{"$f":"IF(国語!AT12=1,AT$96,0)","v":0},{"$f":"IF(国語!AU12=1,AU$96,0)","v":0},{"$f":"IF(国語!AV12=1,AV$96,0)","v":0},{"$f":"IF(国語!AW12=1,AW$96,0)","v":0},{"$f":"IF(国語!AX12=1,AX$96,0)","v":0},{"$f":"IF(国語!AY12=1,AY$96,0)","v":0},{"$f":"IF(国語!AZ12=1,AZ$96,0)","v":0},{"$f":"IF(国語!BA12=1,BA$96,0)","v":0},{"$f":"IF(国語!BB12=1,BB$96,0)","v":0},null,0.91666666666666663,1,{"$error":"#DIV/0!"},{"$error":"#DIV/0!"},{"$error":"#DIV/0!"}]
[null,3,null,null,{"$f":"IF(国語!E13=1,E$96,0)","v":0},{"$f":"IF(国語!F13=1,F$96,0)","v":0},{"$f":"IF(国語!G13=1,G$96,0)","v":4},{"$f":"IF(国語!H13=1,H$96,0)","v":4},{"$f":"IF(国語!I13=1,I$96,0)","v":4},{"$f":"IF(国語!J13=1,J$96,0)","v":4},{"$f":"IF(国語!K13=1,K$96,0)","v":4},{"$f":"IF(国語!L13=1,L$96,0)","v":4},{"$f":"IF(国語!M13=1,M$96,0)","v":4},{"$f":"IF(国語!N13=1,N$96,0)","v":4},{"$f":"IF(国語!O13=1,O$96,0)","v":4},{"$f":"IF(国語!P13=1,P$96,0)","v":4},{"$f":"IF(国語!Q13=1,Q$96,0)","v":4},{"$f":"IF(国語!R13=1,R$96,0)","v":4},{"$f":"IF(国語!S13=1,S$96,0)","v":4},{"$f":"IF(国語!T13=1,T$96,0)","v":4},{"$f":"IF(国語!U13=1,U$96,0)","v":4},{"$f":"IF(国語!V13=1,V$96,0)","v":4},{"$f":"IF(国語!W13=1,W$96,0)","v":4},{"$f":"IF(国語!X13=1,X$96,0)","v":4},{"$f":"IF(国語!Y13=1,Y$96,0)","v":4},{"$f":"IF(国語!Z13=1,Z$96,0)","v":4},{"$f":"IF(国語!AA13=1,AA$96,0)","v":4},{"$f":"IF(国語!AB13=1,AB$96,0)","v":4},{"$f":"IF(国語!AC13=1,AC$96,0)","v":4},{"$f":"IF(国語!AD13=1,AD$96,0)","v":0},{"$f":"IF(国語!AE13=1,AE$96,0)","v":0},{"$f":"IF(国語!AF13=1,AF$96,0)","v":0},{"$f":"IF(国語!AG13=1,AG$96,0)","v":0},{"$f":"IF(国語!AH13=1,AH$96,0)","v":0},{"$f":"IF(国語!AI13=1,AI$96,0)","v":0},{"$f":"IF(国語!AJ13=1,AJ$96,0)","v":0},{"$f":"IF(国語!AK13=1,AK$96,0)","v":0},{"$f":"IF(国語!AL13=1,AL$96,0)","v":0},{"$f":"IF(国語!AM13=1,AM$96,0)","v":0},{"$f":"IF(国語!AN13=1,AN$96,0)","v":0},{"$f":"IF(国語!AO13=1,AO$96,0)","v":0},{"$f":"IF(国語!AP13=1,AP$96,0)","v":0},{"$f":"IF(国語!AQ13=1,AQ$96,0)","v":0},{"$f":"IF(国語!AR13=1,AR$96,0)","v":0},{"$f":"IF(国語!AS13=1,AS$96,0)","v":0},{"$f":"IF(国語!AT13=1,AT$96,0)","v":0},{"$f":"IF(国語!AU13=1,AU$96,0)","v":0},{"$f":"IF(国語!AV13=1,AV$96,0)","v":0},{"$f":"IF(国語!AW13=1,AW$96,0)","v":0},{"$f":"IF(国語!AX13=1,AX$96,0)","v":0},{"$f":"IF(国語!AY13=1,AY$96,0)","v":0},{"$f":"IF(国語!AZ13=1,AZ$96,0)","v":0},{"$f":"IF(国語!BA13=1,BA$96,0)","v":0},{"$f":"IF(国語!BB13=1,BB$96,0)","v":0},null,0.83333333333333337,1,{"$error":"#DIV/0!"},{"$error":"#DIV/0!"},{"$error":"#DIV/0!"}]
[null,4,null,null,{"$f":"IF(国語!E14=1,E$96,0)","v":0},{"$f":"IF(国語!F14=1,F$96,0)","v":0},{"$f":"IF(国語!G14=1,G$96,0)","v":0},{"$f":"IF(国語!H14=1,H$96,0)","v":4},{"$f":"IF(国語!I14=1,I$96,0)","v":4},{"$f":"IF(国語!J14=1,J$96,0)","v":4},{"$f":"IF(国語!K14=1,K$96,0)","v":4},{"$f":"IF(国語!L14=1,L$96,0)","v":4},{"$f":"IF(国語!M14=1,M$96,0)","v":4},{"$f":"IF(国語!N14=1,N$96,0)","v":4},{"$f":"IF(国語!O14=1,O$96,0)","v":4},{"$f":"IF(国語!P14=1,P$96,0)","v":4},{"$f":"IF(国語!Q14=1,Q$96,0)","v":4},{"$f":"IF(国語!R14=1,R$96,0)","v":4},{"$f":"IF(国語!S14=1,S$96,0)","v":4},{"$f":"IF(国語!T14=1,T$96,0)","v":4},{"$f":"IF(国語!U14=1,U$96,0)","v":4},{"$f":"IF(国語!V14=1,V$96,0)","v":4},{"$f":"IF(国語!W14=1,W$96,0)","v":4},{"$f":"IF(国語!X14=1,X$96,0)","v":4},{"$f":"IF(国語!Y14=1,Y$96,0)","v":4},{"$f":"IF(国語!Z14=1,Z$96,0)","v":4},{"$f":"IF(国語!AA14=1,AA$96,0)","v":4},{"$f":"IF(国語!AB14=1,AB$96,0)","v":4},{"$f":"IF(国語!AC14=1,AC$96,0)","v":4},{"$f":"IF(国語!AD14=1,AD$96,0)","v":0},{"$f":"IF(国語!AE14=1,AE$96,0)","v":0},{"$f":"IF(国語!AF14=1,AF$96,0)","v":0},{"$f":"IF(国語!AG14=1,AG$96,0)","v":0},{"$f":"IF(国語!AH14=1,AH$96,0)","v":0},{"$f":"IF(国語!AI14=1,AI$96,0)","v":0},{"$f":"IF(国語!AJ14=1,AJ$96,0)","v":0},{"$f":"IF(国語!AK14=1,AK$96,0)","v":0},{"$f":"IF(国語!AL14=1,AL$96,0)","v":0},{"$f":"IF(国語!AM14=1,AM$96,0)","v":0},{"$f":"IF(国語!AN14=1,AN$96,0)","v":0},{"$f":"IF(国語!AO14=1,AO$96,0)","v":0},{"$f":"IF(国語!AP14=1,AP$96,0)","v":0},{"$f":"IF(国語!AQ14=1,AQ$96,0)","v":0},{"$f":"IF(国語!AR14=1,AR$96,0)","v":0},{"$f":"IF(国語!AS14=1,AS$96,0)","v":0},{"$f":"IF(国語!AT14=1,AT$96,0)","v":0},{"$f":"IF(国語!AU14=1,AU$96,0)","v":0},{"$f":"IF(国語!AV14=1,AV$96,0)","v":0},{"$f":"IF(国語!AW14=1,AW$96,0)","v":0},{"$f":"IF(国語!AX14=1,AX$96,0)","v":0},{"$f":"IF(国語!AY14=1,AY$96,0)","v":0},{"$f":"IF(国語!AZ14=1,AZ$96,0)","v":0},{"$f":"IF(国語!BA14=1,BA$96,0)","v":0},{"$f":"IF(国語!BB14=1,BB$96,0)","v":0},null,0.75,1,{"$error":"#DIV/0!"},{"$error":"#DIV/0!"},{"$error":"#DIV/0!"}]
[null,5,null,null,{"$f":"IF(国語!E15=1,E$96,0)","v":0},{"$f":"IF(国語!F15=1,F$96,0)","v":0},{"$f":"IF(国語!G15=1,G$96,0)","v":0},{"$f":"IF(国語!H15=1,H$96,0)","v":0},{"$f":"IF(国語!I15=1,I$96,0)","v":4},{"$f":"IF(国語!J15=1,J$96,0)","v":4},{"$f":"IF(国語!K15=1,K$96,0)","v":4},{"$f":"IF(国語!L15=1,L$96,0)","v":4},{"$f":"IF(国語!M15=1,M$96,0)","v":4},{"$f":"IF(国語!N15=1,N$96,0)","v":4},{"$f":"IF(国語!O15=1,O$96,0)","v":4},{"$f":"IF(国語!P15=1,P$96,0)","v":4},{"$f":"IF(国語!Q15=1,Q$96,0)","v":4},{"$f":"IF(国語!R15=1,R$96,0)","v":4},{"$f":"IF(国語!S15=1,S$96,0)","v":4},{"$f":"IF(国語!T15=1,T$96,0)","v":4},{"$f":"IF(国語!U15=1,U$96,0)","v":4},{"$f":"IF(国語!V15=1,V$96,0)","v":4},{"$f":"IF(国語!W15=1,W$96,0)","v":4},{"$f":"IF(国語!X15=1,X$96,0)","v":4},{"$f":"IF(国語!Y15=1,Y$96,0)","v":4},{"$f":"IF(国語!Z15=1,Z$96,0)","v":4},{"$f":"IF(国語!AA15=1,AA$96,0)","v":4},{"$f":"IF(国語!AB15=1,AB$96,0)","v":4},{"$f":"IF(国語!AC15=1,AC$96,0)","v":4},{"$f":"IF(国語!AD15=1,AD$96,0)","v":0},{"$f":"IF(国語!AE15=1,AE$96,0)","v":0},{"$f":"IF(国語!AF15=1,AF$96,0)","v":0},{"$f":"IF(国語!AG15=1,AG$96,0)","v":0},{"$f":"IF(国語!AH15=1,AH$96,0)","v":0},{"$f":"IF(国語!AI15=1,AI$96,0)","v":0},{"$f":"IF(国語!AJ15=1,AJ$96,0)","v":0},{"$f":"IF(国語!AK15=1,AK$96,0)","v":0},{"$f":"IF(国語!AL15=1,AL$96,0)","v":0},{"$f":"IF(国語!AM15=1,AM$96,0)","v":0},{"$f":"IF(国語!AN15=1,AN$96,0)","v":0},{"$f":"IF(国語!AO15=1,AO$96,0)","v":0},{"$f":"IF(国語!AP15=1,AP$96,0)","v":0},{"$f":"IF(国語!AQ15=1,AQ$96,0)","v":0},{"$f":"IF(国語!AR15=1,AR$96,0)","v":0},{"$f":"IF(国語!AS15=1,AS$96,0)","v":0},{"$f":"IF(国語!AT15=1,AT$96,0)","v":0},{"$f":"IF(国語!AU15=1,AU$96,0)","v":0},{"$f":"IF(国語!AV15=1,AV$96,0)","v":0},{"$f":"IF(国語!AW15=1,AW$96,0)","v":0},{"$f":"IF(国語!AX15=1,AX$96,0)","v":0},{"$f":"IF(国語!AY15=1,AY$96,0)","v":0},{"$f":"IF(国語!AZ15=1,AZ$96,0)","v":0},{"$f":"IF(国語!BA15=1,BA$96,0)","v":0},{"$f":"IF(国語!BB15=1,BB$96,0)","v":0},null,0.66666666666666663,1,{"$error":"#DIV/0!"},{"$error":"#DIV/0!"},{"$error":"#DIV/0!"}]
[null,6,null,null,{"$f":"IF(国語!E16=1,E$96,0)","v":0},{"$f":"IF(国語!F16=1,F$96,0)","v":0},{"$f":"IF(国語!G16=1,G$96,0)","v":0},{"$f":"IF(国語!H16=1,H$96,0)","v":0},{"$f":"IF(国語!I16=1,I$96,0)","v":0},{"$f":"IF(国語!J16=1,J$96,0)","v":4},{"$f":"IF(国語!K16=1,K$96,0)","v":4},{"$f":"IF(国語!L16=1,L$96,0)","v":4},{"$f":"IF(国語!M16=1,M$96,0)","v":4},{"$f":"IF(国語!N16=1,N$96,0)","v":4},{"$f":"IF(国語!O16=1,O$96,0)","v":4},{"$f":"IF(国語!P16=1,P$96,0)","v":4},{"$f":"IF(国語!Q16=1,Q$96,0)","v":4},{"$f":"IF(国語!R16=1,R$96,0)","v":4},{"$f":"IF(国語!S16=1,S$96,0)","v":4},{"$f":"IF(国語!T16=1,T$96,0)","v":4},{"$f":"IF(国語!U16=1,U$96,0)","v":4},{"$f":"IF(国語!V16=1,V$96,0)","v":4},{"$f":"IF(国語!W16=1,W$96,0)","v":4},{"$f":"IF(国語!X16=1,X$96,0)","v":4},{"$f":"IF(国語!Y16=1,Y$96,0)","v":4},{"$f":"IF(国語!Z16=1,Z$96,0)","v":4},{"$f":"IF(国語!AA16=1,AA$96,0)","v":4},{"$f":"IF(国語!AB16=1,AB$96,0)","v":4},{"$f":"IF(国語!AC16=1,AC$96,0)","v":4},{"$f":"IF(国語!AD16=1,AD$96,0)","v":0},{"$f":"IF(国語!AE16=1,AE$96,0)","v":0},{"$f":"IF(国語!AF16=1,AF$96,0)","v":0},{"$f":"IF(国語!AG16=1,AG$96,0)","v":0},{"$f":"IF(国語!AH16=1,AH$96,0)","v":0},{"$f":"IF(国語!AI16=1,AI$96,0)","v":0},{"$f":"IF(国語!AJ16=1,AJ$96,0)","v":0},{"$f":"IF(国語!AK16=1,AK$96,0)","v":0},{"$f":"IF(国語!AL16=1,AL$96,0)","v":0},{"$f":"IF(国語!AM16=1,AM$96,0)","v":0},{"$f":"IF(国語!AN16=1,AN$96,0)","v":0},{"$f":"IF(国語!AO16=1,AO$96,0)","v":0},{"$f":"IF(国語!AP16=1,AP$96,0)","v":0},{"$f":"IF(国語!AQ16=1,AQ$96,0)","v":0},{"$f":"IF(国語!AR16=1,AR$96,0)","v":0},{"$f":"IF(国語!AS16=1,AS$96,0)","v":0},{"$f":"IF(国語!AT16=1,AT$96,0)","v":0},{"$f":"IF(国語!AU16=1,AU$96,0)","v":0},{"$f":"IF(国語!AV16=1,AV$96,0)","v":0},{"$f":"IF(国語!AW16=1,AW$96,0)","v":0},{"$f":"IF(国語!AX16=1,AX$96,0)","v":0},{"$f":"IF(国語!AY16=1,AY$96,0)","v":0},{"$f":"IF(国語!AZ16=1,AZ$96,0)","v":0},{"$f":"IF(国語!BA16=1,BA$96,0)","v":0},{"$f":"IF(国語!BB16=1,BB$96,0)","v":0},null,0.58333333333333337,1,{"$error":"#DIV/0!"},{"$error":"#DIV/0!"},{"$error":"#DIV/0!"}]
[null,7,null,null,{"$f":"IF(国語!E17=1,E$96,0)","v":0},{"$f":"IF(国語!F17=1,F$96,0)","v":0},{"$f":"IF(国語!G17=1,G$96,0)","v":0},{"$f":"IF(国語!H17=1,H$96,0)","v":0},{"$f":"IF(国語!I17=1,I$96,0)","v":0},{"$f":"IF(国語!J17=1,J$96,0)","v":0},{"$f":"IF(国語!K17=1,K$96,0)","v":4},{"$f":"IF(国語!L17=1,L$96,0)","v":4},{"$f":"IF(国語!M17=1,M$96,0)","v":4},{"$f":"IF(国語!N17=1,N$96,0)","v":4},{"$f":"IF(国語!O17=1,O$96,0)","v":4},{"$f":"IF(国語!P17=1,P$96,0)","v":4},{"$f":"IF(国語!Q17=1,Q$96,0)","v":4},{"$f":"IF(国語!R17=1,R$96,0)","v":4},{"$f":"IF(国語!S17=1,S$96,0)","v":4},{"$f":"IF(国語!T17=1,T$96,0)","v":4},{"$f":"IF(国語!U17=1,U$96,0)","v":4},{"$f":"IF(国語!V17=1,V$96,0)","v":4},{"$f":"IF(国語!W17=1,W$96,0)","v":4},{"$f":"IF(国語!X17=1,X$96,0)","v":4},{"$f":"IF(国語!Y17=1,Y$96,0)","v":4},{"$f":"IF(国語!Z17=1,Z$96,0)","v":4},{"$f":"IF(国語!AA17=1,AA$96,0)","v":4},{"$f":"IF(国語!AB17=1,AB$96,0)","v":4},{"$f":"IF(国語!AC17=1,AC$96,0)","v":4},{"$f":"IF(国語!AD17=1,AD$96,0)","v":0},{"$f":"IF(国語!AE17=1,AE$96,0)","v":0},{"$f":"IF(国語!AF17=1,AF$96,0)","v":0},{"$f":"IF(国語!AG17=1,AG$96,0)","v":0},{"$f":"IF(国語!AH17=1,AH$96,0)","v":0},{"$f":"IF(国語!AI17=1,AI$96,0)","v":0},{"$f":"IF(国語!AJ17=1,AJ$96,0)","v":0},{"$f":"IF(国語!AK17=1,AK$96,0)","v":0},{"$f":"IF(国語!AL17=1,AL$96,0)","v":0},{"$f":"IF(国語!AM17=1,AM$96,0)","v":0},{"$f":"IF(国語!AN17=1,AN$96,0)","v":0},{"$f":"IF(国語!AO17=1,AO$96,0)","v":0},{"$f":"IF(国語!AP17=1,AP$96,0)","v":0},{"$f":"IF(国語!AQ17=1,AQ$96,0)","v":0},{"$f":"IF(国語!AR17=1,AR$96,0)","v":0},{"$f":"IF(国語!AS17=1,AS$96,0)","v":0},{"$f":"IF(国語!AT17=1,AT$96,0)","v":0},{"$f":"IF(国語!AU17=1,AU$96,0)","v":0},{"$f":"IF(国語!AV17=1,AV$96,0)","v":0},{"$f":"IF(国語!AW17=1,AW$96,0)","v":0},{"$f":"IF(国語!AX17=1,AX$96,0)","v":0},{"$f":"IF(国語!AY17=1,AY$96,0)","v":0},{"$f":"IF(国語!AZ17=1,AZ$96,0)","v":0},{"$f":"IF(国語!BA17=1,BA$96,0)","v":0},{"$f":"IF(国語!BB17=1,BB$96,0)","v":0},null,0.5,1,{"$error":"#DIV/0!"},{"$error":"#DIV/0!"},{"$error":"#DIV/0!"}]
[null,8,null,null,{"$f":"IF(国語!E18=1,E$96,0)","v":0},{"$f":"IF(国語!F18=1,F$96,0)","v":0},{"$f":"IF(国語!G18=1,G$96,0)","v":0},{"$f":"IF(国語!H18=1,H$96,0)","v":0},{"$f":"IF(国語!I18=1,I$96,0)","v":0},{"$f":"IF(国語!J18=1,J$96,0)","v":0},{"$f":"IF(国語!K18=1,K$96,0)","v":0},{"$f":"IF(国語!L18=1,L$96,0)","v":0},{"$f":"IF(国語!M18=1,M$96,0)","v":0},{"$f":"IF(国語!N18=1,N$96,0)","v":4},{"$f":"IF(国語!O18=1,O$96,0)","v":4},{"$f":"IF(国語!P18=1,P$96,0)","v":4},{"$f":"IF(国語!Q18=1,Q$96,0)","v":4},{"$f":"IF(国語!R18=1,R$96,0)","v":4},{"$f":"IF(国語!S18=1,S$96,0)","v":4},{"$f":"IF(国語!T18=1,T$96,0)","v":4},{"$f":"IF(国語!U18=1,U$96,0)","v":4},{"$f":"IF(国語!V18=1,V$96,0)","v":4},{"$f":"IF(国語!W18=1,W$96,0)","v":4},{"$f":"IF(国語!X18=1,X$96,0)","v":4},{"$f":"IF(国語!Y18=1,Y$96,0)","v":4},{"$f":"IF(国語!Z18=1,Z$96,0)","v":4},{"$f":"IF(国語!AA18=1,AA$96,0)","v":4},{"$f":"IF(国語!AB18=1,AB$96,0)","v":4},{"$f":"IF(国語!AC18=1,AC$96,0)","v":4},{"$f":"IF(国語!AD18=1,AD$96,0)","v":0},{"$f":"IF(国語!AE18=1,AE$96,0)","v":0},{"$f":"IF(国語!AF18=1,AF$96,0)","v":0},{"$f":"IF(国語!AG18=1,AG$96,0)","v":0},{"$f":"IF(国語!AH18=1,AH$96,0)","v":0},{"$f":"IF(国語!AI18=1,AI$96,0)","v":0},{"$f":"IF(国語!AJ18=1,AJ$96,0)","v":0},{"$f":"IF(国語!AK18=1,AK$96,0)","v":0},{"$f":"IF(国語!AL18=1,AL$96,0)","v":0},{"$f":"IF(国語!AM18=1,AM$96,0)","v":0},{"$f":"IF(国語!AN18=1,AN$96,0)","v":0},{"$f":"IF(国語!AO18=1,AO$96,0)","v":0},{"$f":"IF(国語!AP18=1,AP$96,0)","v":0},{"$f":"IF(国語!AQ18=1,AQ$96,0)","v":0},{"$f":"IF(国語!AR18=1,AR$96,0)","v":0},{"$f":"IF(国語!AS18=1,AS$96,0)","v":0},{"$f":"IF(国語!AT18=1,AT$96,0)","v":0},{"$f":"IF(国語!AU18=1,AU$96,0)","v":0},{"$f":"IF(国語!AV18=1,AV$96,0)","v":0},{"$f":"IF(国語!AW18=1,AW$96,0)","v":0},{"$f":"IF(国語!AX18=1,AX$96,0)","v":0},{"$f":"IF(国語!AY18=1,AY$96,0)","v":0},{"$f":"IF(国語!AZ18=1,AZ$96,0)","v":0},{"$f":"IF(国語!BA18=1,BA$96,0)","v":0},{"$f":"IF(国語!BB18=1,BB$96,0)","v":0},null,0.25,1,{"$error":"#DIV/0!"},{"$error":"#DIV/0!"},{"$error":"#DIV/0!"}]
[null,9,null,null,{"$f":"IF(国語!E19=1,E$96,0)","v":0},{"$f":"IF(国語!F19=1,F$96,0)","v":0},{"$f":"IF(国語!G19=1,G$96,0)","v":0},{"$f":"IF(国語!H19=1,H$96,0)","v":0},{"$f":"IF(国語!I19=1,I$96,0)","v":0},{"$f":"IF(国語!J19=1,J$96,0)","v":0},{"$f":"IF(国語!K19=1,K$96,0)","v":0},{"$f":"IF(国語!L19=1,L$96,0)","v":0},{"$f":"IF(国語!M19=1,M$96,0)","v":0},{"$f":"IF(国語!N19=1,N$96,0)","v":0},{"$f":"IF(国語!O19=1,O$96,0)","v":4},{"$f":"IF(国語!P19=1,P$96,0)","v":4},{"$f":"IF(国語!Q19=1,Q$96,0)","v":4},{"$f":"IF(国語!R19=1,R$96,0)","v":4},{"$f":"IF(国語!S19=1,S$96,0)","v":4},{"$f":"IF(国語!T19=1,T$96,0)","v":4},{"$f":"IF(国語!U19=1,U$96,0)","v":4},{"$f":"IF(国語!V19=1,V$96,0)","v":4},{"$f":"IF(国語!W19=1,W$96,0)","v":4},{"$f":"IF(国語!X19=1,X$96,0)","v":4},{"$f":"IF(国語!Y19=1,Y$96,0)","v":4},{"$f":"IF(国語!Z19=1,Z$96,0)","v":4},{"$f":"IF(国語!AA19=1,AA$96,0)","v":4},{"$f":"IF(国語!AB19=1,AB$96,0)","v":4},{"$f":"IF(国語!AC19=1,AC$96,0)","v":4},{"$f":"IF(国語!AD19=1,AD$96,0)","v":0},{"$f":"IF(国語!AE19=1,AE$96,0)","v":0},{"$f":"IF(国語!AF19=1,AF$96,0)","v":0},{"$f":"IF(国語!AG19=1,AG$96,0)","v":0},{"$f":"IF(国語!AH19=1,AH$96,0)","v":0},{"$f":"IF(国語!AI19=1,AI$96,0)","v":0},{"$f":"IF(国語!AJ19=1,AJ$96,0)","v":0},{"$f":"IF(国語!AK19=1,AK$96,0)","v":0},{"$f":"IF(国語!AL19=1,AL$96,0)","v":0},{"$f":"IF(国語!AM19=1,AM$96,0)","v":0},{"$f":"IF(国語!AN19=1,AN$96,0)","v":0},{"$f":"IF(国語!AO19=1,AO$96,0)","v":0},{"$f":"IF(国語!AP19=1,AP$96,0)","v":0},{"$f":"IF(国語!AQ19=1,AQ$96,0)","v":0},{"$f":"IF(国語!AR19=1,AR$96,0)","v":0},{"$f":"IF(国語!AS19=1,AS$96,0)","v":0},{"$f":"IF(国語!AT19=1,AT$96,0)","v":0},{"$f":"IF(国語!AU19=1,AU$96,0)","v":0},{"$f":"IF(国語!AV19=1,AV$96,0)","v":0},{"$f":"IF(国語!AW19=1,AW$96,0)","v":0},{"$f":"IF(国語!AX19=1,AX$96,0)","v":0},{"$f":"IF(国語!AY19=1,AY$96,0)","v":0},{"$f":"IF(国語!AZ19=1,AZ$96,0)","v":0},{"$f":"IF(国語!BA19=1,BA$96,0)","v":0},{"$f":"IF(国語!BB19=1,BB$96,0)","v":0},null,0.16666666666666666,1,{"$error":"#DIV/0!"},{"$error":"#DIV/0!"},{"$error":"#DIV/0!"}]
[null,10,null,null,{"$f":"IF(国語!E20=1,E$96,0)","v":0},{"$f":"IF(国語!F20=1,F$96,0)","v":0},{"$f":"IF(国語!G20=1,G$96,0)","v":0},{"$f":"IF(国語!H20=1,H$96,0)","v":0},{"$f":"IF(国語!I20=1,I$96,0)","v":0},{"$f":"IF(国語!J20=1,J$96,0)","v":0},{"$f":"IF(国語!K20=1,K$96,0)","v":0},{"$f":"IF(国語!L20=1,L$96,0)","v":0},{"$f":"IF(国語!M20=1,M$96,0)","v":0},{"$f":"IF(国語!N20=1,N$96,0)","v":0},{"$f":"IF(国語!O20=1,O$96,0)","v":0},{"$f":"IF(国語!P20=1,P$96,0)","v":4},{"$f":"IF(国語!Q20=1,Q$96,0)","v":4},{"$f":"IF(国語!R20=1,R$96,0)","v":4},{"$f":"IF(国語!S20=1,S$96,0)","v":4},{"$f":"IF(国語!T20=1,T$96,0)","v":4},{"$f":"IF(国語!U20=1,U$96,0)","v":4},{"$f":"IF(国語!V20=1,V$96,0)","v":4},{"$f":"IF(国語!W20=1,W$96,0)","v":4},{"$f":"IF(国語!X20=1,X$96,0)","v":4},{"$f":"IF(国語!Y20=1,Y$96,0)","v":4},{"$f":"IF(国語!Z20=1,Z$96,0)","v":4},{"$f":"IF(国語!AA20=1,AA$96,0)","v":4},{"$f":"IF(国語!AB20=1,AB$96,0)","v":4},{"$f":"IF(国語!AC20=1,AC$96,0)","v":4},{"$f":"IF(国語!AD20=1,AD$96,0)","v":0},{"$f":"IF(国語!AE20=1,AE$96,0)","v":0},{"$f":"IF(国語!AF20=1,AF$96,0)","v":0},{"$f":"IF(国語!AG20=1,AG$96,0)","v":0},{"$f":"IF(国語!AH20=1,AH$96,0)","v":0},{"$f":"IF(国語!AI20=1,AI$96,0)","v":0},{"$f":"IF(国語!AJ20=1,AJ$96,0)","v":0},{"$f":"IF(国語!AK20=1,AK$96,0)","v":0},{"$f":"IF(国語!AL20=1,AL$96,0)","v":0},{"$f":"IF(国語!AM20=1,AM$96,0)","v":0},{"$f":"IF(国語!AN20=1,AN$96,0)","v":0},{"$f":"IF(国語!AO20=1,AO$96,0)","v":0},{"$f":"IF(国語!AP20=1,AP$96,0)","v":0},{"$f":"IF(国語!AQ20=1,AQ$96,0)","v":0},{"$f":"IF(国語!AR20=1,AR$96,0)","v":0},{"$f":"IF(国語!AS20=1,AS$96,0)","v":0},{"$f":"IF(国語!AT20=1,AT$96,0)","v":0},{"$f":"IF(国語!AU20=1,AU$96,0)","v":0},{"$f":"IF(国語!AV20=1,AV$96,0)","v":0},{"$f":"IF(国語!AW20=1,AW$96,0)","v":0},{"$f":"IF(国語!AX20=1,AX$96,0)","v":0},{"$f":"IF(国語!AY20=1,AY$96,0)","v":0},{"$f":"IF(国語!AZ20=1,AZ$96,0)","v":0},{"$f":"IF(国語!BA20=1,BA$96,0)","v":0},{"$f":"IF(国語!BB20=1,BB$96,0)","v":0},null,8.3333333333333329E-2,1,{"$error":"#DIV/0!"},{"$error":"#DIV/0!"},{"$error":"#DIV/0!"}]
[null,11,null,null,{"$f":"IF(国語!E21=1,E$96,0)","v":0},{"$f":"IF(国語!F21=1,F$96,0)","v":0},{"$f":"IF(国語!G21=1,G$96,0)","v":0},{"$f":"IF(国語!H21=1,H$96,0)","v":0},{"$f":"IF(国語!I21=1,I$96,0)","v":0},{"$f":"IF(国語!J21=1,J$96,0)","v":0},{"$f":"IF(国語!K21=1,K$96,0)","v":0},{"$f":"IF(国語!L21=1,L$96,0)","v":0},{"$f":"IF(国語!M21=1,M$96,0)","v":0},{"$f":"IF(国語!N21=1,N$96,0)","v":0},{"$f":"IF(国語!O21=1,O$96,0)","v":0},{"$f":"IF(国語!P21=1,P$96,0)","v":0},{"$f":"IF(国語!Q21=1,Q$96,0)","v":4},{"$f":"IF(国語!R21=1,R$96,0)","v":4},{"$f":"IF(国語!S21=1,S$96,0)","v":4},{"$f":"IF(国語!T21=1,T$96,0)","v":4},{"$f":"IF(国語!U21=1,U$96,0)","v":4},{"$f":"IF(国語!V21=1,V$96,0)","v":4},{"$f":"IF(国語!W21=1,W$96,0)","v":4},{"$f":"IF(国語!X21=1,X$96,0)","v":4},{"$f":"IF(国語!Y21=1,Y$96,0)","v":4},{"$f":"IF(国語!Z21=1,Z$96,0)","v":4},{"$f":"IF(国語!AA21=1,AA$96,0)","v":4},{"$f":"IF(国語!AB21=1,AB$96,0)","v":4},{"$f":"IF(国語!AC21=1,AC$96,0)","v":4},{"$f":"IF(国語!AD21=1,AD$96,0)","v":0},{"$f":"IF(国語!AE21=1,AE$96,0)","v":0},{"$f":"IF(国語!AF21=1,AF$96,0)","v":0},{"$f":"IF(国語!AG21=1,AG$96,0)","v":0},{"$f":"IF(国語!AH21=1,AH$96,0)","v":0},{"$f":"IF(国語!AI21=1,AI$96,0)","v":0},{"$f":"IF(国語!AJ21=1,AJ$96,0)","v":0},{"$f":"IF(国語!AK21=1,AK$96,0)","v":0},{"$f":"IF(国語!AL21=1,AL$96,0)","v":0},{"$f":"IF(国語!AM21=1,AM$96,0)","v":0},{"$f":"IF(国語!AN21=1,AN$96,0)","v":0},{"$f":"IF(国語!AO21=1,AO$96,0)","v":0},{"$f":"IF(国語!AP21=1,AP$96,0)","v":0},{"$f":"IF(国語!AQ21=1,AQ$96,0)","v":0},{"$f":"IF(国語!AR21=1,AR$96,0)","v":0},{"$f":"IF(国語!AS21=1,AS$96,0)","v":0},{"$f":"IF(国語!AT21=1,AT$96,0)","v":0},{"$f":"IF(国語!AU21=1,AU$96,0)","v":0},{"$f":"IF(国語!AV21=1,AV$96,0)","v":0},{"$f":"IF(国語!AW21=1,AW$96,0)","v":0},{"$f":"IF(国語!AX21=1,AX$96,0)","v":0},{"$f":"IF(国語!AY21=1,AY$96,0)","v":0},{"$f":"IF(国語!AZ21=1,AZ$96,0)","v":0},{"$f":"IF(国語!BA21=1,BA$96,0)","v":0},{"$f":"IF(国語!BB21=1,BB$96,0)","v":0},null,0,1,{"$error":"#DIV/0!"},{"$error":"#DIV/0!"},{"$error":"#DIV/0!"}]
[null,12,null,null,{"$f":"IF(国語!E22=1,E$96,0)","v":0},{"$f":"IF(国語!F22=1,F$96,0)","v":0},{"$f":"IF(国語!G22=1,G$96,0)","v":0},{"$f":"IF(国語!H22=1,H$96,0)","v":0},{"$f":"IF(国語!I22=1,I$96,0)","v":0},{"$f":"IF(国語!J22=1,J$96,0)","v":0},{"$f":"IF(国語!K22=1,K$96,0)","v":0},{"$f":"IF(国語!L22=1,L$96,0)","v":0},{"$f":"IF(国語!M22=1,M$96,0)","v":0},{"$f":"IF(国語!N22=1,N$96,0)","v":0},{"$f":"IF(国語!O22=1,O$96,0)","v":0},{"$f":"IF(国語!P22=1,P$96,0)","v":0},{"$f":"IF(国語!Q22=1,Q$96,0)","v":0},{"$f":"IF(国語!R22=1,R$96,0)","v":4},{"$f":"IF(国語!S22=1,S$96,0)","v":4},{"$f":"IF(国語!T22=1,T$96,0)","v":4},{"$f":"IF(国語!U22=1,U$96,0)","v":4},{"$f":"IF(国語!V22=1,V$96,0)","v":4},{"$f":"IF(国語!W22=1,W$96,0)","v":4},{"$f":"IF(国語!X22=1,X$96,0)","v":4},{"$f":"IF(国語!Y22=1,Y$96,0)","v":4},{"$f":"IF(国語!Z22=1,Z$96,0)","v":4},{"$f":"IF(国語!AA22=1,AA$96,0)","v":4},{"$f":"IF(国語!AB22=1,AB$96,0)","v":4},{"$f":"IF(国語!AC22=1,AC$96,0)","v":4},{"$f":"IF(国語!AD22=1,AD$96,0)","v":0},{"$f":"IF(国語!AE22=1,AE$96,0)","v":0},{"$f":"IF(国語!AF22=1,AF$96,0)","v":0},{"$f":"IF(国語!AG22=1,AG$96,0)","v":0},{"$f":"IF(国語!AH22=1,AH$96,0)","v":0},{"$f":"IF(国語!AI22=1,AI$96,0)","v":0},{"$f":"IF(国語!AJ22=1,AJ$96,0)","v":0},{"$f":"IF(国語!AK22=1,AK$96,0)","v":0},{"$f":"IF(国語!AL22=1,AL$96,0)","v":0},{"$f":"IF(国語!AM22=1,AM$96,0)","v":0},{"$f":"IF(国語!AN22=1,AN$96,0)","v":0},{"$f":"IF(国語!AO22=1,AO$96,0)","v":0},{"$f":"IF(国語!AP22=1,AP$96,0)","v":0},{"$f":"IF(国語!AQ22=1,AQ$96,0)","v":0},{"$f":"IF(国語!AR22=1,AR$96,0)","v":0},{"$f":"IF(国語!AS22=1,AS$96,0)","v":0},{"$f":"IF(国語!AT22=1,AT$96,0)","v":0},{"$f":"IF(国語!AU22=1,AU$96,0)","v":0},{"$f":"IF(国語!AV22=1,AV$96,0)","v":0},{"$f":"IF(国語!AW22=1,AW$96,0)","v":0},{"$f":"IF(国語!AX22=1,AX$96,0)","v":0},{"$f":"IF(国語!AY22=1,AY$96,0)","v":0},{"$f":"IF(国語!AZ22=1,AZ$96,0)","v":0},{"$f":"IF(国語!BA22=1,BA$96,0)","v":0},{"$f":"IF(国語!BB22=1,BB$96,0)","v":0},null,0,0.92307692307692313,{"$error":"#DIV/0!"},{"$error":"#DIV/0!"},{"$error":"#DIV/0!"}]
[null,13,null,null,{"$f":"IF(国語!E23=1,E$96,0)","v":0},{"$f":"IF(国語!F23=1,F$96,0)","v":0},{"$f":"IF(国語!G23=1,G$96,0)","v":0},{"$f":"IF(国語!H23=1,H$96,0)","v":0},{"$f":"IF(国語!I23=1,I$96,0)","v":0},{"$f":"IF(国語!J23=1,J$96,0)","v":0},{"$f":"IF(国語!K23=1,K$96,0)","v":0},{"$f":"IF(国語!L23=1,L$96,0)","v":0},{"$f":"IF(国語!M23=1,M$96,0)","v":0},{"$f":"IF(国語!N23=1,N$96,0)","v":0},{"$f":"IF(国語!O23=1,O$96,0)","v":0},{"$f":"IF(国語!P23=1,P$96,0)","v":0},{"$f":"IF(国語!Q23=1,Q$96,0)","v":0},{"$f":"IF(国語!R23=1,R$96,0)","v":0},{"$f":"IF(国語!S23=1,S$96,0)","v":4},{"$f":"IF(国語!T23=1,T$96,0)","v":4},{"$f":"IF(国語!U23=1,U$96,0)","v":4},{"$f":"IF(国語!V23=1,V$96,0)","v":4},{"$f":"IF(国語!W23=1,W$96,0)","v":4},{"$f":"IF(国語!X23=1,X$96,0)","v":4},{"$f":"IF(国語!Y23=1,Y$96,0)","v":4},{"$f":"IF(国語!Z23=1,Z$96,0)","v":4},{"$f":"IF(国語!AA23=1,AA$96,0)","v":4},{"$f":"IF(国語!AB23=1,AB$96,0)","v":4},{"$f":"IF(国語!AC23=1,AC$96,0)","v":4},{"$f":"IF(国語!AD23=1,AD$96,0)","v":0},{"$f":"IF(国語!AE23=1,AE$96,0)","v":0},{"$f":"IF(国語!AF23=1,AF$96,0)","v":0},{"$f":"IF(国語!AG23=1,AG$96,0)","v":0},{"$f":"IF(国語!AH23=1,AH$96,0)","v":0},{"$f":"IF(国語!AI23=1,AI$96,0)","v":0},{"$f":"IF(国語!AJ23=1,AJ$96,0)","v":0},{"$f":"IF(国語!AK23=1,AK$96,0)","v":0},{"$f":"IF(国語!AL23=1,AL$96,0)","v":0},{"$f":"IF(国語!AM23=1,AM$96,0)","v":0},{"$f":"IF(国語!AN23=1,AN$96,0)","v":0},{"$f":"IF(国語!AO23=1,AO$96,0)","v":0},{"$f":"IF(国語!AP23=1,AP$96,0)","v":0},{"$f":"IF(国語!AQ23=1,AQ$96,0)","v":0},{"$f":"IF(国語!AR23=1,AR$96,0)","v":0},{"$f":"IF(国語!AS23=1,AS$96,0)","v":0},{"$f":"IF(国語!AT23=1,AT$96,0)","v":0},{"$f":"IF(国語!AU23=1,AU$96,0)","v":0},{"$f":"IF(国語!AV23=1,AV$96,0)","v":0},{"$f":"IF(国語!AW23=1,AW$96,0)","v":0},{"$f":"IF(国語!AX23=1,AX$96,0)","v":0},{"$f":"IF(国語!AY23=1,AY$96,0)","v":0},{"$f":"IF(国語!AZ23=1,AZ$96,0)","v":0},{"$f":"IF(国語!BA23=1,BA$96,0)","v":0},{"$f":"IF(国語!BB23=1,BB$96,0)","v":0},null,0,0.84615384615384615,{"$error":"#DIV/0!"},{"$error":"#DIV/0!"},{"$error":"#DIV/0!"}]
[null,14,null,null,{"$f":"IF(国語!E24=1,E$96,0)","v":0},{"$f":"IF(国語!F24=1,F$96,0)","v":0},{"$f":"IF(国語!G24=1,G$96,0)","v":0},{"$f":"IF(国語!H24=1,H$96,0)","v":0},{"$f":"IF(国語!I24=1,I$96,0)","v":0},{"$f":"IF(国語!J24=1,J$96,0)","v":0},{"$f":"IF(国語!K24=1,K$96,0)","v":0},{"$f":"IF(国語!L24=1,L$96,0)","v":0},{"$f":"IF(国語!M24=1,M$96,0)","v":0},{"$f":"IF(国語!N24=1,N$96,0)","v":0},{"$f":"IF(国語!O24=1,O$96,0)","v":0},{"$f":"IF(国語!P24=1,P$96,0)","v":0},{"$f":"IF(国語!Q24=1,Q$96,0)","v":0},{"$f":"IF(国語!R24=1,R$96,0)","v":0},{"$f":"IF(国語!S24=1,S$96,0)","v":0},{"$f":"IF(国語!T24=1,T$96,0)","v":4},{"$f":"IF(国語!U24=1,U$96,0)","v":4},{"$f":"IF(国語!V24=1,V$96,0)","v":4},{"$f":"IF(国語!W24=1,W$96,0)","v":4},{"$f":"IF(国語!X24=1,X$96,0)","v":4},{"$f":"IF(国語!Y24=1,Y$96,0)","v":4},{"$f":"IF(国語!Z24=1,Z$96,0)","v":4},{"$f":"IF(国語!AA24=1,AA$96,0)","v":4},{"$f":"IF(国語!AB24=1,AB$96,0)","v":4},{"$f":"IF(国語!AC24=1,AC$96,0)","v":4},{"$f":"IF(国語!AD24=1,AD$96,0)","v":0},{"$f":"IF(国語!AE24=1,AE$96,0)","v":0},{"$f":"IF(国語!AF24=1,AF$96,0)","v":0},{"$f":"IF(国語!AG24=1,AG$96,0)","v":0},{"$f":"IF(国語!AH24=1,AH$96,0)","v":0},{"$f":"IF(国語!AI24=1,AI$96,0)","v":0},{"$f":"IF(国語!AJ24=1,AJ$96,0)","v":0},{"$f":"IF(国語!AK24=1,AK$96,0)","v":0},{"$f":"IF(国語!AL24=1,AL$96,0)","v":0},{"$f":"IF(国語!AM24=1,AM$96,0)","v":0},{"$f":"IF(国語!AN24=1,AN$96,0)","v":0},{"$f":"IF(国語!AO24=1,AO$96,0)","v":0},{"$f":"IF(国語!AP24=1,AP$96,0)","v":0},{"$f":"IF(国語!AQ24=1,AQ$96,0)","v":0},{"$f":"IF(国語!AR24=1,AR$96,0)","v":0},{"$f":"IF(国語!AS24=1,AS$96,0)","v":0},{"$f":"IF(国語!AT24=1,AT$96,0)","v":0},{"$f":"IF(国語!AU24=1,AU$96,0)","v":0},{"$f":"IF(国語!AV24=1,AV$96,0)","v":0},{"$f":"IF(国語!AW24=1,AW$96,0)","v":0},{"$f":"IF(国語!AX24=1,AX$96,0)","v":0},{"$f":"IF(国語!AY24=1,AY$96,0)","v":0},{"$f":"IF(国語!AZ24=1,AZ$96,0)","v":0},{"$f":"IF(国語!BA24=1,BA$96,0)","v":0},{"$f":"IF(国語!BB24=1,BB$96,0)","v":0},null,0,0.76923076923076927,{"$error":"#DIV/0!"},{"$error":"#DIV/0!"},{"$error":"#DIV/0!"}]
[null,15,null,null,{"$f":"IF(国語!E25=1,E$96,0)","v":0},{"$f":"IF(国語!F25=1,F$96,0)","v":0},{"$f":"IF(国語!G25=1,G$96,0)","v":0},{"$f":"IF(国語!H25=1,H$96,0)","v":0},{"$f":"IF(国語!I25=1,I$96,0)","v":0},{"$f":"IF(国語!J25=1,J$96,0)","v":0},{"$f":"IF(国語!K25=1,K$96,0)","v":0},{"$f":"IF(国語!L25=1,L$96,0)","v":0},{"$f":"IF(国語!M25=1,M$96,0)","v":0},{"$f":"IF(国語!N25=1,N$96,0)","v":0},{"$f":"IF(国語!O25=1,O$96,0)","v":0},{"$f":"IF(国語!P25=1,P$96,0)","v":0},{"$f":"IF(国語!Q25=1,Q$96,0)","v":0},{"$f":"IF(国語!R25=1,R$96,0)","v":0},{"$f":"IF(国語!S25=1,S$96,0)","v":0},{"$f":"IF(国語!T25=1,T$96,0)","v":0},{"$f":"IF(国語!U25=1,U$96,0)","v":4},{"$f":"IF(国語!V25=1,V$96,0)","v":4},{"$f":"IF(国語!W25=1,W$96,0)","v":4},{"$f":"IF(国語!X25=1,X$96,0)","v":4},{"$f":"IF(国語!Y25=1,Y$96,0)","v":4},{"$f":"IF(国語!Z25=1,Z$96,0)","v":4},{"$f":"IF(国語!AA25=1,AA$96,0)","v":4},{"$f":"IF(国語!AB25=1,AB$96,0)","v":4},{"$f":"IF(国語!AC25=1,AC$96,0)","v":4},{"$f":"IF(国語!AD25=1,AD$96,0)","v":0},{"$f":"IF(国語!AE25=1,AE$96,0)","v":0},{"$f":"IF(国語!AF25=1,AF$96,0)","v":0},{"$f":"IF(国語!AG25=1,AG$96,0)","v":0},{"$f":"IF(国語!AH25=1,AH$96,0)","v":0},{"$f":"IF(国語!AI25=1,AI$96,0)","v":0},{"$f":"IF(国語!AJ25=1,AJ$96,0)","v":0},{"$f":"IF(国語!AK25=1,AK$96,0)","v":0},{"$f":"IF(国語!AL25=1,AL$96,0)","v":0},{"$f":"IF(国語!AM25=1,AM$96,0)","v":0},{"$f":"IF(国語!AN25=1,AN$96,0)","v":0},{"$f":"IF(国語!AO25=1,AO$96,0)","v":0},{"$f":"IF(国語!AP25=1,AP$96,0)","v":0},{"$f":"IF(国語!AQ25=1,AQ$96,0)","v":0},{"$f":"IF(国語!AR25=1,AR$96,0)","v":0},{"$f":"IF(国語!AS25=1,AS$96,0)","v":0},{"$f":"IF(国語!AT25=1,AT$96,0)","v":0},{"$f":"IF(国語!AU25=1,AU$96,0)","v":0},{"$f":"IF(国語!AV25=1,AV$96,0)","v":0},{"$f":"IF(国語!AW25=1,AW$96,0)","v":0},{"$f":"IF(国語!AX25=1,AX$96,0)","v":0},{"$f":"IF(国語!AY25=1,AY$96,0)","v":0},{"$f":"IF(国語!AZ25=1,AZ$96,0)","v":0},{"$f":"IF(国語!BA25=1,BA$96,0)","v":0},{"$f":"IF(国語!BB25=1,BB$96,0)","v":0},null,0,0.69230769230769229,{"$error":"#DIV/0!"},{"$error":"#DIV/0!"},{"$error":"#DIV/0!"}]
[null,16,null,null,{"$f":"IF(国語!E26=1,E$96,0)","v":0},{"$f":"IF(国語!F26=1,F$96,0)","v":0},{"$f":"IF(国語!G26=1,G$96,0)","v":0},{"$f":"IF(国語!H26=1,H$96,0)","v":0},{"$f":"IF(国語!I26=1,I$96,0)","v":0},{"$f":"IF(国語!J26=1,J$96,0)","v":0},{"$f":"IF(国語!K26=1,K$96,0)","v":0},{"$f":"IF(国語!L26=1,L$96,0)","v":0},{"$f":"IF(国語!M26=1,M$96,0)","v":0},{"$f":"IF(国語!N26=1,N$96,0)","v":0},{"$f":"IF(国語!O26=1,O$96,0)","v":0},{"$f":"IF(国語!P26=1,P$96,0)","v":0},{"$f":"IF(国語!Q26=1,Q$96,0)","v":0},{"$f":"IF(国語!R26=1,R$96,0)","v":0},{"$f":"IF(国語!S26=1,S$96,0)","v":0},{"$f":"IF(国語!T26=1,T$96,0)","v":0},{"$f":"IF(国語!U26=1,U$96,0)","v":0},{"$f":"IF(国語!V26=1,V$96,0)","v":4},{"$f":"IF(国語!W26=1,W$96,0)","v":4},{"$f":"IF(国語!X26=1,X$96,0)","v":4},{"$f":"IF(国語!Y26=1,Y$96,0)","v":4},{"$f":"IF(国語!Z26=1,Z$96,0)","v":4},{"$f":"IF(国語!AA26=1,AA$96,0)","v":4},{"$f":"IF(国語!AB26=1,AB$96,0)","v":4},{"$f":"IF(国語!AC26=1,AC$96,0)","v":4},{"$f":"IF(国語!AD26=1,AD$96,0)","v":0},{"$f":"IF(国語!AE26=1,AE$96,0)","v":0},{"$f":"IF(国語!AF26=1,AF$96,0)","v":0},{"$f":"IF(国語!AG26=1,AG$96,0)","v":0},{"$f":"IF(国語!AH26=1,AH$96,0)","v":0},{"$f":"IF(国語!AI26=1,AI$96,0)","v":0},{"$f":"IF(国語!AJ26=1,AJ$96,0)","v":0},{"$f":"IF(国語!AK26=1,AK$96,0)","v":0},{"$f":"IF(国語!AL26=1,AL$96,0)","v":0},{"$f":"IF(国語!AM26=1,AM$96,0)","v":0},{"$f":"IF(国語!AN26=1,AN$96,0)","v":0},{"$f":"IF(国語!AO26=1,AO$96,0)","v":0},{"$f":"IF(国語!AP26=1,AP$96,0)","v":0},{"$f":"IF(国語!AQ26=1,AQ$96,0)","v":0},{"$f":"IF(国語!AR26=1,AR$96,0)","v":0},{"$f":"IF(国語!AS26=1,AS$96,0)","v":0},{"$f":"IF(国語!AT26=1,AT$96,0)","v":0},{"$f":"IF(国語!AU26=1,AU$96,0)","v":0},{"$f":"IF(国語!AV26=1,AV$96,0)","v":0},{"$f":"IF(国語!AW26=1,AW$96,0)","v":0},{"$f":"IF(国語!AX26=1,AX$96,0)","v":0},{"$f":"IF(国語!AY26=1,AY$96,0)","v":0},{"$f":"IF(国語!AZ26=1,AZ$96,0)","v":0},{"$f":"IF(国語!BA26=1,BA$96,0)","v":0},{"$f":"IF(国語!BB26=1,BB$96,0)","v":0},null,0,0.61538461538461542,{"$error":"#DIV/0!"},{"$error":"#DIV/0!"},{"$error":"#DIV/0!"}]
[null,17,null,null,{"$f":"IF(国語!E27=1,E$96,0)","v":0},{"$f":"IF(国語!F27=1,F$96,0)","v":0},{"$f":"IF(国語!G27=1,G$96,0)","v":0},{"$f":"IF(国語!H27=1,H$96,0)","v":0},{"$f":"IF(国語!I27=1,I$96,0)","v":0},{"$f":"IF(国語!J27=1,J$96,0)","v":0},{"$f":"IF(国語!K27=1,K$96,0)","v":0},{"$f":"IF(国語!L27=1,L$96,0)","v":0},{"$f":"IF(国語!M27=1,M$96,0)","v":0},{"$f":"IF(国語!N27=1,N$96,0)","v":0},{"$f":"IF(国語!O27=1,O$96,0)","v":0},{"$f":"IF(国語!P27=1,P$96,0)","v":0},{"$f":"IF(国語!Q27=1,Q$96,0)","v":0},{"$f":"IF(国語!R27=1,R$96,0)","v":0},{"$f":"IF(国語!S27=1,S$96,0)","v":0},{"$f":"IF(国語!T27=1,T$96,0)","v":0},{"$f":"IF(国語!U27=1,U$96,0)","v":0},{"$f":"IF(国語!V27=1,V$96,0)","v":0},{"$f":"IF(国語!W27=1,W$96,0)","v":4},{"$f":"IF(国語!X27=1,X$96,0)","v":4},{"$f":"IF(国語!Y27=1,Y$96,0)","v":4},{"$f":"IF(国語!Z27=1,Z$96,0)","v":4},{"$f":"IF(国語!AA27=1,AA$96,0)","v":4},{"$f":"IF(国語!AB27=1,AB$96,0)","v":4},{"$f":"IF(国語!AC27=1,AC$96,0)","v":4},{"$f":"IF(国語!AD27=1,AD$96,0)","v":0},{"$f":"IF(国語!AE27=1,AE$96,0)","v":0},{"$f":"IF(国語!AF27=1,AF$96,0)","v":0},{"$f":"IF(国語!AG27=1,AG$96,0)","v":0},{"$f":"IF(国語!AH27=1,AH$96,0)","v":0},{"$f":"IF(国語!AI27=1,AI$96,0)","v":0},{"$f":"IF(国語!AJ27=1,AJ$96,0)","v":0},{"$f":"IF(国語!AK27=1,AK$96,0)","v":0},{"$f":"IF(国語!AL27=1,AL$96,0)","v":0},{"$f":"IF(国語!AM27=1,AM$96,0)","v":0},{"$f":"IF(国語!AN27=1,AN$96,0)","v":0},{"$f":"IF(国語!AO27=1,AO$96,0)","v":0},{"$f":"IF(国語!AP27=1,AP$96,0)","v":0},{"$f":"IF(国語!AQ27=1,AQ$96,0)","v":0},{"$f":"IF(国語!AR27=1,AR$96,0)","v":0},{"$f":"IF(国語!AS27=1,AS$96,0)","v":0},{"$f":"IF(国語!AT27=1,AT$96,0)","v":0},{"$f":"IF(国語!AU27=1,AU$96,0)","v":0},{"$f":"IF(国語!AV27=1,AV$96,0)","v":0},{"$f":"IF(国語!AW27=1,AW$96,0)","v":0},{"$f":"IF(国語!AX27=1,AX$96,0)","v":0},{"$f":"IF(国語!AY27=1,AY$96,0)","v":0},{"$f":"IF(国語!AZ27=1,AZ$96,0)","v":0},{"$f":"IF(国語!BA27=1,BA$96,0)","v":0},{"$f":"IF(国語!BB27=1,BB$96,0)","v":0},null,0,0.53846153846153844,{"$error":"#DIV/0!"},{"$error":"#DIV/0!"},{"$error":"#DIV/0!"}]
[null,18,null,null,{"$f":"IF(国語!E28=1,E$96,0)","v":0},{"$f":"IF(国語!F28=1,F$96,0)","v":0},{"$f":"IF(国語!G28=1,G$96,0)","v":0},{"$f":"IF(国語!H28=1,H$96,0)","v":0},{"$f":"IF(国語!I28=1,I$96,0)","v":0},{"$f":"IF(国語!J28=1,J$96,0)","v":0},{"$f":"IF(国語!K28=1,K$96,0)","v":0},{"$f":"IF(国語!L28=1,L$96,0)","v":0},{"$f":"IF(国語!M28=1,M$96,0)","v":0},{"$f":"IF(国語!N28=1,N$96,0)","v":0},{"$f":"IF(国語!O28=1,O$96,0)","v":0},{"$f":"IF(国語!P28=1,P$96,0)","v":0},{"$f":"IF(国語!Q28=1,Q$96,0)","v":0},{"$f":"IF(国語!R28=1,R$96,0)","v":0},{"$f":"IF(国語!S28=1,S$96,0)","v":0},{"$f":"IF(国語!T28=1,T$96,0)","v":0},{"$f":"IF(国語!U28=1,U$96,0)","v":0},{"$f":"IF(国語!V28=1,V$96,0)","v":0},{"$f":"IF(国語!W28=1,W$96,0)","v":0},{"$f":"IF(国語!X28=1,X$96,0)","v":4},{"$f":"IF(国語!Y28=1,Y$96,0)","v":4},{"$f":"IF(国語!Z28=1,Z$96,0)","v":4},{"$f":"IF(国語!AA28=1,AA$96,0)","v":4},{"$f":"IF(国語!AB28=1,AB$96,0)","v":4},{"$f":"IF(国語!AC28=1,AC$96,0)","v":4},{"$f":"IF(国語!AD28=1,AD$96,0)","v":0},{"$f":"IF(国語!AE28=1,AE$96,0)","v":0},{"$f":"IF(国語!AF28=1,AF$96,0)","v":0},{"$f":"IF(国語!AG28=1,AG$96,0)","v":0},{"$f":"IF(国語!AH28=1,AH$96,0)","v":0},{"$f":"IF(国語!AI28=1,AI$96,0)","v":0},{"$f":"IF(国語!AJ28=1,AJ$96,0)","v":0},{"$f":"IF(国語!AK28=1,AK$96,0)","v":0},{"$f":"IF(国語!AL28=1,AL$96,0)","v":0},{"$f":"IF(国語!AM28=1,AM$96,0)","v":0},{"$f":"IF(国語!AN28=1,AN$96,0)","v":0},{"$f":"IF(国語!AO28=1,AO$96,0)","v":0},{"$f":"IF(国語!AP28=1,AP$96,0)","v":0},{"$f":"IF(国語!AQ28=1,AQ$96,0)","v":0},{"$f":"IF(国語!AR28=1,AR$96,0)","v":0},{"$f":"IF(国語!AS28=1,AS$96,0)","v":0},{"$f":"IF(国語!AT28=1,AT$96,0)","v":0},{"$f":"IF(国語!AU28=1,AU$96,0)","v":0},{"$f":"IF(国語!AV28=1,AV$96,0)","v":0},{"$f":"IF(国語!AW28=1,AW$96,0)","v":0},{"$f":"IF(国語!AX28=1,AX$96,0)","v":0},{"$f":"IF(国語!AY28=1,AY$96,0)","v":0},{"$f":"IF(国語!AZ28=1,AZ$96,0)","v":0},{"$f":"IF(国語!BA28=1,BA$96,0)","v":0},{"$f":"IF(国語!BB28=1,BB$96,0)","v":0},null,{"$f":"SUMIF($E$95:$BB$95,BD$95,$E114:$BB114)/BD$96","v":0},0.46153846153846156,{"$error":"#DIV/0!"},{"$error":"#DIV/0!"},{"$error":"#DIV/0!"}]
[null,19,null,null,{"$f":"IF(国語!E29=1,E$96,0)","v":0},{"$f":"IF(国語!F29=1,F$96,0)","v":0},{"$f":"IF(国語!G29=1,G$96,0)","v":0},{"$f":"IF(国語!H29=1,H$96,0)","v":0},{"$f":"IF(国語!I29=1,I$96,0)","v":0},{"$f":"IF(国語!J29=1,J$96,0)","v":0},{"$f":"IF(国語!K29=1,K$96,0)","v":0},{"$f":"IF(国語!L29=1,L$96,0)","v":0},{"$f":"IF(国語!M29=1,M$96,0)","v":0},{"$f":"IF(国語!N29=1,N$96,0)","v":0},{"$f":"IF(国語!O29=1,O$96,0)","v":0},{"$f":"IF(国語!P29=1,P$96,0)","v":0},{"$f":"IF(国語!Q29=1,Q$96,0)","v":0},{"$f":"IF(国語!R29=1,R$96,0)","v":0},{"$f":"IF(国語!S29=1,S$96,0)","v":0},{"$f":"IF(国語!T29=1,T$96,0)","v":0},{"$f":"IF(国語!U29=1,U$96,0)","v":0},{"$f":"IF(国語!V29=1,V$96,0)","v":0},{"$f":"IF(国語!W29=1,W$96,0)","v":0},{"$f":"IF(国語!X29=1,X$96,0)","v":0},{"$f":"IF(国語!Y29=1,Y$96,0)","v":4},{"$f":"IF(国語!Z29=1,Z$96,0)","v":4},{"$f":"IF(国語!AA29=1,AA$96,0)","v":4},{"$f":"IF(国語!AB29=1,AB$96,0)","v":4},{"$f":"IF(国語!AC29=1,AC$96,0)","v":4},{"$f":"IF(国語!AD29=1,AD$96,0)","v":0},{"$f":"IF(国語!AE29=1,AE$96,0)","v":0},{"$f":"IF(国語!AF29=1,AF$96,0)","v":0},{"$f":"IF(国語!AG29=1,AG$96,0)","v":0},{"$f":"IF(国語!AH29=1,AH$96,0)","v":0},{"$f":"IF(国語!AI29=1,AI$96,0)","v":0},{"$f":"IF(国語!AJ29=1,AJ$96,0)","v":0},{"$f":"IF(国語!AK29=1,AK$96,0)","v":0},{"$f":"IF(国語!AL29=1,AL$96,0)","v":0},{"$f":"IF(国語!AM29=1,AM$96,0)","v":0},{"$f":"IF(国語!AN29=1,AN$96,0)","v":0},{"$f":"IF(国語!AO29=1,AO$96,0)","v":0},{"$f":"IF(国語!AP29=1,AP$96,0)","v":0},{"$f":"IF(国語!AQ29=1,AQ$96,0)","v":0},{"$f":"IF(国語!AR29=1,AR$96,0)","v":0},{"$f":"IF(国語!AS29=1,AS$96,0)","v":0},{"$f":"IF(国語!AT29=1,AT$96,0)","v":0},{"$f":"IF(国語!AU29=1,AU$96,0)","v":0},{"$f":"IF(国語!AV29=1,AV$96,0)","v":0},{"$f":"IF(国語!AW29=1,AW$96,0)","v":0},{"$f":"IF(国語!AX29=1,AX$96,0)","v":0},{"$f":"IF(国語!AY29=1,AY$96,0)","v":0},{"$f":"IF(国語!AZ29=1,AZ$96,0)","v":0},{"$f":"IF(国語!BA29=1,BA$96,0)","v":0},{"$f":"IF(国語!BB29=1,BB$96,0)","v":0},null,0,0.38461538461538464,{"$error":"#DIV/0!"},{"$error":"#DIV/0!"},{"$error":"#DIV/0!"}]
[null,20,null,null,{"$f":"IF(国語!E30=1,E$96,0)","v":0},{"$f":"IF(国語!F30=1,F$96,0)","v":0},{"$f":"IF(国語!G30=1,G$96,0)","v":0},{"$f":"IF(国語!H30=1,H$96,0)","v":0},{"$f":"IF(国語!I30=1,I$96,0)","v":0},{"$f":"IF(国語!J30=1,J$96,0)","v":0},{"$f":"IF(国語!K30=1,K$96,0)","v":0},{"$f":"IF(国語!L30=1,L$96,0)","v":0},{"$f":"IF(国語!M30=1,M$96,0)","v":0},{"$f":"IF(国語!N30=1,N$96,0)","v":0},{"$f":"IF(国語!O30=1,O$96,0)","v":0},{"$f":"IF(国語!P30=1,P$96,0)","v":0},{"$f":"IF(国語!Q30=1,Q$96,0)","v":0},{"$f":"IF(国語!R30=1,R$96,0)","v":0},{"$f":"IF(国語!S30=1,S$96,0)","v":0},{"$f":"IF(国語!T30=1,T$96,0)","v":0},{"$f":"IF(国語!U30=1,U$96,0)","v":0},{"$f":"IF(国語!V30=1,V$96,0)","v":0},{"$f":"IF(国語!W30=1,W$96,0)","v":0},{"$f":"IF(国語!X30=1,X$96,0)","v":0},{"$f":"IF(国語!Y30=1,Y$96,0)","v":0},{"$f":"IF(国語!Z30=1,Z$96,0)","v":4},{"$f":"IF(国語!AA30=1,AA$96,0)","v":4},{"$f":"IF(国語!AB30=1,AB$96,0)","v":4},{"$f":"IF(国語!AC30=1,AC$96,0)","v":4},{"$f":"IF(国語!AD30=1,AD$96,0)","v":0},{"$f":"IF(国語!AE30=1,AE$96,0)","v":0},{"$f":"IF(国語!AF30=1,AF$96,0)","v":0},{"$f":"IF(国語!AG30=1,AG$96,0)","v":0},{"$f":"IF(国語!AH30=1,AH$96,0)","v":0},{"$f":"IF(国語!AI30=1,AI$96,0)","v":0},{"$f":"IF(国語!AJ30=1,AJ$96,0)","v":0},{"$f":"IF(国語!AK30=1,AK$96,0)","v":0},{"$f":"IF(国語!AL30=1,AL$96,0)","v":0},{"$f":"IF(国語!AM30=1,AM$96,0)","v":0},{"$f":"IF(国語!AN30=1,AN$96,0)","v":0},{"$f":"IF(国語!AO30=1,AO$96,0)","v":0},{"$f":"IF(国語!AP30=1,AP$96,0)","v":0},{"$f":"IF(国語!AQ30=1,AQ$96,0)","v":0},{"$f":"IF(国語!AR30=1,AR$96,0)","v":0},{"$f":"IF(国語!AS30=1,AS$96,0)","v":0},{"$f":"IF(国語!AT30=1,AT$96,0)","v":0},{"$f":"IF(国語!AU30=1,AU$96,0)","v":0},{"$f":"IF(国語!AV30=1,AV$96,0)","v":0},{"$f":"IF(国語!AW30=1,AW$96,0)","v":0},{"$f":"IF(国語!AX30=1,AX$96,0)","v":0},{"$f":"IF(国語!AY30=1,AY$96,0)","v":0},{"$f":"IF(国語!AZ30=1,AZ$96,0)","v":0},{"$f":"IF(国語!BA30=1,BA$96,0)","v":0},{"$f":"IF(国語!BB30=1,BB$96,0)","v":0},null,0,0.30769230769230771,{"$error":"#DIV/0!"},{"$error":"#DIV/0!"},{"$error":"#DIV/0!"}]
[null,21,null,null,{"$f":"IF(国語!E31=1,E$96,0)","v":0},{"$f":"IF(国語!F31=1,F$96,0)","v":0},{"$f":"IF(国語!G31=1,G$96,0)","v":0},{"$f":"IF(国語!H31=1,H$96,0)","v":0},{"$f":"IF(国語!I31=1,I$96,0)","v":0},{"$f":"IF(国語!J31=1,J$96,0)","v":0},{"$f":"IF(国語!K31=1,K$96,0)","v":0},{"$f":"IF(国語!L31=1,L$96,0)","v":0},{"$f":"IF(国語!M31=1,M$96,0)","v":0},{"$f":"IF(国語!N31=1,N$96,0)","v":0},{"$f":"IF(国語!O31=1,O$96,0)","v":0},{"$f":"IF(国語!P31=1,P$96,0)","v":0},{"$f":"IF(国語!Q31=1,Q$96,0)","v":0},{"$f":"IF(国語!R31=1,R$96,0)","v":0},{"$f":"IF(国語!S31=1,S$96,0)","v":0},{"$f":"IF(国語!T31=1,T$96,0)","v":0},{"$f":"IF(国語!U31=1,U$96,0)","v":0},{"$f":"IF(国語!V31=1,V$96,0)","v":0},{"$f":"IF(国語!W31=1,W$96,0)","v":0},{"$f":"IF(国語!X31=1,X$96,0)","v":0},{"$f":"IF(国語!Y31=1,Y$96,0)","v":0},{"$f":"IF(国語!Z31=1,Z$96,0)","v":0},{"$f":"IF(国語!AA31=1,AA$96,0)","v":4},{"$f":"IF(国語!AB31=1,AB$96,0)","v":4},{"$f":"IF(国語!AC31=1,AC$96,0)","v":4},{"$f":"IF(国語!AD31=1,AD$96,0)","v":0},{"$f":"IF(国語!AE31=1,AE$96,0)","v":0},{"$f":"IF(国語!AF31=1,AF$96,0)","v":0},{"$f":"IF(国語!AG31=1,AG$96,0)","v":0},{"$f":"IF(国語!AH31=1,AH$96,0)","v":0},{"$f":"IF(国語!AI31=1,AI$96,0)","v":0},{"$f":"IF(国語!AJ31=1,AJ$96,0)","v":0},{"$f":"IF(国語!AK31=1,AK$96,0)","v":0},{"$f":"IF(国語!AL31=1,AL$96,0)","v":0},{"$f":"IF(国語!AM31=1,AM$96,0)","v":0},{"$f":"IF(国語!AN31=1,AN$96,0)","v":0},{"$f":"IF(国語!AO31=1,AO$96,0)","v":0},{"$f":"IF(国語!AP31=1,AP$96,0)","v":0},{"$f":"IF(国語!AQ31=1,AQ$96,0)","v":0},{"$f":"IF(国語!AR31=1,AR$96,0)","v":0},{"$f":"IF(国語!AS31=1,AS$96,0)","v":0},{"$f":"IF(国語!AT31=1,AT$96,0)","v":0},{"$f":"IF(国語!AU31=1,AU$96,0)","v":0},{"$f":"IF(国語!AV31=1,AV$96,0)","v":0},{"$f":"IF(国語!AW31=1,AW$96,0)","v":0},{"$f":"IF(国語!AX31=1,AX$96,0)","v":0},{"$f":"IF(国語!AY31=1,AY$96,0)","v":0},{"$f":"IF(国語!AZ31=1,AZ$96,0)","v":0},{"$f":"IF(国語!BA31=1,BA$96,0)","v":0},{"$f":"IF(国語!BB31=1,BB$96,0)","v":0},null,0,0.23076923076923078,{"$error":"#DIV/0!"},{"$error":"#DIV/0!"},{"$error":"#DIV/0!"}]
[null,22,null,null,{"$f":"IF(国語!E32=1,E$96,0)","v":0},{"$f":"IF(国語!F32=1,F$96,0)","v":0},{"$f":"IF(国語!G32=1,G$96,0)","v":0},{"$f":"IF(国語!H32=1,H$96,0)","v":0},{"$f":"IF(国語!I32=1,I$96,0)","v":0},{"$f":"IF(国語!J32=1,J$96,0)","v":0},{"$f":"IF(国語!K32=1,K$96,0)","v":0},{"$f":"IF(国語!L32=1,L$96,0)","v":0},{"$f":"IF(国語!M32=1,M$96,0)","v":0},{"$f":"IF(国語!N32=1,N$96,0)","v":0},{"$f":"IF(国語!O32=1,O$96,0)","v":0},{"$f":"IF(国語!P32=1,P$96,0)","v":0},{"$f":"IF(国語!Q32=1,Q$96,0)","v":0},{"$f":"IF(国語!R32=1,R$96,0)","v":0},{"$f":"IF(国語!S32=1,S$96,0)","v":0},{"$f":"IF(国語!T32=1,T$96,0)","v":0},{"$f":"IF(国語!U32=1,U$96,0)","v":0},{"$f":"IF(国語!V32=1,V$96,0)","v":0},{"$f":"IF(国語!W32=1,W$96,0)","v":0},{"$f":"IF(国語!X32=1,X$96,0)","v":0},{"$f":"IF(国語!Y32=1,Y$96,0)","v":0},{"$f":"IF(国語!Z32=1,Z$96,0)","v":0},{"$f":"IF(国語!AA32=1,AA$96,0)","v":0},{"$f":"IF(国語!AB32=1,AB$96,0)","v":4},{"$f":"IF(国語!AC32=1,AC$96,0)","v":4},{"$f":"IF(国語!AD32=1,AD$96,0)","v":0},{"$f":"IF(国語!AE32=1,AE$96,0)","v":0},{"$f":"IF(国語!AF32=1,AF$96,0)","v":0},{"$f":"IF(国語!AG32=1,AG$96,0)","v":0},{"$f":"IF(国語!AH32=1,AH$96,0)","v":0},{"$f":"IF(国語!AI32=1,AI$96,0)","v":0},{"$f":"IF(国語!AJ32=1,AJ$96,0)","v":0},{"$f":"IF(国語!AK32=1,AK$96,0)","v":0},{"$f":"IF(国語!AL32=1,AL$96,0)","v":0},{"$f":"IF(国語!AM32=1,AM$96,0)","v":0},{"$f":"IF(国語!AN32=1,AN$96,0)","v":0},{"$f":"IF(国語!AO32=1,AO$96,0)","v":0},{"$f":"IF(国語!AP32=1,AP$96,0)","v":0},{"$f":"IF(国語!AQ32=1,AQ$96,0)","v":0},{"$f":"IF(国語!AR32=1,AR$96,0)","v":0},{"$f":"IF(国語!AS32=1,AS$96,0)","v":0},{"$f":"IF(国語!AT32=1,AT$96,0)","v":0},{"$f":"IF(国語!AU32=1,AU$96,0)","v":0},{"$f":"IF(国語!AV32=1,AV$96,0)","v":0},{"$f":"IF(国語!AW32=1,AW$96,0)","v":0},{"$f":"IF(国語!AX32=1,AX$96,0)","v":0},{"$f":"IF(国語!AY32=1,AY$96,0)","v":0},{"$f":"IF(国語!AZ32=1,AZ$96,0)","v":0},{"$f":"IF(国語!BA32=1,BA$96,0)","v":0},{"$f":"IF(国語!BB32=1,BB$96,0)","v":0},null,0,0.15384615384615385,{"$error":"#DIV/0!"},{"$error":"#DIV/0!"},{"$error":"#DIV/0!"}]
[null,23,null,null,{"$f":"IF(国語!E33=1,E$96,0)","v":0},{"$f":"IF(国語!F33=1,F$96,0)","v":0},{"$f":"IF(国語!G33=1,G$96,0)","v":0},{"$f":"IF(国語!H33=1,H$96,0)","v":0},{"$f":"IF(国語!I33=1,I$96,0)","v":0},{"$f":"IF(国語!J33=1,J$96,0)","v":0},{"$f":"IF(国語!K33=1,K$96,0)","v":0},{"$f":"IF(国語!L33=1,L$96,0)","v":0},{"$f":"IF(国語!M33=1,M$96,0)","v":0},{"$f":"IF(国語!N33=1,N$96,0)","v":0},{"$f":"IF(国語!O33=1,O$96,0)","v":0},{"$f":"IF(国語!P33=1,P$96,0)","v":0},{"$f":"IF(国語!Q33=1,Q$96,0)","v":0},{"$f":"IF(国語!R33=1,R$96,0)","v":0},{"$f":"IF(国語!S33=1,S$96,0)","v":0},{"$f":"IF(国語!T33=1,T$96,0)","v":0},{"$f":"IF(国語!U33=1,U$96,0)","v":0},{"$f":"IF(国語!V33=1,V$96,0)","v":0},{"$f":"IF(国語!W33=1,W$96,0)","v":0},{"$f":"IF(国語!X33=1,X$96,0)","v":0},{"$f":"IF(国語!Y33=1,Y$96,0)","v":0},{"$f":"IF(国語!Z33=1,Z$96,0)","v":0},{"$f":"IF(国語!AA33=1,AA$96,0)","v":0},{"$f":"IF(国語!AB33=1,AB$96,0)","v":0},{"$f":"IF(国語!AC33=1,AC$96,0)","v":0},{"$f":"IF(国語!AD33=1,AD$96,0)","v":0},{"$f":"IF(国語!AE33=1,AE$96,0)","v":0},{"$f":"IF(国語!AF33=1,AF$96,0)","v":0},{"$f":"IF(国語!AG33=1,AG$96,0)","v":0},{"$f":"IF(国語!AH33=1,AH$96,0)","v":0},{"$f":"IF(国語!AI33=1,AI$96,0)","v":0},{"$f":"IF(国語!AJ33=1,AJ$96,0)","v":0},{"$f":"IF(国語!AK33=1,AK$96,0)","v":0},{"$f":"IF(国語!AL33=1,AL$96,0)","v":0},{"$f":"IF(国語!AM33=1,AM$96,0)","v":0},{"$f":"IF(国語!AN33=1,AN$96,0)","v":0},{"$f":"IF(国語!AO33=1,AO$96,0)","v":0},{"$f":"IF(国語!AP33=1,AP$96,0)","v":0},{"$f":"IF(国語!AQ33=1,AQ$96,0)","v":0},{"$f":"IF(国語!AR33=1,AR$96,0)","v":0},{"$f":"IF(国語!AS33=1,AS$96,0)","v":0},{"$f":"IF(国語!AT33=1,AT$96,0)","v":0},{"$f":"IF(国語!AU33=1,AU$96,0)","v":0},{"$f":"IF(国語!AV33=1,AV$96,0)","v":0},{"$f":"IF(国語!AW33=1,AW$96,0)","v":0},{"$f":"IF(国語!AX33=1,AX$96,0)","v":0},{"$f":"IF(国語!AY33=1,AY$96,0)","v":0},{"$f":"IF(国語!AZ33=1,AZ$96,0)","v":0},{"$f":"IF(国語!BA33=1,BA$96,0)","v":0},{"$f":"IF(国語!BB33=1,BB$96,0)","v":0},null,0,0,{"$error":"#DIV/0!"},{"$error":"#DIV/0!"},{"$error":"#DIV/0!"}]
[null,24,null,null,{"$f":"IF(国語!E34=1,E$96,0)","v":0},{"$f":"IF(国語!F34=1,F$96,0)","v":0},{"$f":"IF(国語!G34=1,G$96,0)","v":0},{"$f":"IF(国語!H34=1,H$96,0)","v":0},{"$f":"IF(国語!I34=1,I$96,0)","v":0},{"$f":"IF(国語!J34=1,J$96,0)","v":0},{"$f":"IF(国語!K34=1,K$96,0)","v":0},{"$f":"IF(国語!L34=1,L$96,0)","v":0},{"$f":"IF(国語!M34=1,M$96,0)","v":0},{"$f":"IF(国語!N34=1,N$96,0)","v":0},{"$f":"IF(国語!O34=1,O$96,0)","v":0},{"$f":"IF(国語!P34=1,P$96,0)","v":0},{"$f":"IF(国語!Q34=1,Q$96,0)","v":0},{"$f":"IF(国語!R34=1,R$96,0)","v":0},{"$f":"IF(国語!S34=1,S$96,0)","v":0},{"$f":"IF(国語!T34=1,T$96,0)","v":0},{"$f":"IF(国語!U34=1,U$96,0)","v":0},{"$f":"IF(国語!V34=1,V$96,0)","v":0},{"$f":"IF(国語!W34=1,W$96,0)","v":0},{"$f":"IF(国語!X34=1,X$96,0)","v":0},{"$f":"IF(国語!Y34=1,Y$96,0)","v":0},{"$f":"IF(国語!Z34=1,Z$96,0)","v":0},{"$f":"IF(国語!AA34=1,AA$96,0)","v":0},{"$f":"IF(国語!AB34=1,AB$96,0)","v":0},{"$f":"IF(国語!AC34=1,AC$96,0)","v":4},{"$f":"IF(国語!AD34=1,AD$96,0)","v":0},{"$f":"IF(国語!AE34=1,AE$96,0)","v":0},{"$f":"IF(国語!AF34=1,AF$96,0)","v":0},{"$f":"IF(国語!AG34=1,AG$96,0)","v":0},{"$f":"IF(国語!AH34=1,AH$96,0)","v":0},{"$f":"IF(国語!AI34=1,AI$96,0)","v":0},{"$f":"IF(国語!AJ34=1,AJ$96,0)","v":0},{"$f":"IF(国語!AK34=1,AK$96,0)","v":0},{"$f":"IF(国語!AL34=1,AL$96,0)","v":0},{"$f":"IF(国語!AM34=1,AM$96,0)","v":0},{"$f":"IF(国語!AN34=1,AN$96,0)","v":0},{"$f":"IF(国語!AO34=1,AO$96,0)","v":0},{"$f":"IF(国語!AP34=1,AP$96,0)","v":0},{"$f":"IF(国語!AQ34=1,AQ$96,0)","v":0},{"$f":"IF(国語!AR34=1,AR$96,0)","v":0},{"$f":"IF(国語!AS34=1,AS$96,0)","v":0},{"$f":"IF(国語!AT34=1,AT$96,0)","v":0},{"$f":"IF(国語!AU34=1,AU$96,0)","v":0},{"$f":"IF(国語!AV34=1,AV$96,0)","v":0},{"$f":"IF(国語!AW34=1,AW$96,0)","v":0},{"$f":"IF(国語!AX34=1,AX$96,0)","v":0},{"$f":"IF(国語!AY34=1,AY$96,0)","v":0},{"$f":"IF(国語!AZ34=1,AZ$96,0)","v":0},{"$f":"IF(国語!BA34=1,BA$96,0)","v":0},{"$f":"IF(国語!BB34=1,BB$96,0)","v":0},null,0,7.6923076923076927E-2,{"$error":"#DIV/0!"},{"$error":"#DIV/0!"},{"$error":"#DIV/0!"}]
[null,25,null,null,{"$f":"IF(国語!E35=1,E$96,0)","v":0},{"$f":"IF(国語!F35=1,F$96,0)","v":0},{"$f":"IF(国語!G35=1,G$96,0)","v":0},{"$f":"IF(国語!H35=1,H$96,0)","v":0},{"$f":"IF(国語!I35=1,I$96,0)","v":0},{"$f":"IF(国語!J35=1,J$96,0)","v":0},{"$f":"IF(国語!K35=1,K$96,0)","v":0},{"$f":"IF(国語!L35=1,L$96,0)","v":0},{"$f":"IF(国語!M35=1,M$96,0)","v":0},{"$f":"IF(国語!N35=1,N$96,0)","v":0},{"$f":"IF(国語!O35=1,O$96,0)","v":0},{"$f":"IF(国語!P35=1,P$96,0)","v":0},{"$f":"IF(国語!Q35=1,Q$96,0)","v":0},{"$f":"IF(国語!R35=1,R$96,0)","v":0},{"$f":"IF(国語!S35=1,S$96,0)","v":0},{"$f":"IF(国語!T35=1,T$96,0)","v":0},{"$f":"IF(国語!U35=1,U$96,0)","v":0},{"$f":"IF(国語!V35=1,V$96,0)","v":0},{"$f":"IF(国語!W35=1,W$96,0)","v":0},{"$f":"IF(国語!X35=1,X$96,0)","v":0},{"$f":"IF(国語!Y35=1,Y$96,0)","v":0},{"$f":"IF(国語!Z35=1,Z$96,0)","v":0},{"$f":"IF(国語!AA35=1,AA$96,0)","v":0},{"$f":"IF(国語!AB35=1,AB$96,0)","v":4},{"$f":"IF(国語!AC35=1,AC$96,0)","v":4},{"$f":"IF(国語!AD35=1,AD$96,0)","v":0},{"$f":"IF(国語!AE35=1,AE$96,0)","v":0},{"$f":"IF(国語!AF35=1,AF$96,0)","v":0},{"$f":"IF(国語!AG35=1,AG$96,0)","v":0},{"$f":"IF(国語!AH35=1,AH$96,0)","v":0},{"$f":"IF(国語!AI35=1,AI$96,0)","v":0},{"$f":"IF(国語!AJ35=1,AJ$96,0)","v":0},{"$f":"IF(国語!AK35=1,AK$96,0)","v":0},{"$f":"IF(国語!AL35=1,AL$96,0)","v":0},{"$f":"IF(国語!AM35=1,AM$96,0)","v":0},{"$f":"IF(国語!AN35=1,AN$96,0)","v":0},{"$f":"IF(国語!AO35=1,AO$96,0)","v":0},{"$f":"IF(国語!AP35=1,AP$96,0)","v":0},{"$f":"IF(国語!AQ35=1,AQ$96,0)","v":0},{"$f":"IF(国語!AR35=1,AR$96,0)","v":0},{"$f":"IF(国語!AS35=1,AS$96,0)","v":0},{"$f":"IF(国語!AT35=1,AT$96,0)","v":0},{"$f":"IF(国語!AU35=1,AU$96,0)","v":0},{"$f":"IF(国語!AV35=1,AV$96,0)","v":0},{"$f":"IF(国語!AW35=1,AW$96,0)","v":0},{"$f":"IF(国語!AX35=1,AX$96,0)","v":0},{"$f":"IF(国語!AY35=1,AY$96,0)","v":0},{"$f":"IF(国語!AZ35=1,AZ$96,0)","v":0},{"$f":"IF(国語!BA35=1,BA$96,0)","v":0},{"$f":"IF(国語!BB35=1,BB$96,0)","v":0},null,0,0.15384615384615385,{"$error":"#DIV/0!"},{"$error":"#DIV/0!"},{"$error":"#DIV/0!"}]
[null,26,null,null,{"$f":"IF(国語!E36=1,E$96,0)","v":0},{"$f":"IF(国語!F36=1,F$96,0)","v":0},{"$f":"IF(国語!G36=1,G$96,0)","v":0},{"$f":"IF(国語!H36=1,H$96,0)","v":0},{"$f":"IF(国語!I36=1,I$96,0)","v":0},{"$f":"IF(国語!J36=1,J$96,0)","v":0},{"$f":"IF(国語!K36=1,K$96,0)","v":0},{"$f":"IF(国語!L36=1,L$96,0)","v":0},{"$f":"IF(国語!M36=1,M$96,0)","v":0},{"$f":"IF(国語!N36=1,N$96,0)","v":0},{"$f":"IF(国語!O36=1,O$96,0)","v":0},{"$f":"IF(国語!P36=1,P$96,0)","v":0},{"$f":"IF(国語!Q36=1,Q$96,0)","v":0},{"$f":"IF(国語!R36=1,R$96,0)","v":0},{"$f":"IF(国語!S36=1,S$96,0)","v":0},{"$f":"IF(国語!T36=1,T$96,0)","v":0},{"$f":"IF(国語!U36=1,U$96,0)","v":0},{"$f":"IF(国語!V36=1,V$96,0)","v":0},{"$f":"IF(国語!W36=1,W$96,0)","v":0},{"$f":"IF(国語!X36=1,X$96,0)","v":0},{"$f":"IF(国語!Y36=1,Y$96,0)","v":0},{"$f":"IF(国語!Z36=1,Z$96,0)","v":0},{"$f":"IF(国語!AA36=1,AA$96,0)","v":4},{"$f":"IF(国語!AB36=1,AB$96,0)","v":4},{"$f":"IF(国語!AC36=1,AC$96,0)","v":4},{"$f":"IF(国語!AD36=1,AD$96,0)","v":0},{"$f":"IF(国語!AE36=1,AE$96,0)","v":0},{"$f":"IF(国語!AF36=1,AF$96,0)","v":0},{"$f":"IF(国語!AG36=1,AG$96,0)","v":0},{"$f":"IF(国語!AH36=1,AH$96,0)","v":0},{"$f":"IF(国語!AI36=1,AI$96,0)","v":0},{"$f":"IF(国語!AJ36=1,AJ$96,0)","v":0},{"$f":"IF(国語!AK36=1,AK$96,0)","v":0},{"$f":"IF(国語!AL36=1,AL$96,0)","v":0},{"$f":"IF(国語!AM36=1,AM$96,0)","v":0},{"$f":"IF(国語!AN36=1,AN$96,0)","v":0},{"$f":"IF(国語!AO36=1,AO$96,0)","v":0},{"$f":"IF(国語!AP36=1,AP$96,0)","v":0},{"$f":"IF(国語!AQ36=1,AQ$96,0)","v":0},{"$f":"IF(国語!AR36=1,AR$96,0)","v":0},{"$f":"IF(国語!AS36=1,AS$96,0)","v":0},{"$f":"IF(国語!AT36=1,AT$96,0)","v":0},{"$f":"IF(国語!AU36=1,AU$96,0)","v":0},{"$f":"IF(国語!AV36=1,AV$96,0)","v":0},{"$f":"IF(国語!AW36=1,AW$96,0)","v":0},{"$f":"IF(国語!AX36=1,AX$96,0)","v":0},{"$f":"IF(国語!AY36=1,AY$96,0)","v":0},{"$f":"IF(国語!AZ36=1,AZ$96,0)","v":0},{"$f":"IF(国語!BA36=1,BA$96,0)","v":0},{"$f":"IF(国語!BB36=1,BB$96,0)","v":0},null,0,0.23076923076923078,{"$error":"#DIV/0!"},{"$error":"#DIV/0!"},{"$error":"#DIV/0!"}]
[null,27,null,null,{"$f":"IF(国語!E37=1,E$96,0)","v":0},{"$f":"IF(国語!F37=1,F$96,0)","v":0},{"$f":"IF(国語!G37=1,G$96,0)","v":0},{"$f":"IF(国語!H37=1,H$96,0)","v":0},{"$f":"IF(国語!I37=1,I$96,0)","v":0},{"$f":"IF(国語!J37=1,J$96,0)","v":0},{"$f":"IF(国語!K37=1,K$96,0)","v":0},{"$f":"IF(国語!L37=1,L$96,0)","v":0},{"$f":"IF(国語!M37=1,M$96,0)","v":0},{"$f":"IF(国語!N37=1,N$96,0)","v":0},{"$f":"IF(国語!O37=1,O$96,0)","v":0},{"$f":"IF(国語!P37=1,P$96,0)","v":0},{"$f":"IF(国語!Q37=1,Q$96,0)","v":0},{"$f":"IF(国語!R37=1,R$96,0)","v":0},{"$f":"IF(国語!S37=1,S$96,0)","v":0},{"$f":"IF(国語!T37=1,T$96,0)","v":0},{"$f":"IF(国語!U37=1,U$96,0)","v":0},{"$f":"IF(国語!V37=1,V$96,0)","v":0},{"$f":"IF(国語!W37=1,W$96,0)","v":0},{"$f":"IF(国語!X37=1,X$96,0)","v":0},{"$f":"IF(国語!Y37=1,Y$96,0)","v":0},{"$f":"IF(国語!Z37=1,Z$96,0)","v":4},{"$f":"IF(国語!AA37=1,AA$96,0)","v":4},{"$f":"IF(国語!AB37=1,AB$96,0)","v":4},{"$f":"IF(国語!AC37=1,AC$96,0)","v":4},{"$f":"IF(国語!AD37=1,AD$96,0)","v":0},{"$f":"IF(国語!AE37=1,AE$96,0)","v":0},{"$f":"IF(国語!AF37=1,AF$96,0)","v":0},{"$f":"IF(国語!AG37=1,AG$96,0)","v":0},{"$f":"IF(国語!AH37=1,AH$96,0)","v":0},{"$f":"IF(国語!AI37=1,AI$96,0)","v":0},{"$f":"IF(国語!AJ37=1,AJ$96,0)","v":0},{"$f":"IF(国語!AK37=1,AK$96,0)","v":0},{"$f":"IF(国語!AL37=1,AL$96,0)","v":0},{"$f":"IF(国語!AM37=1,AM$96,0)","v":0},{"$f":"IF(国語!AN37=1,AN$96,0)","v":0},{"$f":"IF(国語!AO37=1,AO$96,0)","v":0},{"$f":"IF(国語!AP37=1,AP$96,0)","v":0},{"$f":"IF(国語!AQ37=1,AQ$96,0)","v":0},{"$f":"IF(国語!AR37=1,AR$96,0)","v":0},{"$f":"IF(国語!AS37=1,AS$96,0)","v":0},{"$f":"IF(国語!AT37=1,AT$96,0)","v":0},{"$f":"IF(国語!AU37=1,AU$96,0)","v":0},{"$f":"IF(国語!AV37=1,AV$96,0)","v":0},{"$f":"IF(国語!AW37=1,AW$96,0)","v":0},{"$f":"IF(国語!AX37=1,AX$96,0)","v":0},{"$f":"IF(国語!AY37=1,AY$96,0)","v":0},{"$f":"IF(国語!AZ37=1,AZ$96,0)","v":0},{"$f":"IF(国語!BA37=1,BA$96,0)","v":0},{"$f":"IF(国語!BB37=1,BB$96,0)","v":0},null,0,0.30769230769230771,{"$error":"#DIV/0!"},{"$error":"#DIV/0!"},{"$error":"#DIV/0!"}]
[null,28,null,null,{"$f":"IF(国語!E38=1,E$96,0)","v":0},{"$f":"IF(国語!F38=1,F$96,0)","v":0},{"$f":"IF(国語!G38=1,G$96,0)","v":0},{"$f":"IF(国語!H38=1,H$96,0)","v":0},{"$f":"IF(国語!I38=1,I$96,0)","v":0},{"$f":"IF(国語!J38=1,J$96,0)","v":0},{"$f":"IF(国語!K38=1,K$96,0)","v":0},{"$f":"IF(国語!L38=1,L$96,0)","v":0},{"$f":"IF(国語!M38=1,M$96,0)","v":0},{"$f":"IF(国語!N38=1,N$96,0)","v":0},{"$f":"IF(国語!O38=1,O$96,0)","v":0},{"$f":"IF(国語!P38=1,P$96,0)","v":0},{"$f":"IF(国語!Q38=1,Q$96,0)","v":0},{"$f":"IF(国語!R38=1,R$96,0)","v":0},{"$f":"IF(国語!S38=1,S$96,0)","v":0},{"$f":"IF(国語!T38=1,T$96,0)","v":0},{"$f":"IF(国語!U38=1,U$96,0)","v":0},{"$f":"IF(国語!V38=1,V$96,0)","v":0},{"$f":"IF(国語!W38=1,W$96,0)","v":0},{"$f":"IF(国語!X38=1,X$96,0)","v":0},{"$f":"IF(国語!Y38=1,Y$96,0)","v":4},{"$f":"IF(国語!Z38=1,Z$96,0)","v":4},{"$f":"IF(国語!AA38=1,AA$96,0)","v":4},{"$f":"IF(国語!AB38=1,AB$96,0)","v":4},{"$f":"IF(国語!AC38=1,AC$96,0)","v":4},{"$f":"IF(国語!AD38=1,AD$96,0)","v":0},{"$f":"IF(国語!AE38=1,AE$96,0)","v":0},{"$f":"IF(国語!AF38=1,AF$96,0)","v":0},{"$f":"IF(国語!AG38=1,AG$96,0)","v":0},{"$f":"IF(国語!AH38=1,AH$96,0)","v":0},{"$f":"IF(国語!AI38=1,AI$96,0)","v":0},{"$f":"IF(国語!AJ38=1,AJ$96,0)","v":0},{"$f":"IF(国語!AK38=1,AK$96,0)","v":0},{"$f":"IF(国語!AL38=1,AL$96,0)","v":0},{"$f":"IF(国語!AM38=1,AM$96,0)","v":0},{"$f":"IF(国語!AN38=1,AN$96,0)","v":0},{"$f":"IF(国語!AO38=1,AO$96,0)","v":0},{"$f":"IF(国語!AP38=1,AP$96,0)","v":0},{"$f":"IF(国語!AQ38=1,AQ$96,0)","v":0},{"$f":"IF(国語!AR38=1,AR$96,0)","v":0},{"$f":"IF(国語!AS38=1,AS$96,0)","v":0},{"$f":"IF(国語!AT38=1,AT$96,0)","v":0},{"$f":"IF(国語!AU38=1,AU$96,0)","v":0},{"$f":"IF(国語!AV38=1,AV$96,0)","v":0},{"$f":"IF(国語!AW38=1,AW$96,0)","v":0},{"$f":"IF(国語!AX38=1,AX$96,0)","v":0},{"$f":"IF(国語!AY38=1,AY$96,0)","v":0},{"$f":"IF(国語!AZ38=1,AZ$96,0)","v":0},{"$f":"IF(国語!BA38=1,BA$96,0)","v":0},{"$f":"IF(国語!BB38=1,BB$96,0)","v":0},null,0,0.38461538461538464,{"$error":"#DIV/0!"},{"$error":"#DIV/0!"},{"$error":"#DIV/0!"}]
[null,29,null,null,{"$f":"IF(国語!E39=1,E$96,0)","v":0},{"$f":"IF(国語!F39=1,F$96,0)","v":0},{"$f":"IF(国語!G39=1,G$96,0)","v":0},{"$f":"IF(国語!H39=1,H$96,0)","v":0},{"$f":"IF(国語!I39=1,I$96,0)","v":0},{"$f":"IF(国語!J39=1,J$96,0)","v":0},{"$f":"IF(国語!K39=1,K$96,0)","v":0},{"$f":"IF(国語!L39=1,L$96,0)","v":0},{"$f":"IF(国語!M39=1,M$96,0)","v":0},{"$f":"IF(国語!N39=1,N$96,0)","v":0},{"$f":"IF(国語!O39=1,O$96,0)","v":0},{"$f":"IF(国語!P39=1,P$96,0)","v":0},{"$f":"IF(国語!Q39=1,Q$96,0)","v":0},{"$f":"IF(国語!R39=1,R$96,0)","v":0},{"$f":"IF(国語!S39=1,S$96,0)","v":0},{"$f":"IF(国語!T39=1,T$96,0)","v":0},{"$f":"IF(国語!U39=1,U$96,0)","v":0},{"$f":"IF(国語!V39=1,V$96,0)","v":0},{"$f":"IF(国語!W39=1,W$96,0)","v":0},{"$f":"IF(国語!X39=1,X$96,0)","v":4},{"$f":"IF(国語!Y39=1,Y$96,0)","v":4},{"$f":"IF(国語!Z39=1,Z$96,0)","v":4},{"$f":"IF(国語!AA39=1,AA$96,0)","v":4},{"$f":"IF(国語!AB39=1,AB$96,0)","v":4},{"$f":"IF(国語!AC39=1,AC$96,0)","v":4},{"$f":"IF(国語!AD39=1,AD$96,0)","v":0},{"$f":"IF(国語!AE39=1,AE$96,0)","v":0},{"$f":"IF(国語!AF39=1,AF$96,0)","v":0},{"$f":"IF(国語!AG39=1,AG$96,0)","v":0},{"$f":"IF(国語!AH39=1,AH$96,0)","v":0},{"$f":"IF(国語!AI39=1,AI$96,0)","v":0},{"$f":"IF(国語!AJ39=1,AJ$96,0)","v":0},{"$f":"IF(国語!AK39=1,AK$96,0)","v":0},{"$f":"IF(国語!AL39=1,AL$96,0)","v":0},{"$f":"IF(国語!AM39=1,AM$96,0)","v":0},{"$f":"IF(国語!AN39=1,AN$96,0)","v":0},{"$f":"IF(国語!AO39=1,AO$96,0)","v":0},{"$f":"IF(国語!AP39=1,AP$96,0)","v":0},{"$f":"IF(国語!AQ39=1,AQ$96,0)","v":0},{"$f":"IF(国語!AR39=1,AR$96,0)","v":0},{"$f":"IF(国語!AS39=1,AS$96,0)","v":0},{"$f":"IF(国語!AT39=1,AT$96,0)","v":0},{"$f":"IF(国語!AU39=1,AU$96,0)","v":0},{"$f":"IF(国語!AV39=1,AV$96,0)","v":0},{"$f":"IF(国語!AW39=1,AW$96,0)","v":0},{"$f":"IF(国語!AX39=1,AX$96,0)","v":0},{"$f":"IF(国語!AY39=1,AY$96,0)","v":0},{"$f":"IF(国語!AZ39=1,AZ$96,0)","v":0},{"$f":"IF(国語!BA39=1,BA$96,0)","v":0},{"$f":"IF(国語!BB39=1,BB$96,0)","v":0},null,0,0.46153846153846156,{"$error":"#DIV/0!"},{"$error":"#DIV/0!"},{"$error":"#DIV/0!"}]
[null,30,null,null,{"$f":"IF(国語!E40=1,E$96,0)","v":0},{"$f":"IF(国語!F40=1,F$96,0)","v":0},{"$f":"IF(国語!G40=1,G$96,0)","v":0},{"$f":"IF(国語!H40=1,H$96,0)","v":0},{"$f":"IF(国語!I40=1,I$96,0)","v":0},{"$f":"IF(国語!J40=1,J$96,0)","v":0},{"$f":"IF(国語!K40=1,K$96,0)","v":0},{"$f":"IF(国語!L40=1,L$96,0)","v":0},{"$f":"IF(国語!M40=1,M$96,0)","v":0},{"$f":"IF(国語!N40=1,N$96,0)","v":0},{"$f":"IF(国語!O40=1,O$96,0)","v":0},{"$f":"IF(国語!P40=1,P$96,0)","v":0},{"$f":"IF(国語!Q40=1,Q$96,0)","v":0},{"$f":"IF(国語!R40=1,R$96,0)","v":0},{"$f":"IF(国語!S40=1,S$96,0)","v":0},{"$f":"IF(国語!T40=1,T$96,0)","v":0},{"$f":"IF(国語!U40=1,U$96,0)","v":0},{"$f":"IF(国語!V40=1,V$96,0)","v":0},{"$f":"IF(国語!W40=1,W$96,0)","v":4},{"$f":"IF(国語!X40=1,X$96,0)","v":4},{"$f":"IF(国語!Y40=1,Y$96,0)","v":4},{"$f":"IF(国語!Z40=1,Z$96,0)","v":4},{"$f":"IF(国語!AA40=1,AA$96,0)","v":4},{"$f":"IF(国語!AB40=1,AB$96,0)","v":4},{"$f":"IF(国語!AC40=1,AC$96,0)","v":4},{"$f":"IF(国語!AD40=1,AD$96,0)","v":0},{"$f":"IF(国語!AE40=1,AE$96,0)","v":0},{"$f":"IF(国語!AF40=1,AF$96,0)","v":0},{"$f":"IF(国語!AG40=1,AG$96,0)","v":0},{"$f":"IF(国語!AH40=1,AH$96,0)","v":0},{"$f":"IF(国語!AI40=1,AI$96,0)","v":0},{"$f":"IF(国語!AJ40=1,AJ$96,0)","v":0},{"$f":"IF(国語!AK40=1,AK$96,0)","v":0},{"$f":"IF(国語!AL40=1,AL$96,0)","v":0},{"$f":"IF(国語!AM40=1,AM$96,0)","v":0},{"$f":"IF(国語!AN40=1,AN$96,0)","v":0},{"$f":"IF(国語!AO40=1,AO$96,0)","v":0},{"$f":"IF(国語!AP40=1,AP$96,0)","v":0},{"$f":"IF(国語!AQ40=1,AQ$96,0)","v":0},{"$f":"IF(国語!AR40=1,AR$96,0)","v":0},{"$f":"IF(国語!AS40=1,AS$96,0)","v":0},{"$f":"IF(国語!AT40=1,AT$96,0)","v":0},{"$f":"IF(国語!AU40=1,AU$96,0)","v":0},{"$f":"IF(国語!AV40=1,AV$96,0)","v":0},{"$f":"IF(国語!AW40=1,AW$96,0)","v":0},{"$f":"IF(国語!AX40=1,AX$96,0)","v":0},{"$f":"IF(国語!AY40=1,AY$96,0)","v":0},{"$f":"IF(国語!AZ40=1,AZ$96,0)","v":0},{"$f":"IF(国語!BA40=1,BA$96,0)","v":0},{"$f":"IF(国語!BB40=1,BB$96,0)","v":0},null,0,0.53846153846153844,{"$error":"#DIV/0!"},{"$error":"#DIV/0!"},{"$error":"#DIV/0!"}]
[null,31,null,null,{"$f":"IF(国語!E41=1,E$96,0)","v":0},{"$f":"IF(国語!F41=1,F$96,0)","v":0},{"$f":"IF(国語!G41=1,G$96,0)","v":0},{"$f":"IF(国語!H41=1,H$96,0)","v":0},{"$f":"IF(国語!I41=1,I$96,0)","v":0},{"$f":"IF(国語!J41=1,J$96,0)","v":0},{"$f":"IF(国語!K41=1,K$96,0)","v":0},{"$f":"IF(国語!L41=1,L$96,0)","v":0},{"$f":"IF(国語!M41=1,M$96,0)","v":0},{"$f":"IF(国語!N41=1,N$96,0)","v":0},{"$f":"IF(国語!O41=1,O$96,0)","v":0},{"$f":"IF(国語!P41=1,P$96,0)","v":0},{"$f":"IF(国語!Q41=1,Q$96,0)","v":0},{"$f":"IF(国語!R41=1,R$96,0)","v":0},{"$f":"IF(国語!S41=1,S$96,0)","v":0},{"$f":"IF(国語!T41=1,T$96,0)","v":0},{"$f":"IF(国語!U41=1,U$96,0)","v":0},{"$f":"IF(国語!V41=1,V$96,0)","v":4},{"$f":"IF(国語!W41=1,W$96,0)","v":4},{"$f":"IF(国語!X41=1,X$96,0)","v":4},{"$f":"IF(国語!Y41=1,Y$96,0)","v":4},{"$f":"IF(国語!Z41=1,Z$96,0)","v":4},{"$f":"IF(国語!AA41=1,AA$96,0)","v":4},{"$f":"IF(国語!AB41=1,AB$96,0)","v":4},{"$f":"IF(国語!AC41=1,AC$96,0)","v":4},{"$f":"IF(国語!AD41=1,AD$96,0)","v":0},{"$f":"IF(国語!AE41=1,AE$96,0)","v":0},{"$f":"IF(国語!AF41=1,AF$96,0)","v":0},{"$f":"IF(国語!AG41=1,AG$96,0)","v":0},{"$f":"IF(国語!AH41=1,AH$96,0)","v":0},{"$f":"IF(国語!AI41=1,AI$96,0)","v":0},{"$f":"IF(国語!AJ41=1,AJ$96,0)","v":0},{"$f":"IF(国語!AK41=1,AK$96,0)","v":0},{"$f":"IF(国語!AL41=1,AL$96,0)","v":0},{"$f":"IF(国語!AM41=1,AM$96,0)","v":0},{"$f":"IF(国語!AN41=1,AN$96,0)","v":0},{"$f":"IF(国語!AO41=1,AO$96,0)","v":0},{"$f":"IF(国語!AP41=1,AP$96,0)","v":0},{"$f":"IF(国語!AQ41=1,AQ$96,0)","v":0},{"$f":"IF(国語!AR41=1,AR$96,0)","v":0},{"$f":"IF(国語!AS41=1,AS$96,0)","v":0},{"$f":"IF(国語!AT41=1,AT$96,0)","v":0},{"$f":"IF(国語!AU41=1,AU$96,0)","v":0},{"$f":"IF(国語!AV41=1,AV$96,0)","v":0},{"$f":"IF(国語!AW41=1,AW$96,0)","v":0},{"$f":"IF(国語!AX41=1,AX$96,0)","v":0},{"$f":"IF(国語!AY41=1,AY$96,0)","v":0},{"$f":"IF(国語!AZ41=1,AZ$96,0)","v":0},{"$f":"IF(国語!BA41=1,BA$96,0)","v":0},{"$f":"IF(国語!BB41=1,BB$96,0)","v":0},null,0,0.61538461538461542,{"$error":"#DIV/0!"},{"$error":"#DIV/0!"},{"$error":"#DIV/0!"}]
[null,32,null,null,{"$f":"IF(国語!E42=1,E$96,0)","v":0},{"$f":"IF(国語!F42=1,F$96,0)","v":0},{"$f":"IF(国語!G42=1,G$96,0)","v":0},{"$f":"IF(国語!H42=1,H$96,0)","v":0},{"$f":"IF(国語!I42=1,I$96,0)","v":0},{"$f":"IF(国語!J42=1,J$96,0)","v":0},{"$f":"IF(国語!K42=1,K$96,0)","v":0},{"$f":"IF(国語!L42=1,L$96,0)","v":0},{"$f":"IF(国語!M42=1,M$96,0)","v":0},{"$f":"IF(国語!N42=1,N$96,0)","v":0},{"$f":"IF(国語!O42=1,O$96,0)","v":0},{"$f":"IF(国語!P42=1,P$96,0)","v":0},{"$f":"IF(国語!Q42=1,Q$96,0)","v":0},{"$f":"IF(国語!R42=1,R$96,0)","v":0},{"$f":"IF(国語!S42=1,S$96,0)","v":0},{"$f":"IF(国語!T42=1,T$96,0)","v":0},{"$f":"IF(国語!U42=1,U$96,0)","v":4},{"$f":"IF(国語!V42=1,V$96,0)","v":4},{"$f":"IF(国語!W42=1,W$96,0)","v":4},{"$f":"IF(国語!X42=1,X$96,0)","v":4},{"$f":"IF(国語!Y42=1,Y$96,0)","v":4},{"$f":"IF(国語!Z42=1,Z$96,0)","v":4},{"$f":"IF(国語!AA42=1,AA$96,0)","v":4},{"$f":"IF(国語!AB42=1,AB$96,0)","v":4},{"$f":"IF(国語!AC42=1,AC$96,0)","v":4},{"$f":"IF(国語!AD42=1,AD$96,0)","v":0},{"$f":"IF(国語!AE42=1,AE$96,0)","v":0},{"$f":"IF(国語!AF42=1,AF$96,0)","v":0},{"$f":"IF(国語!AG42=1,AG$96,0)","v":0},{"$f":"IF(国語!AH42=1,AH$96,0)","v":0},{"$f":"IF(国語!AI42=1,AI$96,0)","v":0},{"$f":"IF(国語!AJ42=1,AJ$96,0)","v":0},{"$f":"IF(国語!AK42=1,AK$96,0)","v":0},{"$f":"IF(国語!AL42=1,AL$96,0)","v":0},{"$f":"IF(国語!AM42=1,AM$96,0)","v":0},{"$f":"IF(国語!AN42=1,AN$96,0)","v":0},{"$f":"IF(国語!AO42=1,AO$96,0)","v":0},{"$f":"IF(国語!AP42=1,AP$96,0)","v":0},{"$f":"IF(国語!AQ42=1,AQ$96,0)","v":0},{"$f":"IF(国語!AR42=1,AR$96,0)","v":0},{"$f":"IF(国語!AS42=1,AS$96,0)","v":0},{"$f":"IF(国語!AT42=1,AT$96,0)","v":0},{"$f":"IF(国語!AU42=1,AU$96,0)","v":0},{"$f":"IF(国語!AV42=1,AV$96,0)","v":0},{"$f":"IF(国語!AW42=1,AW$96,0)","v":0},{"$f":"IF(国語!AX42=1,AX$96,0)","v":0},{"$f":"IF(国語!AY42=1,AY$96,0)","v":0},{"$f":"IF(国語!AZ42=1,AZ$96,0)","v":0},{"$f":"IF(国語!BA42=1,BA$96,0)","v":0},{"$f":"IF(国語!BB42=1,BB$96,0)","v":0},null,0,0.69230769230769229,{"$error":"#DIV/0!"},{"$error":"#DIV/0!"},{"$error":"#DIV/0!"}]
[null,33,null,null,{"$f":"IF(国語!E43=1,E$96,0)","v":0},{"$f":"IF(国語!F43=1,F$96,0)","v":0},{"$f":"IF(国語!G43=1,G$96,0)","v":0},{"$f":"IF(国語!H43=1,H$96,0)","v":0},{"$f":"IF(国語!I43=1,I$96,0)","v":0},{"$f":"IF(国語!J43=1,J$96,0)","v":0},{"$f":"IF(国語!K43=1,K$96,0)","v":0},{"$f":"IF(国語!L43=1,L$96,0)","v":0},{"$f":"IF(国語!M43=1,M$96,0)","v":0},{"$f":"IF(国語!N43=1,N$96,0)","v":0},{"$f":"IF(国語!O43=1,O$96,0)","v":0},{"$f":"IF(国語!P43=1,P$96,0)","v":0},{"$f":"IF(国語!Q43=1,Q$96,0)","v":0},{"$f":"IF(国語!R43=1,R$96,0)","v":0},{"$f":"IF(国語!S43=1,S$96,0)","v":0},{"$f":"IF(国語!T43=1,T$96,0)","v":4},{"$f":"IF(国語!U43=1,U$96,0)","v":4},{"$f":"IF(国語!V43=1,V$96,0)","v":4},{"$f":"IF(国語!W43=1,W$96,0)","v":4},{"$f":"IF(国語!X43=1,X$96,0)","v":4},{"$f":"IF(国語!Y43=1,Y$96,0)","v":4},{"$f":"IF(国語!Z43=1,Z$96,0)","v":4},{"$f":"IF(国語!AA43=1,AA$96,0)","v":4},{"$f":"IF(国語!AB43=1,AB$96,0)","v":4},{"$f":"IF(国語!AC43=1,AC$96,0)","v":4},{"$f":"IF(国語!AD43=1,AD$96,0)","v":0},{"$f":"IF(国語!AE43=1,AE$96,0)","v":0},{"$f":"IF(国語!AF43=1,AF$96,0)","v":0},{"$f":"IF(国語!AG43=1,AG$96,0)","v":0},{"$f":"IF(国語!AH43=1,AH$96,0)","v":0},{"$f":"IF(国語!AI43=1,AI$96,0)","v":0},{"$f":"IF(国語!AJ43=1,AJ$96,0)","v":0},{"$f":"IF(国語!AK43=1,AK$96,0)","v":0},{"$f":"IF(国語!AL43=1,AL$96,0)","v":0},{"$f":"IF(国語!AM43=1,AM$96,0)","v":0},{"$f":"IF(国語!AN43=1,AN$96,0)","v":0},{"$f":"IF(国語!AO43=1,AO$96,0)","v":0},{"$f":"IF(国語!AP43=1,AP$96,0)","v":0},{"$f":"IF(国語!AQ43=1,AQ$96,0)","v":0},{"$f":"IF(国語!AR43=1,AR$96,0)","v":0},{"$f":"IF(国語!AS43=1,AS$96,0)","v":0},{"$f":"IF(国語!AT43=1,AT$96,0)","v":0},{"$f":"IF(国語!AU43=1,AU$96,0)","v":0},{"$f":"IF(国語!AV43=1,AV$96,0)","v":0},{"$f":"IF(国語!AW43=1,AW$96,0)","v":0},{"$f":"IF(国語!AX43=1,AX$96,0)","v":0},{"$f":"IF(国語!AY43=1,AY$96,0)","v":0},{"$f":"IF(国語!AZ43=1,AZ$96,0)","v":0},{"$f":"IF(国語!BA43=1,BA$96,0)","v":0},{"$f":"IF(国語!BB43=1,BB$96,0)","v":0},null,0,0.76923076923076927,{"$error":"#DIV/0!"},{"$error":"#DIV/0!"},{"$error":"#DIV/0!"}]
[null,34,null,null,{"$f":"IF(国語!E44=1,E$96,0)","v":0},{"$f":"IF(国語!F44=1,F$96,0)","v":0},{"$f":"IF(国語!G44=1,G$96,0)","v":0},{"$f":"IF(国語!H44=1,H$96,0)","v":0},{"$f":"IF(国語!I44=1,I$96,0)","v":0},{"$f":"IF(国語!J44=1,J$96,0)","v":0},{"$f":"IF(国語!K44=1,K$96,0)","v":0},{"$f":"IF(国語!L44=1,L$96,0)","v":0},{"$f":"IF(国語!M44=1,M$96,0)","v":0},{"$f":"IF(国語!N44=1,N$96,0)","v":0},{"$f":"IF(国語!O44=1,O$96,0)","v":0},{"$f":"IF(国語!P44=1,P$96,0)","v":0},{"$f":"IF(国語!Q44=1,Q$96,0)","v":0},{"$f":"IF(国語!R44=1,R$96,0)","v":0},{"$f":"IF(国語!S44=1,S$96,0)","v":4},{"$f":"IF(国語!T44=1,T$96,0)","v":4},{"$f":"IF(国語!U44=1,U$96,0)","v":4},{"$f":"IF(国語!V44=1,V$96,0)","v":4},{"$f":"IF(国語!W44=1,W$96,0)","v":4},{"$f":"IF(国語!X44=1,X$96,0)","v":4},{"$f":"IF(国語!Y44=1,Y$96,0)","v":4},{"$f":"IF(国語!Z44=1,Z$96,0)","v":4},{"$f":"IF(国語!AA44=1,AA$96,0)","v":4},{"$f":"IF(国語!AB44=1,AB$96,0)","v":4},{"$f":"IF(国語!AC44=1,AC$96,0)","v":4},{"$f":"IF(国語!AD44=1,AD$96,0)","v":0},{"$f":"IF(国語!AE44=1,AE$96,0)","v":0},{"$f":"IF(国語!AF44=1,AF$96,0)","v":0},{"$f":"IF(国語!AG44=1,AG$96,0)","v":0},{"$f":"IF(国語!AH44=1,AH$96,0)","v":0},{"$f":"IF(国語!AI44=1,AI$96,0)","v":0},{"$f":"IF(国語!AJ44=1,AJ$96,0)","v":0},{"$f":"IF(国語!AK44=1,AK$96,0)","v":0},{"$f":"IF(国語!AL44=1,AL$96,0)","v":0},{"$f":"IF(国語!AM44=1,AM$96,0)","v":0},{"$f":"IF(国語!AN44=1,AN$96,0)","v":0},{"$f":"IF(国語!AO44=1,AO$96,0)","v":0},{"$f":"IF(国語!AP44=1,AP$96,0)","v":0},{"$f":"IF(国語!AQ44=1,AQ$96,0)","v":0},{"$f":"IF(国語!AR44=1,AR$96,0)","v":0},{"$f":"IF(国語!AS44=1,AS$96,0)","v":0},{"$f":"IF(国語!AT44=1,AT$96,0)","v":0},{"$f":"IF(国語!AU44=1,AU$96,0)","v":0},{"$f":"IF(国語!AV44=1,AV$96,0)","v":0},{"$f":"IF(国語!AW44=1,AW$96,0)","v":0},{"$f":"IF(国語!AX44=1,AX$96,0)","v":0},{"$f":"IF(国語!AY44=1,AY$96,0)","v":0},{"$f":"IF(国語!AZ44=1,AZ$96,0)","v":0},{"$f":"IF(国語!BA44=1,BA$96,0)","v":0},{"$f":"IF(国語!BB44=1,BB$96,0)","v":0},null,{"$f":"SUMIF($E$95:$BB$95,BD$95,$E130:$BB130)/BD$96","v":0},0.84615384615384615,{"$error":"#DIV/0!"},{"$error":"#DIV/0!"},{"$error":"#DIV/0!"}]
[null,35,null,null,{"$f":"IF(国語!E45=1,E$96,0)","v":0},{"$f":"IF(国語!F45=1,F$96,0)","v":0},{"$f":"IF(国語!G45=1,G$96,0)","v":0},{"$f":"IF(国語!H45=1,H$96,0)","v":0},{"$f":"IF(国語!I45=1,I$96,0)","v":0},{"$f":"IF(国語!J45=1,J$96,0)","v":0},{"$f":"IF(国語!K45=1,K$96,0)","v":0},{"$f":"IF(国語!L45=1,L$96,0)","v":0},{"$f":"IF(国語!M45=1,M$96,0)","v":0},{"$f":"IF(国語!N45=1,N$96,0)","v":0},{"$f":"IF(国語!O45=1,O$96,0)","v":0},{"$f":"IF(国語!P45=1,P$96,0)","v":0},{"$f":"IF(国語!Q45=1,Q$96,0)","v":0},{"$f":"IF(国語!R45=1,R$96,0)","v":4},{"$f":"IF(国語!S45=1,S$96,0)","v":4},{"$f":"IF(国語!T45=1,T$96,0)","v":4},{"$f":"IF(国語!U45=1,U$96,0)","v":4},{"$f":"IF(国語!V45=1,V$96,0)","v":4},{"$f":"IF(国語!W45=1,W$96,0)","v":4},{"$f":"IF(国語!X45=1,X$96,0)","v":4},{"$f":"IF(国語!Y45=1,Y$96,0)","v":4},{"$f":"IF(国語!Z45=1,Z$96,0)","v":4},{"$f":"IF(国語!AA45=1,AA$96,0)","v":4},{"$f":"IF(国語!AB45=1,AB$96,0)","v":4},{"$f":"IF(国語!AC45=1,AC$96,0)","v":4},{"$f":"IF(国語!AD45=1,AD$96,0)","v":0},{"$f":"IF(国語!AE45=1,AE$96,0)","v":0},{"$f":"IF(国語!AF45=1,AF$96,0)","v":0},{"$f":"IF(国語!AG45=1,AG$96,0)","v":0},{"$f":"IF(国語!AH45=1,AH$96,0)","v":0},{"$f":"IF(国語!AI45=1,AI$96,0)","v":0},{"$f":"IF(国語!AJ45=1,AJ$96,0)","v":0},{"$f":"IF(国語!AK45=1,AK$96,0)","v":0},{"$f":"IF(国語!AL45=1,AL$96,0)","v":0},{"$f":"IF(国語!AM45=1,AM$96,0)","v":0},{"$f":"IF(国語!AN45=1,AN$96,0)","v":0},{"$f":"IF(国語!AO45=1,AO$96,0)","v":0},{"$f":"IF(国語!AP45=1,AP$96,0)","v":0},{"$f":"IF(国語!AQ45=1,AQ$96,0)","v":0},{"$f":"IF(国語!AR45=1,AR$96,0)","v":0},{"$f":"IF(国語!AS45=1,AS$96,0)","v":0},{"$f":"IF(国語!AT45=1,AT$96,0)","v":0},{"$f":"IF(国語!AU45=1,AU$96,0)","v":0},{"$f":"IF(国語!AV45=1,AV$96,0)","v":0},{"$f":"IF(国語!AW45=1,AW$96,0)","v":0},{"$f":"IF(国語!AX45=1,AX$96,0)","v":0},{"$f":"IF(国語!AY45=1,AY$96,0)","v":0},{"$f":"IF(国語!AZ45=1,AZ$96,0)","v":0},{"$f":"IF(国語!BA45=1,BA$96,0)","v":0},{"$f":"IF(国語!BB45=1,BB$96,0)","v":0},null,0,0.92307692307692313,{"$error":"#DIV/0!"},{"$error":"#DIV/0!"},{"$error":"#DIV/0!"}]
[null,36,null,null,{"$f":"IF(国語!E46=1,E$96,0)","v":0},{"$f":"IF(国語!F46=1,F$96,0)","v":0},{"$f":"IF(国語!G46=1,G$96,0)","v":0},{"$f":"IF(国語!H46=1,H$96,0)","v":0},{"$f":"IF(国語!I46=1,I$96,0)","v":0},{"$f":"IF(国語!J46=1,J$96,0)","v":0},{"$f":"IF(国語!K46=1,K$96,0)","v":0},{"$f":"IF(国語!L46=1,L$96,0)","v":0},{"$f":"IF(国語!M46=1,M$96,0)","v":0},{"$f":"IF(国語!N46=1,N$96,0)","v":0},{"$f":"IF(国語!O46=1,O$96,0)","v":0},{"$f":"IF(国語!P46=1,P$96,0)","v":0},{"$f":"IF(国語!Q46=1,Q$96,0)","v":4},{"$f":"IF(国語!R46=1,R$96,0)","v":4},{"$f":"IF(国語!S46=1,S$96,0)","v":4},{"$f":"IF(国語!T46=1,T$96,0)","v":4},{"$f":"IF(国語!U46=1,U$96,0)","v":4},{"$f":"IF(国語!V46=1,V$96,0)","v":4},{"$f":"IF(国語!W46=1,W$96,0)","v":4},{"$f":"IF(国語!X46=1,X$96,0)","v":4},{"$f":"IF(国語!Y46=1,Y$96,0)","v":4},{"$f":"IF(国語!Z46=1,Z$96,0)","v":4},{"$f":"IF(国語!AA46=1,AA$96,0)","v":4},{"$f":"IF(国語!AB46=1,AB$96,0)","v":4},{"$f":"IF(国語!AC46=1,AC$96,0)","v":4},{"$f":"IF(国語!AD46=1,AD$96,0)","v":0},{"$f":"IF(国語!AE46=1,AE$96,0)","v":0},{"$f":"IF(国語!AF46=1,AF$96,0)","v":0},{"$f":"IF(国語!AG46=1,AG$96,0)","v":0},{"$f":"IF(国語!AH46=1,AH$96,0)","v":0},{"$f":"IF(国語!AI46=1,AI$96,0)","v":0},{"$f":"IF(国語!AJ46=1,AJ$96,0)","v":0},{"$f":"IF(国語!AK46=1,AK$96,0)","v":0},{"$f":"IF(国語!AL46=1,AL$96,0)","v":0},{"$f":"IF(国語!AM46=1,AM$96,0)","v":0},{"$f":"IF(国語!AN46=1,AN$96,0)","v":0},{"$f":"IF(国語!AO46=1,AO$96,0)","v":0},{"$f":"IF(国語!AP46=1,AP$96,0)","v":0},{"$f":"IF(国語!AQ46=1,AQ$96,0)","v":0},{"$f":"IF(国語!AR46=1,AR$96,0)","v":0},{"$f":"IF(国語!AS46=1,AS$96,0)","v":0},{"$f":"IF(国語!AT46=1,AT$96,0)","v":0},{"$f":"IF(国語!AU46=1,AU$96,0)","v":0},{"$f":"IF(国語!AV46=1,AV$96,0)","v":0},{"$f":"IF(国語!AW46=1,AW$96,0)","v":0},{"$f":"IF(国語!AX46=1,AX$96,0)","v":0},{"$f":"IF(国語!AY46=1,AY$96,0)","v":0},{"$f":"IF(国語!AZ46=1,AZ$96,0)","v":0},{"$f":"IF(国語!BA46=1,BA$96,0)","v":0},{"$f":"IF(国語!BB46=1,BB$96,0)","v":0},null,0,1,{"$error":"#DIV/0!"},{"$error":"#DIV/0!"},{"$error":"#DIV/0!"}]
[null,37,null,null,{"$f":"IF(国語!E47=1,E$96,0)","v":0},{"$f":"IF(国語!F47=1,F$96,0)","v":0},{"$f":"IF(国語!G47=1,G$96,0)","v":0},{"$f":"IF(国語!H47=1,H$96,0)","v":0},{"$f":"IF(国語!I47=1,I$96,0)","v":0},{"$f":"IF(国語!J47=1,J$96,0)","v":0},{"$f":"IF(国語!K47=1,K$96,0)","v":0},{"$f":"IF(国語!L47=1,L$96,0)","v":0},{"$f":"IF(国語!M47=1,M$96,0)","v":0},{"$f":"IF(国語!N47=1,N$96,0)","v":0},{"$f":"IF(国語!O47=1,O$96,0)","v":0},{"$f":"IF(国語!P47=1,P$96,0)","v":4},{"$f":"IF(国語!Q47=1,Q$96,0)","v":4},{"$f":"IF(国語!R47=1,R$96,0)","v":4},{"$f":"IF(国語!S47=1,S$96,0)","v":4},{"$f":"IF(国語!T47=1,T$96,0)","v":4},{"$f":"IF(国語!U47=1,U$96,0)","v":4},{"$f":"IF(国語!V47=1,V$96,0)","v":4},{"$f":"IF(国語!W47=1,W$96,0)","v":4},{"$f":"IF(国語!X47=1,X$96,0)","v":4},{"$f":"IF(国語!Y47=1,Y$96,0)","v":4},{"$f":"IF(国語!Z47=1,Z$96,0)","v":4},{"$f":"IF(国語!AA47=1,AA$96,0)","v":4},{"$f":"IF(国語!AB47=1,AB$96,0)","v":4},{"$f":"IF(国語!AC47=1,AC$96,0)","v":4},{"$f":"IF(国語!AD47=1,AD$96,0)","v":0},{"$f":"IF(国語!AE47=1,AE$96,0)","v":0},{"$f":"IF(国語!AF47=1,AF$96,0)","v":0},{"$f":"IF(国語!AG47=1,AG$96,0)","v":0},{"$f":"IF(国語!AH47=1,AH$96,0)","v":0},{"$f":"IF(国語!AI47=1,AI$96,0)","v":0},{"$f":"IF(国語!AJ47=1,AJ$96,0)","v":0},{"$f":"IF(国語!AK47=1,AK$96,0)","v":0},{"$f":"IF(国語!AL47=1,AL$96,0)","v":0},{"$f":"IF(国語!AM47=1,AM$96,0)","v":0},{"$f":"IF(国語!AN47=1,AN$96,0)","v":0},{"$f":"IF(国語!AO47=1,AO$96,0)","v":0},{"$f":"IF(国語!AP47=1,AP$96,0)","v":0},{"$f":"IF(国語!AQ47=1,AQ$96,0)","v":0},{"$f":"IF(国語!AR47=1,AR$96,0)","v":0},{"$f":"IF(国語!AS47=1,AS$96,0)","v":0},{"$f":"IF(国語!AT47=1,AT$96,0)","v":0},{"$f":"IF(国語!AU47=1,AU$96,0)","v":0},{"$f":"IF(国語!AV47=1,AV$96,0)","v":0},{"$f":"IF(国語!AW47=1,AW$96,0)","v":0},{"$f":"IF(国語!AX47=1,AX$96,0)","v":0},{"$f":"IF(国語!AY47=1,AY$96,0)","v":0},{"$f":"IF(国語!AZ47=1,AZ$96,0)","v":0},{"$f":"IF(国語!BA47=1,BA$96,0)","v":0},{"$f":"IF(国語!BB47=1,BB$96,0)","v":0},null,8.3333333333333329E-2,1,{"$error":"#DIV/0!"},{"$error":"#DIV/0!"},{"$error":"#DIV/0!"}]
[null,38,null,null,{"$f":"IF(国語!E48=1,E$96,0)","v":0},{"$f":"IF(国語!F48=1,F$96,0)","v":0},{"$f":"IF(国語!G48=1,G$96,0)","v":0},{"$f":"IF(国語!H48=1,H$96,0)","v":0},{"$f":"IF(国語!I48=1,I$96,0)","v":0},{"$f":"IF(国語!J48=1,J$96,0)","v":0},{"$f":"IF(国語!K48=1,K$96,0)","v":0},{"$f":"IF(国語!L48=1,L$96,0)","v":0},{"$f":"IF(国語!M48=1,M$96,0)","v":0},{"$f":"IF(国語!N48=1,N$96,0)","v":0},{"$f":"IF(国語!O48=1,O$96,0)","v":4},{"$f":"IF(国語!P48=1,P$96,0)","v":4},{"$f":"IF(国語!Q48=1,Q$96,0)","v":4},{"$f":"IF(国語!R48=1,R$96,0)","v":4},{"$f":"IF(国語!S48=1,S$96,0)","v":4},{"$f":"IF(国語!T48=1,T$96,0)","v":4},{"$f":"IF(国語!U48=1,U$96,0)","v":4},{"$f":"IF(国語!V48=1,V$96,0)","v":4},{"$f":"IF(国語!W48=1,W$96,0)","v":4},{"$f":"IF(国語!X48=1,X$96,0)","v":4},{"$f":"IF(国語!Y48=1,Y$96,0)","v":4},{"$f":"IF(国語!Z48=1,Z$96,0)","v":4},{"$f":"IF(国語!AA48=1,AA$96,0)","v":4},{"$f":"IF(国語!AB48=1,AB$96,0)","v":4},{"$f":"IF(国語!AC48=1,AC$96,0)","v":4},{"$f":"IF(国語!AD48=1,AD$96,0)","v":0},{"$f":"IF(国語!AE48=1,AE$96,0)","v":0},{"$f":"IF(国語!AF48=1,AF$96,0)","v":0},{"$f":"IF(国語!AG48=1,AG$96,0)","v":0},{"$f":"IF(国語!AH48=1,AH$96,0)","v":0},{"$f":"IF(国語!AI48=1,AI$96,0)","v":0},{"$f":"IF(国語!AJ48=1,AJ$96,0)","v":0},{"$f":"IF(国語!AK48=1,AK$96,0)","v":0},{"$f":"IF(国語!AL48=1,AL$96,0)","v":0},{"$f":"IF(国語!AM48=1,AM$96,0)","v":0},{"$f":"IF(国語!AN48=1,AN$96,0)","v":0},{"$f":"IF(国語!AO48=1,AO$96,0)","v":0},{"$f":"IF(国語!AP48=1,AP$96,0)","v":0},{"$f":"IF(国語!AQ48=1,AQ$96,0)","v":0},{"$f":"IF(国語!AR48=1,AR$96,0)","v":0},{"$f":"IF(国語!AS48=1,AS$96,0)","v":0},{"$f":"IF(国語!AT48=1,AT$96,0)","v":0},{"$f":"IF(国語!AU48=1,AU$96,0)","v":0},{"$f":"IF(国語!AV48=1,AV$96,0)","v":0},{"$f":"IF(国語!AW48=1,AW$96,0)","v":0},{"$f":"IF(国語!AX48=1,AX$96,0)","v":0},{"$f":"IF(国語!AY48=1,AY$96,0)","v":0},{"$f":"IF(国語!AZ48=1,AZ$96,0)","v":0},{"$f":"IF(国語!BA48=1,BA$96,0)","v":0},{"$f":"IF(国語!BB48=1,BB$96,0)","v":0},null,0.16666666666666666,1,{"$error":"#DIV/0!"},{"$error":"#DIV/0!"},{"$error":"#DIV/0!"}]
[null,39,null,null,{"$f":"IF(国語!E49=1,E$96,0)","v":0},{"$f":"IF(国語!F49=1,F$96,0)","v":0},{"$f":"IF(国語!G49=1,G$96,0)","v":0},{"$f":"IF(国語!H49=1,H$96,0)","v":0},{"$f":"IF(国語!I49=1,I$96,0)","v":0},{"$f":"IF(国語!J49=1,J$96,0)","v":0},{"$f":"IF(国語!K49=1,K$96,0)","v":0},{"$f":"IF(国語!L49=1,L$96,0)","v":0},{"$f":"IF(国語!M49=1,M$96,0)","v":0},{"$f":"IF(国語!N49=1,N$96,0)","v":4},{"$f":"IF(国語!O49=1,O$96,0)","v":4},{"$f":"IF(国語!P49=1,P$96,0)","v":4},{"$f":"IF(国語!Q49=1,Q$96,0)","v":4},{"$f":"IF(国語!R49=1,R$96,0)","v":4},{"$f":"IF(国語!S49=1,S$96,0)","v":4},{"$f":"IF(国語!T49=1,T$96,0)","v":4},{"$f":"IF(国語!U49=1,U$96,0)","v":4},{"$f":"IF(国語!V49=1,V$96,0)","v":4},{"$f":"IF(国語!W49=1,W$96,0)","v":4},{"$f":"IF(国語!X49=1,X$96,0)","v":4},{"$f":"IF(国語!Y49=1,Y$96,0)","v":4},{"$f":"IF(国語!Z49=1,Z$96,0)","v":4},{"$f":"IF(国語!AA49=1,AA$96,0)","v":4},{"$f":"IF(国語!AB49=1,AB$96,0)","v":4},{"$f":"IF(国語!AC49=1,AC$96,0)","v":4},{"$f":"IF(国語!AD49=1,AD$96,0)","v":0},{"$f":"IF(国語!AE49=1,AE$96,0)","v":0},{"$f":"IF(国語!AF49=1,AF$96,0)","v":0},{"$f":"IF(国語!AG49=1,AG$96,0)","v":0},{"$f":"IF(国語!AH49=1,AH$96,0)","v":0},{"$f":"IF(国語!AI49=1,AI$96,0)","v":0},{"$f":"IF(国語!AJ49=1,AJ$96,0)","v":0},{"$f":"IF(国語!AK49=1,AK$96,0)","v":0},{"$f":"IF(国語!AL49=1,AL$96,0)","v":0},{"$f":"IF(国語!AM49=1,AM$96,0)","v":0},{"$f":"IF(国語!AN49=1,AN$96,0)","v":0},{"$f":"IF(国語!AO49=1,AO$96,0)","v":0},{"$f":"IF(国語!AP49=1,AP$96,0)","v":0},{"$f":"IF(国語!AQ49=1,AQ$96,0)","v":0},{"$f":"IF(国語!AR49=1,AR$96,0)","v":0},{"$f":"IF(国語!AS49=1,AS$96,0)","v":0},{"$f":"IF(国語!AT49=1,AT$96,0)","v":0},{"$f":"IF(国語!AU49=1,AU$96,0)","v":0},{"$f":"IF(国語!AV49=1,AV$96,0)","v":0},{"$f":"IF(国語!AW49=1,AW$96,0)","v":0},{"$f":"IF(国語!AX49=1,AX$96,0)","v":0},{"$f":"IF(国語!AY49=1,AY$96,0)","v":0},{"$f":"IF(国語!AZ49=1,AZ$96,0)","v":0},{"$f":"IF(国語!BA49=1,BA$96,0)","v":0},{"$f":"IF(国語!BB49=1,BB$96,0)","v":0},null,0.25,1,{"$error":"#DIV/0!"},{"$error":"#DIV/0!"},{"$error":"#DIV/0!"}]
[null,40,null,null,{"$f":"IF(国語!E50=1,E$96,0)","v":0},{"$f":"IF(国語!F50=1,F$96,0)","v":0},{"$f":"IF(国語!G50=1,G$96,0)","v":0},{"$f":"IF(国語!H50=1,H$96,0)","v":0},{"$f":"IF(国語!I50=1,I$96,0)","v":0},{"$f":"IF(国語!J50=1,J$96,0)","v":0},{"$f":"IF(国語!K50=1,K$96,0)","v":0},{"$f":"IF(国語!L50=1,L$96,0)","v":0},{"$f":"IF(国語!M50=1,M$96,0)","v":4},{"$f":"IF(国語!N50=1,N$96,0)","v":4},{"$f":"IF(国語!O50=1,O$96,0)","v":4},{"$f":"IF(国語!P50=1,P$96,0)","v":4},{"$f":"IF(国語!Q50=1,Q$96,0)","v":4},{"$f":"IF(国語!R50=1,R$96,0)","v":4},{"$f":"IF(国語!S50=1,S$96,0)","v":4},{"$f":"IF(国語!T50=1,T$96,0)","v":4},{"$f":"IF(国語!U50=1,U$96,0)","v":4},{"$f":"IF(国語!V50=1,V$96,0)","v":4},{"$f":"IF(国語!W50=1,W$96,0)","v":4},{"$f":"IF(国語!X50=1,X$96,0)","v":4},{"$f":"IF(国語!Y50=1,Y$96,0)","v":4},{"$f":"IF(国語!Z50=1,Z$96,0)","v":4},{"$f":"IF(国語!AA50=1,AA$96,0)","v":4},{"$f":"IF(国語!AB50=1,AB$96,0)","v":4},{"$f":"IF(国語!AC50=1,AC$96,0)","v":4},{"$f":"IF(国語!AD50=1,AD$96,0)","v":0},{"$f":"IF(国語!AE50=1,AE$96,0)","v":0},{"$f":"IF(国語!AF50=1,AF$96,0)","v":0},{"$f":"IF(国語!AG50=1,AG$96,0)","v":0},{"$f":"IF(国語!AH50=1,AH$96,0)","v":0},{"$f":"IF(国語!AI50=1,AI$96,0)","v":0},{"$f":"IF(国語!AJ50=1,AJ$96,0)","v":0},{"$f":"IF(国語!AK50=1,AK$96,0)","v":0},{"$f":"IF(国語!AL50=1,AL$96,0)","v":0},{"$f":"IF(国語!AM50=1,AM$96,0)","v":0},{"$f":"IF(国語!AN50=1,AN$96,0)","v":0},{"$f":"IF(国語!AO50=1,AO$96,0)","v":0},{"$f":"IF(国語!AP50=1,AP$96,0)","v":0},{"$f":"IF(国語!AQ50=1,AQ$96,0)","v":0},{"$f":"IF(国語!AR50=1,AR$96,0)","v":0},{"$f":"IF(国語!AS50=1,AS$96,0)","v":0},{"$f":"IF(国語!AT50=1,AT$96,0)","v":0},{"$f":"IF(国語!AU50=1,AU$96,0)","v":0},{"$f":"IF(国語!AV50=1,AV$96,0)","v":0},{"$f":"IF(国語!AW50=1,AW$96,0)","v":0},{"$f":"IF(国語!AX50=1,AX$96,0)","v":0},{"$f":"IF(国語!AY50=1,AY$96,0)","v":0},{"$f":"IF(国語!AZ50=1,AZ$96,0)","v":0},{"$f":"IF(国語!BA50=1,BA$96,0)","v":0},{"$f":"IF(国語!BB50=1,BB$96,0)","v":0},null,0.33333333333333331,1,{"$error":"#DIV/0!"},{"$error":"#DIV/0!"},{"$error":"#DIV/0!"}]
[null,41,null,null,{"$f":"IF(国語!E51=1,E$96,0)","v":0},{"$f":"IF(国語!F51=1,F$96,0)","v":0},{"$f":"IF(国語!G51=1,G$96,0)","v":0},{"$f":"IF(国語!H51=1,H$96,0)","v":0},{"$f":"IF(国語!I51=1,I$96,0)","v":0},{"$f":"IF(国語!J51=1,J$96,0)","v":0},{"$f":"IF(国語!K51=1,K$96,0)","v":0},{"$f":"IF(国語!L51=1,L$96,0)","v":0},{"$f":"IF(国語!M51=1,M$96,0)","v":4},{"$f":"IF(国語!N51=1,N$96,0)","v":4},{"$f":"IF(国語!O51=1,O$96,0)","v":4},{"$f":"IF(国語!P51=1,P$96,0)","v":4},{"$f":"IF(国語!Q51=1,Q$96,0)","v":4},{"$f":"IF(国語!R51=1,R$96,0)","v":4},{"$f":"IF(国語!S51=1,S$96,0)","v":4},{"$f":"IF(国語!T51=1,T$96,0)","v":4},{"$f":"IF(国語!U51=1,U$96,0)","v":4},{"$f":"IF(国語!V51=1,V$96,0)","v":4},{"$f":"IF(国語!W51=1,W$96,0)","v":4},{"$f":"IF(国語!X51=1,X$96,0)","v":4},{"$f":"IF(国語!Y51=1,Y$96,0)","v":4},{"$f":"IF(国語!Z51=1,Z$96,0)","v":4},{"$f":"IF(国語!AA51=1,AA$96,0)","v":4},{"$f":"IF(国語!AB51=1,AB$96,0)","v":4},{"$f":"IF(国語!AC51=1,AC$96,0)","v":4},{"$f":"IF(国語!AD51=1,AD$96,0)","v":0},{"$f":"IF(国語!AE51=1,AE$96,0)","v":0},{"$f":"IF(国語!AF51=1,AF$96,0)","v":0},{"$f":"IF(国語!AG51=1,AG$96,0)","v":0},{"$f":"IF(国語!AH51=1,AH$96,0)","v":0},{"$f":"IF(国語!AI51=1,AI$96,0)","v":0},{"$f":"IF(国語!AJ51=1,AJ$96,0)","v":0},{"$f":"IF(国語!AK51=1,AK$96,0)","v":0},{"$f":"IF(国語!AL51=1,AL$96,0)","v":0},{"$f":"IF(国語!AM51=1,AM$96,0)","v":0},{"$f":"IF(国語!AN51=1,AN$96,0)","v":0},{"$f":"IF(国語!AO51=1,AO$96,0)","v":0},{"$f":"IF(国語!AP51=1,AP$96,0)","v":0},{"$f":"IF(国語!AQ51=1,AQ$96,0)","v":0},{"$f":"IF(国語!AR51=1,AR$96,0)","v":0},{"$f":"IF(国語!AS51=1,AS$96,0)","v":0},{"$f":"IF(国語!AT51=1,AT$96,0)","v":0},{"$f":"IF(国語!AU51=1,AU$96,0)","v":0},{"$f":"IF(国語!AV51=1,AV$96,0)","v":0},{"$f":"IF(国語!AW51=1,AW$96,0)","v":0},{"$f":"IF(国語!AX51=1,AX$96,0)","v":0},{"$f":"IF(国語!AY51=1,AY$96,0)","v":0},{"$f":"IF(国語!AZ51=1,AZ$96,0)","v":0},{"$f":"IF(国語!BA51=1,BA$96,0)","v":0},{"$f":"IF(国語!BB51=1,BB$96,0)","v":0},null,0.33333333333333331,1,{"$error":"#DIV/0!"},{"$error":"#DIV/0!"},{"$error":"#DIV/0!"}]
[null,42,null,null,{"$f":"IF(国語!E52=1,E$96,0)","v":4},{"$f":"IF(国語!F52=1,F$96,0)","v":0},{"$f":"IF(国語!G52=1,G$96,0)","v":0},{"$f":"IF(国語!H52=1,H$96,0)","v":0},{"$f":"IF(国語!I52=1,I$96,0)","v":0},{"$f":"IF(国語!J52=1,J$96,0)","v":0},{"$f":"IF(国語!K52=1,K$96,0)","v":4},{"$f":"IF(国語!L52=1,L$96,0)","v":4},{"$f":"IF(国語!M52=1,M$96,0)","v":4},{"$f":"IF(国語!N52=1,N$96,0)","v":4},{"$f":"IF(国語!O52=1,O$96,0)","v":4},{"$f":"IF(国語!P52=1,P$96,0)","v":4},{"$f":"IF(国語!Q52=1,Q$96,0)","v":4},{"$f":"IF(国語!R52=1,R$96,0)","v":4},{"$f":"IF(国語!S52=1,S$96,0)","v":4},{"$f":"IF(国語!T52=1,T$96,0)","v":4},{"$f":"IF(国語!U52=1,U$96,0)","v":4},{"$f":"IF(国語!V52=1,V$96,0)","v":4},{"$f":"IF(国語!W52=1,W$96,0)","v":4},{"$f":"IF(国語!X52=1,X$96,0)","v":4},{"$f":"IF(国語!Y52=1,Y$96,0)","v":4},{"$f":"IF(国語!Z52=1,Z$96,0)","v":4},{"$f":"IF(国語!AA52=1,AA$96,0)","v":4},{"$f":"IF(国語!AB52=1,AB$96,0)","v":4},{"$f":"IF(国語!AC52=1,AC$96,0)","v":4},{"$f":"IF(国語!AD52=1,AD$96,0)","v":0},{"$f":"IF(国語!AE52=1,AE$96,0)","v":0},{"$f":"IF(国語!AF52=1,AF$96,0)","v":0},{"$f":"IF(国語!AG52=1,AG$96,0)","v":0},{"$f":"IF(国語!AH52=1,AH$96,0)","v":0},{"$f":"IF(国語!AI52=1,AI$96,0)","v":0},{"$f":"IF(国語!AJ52=1,AJ$96,0)","v":0},{"$f":"IF(国語!AK52=1,AK$96,0)","v":0},{"$f":"IF(国語!AL52=1,AL$96,0)","v":0},{"$f":"IF(国語!AM52=1,AM$96,0)","v":0},{"$f":"IF(国語!AN52=1,AN$96,0)","v":0},{"$f":"IF(国語!AO52=1,AO$96,0)","v":0},{"$f":"IF(国語!AP52=1,AP$96,0)","v":0},{"$f":"IF(国語!AQ52=1,AQ$96,0)","v":0},{"$f":"IF(国語!AR52=1,AR$96,0)","v":0},{"$f":"IF(国語!AS52=1,AS$96,0)","v":0},{"$f":"IF(国語!AT52=1,AT$96,0)","v":0},{"$f":"IF(国語!AU52=1,AU$96,0)","v":0},{"$f":"IF(国語!AV52=1,AV$96,0)","v":0},{"$f":"IF(国語!AW52=1,AW$96,0)","v":0},{"$f":"IF(国語!AX52=1,AX$96,0)","v":0},{"$f":"IF(国語!AY52=1,AY$96,0)","v":0},{"$f":"IF(国語!AZ52=1,AZ$96,0)","v":0},{"$f":"IF(国語!BA52=1,BA$96,0)","v":0},{"$f":"IF(国語!BB52=1,BB$96,0)","v":0},null,0.58333333333333337,1,{"$error":"#DIV/0!"},{"$error":"#DIV/0!"},{"$error":"#DIV/0!"}]
[null,43,null,null,{"$f":"IF(国語!E53=1,E$96,0)","v":0},{"$f":"IF(国語!F53=1,F$96,0)","v":4},{"$f":"IF(国語!G53=1,G$96,0)","v":0},{"$f":"IF(国語!H53=1,H$96,0)","v":0},{"$f":"IF(国語!I53=1,I$96,0)","v":0},{"$f":"IF(国語!J53=1,J$96,0)","v":4},{"$f":"IF(国語!K53=1,K$96,0)","v":4},{"$f":"IF(国語!L53=1,L$96,0)","v":4},{"$f":"IF(国語!M53=1,M$96,0)","v":4},{"$f":"IF(国語!N53=1,N$96,0)","v":4},{"$f":"IF(国語!O53=1,O$96,0)","v":4},{"$f":"IF(国語!P53=1,P$96,0)","v":4},{"$f":"IF(国語!Q53=1,Q$96,0)","v":4},{"$f":"IF(国語!R53=1,R$96,0)","v":4},{"$f":"IF(国語!S53=1,S$96,0)","v":4},{"$f":"IF(国語!T53=1,T$96,0)","v":4},{"$f":"IF(国語!U53=1,U$96,0)","v":4},{"$f":"IF(国語!V53=1,V$96,0)","v":4},{"$f":"IF(国語!W53=1,W$96,0)","v":4},{"$f":"IF(国語!X53=1,X$96,0)","v":4},{"$f":"IF(国語!Y53=1,Y$96,0)","v":4},{"$f":"IF(国語!Z53=1,Z$96,0)","v":4},{"$f":"IF(国語!AA53=1,AA$96,0)","v":4},{"$f":"IF(国語!AB53=1,AB$96,0)","v":4},{"$f":"IF(国語!AC53=1,AC$96,0)","v":4},{"$f":"IF(国語!AD53=1,AD$96,0)","v":0},{"$f":"IF(国語!AE53=1,AE$96,0)","v":0},{"$f":"IF(国語!AF53=1,AF$96,0)","v":0},{"$f":"IF(国語!AG53=1,AG$96,0)","v":0},{"$f":"IF(国語!AH53=1,AH$96,0)","v":0},{"$f":"IF(国語!AI53=1,AI$96,0)","v":0},{"$f":"IF(国語!AJ53=1,AJ$96,0)","v":0},{"$f":"IF(国語!AK53=1,AK$96,0)","v":0},{"$f":"IF(国語!AL53=1,AL$96,0)","v":0},{"$f":"IF(国語!AM53=1,AM$96,0)","v":0},{"$f":"IF(国語!AN53=1,AN$96,0)","v":0},{"$f":"IF(国語!AO53=1,AO$96,0)","v":0},{"$f":"IF(国語!AP53=1,AP$96,0)","v":0},{"$f":"IF(国語!AQ53=1,AQ$96,0)","v":0},{"$f":"IF(国語!AR53=1,AR$96,0)","v":0},{"$f":"IF(国語!AS53=1,AS$96,0)","v":0},{"$f":"IF(国語!AT53=1,AT$96,0)","v":0},{"$f":"IF(国語!AU53=1,AU$96,0)","v":0},{"$f":"IF(国語!AV53=1,AV$96,0)","v":0},{"$f":"IF(国語!AW53=1,AW$96,0)","v":0},{"$f":"IF(国語!AX53=1,AX$96,0)","v":0},{"$f":"IF(国語!AY53=1,AY$96,0)","v":0},{"$f":"IF(国語!AZ53=1,AZ$96,0)","v":0},{"$f":"IF(国語!BA53=1,BA$96,0)","v":0},{"$f":"IF(国語!BB53=1,BB$96,0)","v":0},null,0.66666666666666663,1,{"$error":"#DIV/0!"},{"$error":"#DIV/0!"},{"$error":"#DIV/0!"}]
[null,44,null,null,{"$f":"IF(国語!E54=1,E$96,0)","v":0},{"$f":"IF(国語!F54=1,F$96,0)","v":0},{"$f":"IF(国語!G54=1,G$96,0)","v":4},{"$f":"IF(国語!H54=1,H$96,0)","v":0},{"$f":"IF(国語!I54=1,I$96,0)","v":4},{"$f":"IF(国語!J54=1,J$96,0)","v":4},{"$f":"IF(国語!K54=1,K$96,0)","v":4},{"$f":"IF(国語!L54=1,L$96,0)","v":4},{"$f":"IF(国語!M54=1,M$96,0)","v":4},{"$f":"IF(国語!N54=1,N$96,0)","v":4},{"$f":"IF(国語!O54=1,O$96,0)","v":4},{"$f":"IF(国語!P54=1,P$96,0)","v":4},{"$f":"IF(国語!Q54=1,Q$96,0)","v":4},{"$f":"IF(国語!R54=1,R$96,0)","v":4},{"$f":"IF(国語!S54=1,S$96,0)","v":4},{"$f":"IF(国語!T54=1,T$96,0)","v":4},{"$f":"IF(国語!U54=1,U$96,0)","v":4},{"$f":"IF(国語!V54=1,V$96,0)","v":4},{"$f":"IF(国語!W54=1,W$96,0)","v":4},{"$f":"IF(国語!X54=1,X$96,0)","v":4},{"$f":"IF(国語!Y54=1,Y$96,0)","v":4},{"$f":"IF(国語!Z54=1,Z$96,0)","v":4},{"$f":"IF(国語!AA54=1,AA$96,0)","v":4},{"$f":"IF(国語!AB54=1,AB$96,0)","v":4},{"$f":"IF(国語!AC54=1,AC$96,0)","v":4},{"$f":"IF(国語!AD54=1,AD$96,0)","v":0},{"$f":"IF(国語!AE54=1,AE$96,0)","v":0},{"$f":"IF(国語!AF54=1,AF$96,0)","v":0},{"$f":"IF(国語!AG54=1,AG$96,0)","v":0},{"$f":"IF(国語!AH54=1,AH$96,0)","v":0},{"$f":"IF(国語!AI54=1,AI$96,0)","v":0},{"$f":"IF(国語!AJ54=1,AJ$96,0)","v":0},{"$f":"IF(国語!AK54=1,AK$96,0)","v":0},{"$f":"IF(国語!AL54=1,AL$96,0)","v":0},{"$f":"IF(国語!AM54=1,AM$96,0)","v":0},{"$f":"IF(国語!AN54=1,AN$96,0)","v":0},{"$f":"IF(国語!AO54=1,AO$96,0)","v":0},{"$f":"IF(国語!AP54=1,AP$96,0)","v":0},{"$f":"IF(国語!AQ54=1,AQ$96,0)","v":0},{"$f":"IF(国語!AR54=1,AR$96,0)","v":0},{"$f":"IF(国語!AS54=1,AS$96,0)","v":0},{"$f":"IF(国語!AT54=1,AT$96,0)","v":0},{"$f":"IF(国語!AU54=1,AU$96,0)","v":0},{"$f":"IF(国語!AV54=1,AV$96,0)","v":0},{"$f":"IF(国語!AW54=1,AW$96,0)","v":0},{"$f":"IF(国語!AX54=1,AX$96,0)","v":0},{"$f":"IF(国語!AY54=1,AY$96,0)","v":0},{"$f":"IF(国語!AZ54=1,AZ$96,0)","v":0},{"$f":"IF(国語!BA54=1,BA$96,0)","v":0},{"$f":"IF(国語!BB54=1,BB$96,0)","v":0},null,0.75,1,{"$error":"#DIV/0!"},{"$error":"#DIV/0!"},{"$error":"#DIV/0!"}]
[null,45,null,null,{"$f":"IF(国語!E55=1,E$96,0)","v":0},{"$f":"IF(国語!F55=1,F$96,0)","v":0},{"$f":"IF(国語!G55=1,G$96,0)","v":0},{"$f":"IF(国語!H55=1,H$96,0)","v":4},{"$f":"IF(国語!I55=1,I$96,0)","v":4},{"$f":"IF(国語!J55=1,J$96,0)","v":4},{"$f":"IF(国語!K55=1,K$96,0)","v":4},{"$f":"IF(国語!L55=1,L$96,0)","v":4},{"$f":"IF(国語!M55=1,M$96,0)","v":4},{"$f":"IF(国語!N55=1,N$96,0)","v":4},{"$f":"IF(国語!O55=1,O$96,0)","v":4},{"$f":"IF(国語!P55=1,P$96,0)","v":4},{"$f":"IF(国語!Q55=1,Q$96,0)","v":4},{"$f":"IF(国語!R55=1,R$96,0)","v":4},{"$f":"IF(国語!S55=1,S$96,0)","v":4},{"$f":"IF(国語!T55=1,T$96,0)","v":4},{"$f":"IF(国語!U55=1,U$96,0)","v":4},{"$f":"IF(国語!V55=1,V$96,0)","v":4},{"$f":"IF(国語!W55=1,W$96,0)","v":4},{"$f":"IF(国語!X55=1,X$96,0)","v":4},{"$f":"IF(国語!Y55=1,Y$96,0)","v":4},{"$f":"IF(国語!Z55=1,Z$96,0)","v":4},{"$f":"IF(国語!AA55=1,AA$96,0)","v":4},{"$f":"IF(国語!AB55=1,AB$96,0)","v":4},{"$f":"IF(国語!AC55=1,AC$96,0)","v":4},{"$f":"IF(国語!AD55=1,AD$96,0)","v":0},{"$f":"IF(国語!AE55=1,AE$96,0)","v":0},{"$f":"IF(国語!AF55=1,AF$96,0)","v":0},{"$f":"IF(国語!AG55=1,AG$96,0)","v":0},{"$f":"IF(国語!AH55=1,AH$96,0)","v":0},{"$f":"IF(国語!AI55=1,AI$96,0)","v":0},{"$f":"IF(国語!AJ55=1,AJ$96,0)","v":0},{"$f":"IF(国語!AK55=1,AK$96,0)","v":0},{"$f":"IF(国語!AL55=1,AL$96,0)","v":0},{"$f":"IF(国語!AM55=1,AM$96,0)","v":0},{"$f":"IF(国語!AN55=1,AN$96,0)","v":0},{"$f":"IF(国語!AO55=1,AO$96,0)","v":0},{"$f":"IF(国語!AP55=1,AP$96,0)","v":0},{"$f":"IF(国語!AQ55=1,AQ$96,0)","v":0},{"$f":"IF(国語!AR55=1,AR$96,0)","v":0},{"$f":"IF(国語!AS55=1,AS$96,0)","v":0},{"$f":"IF(国語!AT55=1,AT$96,0)","v":0},{"$f":"IF(国語!AU55=1,AU$96,0)","v":0},{"$f":"IF(国語!AV55=1,AV$96,0)","v":0},{"$f":"IF(国語!AW55=1,AW$96,0)","v":0},{"$f":"IF(国語!AX55=1,AX$96,0)","v":0},{"$f":"IF(国語!AY55=1,AY$96,0)","v":0},{"$f":"IF(国語!AZ55=1,AZ$96,0)","v":0},{"$f":"IF(国語!BA55=1,BA$96,0)","v":0},{"$f":"IF(国語!BB55=1,BB$96,0)","v":0},null,0.75,1,{"$error":"#DIV/0!"},{"$error":"#DIV/0!"},{"$error":"#DIV/0!"}]
[]
["社会","県",null,"通し番号",1,2,3,4,5,6,7,8,9,10,11,12,13,14,15,16,17,18,19,20,21,22,23,24,25,26,27,28,29,30,31,32,33,34,35,36,37,38,39,40,41,42,43,44,45,46,47,48,49,50]
[null,null,null,"観点",{"$f":"社会!E9","v":"知・技"},{"$f":"社会!F9","v":"知・技"},{"$f":"社会!G9","v":"知・技"},{"$f":"社会!H9","v":"知・技"},{"$f":"社会!I9","v":"思判表"},{"$f":"社会!J9","v":"知・技"},{"$f":"社会!K9","v":"知・技"},{"$f":"社会!L9","v":"知・技"},{"$f":"社会!M9","v":"思判表"},{"$f":"社会!N9","v":"知・技"},{"$f":"社会!O9","v":"知・技"},{"$f":"社会!P9","v":"知・技"},{"$f":"社会!Q9","v":"思判表"},{"$f":"社会!R9","v":"知・技"},{"$f":"社会!S9","v":"思判表"},{"$f":"社会!T9","v":"知・技"},{"$f":"社会!U9","v":"思判表"},{"$f":"社会!V9","v":"知・技"},{"$f":"社会!W9","v":"知・技"},{"$f":"社会!X9","v":"思判表"},{"$f":"社会!Y9","v":"知・技"},{"$f":"社会!Z9","v":"知・技"},{"$f":"社会!AA9","v":"知・技"},{"$f":"社会!AB9","v":"知・技"},{"$f":"社会!AC9","v":"思判表"},{"$f":"社会!AD9","v":0},{"$f":"社会!AE9","v":0},{"$f":"社会!AF9","v":0},{"$f":"社会!AG9","v":0},{"$f":"社会!AH9","v":0},{"$f":"社会!AI9","v":0},{"$f":"社会!AJ9","v":0},{"$f":"社会!AK9","v":0},{"$f":"社会!AL9","v":0},{"$f":"社会!AM9","v":0},{"$f":"社会!AN9","v":0},{"$f":"社会!AO9","v":0},{"$f":"社会!AP9","v":0},{"$f":"社会!AQ9","v":0},{"$f":"社会!AR9","v":0},{"$f":"社会!AS9","v":0},{"$f":"社会!AT9","v":0},{"$f":"社会!AU9","v":0},{"$f":"社会!AV9","v":0},{"$f":"社会!AW9","v":0},{"$f":"社会!AX9","v":0},{"$f":"社会!AY9","v":0},{"$f":"社会!AZ9","v":0},{"$f":"社会!BA9","v":0},{"$f":"社会!BB9","v":0},null,{"$f":"社会!BF35","v":"思判表"},{"$f":"社会!BF36","v":"知・技"},{"$f":"社会!BF37","v":"-"},{"$f":"社会!BF38","v":"-"},{"$f":"社会!BF39","v":"-"}]
[null,null,null,"配点",{"$f":"社会!E10","v":4},{"$f":"社会!F10","v":4},{"$f":"社会!G10","v":4},{"$f":"社会!H10","v":4},{"$f":"社会!I10","v":4},{"$f":"社会!J10","v":4},{"$f":"社会!K10","v":4},{"$f":"社会!L10","v":4},{"$f":"社会!M10","v":4},{"$f":"社会!N10","v":4},{"$f":"社会!O10","v":4},{"$f":"社会!P10","v":4},{"$f":"社会!Q10","v":4},{"$f":"社会!R10","v":4},{"$f":"社会!S10","v":4},{"$f":"社会!T10","v":4},{"$f":"社会!U10","v":4},{"$f":"社会!V10","v":4},{"$f":"社会!W10","v":4},{"$f":"社会!X10","v":4},{"$f":"社会!Y10","v":4},{"$f":"社会!Z10","v":4},{"$f":"社会!AA10","v":4},{"$f":"社会!AB10","v":4},{"$f":"社会!AC10","v":4},{"$f":"社会!AD10","v":0},{"$f":"社会!AE10","v":0},{"$f":"社会!AF10","v":0},{"$f":"社会!AG10","v":0},{"$f":"社会!AH10","v":0},{"$f":"社会!AI10","v":0},{"$f":"社会!AJ10","v":0},{"$f":"社会!AK10","v":0},{"$f":"社会!AL10","v":0},{"$f":"社会!AM10","v":0},{"$f":"社会!AN10","v":0},{"$f":"社会!AO10","v":0},{"$f":"社会!AP10","v":0},{"$f":"社会!AQ10","v":0},{"$f":"社会!AR10","v":0},{"$f":"社会!AS10","v":0},{"$f":"社会!AT10","v":0},{"$f":"社会!AU10","v":0},{"$f":"社会!AV10","v":0},{"$f":"社会!AW10","v":0},{"$f":"社会!AX10","v":0},{"$f":"社会!AY10","v":0},{"$f":"社会!AZ10","v":0},{"$f":"社会!BA10","v":0},{"$f":"社会!BB10","v":0},null,{"$f":"SUMIF($E$144:$BB$144,BD$144,$E145:$BB145)","v":28},{"$f":"SUMIF($E$144:$BB$144,BE$144,$E145:$BB145)","v":72},{"$f":"SUMIF($E$144:$BB$144,BF$144,$E145:$BB145)","v":0},{"$f":"SUMIF($E$144:$BB$144,BG$144,$E145:$BB145)","v":0},{"$f":"SUMIF($E$144:$BB$144,BH$144,$E145:$BB145)","v":0}]
[null,null,null,"得点率",{"$f":"社会得点!B58*E145","v":3.1320000000000001},{"$f":"社会得点!C58*F145","v":2.0920000000000001},{"$f":"社会得点!D58*G145","v":1.1599999999999999},{"$f":"社会得点!E58*H145","v":3.1320000000000001},{"$f":"社会得点!F58*I145","v":1.3520000000000001},{"$f":"社会得点!G58*J145","v":1.4359999999999999},{"$f":"社会得点!H58*K145","v":2.7559999999999998},{"$f":"社会得点!I58*L145","v":2.62},{"$f":"社会得点!J58*M145","v":2.2160000000000002},{"$f":"社会得点!K58*N145","v":2.9279999999999999},{"$f":"社会得点!L58*O145","v":4},{"$f":"社会得点!M58*P145","v":3.6840000000000002},{"$f":"社会得点!N58*Q145","v":3.3639999999999999},{"$f":"社会得点!O58*R145","v":2.8239999999999998},{"$f":"社会得点!P58*S145","v":2.14},{"$f":"社会得点!Q58*T145","v":3.3559999999999999},{"$f":"社会得点!R58*U145","v":3.544},{"$f":"社会得点!S58*V145","v":2.3079999999999998},{"$f":"社会得点!T58*W145","v":2.1120000000000001},{"$f":"社会得点!U58*X145","v":1.1160000000000001},{"$f":"社会得点!V58*Y145","v":3.5680000000000001},{"$f":"社会得点!W58*Z145","v":2.956},{"$f":"社会得点!X58*AA145","v":2.4119999999999999},{"$f":"社会得点!Y58*AB145","v":1.9079999999999999},{"$f":"社会得点!Z58*AC145","v":2.3199999999999998},{"$f":"社会得点!AA58*AD145","v":0},{"$f":"社会得点!AB58*AE145","v":0},{"$f":"社会得点!AC58*AF145","v":0},{"$f":"社会得点!AD58*AG145","v":0},{"$f":"社会得点!AE58*AH145","v":0},{"$f":"社会得点!AF58*AI145","v":0},{"$f":"社会得点!AG58*AJ145","v":0},{"$f":"社会得点!AH58*AK145","v":0},{"$f":"社会得点!AI58*AL145","v":0},{"$f":"社会得点!AJ58*AM145","v":0},{"$f":"社会得点!AK58*AN145","v":0},{"$f":"社会得点!AL58*AO145","v":0},{"$f":"社会得点!AM58*AP145","v":0},{"$f":"社会得点!AN58*AQ145","v":0},{"$f":"社会得点!AO58*AR145","v":0},{"$f":"社会得点!AP58*AS145","v":0},{"$f":"社会得点!AQ58*AT145","v":0},{"$f":"社会得点!AR58*AU145","v":0},{"$f":"社会得点!AS58*AV145","v":0},{"$f":"社会得点!AT58*AW145","v":0},{"$f":"社会得点!AU58*AX145","v":0},{"$f":"社会得点!AV58*AY145","v":0},{"$f":"社会得点!AW58*AZ145","v":0},{"$f":"社会得点!AX58*BA145","v":0},{"$f":"社会得点!AY58*BB145","v":0},null,{"$f":"SUMIF($E$144:$BB$144,BD$144,$E146:$BB146)/BD$145","v":0.57328571428571429},{"$f":"SUMIF($E$144:$BB$144,BE$144,$E146:$BB146)/BE$145","v":0.67200000000000015},{"$f":"SUMIF($E$144:$BB$144,BF$144,$E146:$BB146)/BF$145","v":{"$error":"#DIV/0!"}},{"$f":"SUMIF($E$144:$BB$144,BG$144,$E146:$BB146)/BG$145","v":{"$error":"#DIV/0!"}},{"$f":"SUMIF($E$144:$BB$144,BH$144,$E146:$BB146)/BH$145","v":{"$error":"#DIV/0!"}}]
[]
["社会","自校",null,"通し番号",1,2,3,4,5,6,7,8,9,10,11,12,13,14,15,16,17,18,19,20,21,22,23,24,25,26,27,28,29,30,31,32,33,34,35,36,37,38,39,40,41,42,43,44,45,46,47,48,49,50,null,null,null,null,null,null,null,null,null,null,null,"観点数"]
[null,null,null,"観点",{"$f":"社会!E9","v":"知・技"},{"$f":"社会!F9","v":"知・技"},{"$f":"社会!G9","v":"知・技"},{"$f":"社会!H9","v":"知・技"},{"$f":"社会!I9","v":"思判表"},{"$f":"社会!J9","v":"知・技"},{"$f":"社会!K9","v":"知・技"},{"$f":"社会!L9","v":"知・技"},{"$f":"社会!M9","v":"思判表"},{"$f":"社会!N9","v":"知・技"},{"$f":"社会!O9","v":"知・技"},{"$f":"社会!P9","v":"知・技"},{"$f":"社会!Q9","v":"思判表"},{"$f":"社会!R9","v":"知・技"},{"$f":"社会!S9","v":"思判表"},{"$f":"社会!T9","v":"知・技"},{"$f":"社会!U9","v":"思判表"},{"$f":"社会!V9","v":"知・技"},{"$f":"社会!W9","v":"知・技"},{"$f":"社会!X9","v":"思判表"},{"$f":"社会!Y9","v":"知・技"},{"$f":"社会!Z9","v":"知・技"},{"$f":"社会!AA9","v":"知・技"},{"$f":"社会!AB9","v":"知・技"},{"$f":"社会!AC9","v":"思判表"},{"$f":"社会!AD9","v":0},{"$f":"社会!AE9","v":0},{"$f":"社会!AF9","v":0},{"$f":"社会!AG9","v":0},{"$f":"社会!AH9","v":0},{"$f":"社会!AI9","v":0},{"$f":"社会!AJ9","v":0},{"$f":"社会!AK9","v":0},{"$f":"社会!AL9","v":0},{"$f":"社会!AM9","v":0},{"$f":"社会!AN9","v":0},{"$f":"社会!AO9","v":0},{"$f":"社会!AP9","v":0},{"$f":"社会!AQ9","v":0},{"$f":"社会!AR9","v":0},{"$f":"社会!AS9","v":0},{"$f":"社会!AT9","v":0},{"$f":"社会!AU9","v":0},{"$f":"社会!AV9","v":0},{"$f":"社会!AW9","v":0},{"$f":"社会!AX9","v":0},{"$f":"社会!AY9","v":0},{"$f":"社会!AZ9","v":0},{"$f":"社会!BA9","v":0},{"$f":"社会!BB9","v":0},null,{"$f":"社会!BF35","v":"思判表"},{"$f":"社会!BF36","v":"知・技"},{"$f":"社会!BF37","v":"-"},{"$f":"社会!BF38","v":"-"},{"$f":"社会!BF39","v":"-"},null,null,"県","自校","個人",{"$f":"社会!BG41","v":2}]
[null,null,null,"配点",{"$f":"社会!E10","v":4},{"$f":"社会!F10","v":4},{"$f":"社会!G10","v":4},{"$f":"社会!H10","v":4},{"$f":"社会!I10","v":4},{"$f":"社会!J10","v":4},{"$f":"社会!K10","v":4},{"$f":"社会!L10","v":4},{"$f":"社会!M10","v":4},{"$f":"社会!N10","v":4},{"$f":"社会!O10","v":4},{"$f":"社会!P10","v":4},{"$f":"社会!Q10","v":4},{"$f":"社会!R10","v":4},{"$f":"社会!S10","v":4},{"$f":"社会!T10","v":4},{"$f":"社会!U10","v":4},{"$f":"社会!V10","v":4},{"$f":"社会!W10","v":4},{"$f":"社会!X10","v":4},{"$f":"社会!Y10","v":4},{"$f":"社会!Z10","v":4},{"$f":"社会!AA10","v":4},{"$f":"社会!AB10","v":4},{"$f":"社会!AC10","v":4},{"$f":"社会!AD10","v":0},{"$f":"社会!AE10","v":0},{"$f":"社会!AF10","v":0},{"$f":"社会!AG10","v":0},{"$f":"社会!AH10","v":0},{"$f":"社会!AI10","v":0},{"$f":"社会!AJ10","v":0},{"$f":"社会!AK10","v":0},{"$f":"社会!AL10","v":0},{"$f":"社会!AM10","v":0},{"$f":"社会!AN10","v":0},{"$f":"社会!AO10","v":0},{"$f":"社会!AP10","v":0},{"$f":"社会!AQ10","v":0},{"$f":"社会!AR10","v":0},{"$f":"社会!AS10","v":0},{"$f":"社会!AT10","v":0},{"$f":"社会!AU10","v":0},{"$f":"社会!AV10","v":0},{"$f":"社会!AW10","v":0},{"$f":"社会!AX10","v":0},{"$f":"社会!AY10","v":0},{"$f":"社会!AZ10","v":0},{"$f":"社会!BA10","v":0},{"$f":"社会!BB10","v":0},null,{"$f":"SUMIF($E$149:$BB$149,BD$149,$E150:$BB150)","v":28},{"$f":"SUMIF($E$149:$BB$149,BE$149,$E150:$BB150)","v":72},{"$f":"SUMIF($E$149:$BB$149,BF$149,$E150:$BB150)","v":0},{"$f":"SUMIF($E$149:$BB$149,BG$149,$E150:$BB150)","v":0},{"$f":"SUMIF($E$149:$BB$149,BH$149,$E150:$BB150)","v":0},null,{"$f":"社会!BG35","v":"思考・判断・表現"},{"$f":"BD146","v":0.57328571428571429},{"$f":"BD151","v":{"$error":"#DIV/0!"}},{"$f":"VLOOKUP($B$3,$B$156:$BH$200,55)","v":0}]
[null,null,null,"得点率",{"$f":"社会!E64*E150","v":{"$error":"#DIV/0!"}},{"$f":"社会!F64*F150","v":{"$error":"#DIV/0!"}},{"$f":"社会!G64*G150","v":{"$error":"#DIV/0!"}},{"$f":"社会!H64*H150","v":{"$error":"#DIV/0!"}},{"$f":"社会!I64*I150","v":{"$error":"#DIV/0!"}},{"$f":"社会!J64*J150","v":{"$error":"#DIV/0!"}},{"$f":"社会!K64*K150","v":{"$error":"#DIV/0!"}},{"$f":"社会!L64*L150","v":{"$error":"#DIV/0!"}},{"$f":"社会!M64*M150","v":{"$error":"#DIV/0!"}},{"$f":"社会!N64*N150","v":{"$error":"#DIV/0!"}},{"$f":"社会!O64*O150","v":{"$error":"#DIV/0!"}},{"$f":"社会!P64*P150","v":{"$error":"#DIV/0!"}},{"$f":"社会!Q64*Q150","v":{"$error":"#DIV/0!"}},{"$f":"社会!R64*R150","v":{"$error":"#DIV/0!"}},{"$f":"社会!S64*S150","v":{"$error":"#DIV/0!"}},{"$f":"社会!T64*T150","v":{"$error":"#DIV/0!"}},{"$f":"社会!U64*U150","v":{"$error":"#DIV/0!"}},{"$f":"社会!V64*V150","v":{"$error":"#DIV/0!"}},{"$f":"社会!W64*W150","v":{"$error":"#DIV/0!"}},{"$f":"社会!X64*X150","v":{"$error":"#DIV/0!"}},{"$f":"社会!Y64*Y150","v":{"$error":"#DIV/0!"}},{"$f":"社会!Z64*Z150","v":{"$error":"#DIV/0!"}},{"$f":"社会!AA64*AA150","v":{"$error":"#DIV/0!"}},{"$f":"社会!AB64*AB150","v":{"$error":"#DIV/0!"}},{"$f":"社会!AC64*AC150","v":{"$error":"#DIV/0!"}},{"$f":"社会!AD64*AD150","v":{"$error":"#DIV/0!"}},{"$f":"社会!AE64*AE150","v":{"$error":"#DIV/0!"}},{"$f":"社会!AF64*AF150","v":{"$error":"#DIV/0!"}},{"$f":"社会!AG64*AG150","v":{"$error":"#DIV/0!"}},{"$f":"社会!AH64*AH150","v":{"$error":"#DIV/0!"}},{"$f":"社会!AI64*AI150","v":{"$error":"#DIV/0!"}},{"$f":"社会!AJ64*AJ150","v":{"$error":"#DIV/0!"}},{"$f":"社会!AK64*AK150","v":{"$error":"#DIV/0!"}},{"$f":"社会!AL64*AL150","v":{"$error":"#DIV/0!"}},{"$f":"社会!AM64*AM150","v":{"$error":"#DIV/0!"}},{"$f":"社会!AN64*AN150","v":{"$error":"#DIV/0!"}},{"$f":"社会!AO64*AO150","v":{"$error":"#DIV/0!"}},{"$f":"社会!AP64*AP150","v":{"$error":"#DIV/0!"}},{"$f":"社会!AQ64*AQ150","v":{"$error":"#DIV/0!"}},{"$f":"社会!AR64*AR150","v":{"$error":"#DIV/0!"}},{"$f":"社会!AS64*AS150","v":{"$error":"#DIV/0!"}},{"$f":"社会!AT64*AT150","v":{"$error":"#DIV/0!"}},{"$f":"社会!AU64*AU150","v":{"$error":"#DIV/0!"}},{"$f":"社会!AV64*AV150","v":{"$error":"#DIV/0!"}},{"$f":"社会!AW64*AW150","v":{"$error":"#DIV/0!"}},{"$f":"社会!AX64*AX150","v":{"$error":"#DIV/0!"}},{"$f":"社会!AY64*AY150","v":{"$error":"#DIV/0!"}},{"$f":"社会!AZ64*AZ150","v":{"$error":"#DIV/0!"}},{"$f":"社会!BA64*BA150","v":{"$error":"#DIV/0!"}},{"$f":"社会!BB64*BB150","v":{"$error":"#DIV/0!"}},null,{"$f":"SUMIF($E$149:$BB$149,BD$149,$E151:$BB151)/BD$150","v":{"$error":"#DIV/0!"}},{"$f":"SUMIF($E$149:$BB$149,BE$149,$E151:$BB151)/BE$150","v":{"$error":"#DIV/0!"}},{"$f":"SUMIF($E$149:$BB$149,BF$149,$E151:$BB151)/BF$150","v":{"$error":"#DIV/0!"}},{"$f":"SUMIF($E$149:$BB$149,BG$149,$E151:$BB151)/BG$150","v":{"$error":"#DIV/0!"}},{"$f":"SUMIF($E$149:$BB$149,BH$149,$E151:$BB151)/BH$150","v":{"$error":"#DIV/0!"}},null,{"$f":"社会!BG36","v":"知識・技能"},{"$f":"BE146","v":0.67200000000000015},{"$f":"BE151","v":{"$error":"#DIV/0!"}},{"$f":"VLOOKUP($B$3,$B$156:$BH$200,56)","v":0}]
[null,null,null,null,null,null,null,null,null,null,null,null,null,null,null,null,null,null,null,null,null,null,null,null,null,null,null,null,null,null,null,null,null,null,null,null,null,null,null,null,null,null,null,null,null,null,null,null,null,null,null,null,null,null,null,null,null,null,null,null,null,{"$f":"社会!BG37","v":"-"},{"$f":"BF146","v":{"$error":"#DIV/0!"}},{"$f":"BF151","v":{"$error":"#DIV/0!"}},{"$f":"VLOOKUP($B$3,$B$156:$BH$200,57)","v":{"$error":"#DIV/0!"}}]
["社会","個人",null,"通し番号",1,2,3,4,5,6,7,8,9,10,11,12,13,14,15,16,17,18,19,20,21,22,23,24,25,26,27,28,29,30,31,32,33,34,35,36,37,38,39,40,41,42,43,44,45,46,47,48,49,50,null,null,null,null,null,null,null,{"$f":"社会!BG38","v":"-"},{"$f":"BG146","v":{"$error":"#DIV/0!"}},{"$f":"BG151","v":{"$error":"#DIV/0!"}},{"$f":"VLOOKUP($B$3,$B$156:$BH$200,58)","v":{"$error":"#DIV/0!"}}]
[null,null,null,"観点",{"$f":"社会!E9","v":"知・技"},{"$f":"社会!F9","v":"知・技"},{"$f":"社会!G9","v":"知・技"},{"$f":"社会!H9","v":"知・技"},{"$f":"社会!I9","v":"思判表"},{"$f":"社会!J9","v":"知・技"},{"$f":"社会!K9","v":"知・技"},{"$f":"社会!L9","v":"知・技"},{"$f":"社会!M9","v":"思判表"},{"$f":"社会!N9","v":"知・技"},{"$f":"社会!O9","v":"知・技"},{"$f":"社会!P9","v":"知・技"},{"$f":"社会!Q9","v":"思判表"},{"$f":"社会!R9","v":"知・技"},{"$f":"社会!S9","v":"思判表"},{"$f":"社会!T9","v":"知・技"},{"$f":"社会!U9","v":"思判表"},{"$f":"社会!V9","v":"知・技"},{"$f":"社会!W9","v":"知・技"},{"$f":"社会!X9","v":"思判表"},{"$f":"社会!Y9","v":"知・技"},{"$f":"社会!Z9","v":"知・技"},{"$f":"社会!AA9","v":"知・技"},{"$f":"社会!AB9","v":"知・技"},{"$f":"社会!AC9","v":"思判表"},{"$f":"社会!AD9","v":0},{"$f":"社会!AE9","v":0},{"$f":"社会!AF9","v":0},{"$f":"社会!AG9","v":0},{"$f":"社会!AH9","v":0},{"$f":"社会!AI9","v":0},{"$f":"社会!AJ9","v":0},{"$f":"社会!AK9","v":0},{"$f":"社会!AL9","v":0},{"$f":"社会!AM9","v":0},{"$f":"社会!AN9","v":0},{"$f":"社会!AO9","v":0},{"$f":"社会!AP9","v":0},{"$f":"社会!AQ9","v":0},{"$f":"社会!AR9","v":0},{"$f":"社会!AS9","v":0},{"$f":"社会!AT9","v":0},{"$f":"社会!AU9","v":0},{"$f":"社会!AV9","v":0},{"$f":"社会!AW9","v":0},{"$f":"社会!AX9","v":0},{"$f":"社会!AY9","v":0},{"$f":"社会!AZ9","v":0},{"$f":"社会!BA9","v":0},{"$f":"社会!BB9","v":0},null,{"$f":"社会!BF35","v":"思判表"},{"$f":"社会!BF36","v":"知・技"},{"$f":"社会!BF37","v":"-"},{"$f":"社会!BF38","v":"-"},{"$f":"社会!BF39","v":"-"},null,{"$f":"社会!BG39","v":"-"},{"$f":"BH146","v":{"$error":"#DIV/0!"}},{"$f":"BH151","v":{"$error":"#DIV/0!"}},{"$f":"VLOOKUP($B$3,$B$156:$BH$200,59)","v":{"$error":"#DIV/0!"}}]
[null,"Ｎｏ．","氏名","配点",{"$f":"社会!E10","v":4},{"$f":"社会!F10","v":4},{"$f":"社会!G10","v":4},{"$f":"社会!H10","v":4},{"$f":"社会!I10","v":4},{"$f":"社会!J10","v":4},{"$f":"社会!K10","v":4},{"$f":"社会!L10","v":4},{"$f":"社会!M10","v":4},{"$f":"社会!N10","v":4},{"$f":"社会!O10","v":4},{"$f":"社会!P10","v":4},{"$f":"社会!Q10","v":4},{"$f":"社会!R10","v":4},{"$f":"社会!S10","v":4},{"$f":"社会!T10","v":4},{"$f":"社会!U10","v":4},{"$f":"社会!V10","v":4},{"$f":"社会!W10","v":4},{"$f":"社会!X10","v":4},{"$f":"社会!Y10","v":4},{"$f":"社会!Z10","v":4},{"$f":"社会!AA10","v":4},{"$f":"社会!AB10","v":4},{"$f":"社会!AC10","v":4},{"$f":"社会!AD10","v":0},{"$f":"社会!AE10","v":0},{"$f":"社会!AF10","v":0},{"$f":"社会!AG10","v":0},{"$f":"社会!AH10","v":0},{"$f":"社会!AI10","v":0},{"$f":"社会!AJ10","v":0},{"$f":"社会!AK10","v":0},{"$f":"社会!AL10","v":0},{"$f":"社会!AM10","v":0},{"$f":"社会!AN10","v":0},{"$f":"社会!AO10","v":0},{"$f":"社会!AP10","v":0},{"$f":"社会!AQ10","v":0},{"$f":"社会!AR10","v":0},{"$f":"社会!AS10","v":0},{"$f":"社会!AT10","v":0},{"$f":"社会!AU10","v":0},{"$f":"社会!AV10","v":0},{"$f":"社会!AW10","v":0},{"$f":"社会!AX10","v":0},{"$f":"社会!AY10","v":0},{"$f":"社会!AZ10","v":0},{"$f":"社会!BA10","v":0},{"$f":"社会!BB10","v":0},null,{"$f":"SUMIF($E$154:$BB$154,BD$154,$E155:$BB155)","v":28},{"$f":"SUMIF($E$154:$BB$154,BE$154,$E155:$BB155)","v":72},{"$f":"SUMIF($E$154:$BB$154,BF$154,$E155:$BB155)","v":0},{"$f":"SUMIF($E$154:$BB$154,BG$154,$E155:$BB155)","v":0},{"$f":"SUMIF($E$154:$BB$154,BH$154,$E155:$BB155)","v":0}]
[null,1,null,null,{"$f":"IF(社会!E11=1,E$155,0)","v":0},{"$f":"IF(社会!F11=1,F$155,0)","v":0},{"$f":"IF(社会!G11=1,G$155,0)","v":0},{"$f":"IF(社会!H11=1,H$155,0)","v":0},{"$f":"IF(社会!I11=1,I$155,0)","v":0},{"$f":"IF(社会!J11=1,J$155,0)","v":0},{"$f":"IF(社会!K11=1,K$155,0)","v":0},{"$f":"IF(社会!L11=1,L$155,0)","v":0},{"$f":"IF(社会!M11=1,M$155,0)","v":0},{"$f":"IF(社会!N11=1,N$155,0)","v":0},{"$f":"IF(社会!O11=1,O$155,0)","v":0},{"$f":"IF(社会!P11=1,P$155,0)","v":0},{"$f":"IF(社会!Q11=1,Q$155,0)","v":0},{"$f":"IF(社会!R11=1,R$155,0)","v":0},{"$f":"IF(社会!S11=1,S$155,0)","v":0},{"$f":"IF(社会!T11=1,T$155,0)","v":0},{"$f":"IF(社会!U11=1,U$155,0)","v":0},{"$f":"IF(社会!V11=1,V$155,0)","v":0},{"$f":"IF(社会!W11=1,W$155,0)","v":0},{"$f":"IF(社会!X11=1,X$155,0)","v":0},{"$f":"IF(社会!Y11=1,Y$155,0)","v":0},{"$f":"IF(社会!Z11=1,Z$155,0)","v":0},{"$f":"IF(社会!AA11=1,AA$155,0)","v":0},{"$f":"IF(社会!AB11=1,AB$155,0)","v":0},{"$f":"IF(社会!AC11=1,AC$155,0)","v":0},{"$f":"IF(社会!AD11=1,AD$155,0)","v":0},{"$f":"IF(社会!AE11=1,AE$155,0)","v":0},{"$f":"IF(社会!AF11=1,AF$155,0)","v":0},{"$f":"IF(社会!AG11=1,AG$155,0)","v":0},{"$f":"IF(社会!AH11=1,AH$155,0)","v":0},{"$f":"IF(社会!AI11=1,AI$155,0)","v":0},{"$f":"IF(社会!AJ11=1,AJ$155,0)","v":0},{"$f":"IF(社会!AK11=1,AK$155,0)","v":0},{"$f":"IF(社会!AL11=1,AL$155,0)","v":0},{"$f":"IF(社会!AM11=1,AM$155,0)","v":0},{"$f":"IF(社会!AN11=1,AN$155,0)","v":0},{"$f":"IF(社会!AO11=1,AO$155,0)","v":0},{"$f":"IF(社会!AP11=1,AP$155,0)","v":0},{"$f":"IF(社会!AQ11=1,AQ$155,0)","v":0},{"$f":"IF(社会!AR11=1,AR$155,0)","v":0},{"$f":"IF(社会!AS11=1,AS$155,0)","v":0},{"$f":"IF(社会!AT11=1,AT$155,0)","v":0},{"$f":"IF(社会!AU11=1,AU$155,0)","v":0},{"$f":"IF(社会!AV11=1,AV$155,0)","v":0},{"$f":"IF(社会!AW11=1,AW$155,0)","v":0},{"$f":"IF(社会!AX11=1,AX$155,0)","v":0},{"$f":"IF(社会!AY11=1,AY$155,0)","v":0},{"$f":"IF(社会!AZ11=1,AZ$155,0)","v":0},{"$f":"IF(社会!BA11=1,BA$155,0)","v":0},{"$f":"IF(社会!BB11=1,BB$155,0)","v":0},null,{"$f":"SUMIF($E$154:$BB$154,BD$154,$E156:$BB156)/BD$155","v":0},{"$f":"SUMIF($E$154:$BB$154,BE$154,$E156:$BB156)/BE$155","v":0},{"$error":"#DIV/0!"},{"$error":"#DIV/0!"},{"$error":"#DIV/0!"}]
[null,2,null,null,{"$f":"IF(社会!E12=1,E$155,0)","v":0},{"$f":"IF(社会!F12=1,F$155,0)","v":0},{"$f":"IF(社会!G12=1,G$155,0)","v":0},{"$f":"IF(社会!H12=1,H$155,0)","v":0},{"$f":"IF(社会!I12=1,I$155,0)","v":0},{"$f":"IF(社会!J12=1,J$155,0)","v":0},{"$f":"IF(社会!K12=1,K$155,0)","v":0},{"$f":"IF(社会!L12=1,L$155,0)","v":0},{"$f":"IF(社会!M12=1,M$155,0)","v":0},{"$f":"IF(社会!N12=1,N$155,0)","v":0},{"$f":"IF(社会!O12=1,O$155,0)","v":0},{"$f":"IF(社会!P12=1,P$155,0)","v":0},{"$f":"IF(社会!Q12=1,Q$155,0)","v":0},{"$f":"IF(社会!R12=1,R$155,0)","v":0},{"$f":"IF(社会!S12=1,S$155,0)","v":0},{"$f":"IF(社会!T12=1,T$155,0)","v":0},{"$f":"IF(社会!U12=1,U$155,0)","v":0},{"$f":"IF(社会!V12=1,V$155,0)","v":0},{"$f":"IF(社会!W12=1,W$155,0)","v":0},{"$f":"IF(社会!X12=1,X$155,0)","v":0},{"$f":"IF(社会!Y12=1,Y$155,0)","v":0},{"$f":"IF(社会!Z12=1,Z$155,0)","v":0},{"$f":"IF(社会!AA12=1,AA$155,0)","v":0},{"$f":"IF(社会!AB12=1,AB$155,0)","v":0},{"$f":"IF(社会!AC12=1,AC$155,0)","v":0},{"$f":"IF(社会!AD12=1,AD$155,0)","v":0},{"$f":"IF(社会!AE12=1,AE$155,0)","v":0},{"$f":"IF(社会!AF12=1,AF$155,0)","v":0},{"$f":"IF(社会!AG12=1,AG$155,0)","v":0},{"$f":"IF(社会!AH12=1,AH$155,0)","v":0},{"$f":"IF(社会!AI12=1,AI$155,0)","v":0},{"$f":"IF(社会!AJ12=1,AJ$155,0)","v":0},{"$f":"IF(社会!AK12=1,AK$155,0)","v":0},{"$f":"IF(社会!AL12=1,AL$155,0)","v":0},{"$f":"IF(社会!AM12=1,AM$155,0)","v":0},{"$f":"IF(社会!AN12=1,AN$155,0)","v":0},{"$f":"IF(社会!AO12=1,AO$155,0)","v":0},{"$f":"IF(社会!AP12=1,AP$155,0)","v":0},{"$f":"IF(社会!AQ12=1,AQ$155,0)","v":0},{"$f":"IF(社会!AR12=1,AR$155,0)","v":0},{"$f":"IF(社会!AS12=1,AS$155,0)","v":0},{"$f":"IF(社会!AT12=1,AT$155,0)","v":0},{"$f":"IF(社会!AU12=1,AU$155,0)","v":0},{"$f":"IF(社会!AV12=1,AV$155,0)","v":0},{"$f":"IF(社会!AW12=1,AW$155,0)","v":0},{"$f":"IF(社会!AX12=1,AX$155,0)","v":0},{"$f":"IF(社会!AY12=1,AY$155,0)","v":0},{"$f":"IF(社会!AZ12=1,AZ$155,0)","v":0},{"$f":"IF(社会!BA12=1,BA$155,0)","v":0},{"$f":"IF(社会!BB12=1,BB$155,0)","v":0},null,0,0,{"$error":"#DIV/0!"},{"$error":"#DIV/0!"},{"$error":"#DIV/0!"}]
[null,3,null,null,{"$f":"IF(社会!E13=1,E$155,0)","v":0},{"$f":"IF(社会!F13=1,F$155,0)","v":0},{"$f":"IF(社会!G13=1,G$155,0)","v":0},{"$f":"IF(社会!H13=1,H$155,0)","v":0},{"$f":"IF(社会!I13=1,I$155,0)","v":0},{"$f":"IF(社会!J13=1,J$155,0)","v":0},{"$f":"IF(社会!K13=1,K$155,0)","v":0},{"$f":"IF(社会!L13=1,L$155,0)","v":0},{"$f":"IF(社会!M13=1,M$155,0)","v":0},{"$f":"IF(社会!N13=1,N$155,0)","v":0},{"$f":"IF(社会!O13=1,O$155,0)","v":0},{"$f":"IF(社会!P13=1,P$155,0)","v":0},{"$f":"IF(社会!Q13=1,Q$155,0)","v":0},{"$f":"IF(社会!R13=1,R$155,0)","v":0},{"$f":"IF(社会!S13=1,S$155,0)","v":0},{"$f":"IF(社会!T13=1,T$155,0)","v":0},{"$f":"IF(社会!U13=1,U$155,0)","v":0},{"$f":"IF(社会!V13=1,V$155,0)","v":0},{"$f":"IF(社会!W13=1,W$155,0)","v":0},{"$f":"IF(社会!X13=1,X$155,0)","v":0},{"$f":"IF(社会!Y13=1,Y$155,0)","v":0},{"$f":"IF(社会!Z13=1,Z$155,0)","v":0},{"$f":"IF(社会!AA13=1,AA$155,0)","v":0},{"$f":"IF(社会!AB13=1,AB$155,0)","v":0},{"$f":"IF(社会!AC13=1,AC$155,0)","v":0},{"$f":"IF(社会!AD13=1,AD$155,0)","v":0},{"$f":"IF(社会!AE13=1,AE$155,0)","v":0},{"$f":"IF(社会!AF13=1,AF$155,0)","v":0},{"$f":"IF(社会!AG13=1,AG$155,0)","v":0},{"$f":"IF(社会!AH13=1,AH$155,0)","v":0},{"$f":"IF(社会!AI13=1,AI$155,0)","v":0},{"$f":"IF(社会!AJ13=1,AJ$155,0)","v":0},{"$f":"IF(社会!AK13=1,AK$155,0)","v":0},{"$f":"IF(社会!AL13=1,AL$155,0)","v":0},{"$f":"IF(社会!AM13=1,AM$155,0)","v":0},{"$f":"IF(社会!AN13=1,AN$155,0)","v":0},{"$f":"IF(社会!AO13=1,AO$155,0)","v":0},{"$f":"IF(社会!AP13=1,AP$155,0)","v":0},{"$f":"IF(社会!AQ13=1,AQ$155,0)","v":0},{"$f":"IF(社会!AR13=1,AR$155,0)","v":0},{"$f":"IF(社会!AS13=1,AS$155,0)","v":0},{"$f":"IF(社会!AT13=1,AT$155,0)","v":0},{"$f":"IF(社会!AU13=1,AU$155,0)","v":0},{"$f":"IF(社会!AV13=1,AV$155,0)","v":0},{"$f":"IF(社会!AW13=1,AW$155,0)","v":0},{"$f":"IF(社会!AX13=1,AX$155,0)","v":0},{"$f":"IF(社会!AY13=1,AY$155,0)","v":0},{"$f":"IF(社会!AZ13=1,AZ$155,0)","v":0},{"$f":"IF(社会!BA13=1,BA$155,0)","v":0},{"$f":"IF(社会!BB13=1,BB$155,0)","v":0},null,0,0,{"$error":"#DIV/0!"},{"$error":"#DIV/0!"},{"$error":"#DIV/0!"}]
[null,4,null,null,{"$f":"IF(社会!E14=1,E$155,0)","v":0},{"$f":"IF(社会!F14=1,F$155,0)","v":0},{"$f":"IF(社会!G14=1,G$155,0)","v":0},{"$f":"IF(社会!H14=1,H$155,0)","v":0},{"$f":"IF(社会!I14=1,I$155,0)","v":0},{"$f":"IF(社会!J14=1,J$155,0)","v":0},{"$f":"IF(社会!K14=1,K$155,0)","v":0},{"$f":"IF(社会!L14=1,L$155,0)","v":0},{"$f":"IF(社会!M14=1,M$155,0)","v":0},{"$f":"IF(社会!N14=1,N$155,0)","v":0},{"$f":"IF(社会!O14=1,O$155,0)","v":0},{"$f":"IF(社会!P14=1,P$155,0)","v":0},{"$f":"IF(社会!Q14=1,Q$155,0)","v":0},{"$f":"IF(社会!R14=1,R$155,0)","v":0},{"$f":"IF(社会!S14=1,S$155,0)","v":0},{"$f":"IF(社会!T14=1,T$155,0)","v":0},{"$f":"IF(社会!U14=1,U$155,0)","v":0},{"$f":"IF(社会!V14=1,V$155,0)","v":0},{"$f":"IF(社会!W14=1,W$155,0)","v":0},{"$f":"IF(社会!X14=1,X$155,0)","v":0},{"$f":"IF(社会!Y14=1,Y$155,0)","v":0},{"$f":"IF(社会!Z14=1,Z$155,0)","v":0},{"$f":"IF(社会!AA14=1,AA$155,0)","v":0},{"$f":"IF(社会!AB14=1,AB$155,0)","v":0},{"$f":"IF(社会!AC14=1,AC$155,0)","v":0},{"$f":"IF(社会!AD14=1,AD$155,0)","v":0},{"$f":"IF(社会!AE14=1,AE$155,0)","v":0},{"$f":"IF(社会!AF14=1,AF$155,0)","v":0},{"$f":"IF(社会!AG14=1,AG$155,0)","v":0},{"$f":"IF(社会!AH14=1,AH$155,0)","v":0},{"$f":"IF(社会!AI14=1,AI$155,0)","v":0},{"$f":"IF(社会!AJ14=1,AJ$155,0)","v":0},{"$f":"IF(社会!AK14=1,AK$155,0)","v":0},{"$f":"IF(社会!AL14=1,AL$155,0)","v":0},{"$f":"IF(社会!AM14=1,AM$155,0)","v":0},{"$f":"IF(社会!AN14=1,AN$155,0)","v":0},{"$f":"IF(社会!AO14=1,AO$155,0)","v":0},{"$f":"IF(社会!AP14=1,AP$155,0)","v":0},{"$f":"IF(社会!AQ14=1,AQ$155,0)","v":0},{"$f":"IF(社会!AR14=1,AR$155,0)","v":0},{"$f":"IF(社会!AS14=1,AS$155,0)","v":0},{"$f":"IF(社会!AT14=1,AT$155,0)","v":0},{"$f":"IF(社会!AU14=1,AU$155,0)","v":0},{"$f":"IF(社会!AV14=1,AV$155,0)","v":0},{"$f":"IF(社会!AW14=1,AW$155,0)","v":0},{"$f":"IF(社会!AX14=1,AX$155,0)","v":0},{"$f":"IF(社会!AY14=1,AY$155,0)","v":0},{"$f":"IF(社会!AZ14=1,AZ$155,0)","v":0},{"$f":"IF(社会!BA14=1,BA$155,0)","v":0},{"$f":"IF(社会!BB14=1,BB$155,0)","v":0},null,0,0,{"$error":"#DIV/0!"},{"$error":"#DIV/0!"},{"$error":"#DIV/0!"}]
[null,5,null,null,{"$f":"IF(社会!E15=1,E$155,0)","v":0},{"$f":"IF(社会!F15=1,F$155,0)","v":0},{"$f":"IF(社会!G15=1,G$155,0)","v":0},{"$f":"IF(社会!H15=1,H$155,0)","v":0},{"$f":"IF(社会!I15=1,I$155,0)","v":0},{"$f":"IF(社会!J15=1,J$155,0)","v":0},{"$f":"IF(社会!K15=1,K$155,0)","v":0},{"$f":"IF(社会!L15=1,L$155,0)","v":0},{"$f":"IF(社会!M15=1,M$155,0)","v":0},{"$f":"IF(社会!N15=1,N$155,0)","v":0},{"$f":"IF(社会!O15=1,O$155,0)","v":0},{"$f":"IF(社会!P15=1,P$155,0)","v":0},{"$f":"IF(社会!Q15=1,Q$155,0)","v":0},{"$f":"IF(社会!R15=1,R$155,0)","v":0},{"$f":"IF(社会!S15=1,S$155,0)","v":0},{"$f":"IF(社会!T15=1,T$155,0)","v":0},{"$f":"IF(社会!U15=1,U$155,0)","v":0},{"$f":"IF(社会!V15=1,V$155,0)","v":0},{"$f":"IF(社会!W15=1,W$155,0)","v":0},{"$f":"IF(社会!X15=1,X$155,0)","v":0},{"$f":"IF(社会!Y15=1,Y$155,0)","v":0},{"$f":"IF(社会!Z15=1,Z$155,0)","v":0},{"$f":"IF(社会!AA15=1,AA$155,0)","v":0},{"$f":"IF(社会!AB15=1,AB$155,0)","v":0},{"$f":"IF(社会!AC15=1,AC$155,0)","v":0},{"$f":"IF(社会!AD15=1,AD$155,0)","v":0},{"$f":"IF(社会!AE15=1,AE$155,0)","v":0},{"$f":"IF(社会!AF15=1,AF$155,0)","v":0},{"$f":"IF(社会!AG15=1,AG$155,0)","v":0},{"$f":"IF(社会!AH15=1,AH$155,0)","v":0},{"$f":"IF(社会!AI15=1,AI$155,0)","v":0},{"$f":"IF(社会!AJ15=1,AJ$155,0)","v":0},{"$f":"IF(社会!AK15=1,AK$155,0)","v":0},{"$f":"IF(社会!AL15=1,AL$155,0)","v":0},{"$f":"IF(社会!AM15=1,AM$155,0)","v":0},{"$f":"IF(社会!AN15=1,AN$155,0)","v":0},{"$f":"IF(社会!AO15=1,AO$155,0)","v":0},{"$f":"IF(社会!AP15=1,AP$155,0)","v":0},{"$f":"IF(社会!AQ15=1,AQ$155,0)","v":0},{"$f":"IF(社会!AR15=1,AR$155,0)","v":0},{"$f":"IF(社会!AS15=1,AS$155,0)","v":0},{"$f":"IF(社会!AT15=1,AT$155,0)","v":0},{"$f":"IF(社会!AU15=1,AU$155,0)","v":0},{"$f":"IF(社会!AV15=1,AV$155,0)","v":0},{"$f":"IF(社会!AW15=1,AW$155,0)","v":0},{"$f":"IF(社会!AX15=1,AX$155,0)","v":0},{"$f":"IF(社会!AY15=1,AY$155,0)","v":0},{"$f":"IF(社会!AZ15=1,AZ$155,0)","v":0},{"$f":"IF(社会!BA15=1,BA$155,0)","v":0},{"$f":"IF(社会!BB15=1,BB$155,0)","v":0},null,0,0,{"$error":"#DIV/0!"},{"$error":"#DIV/0!"},{"$error":"#DIV/0!"}]
[null,6,null,null,{"$f":"IF(社会!E16=1,E$155,0)","v":0},{"$f":"IF(社会!F16=1,F$155,0)","v":0},{"$f":"IF(社会!G16=1,G$155,0)","v":0},{"$f":"IF(社会!H16=1,H$155,0)","v":0},{"$f":"IF(社会!I16=1,I$155,0)","v":0},{"$f":"IF(社会!J16=1,J$155,0)","v":0},{"$f":"IF(社会!K16=1,K$155,0)","v":0},{"$f":"IF(社会!L16=1,L$155,0)","v":0},{"$f":"IF(社会!M16=1,M$155,0)","v":0},{"$f":"IF(社会!N16=1,N$155,0)","v":0},{"$f":"IF(社会!O16=1,O$155,0)","v":0},{"$f":"IF(社会!P16=1,P$155,0)","v":0},{"$f":"IF(社会!Q16=1,Q$155,0)","v":0},{"$f":"IF(社会!R16=1,R$155,0)","v":0},{"$f":"IF(社会!S16=1,S$155,0)","v":0},{"$f":"IF(社会!T16=1,T$155,0)","v":0},{"$f":"IF(社会!U16=1,U$155,0)","v":0},{"$f":"IF(社会!V16=1,V$155,0)","v":0},{"$f":"IF(社会!W16=1,W$155,0)","v":0},{"$f":"IF(社会!X16=1,X$155,0)","v":0},{"$f":"IF(社会!Y16=1,Y$155,0)","v":0},{"$f":"IF(社会!Z16=1,Z$155,0)","v":0},{"$f":"IF(社会!AA16=1,AA$155,0)","v":0},{"$f":"IF(社会!AB16=1,AB$155,0)","v":0},{"$f":"IF(社会!AC16=1,AC$155,0)","v":0},{"$f":"IF(社会!AD16=1,AD$155,0)","v":0},{"$f":"IF(社会!AE16=1,AE$155,0)","v":0},{"$f":"IF(社会!AF16=1,AF$155,0)","v":0},{"$f":"IF(社会!AG16=1,AG$155,0)","v":0},{"$f":"IF(社会!AH16=1,AH$155,0)","v":0},{"$f":"IF(社会!AI16=1,AI$155,0)","v":0},{"$f":"IF(社会!AJ16=1,AJ$155,0)","v":0},{"$f":"IF(社会!AK16=1,AK$155,0)","v":0},{"$f":"IF(社会!AL16=1,AL$155,0)","v":0},{"$f":"IF(社会!AM16=1,AM$155,0)","v":0},{"$f":"IF(社会!AN16=1,AN$155,0)","v":0},{"$f":"IF(社会!AO16=1,AO$155,0)","v":0},{"$f":"IF(社会!AP16=1,AP$155,0)","v":0},{"$f":"IF(社会!AQ16=1,AQ$155,0)","v":0},{"$f":"IF(社会!AR16=1,AR$155,0)","v":0},{"$f":"IF(社会!AS16=1,AS$155,0)","v":0},{"$f":"IF(社会!AT16=1,AT$155,0)","v":0},{"$f":"IF(社会!AU16=1,AU$155,0)","v":0},{"$f":"IF(社会!AV16=1,AV$155,0)","v":0},{"$f":"IF(社会!AW16=1,AW$155,0)","v":0},{"$f":"IF(社会!AX16=1,AX$155,0)","v":0},{"$f":"IF(社会!AY16=1,AY$155,0)","v":0},{"$f":"IF(社会!AZ16=1,AZ$155,0)","v":0},{"$f":"IF(社会!BA16=1,BA$155,0)","v":0},{"$f":"IF(社会!BB16=1,BB$155,0)","v":0},null,0,0,{"$error":"#DIV/0!"},{"$error":"#DIV/0!"},{"$error":"#DIV/0!"}]
[null,7,null,null,{"$f":"IF(社会!E17=1,E$155,0)","v":0},{"$f":"IF(社会!F17=1,F$155,0)","v":0},{"$f":"IF(社会!G17=1,G$155,0)","v":0},{"$f":"IF(社会!H17=1,H$155,0)","v":0},{"$f":"IF(社会!I17=1,I$155,0)","v":0},{"$f":"IF(社会!J17=1,J$155,0)","v":0},{"$f":"IF(社会!K17=1,K$155,0)","v":0},{"$f":"IF(社会!L17=1,L$155,0)","v":0},{"$f":"IF(社会!M17=1,M$155,0)","v":0},{"$f":"IF(社会!N17=1,N$155,0)","v":0},{"$f":"IF(社会!O17=1,O$155,0)","v":0},{"$f":"IF(社会!P17=1,P$155,0)","v":0},{"$f":"IF(社会!Q17=1,Q$155,0)","v":0},{"$f":"IF(社会!R17=1,R$155,0)","v":0},{"$f":"IF(社会!S17=1,S$155,0)","v":0},{"$f":"IF(社会!T17=1,T$155,0)","v":0},{"$f":"IF(社会!U17=1,U$155,0)","v":0},{"$f":"IF(社会!V17=1,V$155,0)","v":0},{"$f":"IF(社会!W17=1,W$155,0)","v":0},{"$f":"IF(社会!X17=1,X$155,0)","v":0},{"$f":"IF(社会!Y17=1,Y$155,0)","v":0},{"$f":"IF(社会!Z17=1,Z$155,0)","v":0},{"$f":"IF(社会!AA17=1,AA$155,0)","v":0},{"$f":"IF(社会!AB17=1,AB$155,0)","v":0},{"$f":"IF(社会!AC17=1,AC$155,0)","v":0},{"$f":"IF(社会!AD17=1,AD$155,0)","v":0},{"$f":"IF(社会!AE17=1,AE$155,0)","v":0},{"$f":"IF(社会!AF17=1,AF$155,0)","v":0},{"$f":"IF(社会!AG17=1,AG$155,0)","v":0},{"$f":"IF(社会!AH17=1,AH$155,0)","v":0},{"$f":"IF(社会!AI17=1,AI$155,0)","v":0},{"$f":"IF(社会!AJ17=1,AJ$155,0)","v":0},{"$f":"IF(社会!AK17=1,AK$155,0)","v":0},{"$f":"IF(社会!AL17=1,AL$155,0)","v":0},{"$f":"IF(社会!AM17=1,AM$155,0)","v":0},{"$f":"IF(社会!AN17=1,AN$155,0)","v":0},{"$f":"IF(社会!AO17=1,AO$155,0)","v":0},{"$f":"IF(社会!AP17=1,AP$155,0)","v":0},{"$f":"IF(社会!AQ17=1,AQ$155,0)","v":0},{"$f":"IF(社会!AR17=1,AR$155,0)","v":0},{"$f":"IF(社会!AS17=1,AS$155,0)","v":0},{"$f":"IF(社会!AT17=1,AT$155,0)","v":0},{"$f":"IF(社会!AU17=1,AU$155,0)","v":0},{"$f":"IF(社会!AV17=1,AV$155,0)","v":0},{"$f":"IF(社会!AW17=1,AW$155,0)","v":0},{"$f":"IF(社会!AX17=1,AX$155,0)","v":0},{"$f":"IF(社会!AY17=1,AY$155,0)","v":0},{"$f":"IF(社会!AZ17=1,AZ$155,0)","v":0},{"$f":"IF(社会!BA17=1,BA$155,0)","v":0},{"$f":"IF(社会!BB17=1,BB$155,0)","v":0},null,0,0,{"$error":"#DIV/0!"},{"$error":"#DIV/0!"},{"$error":"#DIV/0!"}]
[null,8,null,null,{"$f":"IF(社会!E18=1,E$155,0)","v":0},{"$f":"IF(社会!F18=1,F$155,0)","v":0},{"$f":"IF(社会!G18=1,G$155,0)","v":0},{"$f":"IF(社会!H18=1,H$155,0)","v":0},{"$f":"IF(社会!I18=1,I$155,0)","v":0},{"$f":"IF(社会!J18=1,J$155,0)","v":0},{"$f":"IF(社会!K18=1,K$155,0)","v":0},{"$f":"IF(社会!L18=1,L$155,0)","v":0},{"$f":"IF(社会!M18=1,M$155,0)","v":0},{"$f":"IF(社会!N18=1,N$155,0)","v":0},{"$f":"IF(社会!O18=1,O$155,0)","v":0},{"$f":"IF(社会!P18=1,P$155,0)","v":0},{"$f":"IF(社会!Q18=1,Q$155,0)","v":0},{"$f":"IF(社会!R18=1,R$155,0)","v":0},{"$f":"IF(社会!S18=1,S$155,0)","v":0},{"$f":"IF(社会!T18=1,T$155,0)","v":0},{"$f":"IF(社会!U18=1,U$155,0)","v":0},{"$f":"IF(社会!V18=1,V$155,0)","v":0},{"$f":"IF(社会!W18=1,W$155,0)","v":0},{"$f":"IF(社会!X18=1,X$155,0)","v":0},{"$f":"IF(社会!Y18=1,Y$155,0)","v":0},{"$f":"IF(社会!Z18=1,Z$155,0)","v":0},{"$f":"IF(社会!AA18=1,AA$155,0)","v":0},{"$f":"IF(社会!AB18=1,AB$155,0)","v":0},{"$f":"IF(社会!AC18=1,AC$155,0)","v":0},{"$f":"IF(社会!AD18=1,AD$155,0)","v":0},{"$f":"IF(社会!AE18=1,AE$155,0)","v":0},{"$f":"IF(社会!AF18=1,AF$155,0)","v":0},{"$f":"IF(社会!AG18=1,AG$155,0)","v":0},{"$f":"IF(社会!AH18=1,AH$155,0)","v":0},{"$f":"IF(社会!AI18=1,AI$155,0)","v":0},{"$f":"IF(社会!AJ18=1,AJ$155,0)","v":0},{"$f":"IF(社会!AK18=1,AK$155,0)","v":0},{"$f":"IF(社会!AL18=1,AL$155,0)","v":0},{"$f":"IF(社会!AM18=1,AM$155,0)","v":0},{"$f":"IF(社会!AN18=1,AN$155,0)","v":0},{"$f":"IF(社会!AO18=1,AO$155,0)","v":0},{"$f":"IF(社会!AP18=1,AP$155,0)","v":0},{"$f":"IF(社会!AQ18=1,AQ$155,0)","v":0},{"$f":"IF(社会!AR18=1,AR$155,0)","v":0},{"$f":"IF(社会!AS18=1,AS$155,0)","v":0},{"$f":"IF(社会!AT18=1,AT$155,0)","v":0},{"$f":"IF(社会!AU18=1,AU$155,0)","v":0},{"$f":"IF(社会!AV18=1,AV$155,0)","v":0},{"$f":"IF(社会!AW18=1,AW$155,0)","v":0},{"$f":"IF(社会!AX18=1,AX$155,0)","v":0},{"$f":"IF(社会!AY18=1,AY$155,0)","v":0},{"$f":"IF(社会!AZ18=1,AZ$155,0)","v":0},{"$f":"IF(社会!BA18=1,BA$155,0)","v":0},{"$f":"IF(社会!BB18=1,BB$155,0)","v":0},null,0,0,{"$error":"#DIV/0!"},{"$error":"#DIV/0!"},{"$error":"#DIV/0!"}]
[null,9,null,null,{"$f":"IF(社会!E19=1,E$155,0)","v":0},{"$f":"IF(社会!F19=1,F$155,0)","v":0},{"$f":"IF(社会!G19=1,G$155,0)","v":0},{"$f":"IF(社会!H19=1,H$155,0)","v":0},{"$f":"IF(社会!I19=1,I$155,0)","v":0},{"$f":"IF(社会!J19=1,J$155,0)","v":0},{"$f":"IF(社会!K19=1,K$155,0)","v":0},{"$f":"IF(社会!L19=1,L$155,0)","v":0},{"$f":"IF(社会!M19=1,M$155,0)","v":0},{"$f":"IF(社会!N19=1,N$155,0)","v":0},{"$f":"IF(社会!O19=1,O$155,0)","v":0},{"$f":"IF(社会!P19=1,P$155,0)","v":0},{"$f":"IF(社会!Q19=1,Q$155,0)","v":0},{"$f":"IF(社会!R19=1,R$155,0)","v":0},{"$f":"IF(社会!S19=1,S$155,0)","v":0},{"$f":"IF(社会!T19=1,T$155,0)","v":0},{"$f":"IF(社会!U19=1,U$155,0)","v":0},{"$f":"IF(社会!V19=1,V$155,0)","v":0},{"$f":"IF(社会!W19=1,W$155,0)","v":0},{"$f":"IF(社会!X19=1,X$155,0)","v":0},{"$f":"IF(社会!Y19=1,Y$155,0)","v":0},{"$f":"IF(社会!Z19=1,Z$155,0)","v":0},{"$f":"IF(社会!AA19=1,AA$155,0)","v":0},{"$f":"IF(社会!AB19=1,AB$155,0)","v":0},{"$f":"IF(社会!AC19=1,AC$155,0)","v":0},{"$f":"IF(社会!AD19=1,AD$155,0)","v":0},{"$f":"IF(社会!AE19=1,AE$155,0)","v":0},{"$f":"IF(社会!AF19=1,AF$155,0)","v":0},{"$f":"IF(社会!AG19=1,AG$155,0)","v":0},{"$f":"IF(社会!AH19=1,AH$155,0)","v":0},{"$f":"IF(社会!AI19=1,AI$155,0)","v":0},{"$f":"IF(社会!AJ19=1,AJ$155,0)","v":0},{"$f":"IF(社会!AK19=1,AK$155,0)","v":0},{"$f":"IF(社会!AL19=1,AL$155,0)","v":0},{"$f":"IF(社会!AM19=1,AM$155,0)","v":0},{"$f":"IF(社会!AN19=1,AN$155,0)","v":0},{"$f":"IF(社会!AO19=1,AO$155,0)","v":0},{"$f":"IF(社会!AP19=1,AP$155,0)","v":0},{"$f":"IF(社会!AQ19=1,AQ$155,0)","v":0},{"$f":"IF(社会!AR19=1,AR$155,0)","v":0},{"$f":"IF(社会!AS19=1,AS$155,0)","v":0},{"$f":"IF(社会!AT19=1,AT$155,0)","v":0},{"$f":"IF(社会!AU19=1,AU$155,0)","v":0},{"$f":"IF(社会!AV19=1,AV$155,0)","v":0},{"$f":"IF(社会!AW19=1,AW$155,0)","v":0},{"$f":"IF(社会!AX19=1,AX$155,0)","v":0},{"$f":"IF(社会!AY19=1,AY$155,0)","v":0},{"$f":"IF(社会!AZ19=1,AZ$155,0)","v":0},{"$f":"IF(社会!BA19=1,BA$155,0)","v":0},{"$f":"IF(社会!BB19=1,BB$155,0)","v":0},null,0,0,{"$error":"#DIV/0!"},{"$error":"#DIV/0!"},{"$error":"#DIV/0!"}]
[null,10,null,null,{"$f":"IF(社会!E20=1,E$155,0)","v":0},{"$f":"IF(社会!F20=1,F$155,0)","v":0},{"$f":"IF(社会!G20=1,G$155,0)","v":0},{"$f":"IF(社会!H20=1,H$155,0)","v":0},{"$f":"IF(社会!I20=1,I$155,0)","v":0},{"$f":"IF(社会!J20=1,J$155,0)","v":0},{"$f":"IF(社会!K20=1,K$155,0)","v":0},{"$f":"IF(社会!L20=1,L$155,0)","v":0},{"$f":"IF(社会!M20=1,M$155,0)","v":0},{"$f":"IF(社会!N20=1,N$155,0)","v":0},{"$f":"IF(社会!O20=1,O$155,0)","v":0},{"$f":"IF(社会!P20=1,P$155,0)","v":0},{"$f":"IF(社会!Q20=1,Q$155,0)","v":0},{"$f":"IF(社会!R20=1,R$155,0)","v":0},{"$f":"IF(社会!S20=1,S$155,0)","v":0},{"$f":"IF(社会!T20=1,T$155,0)","v":0},{"$f":"IF(社会!U20=1,U$155,0)","v":0},{"$f":"IF(社会!V20=1,V$155,0)","v":0},{"$f":"IF(社会!W20=1,W$155,0)","v":0},{"$f":"IF(社会!X20=1,X$155,0)","v":0},{"$f":"IF(社会!Y20=1,Y$155,0)","v":0},{"$f":"IF(社会!Z20=1,Z$155,0)","v":0},{"$f":"IF(社会!AA20=1,AA$155,0)","v":0},{"$f":"IF(社会!AB20=1,AB$155,0)","v":0},{"$f":"IF(社会!AC20=1,AC$155,0)","v":0},{"$f":"IF(社会!AD20=1,AD$155,0)","v":0},{"$f":"IF(社会!AE20=1,AE$155,0)","v":0},{"$f":"IF(社会!AF20=1,AF$155,0)","v":0},{"$f":"IF(社会!AG20=1,AG$155,0)","v":0},{"$f":"IF(社会!AH20=1,AH$155,0)","v":0},{"$f":"IF(社会!AI20=1,AI$155,0)","v":0},{"$f":"IF(社会!AJ20=1,AJ$155,0)","v":0},{"$f":"IF(社会!AK20=1,AK$155,0)","v":0},{"$f":"IF(社会!AL20=1,AL$155,0)","v":0},{"$f":"IF(社会!AM20=1,AM$155,0)","v":0},{"$f":"IF(社会!AN20=1,AN$155,0)","v":0},{"$f":"IF(社会!AO20=1,AO$155,0)","v":0},{"$f":"IF(社会!AP20=1,AP$155,0)","v":0},{"$f":"IF(社会!AQ20=1,AQ$155,0)","v":0},{"$f":"IF(社会!AR20=1,AR$155,0)","v":0},{"$f":"IF(社会!AS20=1,AS$155,0)","v":0},{"$f":"IF(社会!AT20=1,AT$155,0)","v":0},{"$f":"IF(社会!AU20=1,AU$155,0)","v":0},{"$f":"IF(社会!AV20=1,AV$155,0)","v":0},{"$f":"IF(社会!AW20=1,AW$155,0)","v":0},{"$f":"IF(社会!AX20=1,AX$155,0)","v":0},{"$f":"IF(社会!AY20=1,AY$155,0)","v":0},{"$f":"IF(社会!AZ20=1,AZ$155,0)","v":0},{"$f":"IF(社会!BA20=1,BA$155,0)","v":0},{"$f":"IF(社会!BB20=1,BB$155,0)","v":0},null,0,0,{"$error":"#DIV/0!"},{"$error":"#DIV/0!"},{"$error":"#DIV/0!"}]
[null,11,null,null,{"$f":"IF(社会!E21=1,E$155,0)","v":0},{"$f":"IF(社会!F21=1,F$155,0)","v":0},{"$f":"IF(社会!G21=1,G$155,0)","v":0},{"$f":"IF(社会!H21=1,H$155,0)","v":0},{"$f":"IF(社会!I21=1,I$155,0)","v":0},{"$f":"IF(社会!J21=1,J$155,0)","v":0},{"$f":"IF(社会!K21=1,K$155,0)","v":0},{"$f":"IF(社会!L21=1,L$155,0)","v":0},{"$f":"IF(社会!M21=1,M$155,0)","v":0},{"$f":"IF(社会!N21=1,N$155,0)","v":0},{"$f":"IF(社会!O21=1,O$155,0)","v":0},{"$f":"IF(社会!P21=1,P$155,0)","v":0},{"$f":"IF(社会!Q21=1,Q$155,0)","v":0},{"$f":"IF(社会!R21=1,R$155,0)","v":0},{"$f":"IF(社会!S21=1,S$155,0)","v":0},{"$f":"IF(社会!T21=1,T$155,0)","v":0},{"$f":"IF(社会!U21=1,U$155,0)","v":0},{"$f":"IF(社会!V21=1,V$155,0)","v":0},{"$f":"IF(社会!W21=1,W$155,0)","v":0},{"$f":"IF(社会!X21=1,X$155,0)","v":0},{"$f":"IF(社会!Y21=1,Y$155,0)","v":0},{"$f":"IF(社会!Z21=1,Z$155,0)","v":0},{"$f":"IF(社会!AA21=1,AA$155,0)","v":0},{"$f":"IF(社会!AB21=1,AB$155,0)","v":0},{"$f":"IF(社会!AC21=1,AC$155,0)","v":0},{"$f":"IF(社会!AD21=1,AD$155,0)","v":0},{"$f":"IF(社会!AE21=1,AE$155,0)","v":0},{"$f":"IF(社会!AF21=1,AF$155,0)","v":0},{"$f":"IF(社会!AG21=1,AG$155,0)","v":0},{"$f":"IF(社会!AH21=1,AH$155,0)","v":0},{"$f":"IF(社会!AI21=1,AI$155,0)","v":0},{"$f":"IF(社会!AJ21=1,AJ$155,0)","v":0},{"$f":"IF(社会!AK21=1,AK$155,0)","v":0},{"$f":"IF(社会!AL21=1,AL$155,0)","v":0},{"$f":"IF(社会!AM21=1,AM$155,0)","v":0},{"$f":"IF(社会!AN21=1,AN$155,0)","v":0},{"$f":"IF(社会!AO21=1,AO$155,0)","v":0},{"$f":"IF(社会!AP21=1,AP$155,0)","v":0},{"$f":"IF(社会!AQ21=1,AQ$155,0)","v":0},{"$f":"IF(社会!AR21=1,AR$155,0)","v":0},{"$f":"IF(社会!AS21=1,AS$155,0)","v":0},{"$f":"IF(社会!AT21=1,AT$155,0)","v":0},{"$f":"IF(社会!AU21=1,AU$155,0)","v":0},{"$f":"IF(社会!AV21=1,AV$155,0)","v":0},{"$f":"IF(社会!AW21=1,AW$155,0)","v":0},{"$f":"IF(社会!AX21=1,AX$155,0)","v":0},{"$f":"IF(社会!AY21=1,AY$155,0)","v":0},{"$f":"IF(社会!AZ21=1,AZ$155,0)","v":0},{"$f":"IF(社会!BA21=1,BA$155,0)","v":0},{"$f":"IF(社会!BB21=1,BB$155,0)","v":0},null,0,0,{"$error":"#DIV/0!"},{"$error":"#DIV/0!"},{"$error":"#DIV/0!"}]
[null,12,null,null,{"$f":"IF(社会!E22=1,E$155,0)","v":0},{"$f":"IF(社会!F22=1,F$155,0)","v":0},{"$f":"IF(社会!G22=1,G$155,0)","v":0},{"$f":"IF(社会!H22=1,H$155,0)","v":0},{"$f":"IF(社会!I22=1,I$155,0)","v":0},{"$f":"IF(社会!J22=1,J$155,0)","v":0},{"$f":"IF(社会!K22=1,K$155,0)","v":0},{"$f":"IF(社会!L22=1,L$155,0)","v":0},{"$f":"IF(社会!M22=1,M$155,0)","v":0},{"$f":"IF(社会!N22=1,N$155,0)","v":0},{"$f":"IF(社会!O22=1,O$155,0)","v":0},{"$f":"IF(社会!P22=1,P$155,0)","v":0},{"$f":"IF(社会!Q22=1,Q$155,0)","v":0},{"$f":"IF(社会!R22=1,R$155,0)","v":0},{"$f":"IF(社会!S22=1,S$155,0)","v":0},{"$f":"IF(社会!T22=1,T$155,0)","v":0},{"$f":"IF(社会!U22=1,U$155,0)","v":0},{"$f":"IF(社会!V22=1,V$155,0)","v":0},{"$f":"IF(社会!W22=1,W$155,0)","v":0},{"$f":"IF(社会!X22=1,X$155,0)","v":0},{"$f":"IF(社会!Y22=1,Y$155,0)","v":0},{"$f":"IF(社会!Z22=1,Z$155,0)","v":0},{"$f":"IF(社会!AA22=1,AA$155,0)","v":0},{"$f":"IF(社会!AB22=1,AB$155,0)","v":0},{"$f":"IF(社会!AC22=1,AC$155,0)","v":0},{"$f":"IF(社会!AD22=1,AD$155,0)","v":0},{"$f":"IF(社会!AE22=1,AE$155,0)","v":0},{"$f":"IF(社会!AF22=1,AF$155,0)","v":0},{"$f":"IF(社会!AG22=1,AG$155,0)","v":0},{"$f":"IF(社会!AH22=1,AH$155,0)","v":0},{"$f":"IF(社会!AI22=1,AI$155,0)","v":0},{"$f":"IF(社会!AJ22=1,AJ$155,0)","v":0},{"$f":"IF(社会!AK22=1,AK$155,0)","v":0},{"$f":"IF(社会!AL22=1,AL$155,0)","v":0},{"$f":"IF(社会!AM22=1,AM$155,0)","v":0},{"$f":"IF(社会!AN22=1,AN$155,0)","v":0},{"$f":"IF(社会!AO22=1,AO$155,0)","v":0},{"$f":"IF(社会!AP22=1,AP$155,0)","v":0},{"$f":"IF(社会!AQ22=1,AQ$155,0)","v":0},{"$f":"IF(社会!AR22=1,AR$155,0)","v":0},{"$f":"IF(社会!AS22=1,AS$155,0)","v":0},{"$f":"IF(社会!AT22=1,AT$155,0)","v":0},{"$f":"IF(社会!AU22=1,AU$155,0)","v":0},{"$f":"IF(社会!AV22=1,AV$155,0)","v":0},{"$f":"IF(社会!AW22=1,AW$155,0)","v":0},{"$f":"IF(社会!AX22=1,AX$155,0)","v":0},{"$f":"IF(社会!AY22=1,AY$155,0)","v":0},{"$f":"IF(社会!AZ22=1,AZ$155,0)","v":0},{"$f":"IF(社会!BA22=1,BA$155,0)","v":0},{"$f":"IF(社会!BB22=1,BB$155,0)","v":0},null,0,0,{"$error":"#DIV/0!"},{"$error":"#DIV/0!"},{"$error":"#DIV/0!"}]
[null,13,null,null,{"$f":"IF(社会!E23=1,E$155,0)","v":0},{"$f":"IF(社会!F23=1,F$155,0)","v":0},{"$f":"IF(社会!G23=1,G$155,0)","v":0},{"$f":"IF(社会!H23=1,H$155,0)","v":0},{"$f":"IF(社会!I23=1,I$155,0)","v":0},{"$f":"IF(社会!J23=1,J$155,0)","v":0},{"$f":"IF(社会!K23=1,K$155,0)","v":0},{"$f":"IF(社会!L23=1,L$155,0)","v":0},{"$f":"IF(社会!M23=1,M$155,0)","v":0},{"$f":"IF(社会!N23=1,N$155,0)","v":0},{"$f":"IF(社会!O23=1,O$155,0)","v":0},{"$f":"IF(社会!P23=1,P$155,0)","v":0},{"$f":"IF(社会!Q23=1,Q$155,0)","v":0},{"$f":"IF(社会!R23=1,R$155,0)","v":0},{"$f":"IF(社会!S23=1,S$155,0)","v":0},{"$f":"IF(社会!T23=1,T$155,0)","v":0},{"$f":"IF(社会!U23=1,U$155,0)","v":0},{"$f":"IF(社会!V23=1,V$155,0)","v":0},{"$f":"IF(社会!W23=1,W$155,0)","v":0},{"$f":"IF(社会!X23=1,X$155,0)","v":0},{"$f":"IF(社会!Y23=1,Y$155,0)","v":0},{"$f":"IF(社会!Z23=1,Z$155,0)","v":0},{"$f":"IF(社会!AA23=1,AA$155,0)","v":0},{"$f":"IF(社会!AB23=1,AB$155,0)","v":0},{"$f":"IF(社会!AC23=1,AC$155,0)","v":0},{"$f":"IF(社会!AD23=1,AD$155,0)","v":0},{"$f":"IF(社会!AE23=1,AE$155,0)","v":0},{"$f":"IF(社会!AF23=1,AF$155,0)","v":0},{"$f":"IF(社会!AG23=1,AG$155,0)","v":0},{"$f":"IF(社会!AH23=1,AH$155,0)","v":0},{"$f":"IF(社会!AI23=1,AI$155,0)","v":0},{"$f":"IF(社会!AJ23=1,AJ$155,0)","v":0},{"$f":"IF(社会!AK23=1,AK$155,0)","v":0},{"$f":"IF(社会!AL23=1,AL$155,0)","v":0},{"$f":"IF(社会!AM23=1,AM$155,0)","v":0},{"$f":"IF(社会!AN23=1,AN$155,0)","v":0},{"$f":"IF(社会!AO23=1,AO$155,0)","v":0},{"$f":"IF(社会!AP23=1,AP$155,0)","v":0},{"$f":"IF(社会!AQ23=1,AQ$155,0)","v":0},{"$f":"IF(社会!AR23=1,AR$155,0)","v":0},{"$f":"IF(社会!AS23=1,AS$155,0)","v":0},{"$f":"IF(社会!AT23=1,AT$155,0)","v":0},{"$f":"IF(社会!AU23=1,AU$155,0)","v":0},{"$f":"IF(社会!AV23=1,AV$155,0)","v":0},{"$f":"IF(社会!AW23=1,AW$155,0)","v":0},{"$f":"IF(社会!AX23=1,AX$155,0)","v":0},{"$f":"IF(社会!AY23=1,AY$155,0)","v":0},{"$f":"IF(社会!AZ23=1,AZ$155,0)","v":0},{"$f":"IF(社会!BA23=1,BA$155,0)","v":0},{"$f":"IF(社会!BB23=1,BB$155,0)","v":0},null,0,0,{"$error":"#DIV/0!"},{"$error":"#DIV/0!"},{"$error":"#DIV/0!"}]
[null,14,null,null,{"$f":"IF(社会!E24=1,E$155,0)","v":0},{"$f":"IF(社会!F24=1,F$155,0)","v":0},{"$f":"IF(社会!G24=1,G$155,0)","v":0},{"$f":"IF(社会!H24=1,H$155,0)","v":0},{"$f":"IF(社会!I24=1,I$155,0)","v":0},{"$f":"IF(社会!J24=1,J$155,0)","v":0},{"$f":"IF(社会!K24=1,K$155,0)","v":0},{"$f":"IF(社会!L24=1,L$155,0)","v":0},{"$f":"IF(社会!M24=1,M$155,0)","v":0},{"$f":"IF(社会!N24=1,N$155,0)","v":0},{"$f":"IF(社会!O24=1,O$155,0)","v":0},{"$f":"IF(社会!P24=1,P$155,0)","v":0},{"$f":"IF(社会!Q24=1,Q$155,0)","v":0},{"$f":"IF(社会!R24=1,R$155,0)","v":0},{"$f":"IF(社会!S24=1,S$155,0)","v":0},{"$f":"IF(社会!T24=1,T$155,0)","v":0},{"$f":"IF(社会!U24=1,U$155,0)","v":0},{"$f":"IF(社会!V24=1,V$155,0)","v":0},{"$f":"IF(社会!W24=1,W$155,0)","v":0},{"$f":"IF(社会!X24=1,X$155,0)","v":0},{"$f":"IF(社会!Y24=1,Y$155,0)","v":0},{"$f":"IF(社会!Z24=1,Z$155,0)","v":0},{"$f":"IF(社会!AA24=1,AA$155,0)","v":0},{"$f":"IF(社会!AB24=1,AB$155,0)","v":0},{"$f":"IF(社会!AC24=1,AC$155,0)","v":0},{"$f":"IF(社会!AD24=1,AD$155,0)","v":0},{"$f":"IF(社会!AE24=1,AE$155,0)","v":0},{"$f":"IF(社会!AF24=1,AF$155,0)","v":0},{"$f":"IF(社会!AG24=1,AG$155,0)","v":0},{"$f":"IF(社会!AH24=1,AH$155,0)","v":0},{"$f":"IF(社会!AI24=1,AI$155,0)","v":0},{"$f":"IF(社会!AJ24=1,AJ$155,0)","v":0},{"$f":"IF(社会!AK24=1,AK$155,0)","v":0},{"$f":"IF(社会!AL24=1,AL$155,0)","v":0},{"$f":"IF(社会!AM24=1,AM$155,0)","v":0},{"$f":"IF(社会!AN24=1,AN$155,0)","v":0},{"$f":"IF(社会!AO24=1,AO$155,0)","v":0},{"$f":"IF(社会!AP24=1,AP$155,0)","v":0},{"$f":"IF(社会!AQ24=1,AQ$155,0)","v":0},{"$f":"IF(社会!AR24=1,AR$155,0)","v":0},{"$f":"IF(社会!AS24=1,AS$155,0)","v":0},{"$f":"IF(社会!AT24=1,AT$155,0)","v":0},{"$f":"IF(社会!AU24=1,AU$155,0)","v":0},{"$f":"IF(社会!AV24=1,AV$155,0)","v":0},{"$f":"IF(社会!AW24=1,AW$155,0)","v":0},{"$f":"IF(社会!AX24=1,AX$155,0)","v":0},{"$f":"IF(社会!AY24=1,AY$155,0)","v":0},{"$f":"IF(社会!AZ24=1,AZ$155,0)","v":0},{"$f":"IF(社会!BA24=1,BA$155,0)","v":0},{"$f":"IF(社会!BB24=1,BB$155,0)","v":0},null,0,0,{"$error":"#DIV/0!"},{"$error":"#DIV/0!"},{"$error":"#DIV/0!"}]
[null,15,null,null,{"$f":"IF(社会!E25=1,E$155,0)","v":0},{"$f":"IF(社会!F25=1,F$155,0)","v":0},{"$f":"IF(社会!G25=1,G$155,0)","v":0},{"$f":"IF(社会!H25=1,H$155,0)","v":0},{"$f":"IF(社会!I25=1,I$155,0)","v":0},{"$f":"IF(社会!J25=1,J$155,0)","v":0},{"$f":"IF(社会!K25=1,K$155,0)","v":0},{"$f":"IF(社会!L25=1,L$155,0)","v":0},{"$f":"IF(社会!M25=1,M$155,0)","v":0},{"$f":"IF(社会!N25=1,N$155,0)","v":0},{"$f":"IF(社会!O25=1,O$155,0)","v":0},{"$f":"IF(社会!P25=1,P$155,0)","v":0},{"$f":"IF(社会!Q25=1,Q$155,0)","v":0},{"$f":"IF(社会!R25=1,R$155,0)","v":0},{"$f":"IF(社会!S25=1,S$155,0)","v":0},{"$f":"IF(社会!T25=1,T$155,0)","v":0},{"$f":"IF(社会!U25=1,U$155,0)","v":0},{"$f":"IF(社会!V25=1,V$155,0)","v":0},{"$f":"IF(社会!W25=1,W$155,0)","v":0},{"$f":"IF(社会!X25=1,X$155,0)","v":0},{"$f":"IF(社会!Y25=1,Y$155,0)","v":0},{"$f":"IF(社会!Z25=1,Z$155,0)","v":0},{"$f":"IF(社会!AA25=1,AA$155,0)","v":0},{"$f":"IF(社会!AB25=1,AB$155,0)","v":0},{"$f":"IF(社会!AC25=1,AC$155,0)","v":0},{"$f":"IF(社会!AD25=1,AD$155,0)","v":0},{"$f":"IF(社会!AE25=1,AE$155,0)","v":0},{"$f":"IF(社会!AF25=1,AF$155,0)","v":0},{"$f":"IF(社会!AG25=1,AG$155,0)","v":0},{"$f":"IF(社会!AH25=1,AH$155,0)","v":0},{"$f":"IF(社会!AI25=1,AI$155,0)","v":0},{"$f":"IF(社会!AJ25=1,AJ$155,0)","v":0},{"$f":"IF(社会!AK25=1,AK$155,0)","v":0},{"$f":"IF(社会!AL25=1,AL$155,0)","v":0},{"$f":"IF(社会!AM25=1,AM$155,0)","v":0},{"$f":"IF(社会!AN25=1,AN$155,0)","v":0},{"$f":"IF(社会!AO25=1,AO$155,0)","v":0},{"$f":"IF(社会!AP25=1,AP$155,0)","v":0},{"$f":"IF(社会!AQ25=1,AQ$155,0)","v":0},{"$f":"IF(社会!AR25=1,AR$155,0)","v":0},{"$f":"IF(社会!AS25=1,AS$155,0)","v":0},{"$f":"IF(社会!AT25=1,AT$155,0)","v":0},{"$f":"IF(社会!AU25=1,AU$155,0)","v":0},{"$f":"IF(社会!AV25=1,AV$155,0)","v":0},{"$f":"IF(社会!AW25=1,AW$155,0)","v":0},{"$f":"IF(社会!AX25=1,AX$155,0)","v":0},{"$f":"IF(社会!AY25=1,AY$155,0)","v":0},{"$f":"IF(社会!AZ25=1,AZ$155,0)","v":0},{"$f":"IF(社会!BA25=1,BA$155,0)","v":0},{"$f":"IF(社会!BB25=1,BB$155,0)","v":0},null,0,0,{"$error":"#DIV/0!"},{"$error":"#DIV/0!"},{"$error":"#DIV/0!"}]
[null,16,null,null,{"$f":"IF(社会!E26=1,E$155,0)","v":0},{"$f":"IF(社会!F26=1,F$155,0)","v":0},{"$f":"IF(社会!G26=1,G$155,0)","v":0},{"$f":"IF(社会!H26=1,H$155,0)","v":0},{"$f":"IF(社会!I26=1,I$155,0)","v":0},{"$f":"IF(社会!J26=1,J$155,0)","v":0},{"$f":"IF(社会!K26=1,K$155,0)","v":0},{"$f":"IF(社会!L26=1,L$155,0)","v":0},{"$f":"IF(社会!M26=1,M$155,0)","v":0},{"$f":"IF(社会!N26=1,N$155,0)","v":0},{"$f":"IF(社会!O26=1,O$155,0)","v":0},{"$f":"IF(社会!P26=1,P$155,0)","v":0},{"$f":"IF(社会!Q26=1,Q$155,0)","v":0},{"$f":"IF(社会!R26=1,R$155,0)","v":0},{"$f":"IF(社会!S26=1,S$155,0)","v":0},{"$f":"IF(社会!T26=1,T$155,0)","v":0},{"$f":"IF(社会!U26=1,U$155,0)","v":0},{"$f":"IF(社会!V26=1,V$155,0)","v":0},{"$f":"IF(社会!W26=1,W$155,0)","v":0},{"$f":"IF(社会!X26=1,X$155,0)","v":0},{"$f":"IF(社会!Y26=1,Y$155,0)","v":0},{"$f":"IF(社会!Z26=1,Z$155,0)","v":0},{"$f":"IF(社会!AA26=1,AA$155,0)","v":0},{"$f":"IF(社会!AB26=1,AB$155,0)","v":0},{"$f":"IF(社会!AC26=1,AC$155,0)","v":0},{"$f":"IF(社会!AD26=1,AD$155,0)","v":0},{"$f":"IF(社会!AE26=1,AE$155,0)","v":0},{"$f":"IF(社会!AF26=1,AF$155,0)","v":0},{"$f":"IF(社会!AG26=1,AG$155,0)","v":0},{"$f":"IF(社会!AH26=1,AH$155,0)","v":0},{"$f":"IF(社会!AI26=1,AI$155,0)","v":0},{"$f":"IF(社会!AJ26=1,AJ$155,0)","v":0},{"$f":"IF(社会!AK26=1,AK$155,0)","v":0},{"$f":"IF(社会!AL26=1,AL$155,0)","v":0},{"$f":"IF(社会!AM26=1,AM$155,0)","v":0},{"$f":"IF(社会!AN26=1,AN$155,0)","v":0},{"$f":"IF(社会!AO26=1,AO$155,0)","v":0},{"$f":"IF(社会!AP26=1,AP$155,0)","v":0},{"$f":"IF(社会!AQ26=1,AQ$155,0)","v":0},{"$f":"IF(社会!AR26=1,AR$155,0)","v":0},{"$f":"IF(社会!AS26=1,AS$155,0)","v":0},{"$f":"IF(社会!AT26=1,AT$155,0)","v":0},{"$f":"IF(社会!AU26=1,AU$155,0)","v":0},{"$f":"IF(社会!AV26=1,AV$155,0)","v":0},{"$f":"IF(社会!AW26=1,AW$155,0)","v":0},{"$f":"IF(社会!AX26=1,AX$155,0)","v":0},{"$f":"IF(社会!AY26=1,AY$155,0)","v":0},{"$f":"IF(社会!AZ26=1,AZ$155,0)","v":0},{"$f":"IF(社会!BA26=1,BA$155,0)","v":0},{"$f":"IF(社会!BB26=1,BB$155,0)","v":0},null,0,0,{"$error":"#DIV/0!"},{"$error":"#DIV/0!"},{"$error":"#DIV/0!"}]
[null,17,null,null,{"$f":"IF(社会!E27=1,E$155,0)","v":0},{"$f":"IF(社会!F27=1,F$155,0)","v":0},{"$f":"IF(社会!G27=1,G$155,0)","v":0},{"$f":"IF(社会!H27=1,H$155,0)","v":0},{"$f":"IF(社会!I27=1,I$155,0)","v":0},{"$f":"IF(社会!J27=1,J$155,0)","v":0},{"$f":"IF(社会!K27=1,K$155,0)","v":0},{"$f":"IF(社会!L27=1,L$155,0)","v":0},{"$f":"IF(社会!M27=1,M$155,0)","v":0},{"$f":"IF(社会!N27=1,N$155,0)","v":0},{"$f":"IF(社会!O27=1,O$155,0)","v":0},{"$f":"IF(社会!P27=1,P$155,0)","v":0},{"$f":"IF(社会!Q27=1,Q$155,0)","v":0},{"$f":"IF(社会!R27=1,R$155,0)","v":0},{"$f":"IF(社会!S27=1,S$155,0)","v":0},{"$f":"IF(社会!T27=1,T$155,0)","v":0},{"$f":"IF(社会!U27=1,U$155,0)","v":0},{"$f":"IF(社会!V27=1,V$155,0)","v":0},{"$f":"IF(社会!W27=1,W$155,0)","v":0},{"$f":"IF(社会!X27=1,X$155,0)","v":0},{"$f":"IF(社会!Y27=1,Y$155,0)","v":0},{"$f":"IF(社会!Z27=1,Z$155,0)","v":0},{"$f":"IF(社会!AA27=1,AA$155,0)","v":0},{"$f":"IF(社会!AB27=1,AB$155,0)","v":0},{"$f":"IF(社会!AC27=1,AC$155,0)","v":0},{"$f":"IF(社会!AD27=1,AD$155,0)","v":0},{"$f":"IF(社会!AE27=1,AE$155,0)","v":0},{"$f":"IF(社会!AF27=1,AF$155,0)","v":0},{"$f":"IF(社会!AG27=1,AG$155,0)","v":0},{"$f":"IF(社会!AH27=1,AH$155,0)","v":0},{"$f":"IF(社会!AI27=1,AI$155,0)","v":0},{"$f":"IF(社会!AJ27=1,AJ$155,0)","v":0},{"$f":"IF(社会!AK27=1,AK$155,0)","v":0},{"$f":"IF(社会!AL27=1,AL$155,0)","v":0},{"$f":"IF(社会!AM27=1,AM$155,0)","v":0},{"$f":"IF(社会!AN27=1,AN$155,0)","v":0},{"$f":"IF(社会!AO27=1,AO$155,0)","v":0},{"$f":"IF(社会!AP27=1,AP$155,0)","v":0},{"$f":"IF(社会!AQ27=1,AQ$155,0)","v":0},{"$f":"IF(社会!AR27=1,AR$155,0)","v":0},{"$f":"IF(社会!AS27=1,AS$155,0)","v":0},{"$f":"IF(社会!AT27=1,AT$155,0)","v":0},{"$f":"IF(社会!AU27=1,AU$155,0)","v":0},{"$f":"IF(社会!AV27=1,AV$155,0)","v":0},{"$f":"IF(社会!AW27=1,AW$155,0)","v":0},{"$f":"IF(社会!AX27=1,AX$155,0)","v":0},{"$f":"IF(社会!AY27=1,AY$155,0)","v":0},{"$f":"IF(社会!AZ27=1,AZ$155,0)","v":0},{"$f":"IF(社会!BA27=1,BA$155,0)","v":0},{"$f":"IF(社会!BB27=1,BB$155,0)","v":0},null,0,0,{"$error":"#DIV/0!"},{"$error":"#DIV/0!"},{"$error":"#DIV/0!"}]
[null,18,null,null,{"$f":"IF(社会!E28=1,E$155,0)","v":0},{"$f":"IF(社会!F28=1,F$155,0)","v":0},{"$f":"IF(社会!G28=1,G$155,0)","v":0},{"$f":"IF(社会!H28=1,H$155,0)","v":0},{"$f":"IF(社会!I28=1,I$155,0)","v":0},{"$f":"IF(社会!J28=1,J$155,0)","v":0},{"$f":"IF(社会!K28=1,K$155,0)","v":0},{"$f":"IF(社会!L28=1,L$155,0)","v":0},{"$f":"IF(社会!M28=1,M$155,0)","v":0},{"$f":"IF(社会!N28=1,N$155,0)","v":0},{"$f":"IF(社会!O28=1,O$155,0)","v":0},{"$f":"IF(社会!P28=1,P$155,0)","v":0},{"$f":"IF(社会!Q28=1,Q$155,0)","v":0},{"$f":"IF(社会!R28=1,R$155,0)","v":0},{"$f":"IF(社会!S28=1,S$155,0)","v":0},{"$f":"IF(社会!T28=1,T$155,0)","v":0},{"$f":"IF(社会!U28=1,U$155,0)","v":0},{"$f":"IF(社会!V28=1,V$155,0)","v":0},{"$f":"IF(社会!W28=1,W$155,0)","v":0},{"$f":"IF(社会!X28=1,X$155,0)","v":0},{"$f":"IF(社会!Y28=1,Y$155,0)","v":0},{"$f":"IF(社会!Z28=1,Z$155,0)","v":0},{"$f":"IF(社会!AA28=1,AA$155,0)","v":0},{"$f":"IF(社会!AB28=1,AB$155,0)","v":0},{"$f":"IF(社会!AC28=1,AC$155,0)","v":0},{"$f":"IF(社会!AD28=1,AD$155,0)","v":0},{"$f":"IF(社会!AE28=1,AE$155,0)","v":0},{"$f":"IF(社会!AF28=1,AF$155,0)","v":0},{"$f":"IF(社会!AG28=1,AG$155,0)","v":0},{"$f":"IF(社会!AH28=1,AH$155,0)","v":0},{"$f":"IF(社会!AI28=1,AI$155,0)","v":0},{"$f":"IF(社会!AJ28=1,AJ$155,0)","v":0},{"$f":"IF(社会!AK28=1,AK$155,0)","v":0},{"$f":"IF(社会!AL28=1,AL$155,0)","v":0},{"$f":"IF(社会!AM28=1,AM$155,0)","v":0},{"$f":"IF(社会!AN28=1,AN$155,0)","v":0},{"$f":"IF(社会!AO28=1,AO$155,0)","v":0},{"$f":"IF(社会!AP28=1,AP$155,0)","v":0},{"$f":"IF(社会!AQ28=1,AQ$155,0)","v":0},{"$f":"IF(社会!AR28=1,AR$155,0)","v":0},{"$f":"IF(社会!AS28=1,AS$155,0)","v":0},{"$f":"IF(社会!AT28=1,AT$155,0)","v":0},{"$f":"IF(社会!AU28=1,AU$155,0)","v":0},{"$f":"IF(社会!AV28=1,AV$155,0)","v":0},{"$f":"IF(社会!AW28=1,AW$155,0)","v":0},{"$f":"IF(社会!AX28=1,AX$155,0)","v":0},{"$f":"IF(社会!AY28=1,AY$155,0)","v":0},{"$f":"IF(社会!AZ28=1,AZ$155,0)","v":0},{"$f":"IF(社会!BA28=1,BA$155,0)","v":0},{"$f":"IF(社会!BB28=1,BB$155,0)","v":0},null,{"$f":"SUMIF($E$154:$BB$154,BD$154,$E173:$BB173)/BD$155","v":0},0,{"$error":"#DIV/0!"},{"$error":"#DIV/0!"},{"$error":"#DIV/0!"}]
[null,19,null,null,{"$f":"IF(社会!E29=1,E$155,0)","v":0},{"$f":"IF(社会!F29=1,F$155,0)","v":0},{"$f":"IF(社会!G29=1,G$155,0)","v":0},{"$f":"IF(社会!H29=1,H$155,0)","v":0},{"$f":"IF(社会!I29=1,I$155,0)","v":0},{"$f":"IF(社会!J29=1,J$155,0)","v":0},{"$f":"IF(社会!K29=1,K$155,0)","v":0},{"$f":"IF(社会!L29=1,L$155,0)","v":0},{"$f":"IF(社会!M29=1,M$155,0)","v":0},{"$f":"IF(社会!N29=1,N$155,0)","v":0},{"$f":"IF(社会!O29=1,O$155,0)","v":0},{"$f":"IF(社会!P29=1,P$155,0)","v":0},{"$f":"IF(社会!Q29=1,Q$155,0)","v":0},{"$f":"IF(社会!R29=1,R$155,0)","v":0},{"$f":"IF(社会!S29=1,S$155,0)","v":0},{"$f":"IF(社会!T29=1,T$155,0)","v":0},{"$f":"IF(社会!U29=1,U$155,0)","v":0},{"$f":"IF(社会!V29=1,V$155,0)","v":0},{"$f":"IF(社会!W29=1,W$155,0)","v":0},{"$f":"IF(社会!X29=1,X$155,0)","v":0},{"$f":"IF(社会!Y29=1,Y$155,0)","v":0},{"$f":"IF(社会!Z29=1,Z$155,0)","v":0},{"$f":"IF(社会!AA29=1,AA$155,0)","v":0},{"$f":"IF(社会!AB29=1,AB$155,0)","v":0},{"$f":"IF(社会!AC29=1,AC$155,0)","v":0},{"$f":"IF(社会!AD29=1,AD$155,0)","v":0},{"$f":"IF(社会!AE29=1,AE$155,0)","v":0},{"$f":"IF(社会!AF29=1,AF$155,0)","v":0},{"$f":"IF(社会!AG29=1,AG$155,0)","v":0},{"$f":"IF(社会!AH29=1,AH$155,0)","v":0},{"$f":"IF(社会!AI29=1,AI$155,0)","v":0},{"$f":"IF(社会!AJ29=1,AJ$155,0)","v":0},{"$f":"IF(社会!AK29=1,AK$155,0)","v":0},{"$f":"IF(社会!AL29=1,AL$155,0)","v":0},{"$f":"IF(社会!AM29=1,AM$155,0)","v":0},{"$f":"IF(社会!AN29=1,AN$155,0)","v":0},{"$f":"IF(社会!AO29=1,AO$155,0)","v":0},{"$f":"IF(社会!AP29=1,AP$155,0)","v":0},{"$f":"IF(社会!AQ29=1,AQ$155,0)","v":0},{"$f":"IF(社会!AR29=1,AR$155,0)","v":0},{"$f":"IF(社会!AS29=1,AS$155,0)","v":0},{"$f":"IF(社会!AT29=1,AT$155,0)","v":0},{"$f":"IF(社会!AU29=1,AU$155,0)","v":0},{"$f":"IF(社会!AV29=1,AV$155,0)","v":0},{"$f":"IF(社会!AW29=1,AW$155,0)","v":0},{"$f":"IF(社会!AX29=1,AX$155,0)","v":0},{"$f":"IF(社会!AY29=1,AY$155,0)","v":0},{"$f":"IF(社会!AZ29=1,AZ$155,0)","v":0},{"$f":"IF(社会!BA29=1,BA$155,0)","v":0},{"$f":"IF(社会!BB29=1,BB$155,0)","v":0},null,0,0,{"$error":"#DIV/0!"},{"$error":"#DIV/0!"},{"$error":"#DIV/0!"}]
[null,20,null,null,{"$f":"IF(社会!E30=1,E$155,0)","v":0},{"$f":"IF(社会!F30=1,F$155,0)","v":0},{"$f":"IF(社会!G30=1,G$155,0)","v":0},{"$f":"IF(社会!H30=1,H$155,0)","v":0},{"$f":"IF(社会!I30=1,I$155,0)","v":0},{"$f":"IF(社会!J30=1,J$155,0)","v":0},{"$f":"IF(社会!K30=1,K$155,0)","v":0},{"$f":"IF(社会!L30=1,L$155,0)","v":0},{"$f":"IF(社会!M30=1,M$155,0)","v":0},{"$f":"IF(社会!N30=1,N$155,0)","v":0},{"$f":"IF(社会!O30=1,O$155,0)","v":0},{"$f":"IF(社会!P30=1,P$155,0)","v":0},{"$f":"IF(社会!Q30=1,Q$155,0)","v":0},{"$f":"IF(社会!R30=1,R$155,0)","v":0},{"$f":"IF(社会!S30=1,S$155,0)","v":0},{"$f":"IF(社会!T30=1,T$155,0)","v":0},{"$f":"IF(社会!U30=1,U$155,0)","v":0},{"$f":"IF(社会!V30=1,V$155,0)","v":0},{"$f":"IF(社会!W30=1,W$155,0)","v":0},{"$f":"IF(社会!X30=1,X$155,0)","v":0},{"$f":"IF(社会!Y30=1,Y$155,0)","v":0},{"$f":"IF(社会!Z30=1,Z$155,0)","v":0},{"$f":"IF(社会!AA30=1,AA$155,0)","v":0},{"$f":"IF(社会!AB30=1,AB$155,0)","v":0},{"$f":"IF(社会!AC30=1,AC$155,0)","v":0},{"$f":"IF(社会!AD30=1,AD$155,0)","v":0},{"$f":"IF(社会!AE30=1,AE$155,0)","v":0},{"$f":"IF(社会!AF30=1,AF$155,0)","v":0},{"$f":"IF(社会!AG30=1,AG$155,0)","v":0},{"$f":"IF(社会!AH30=1,AH$155,0)","v":0},{"$f":"IF(社会!AI30=1,AI$155,0)","v":0},{"$f":"IF(社会!AJ30=1,AJ$155,0)","v":0},{"$f":"IF(社会!AK30=1,AK$155,0)","v":0},{"$f":"IF(社会!AL30=1,AL$155,0)","v":0},{"$f":"IF(社会!AM30=1,AM$155,0)","v":0},{"$f":"IF(社会!AN30=1,AN$155,0)","v":0},{"$f":"IF(社会!AO30=1,AO$155,0)","v":0},{"$f":"IF(社会!AP30=1,AP$155,0)","v":0},{"$f":"IF(社会!AQ30=1,AQ$155,0)","v":0},{"$f":"IF(社会!AR30=1,AR$155,0)","v":0},{"$f":"IF(社会!AS30=1,AS$155,0)","v":0},{"$f":"IF(社会!AT30=1,AT$155,0)","v":0},{"$f":"IF(社会!AU30=1,AU$155,0)","v":0},{"$f":"IF(社会!AV30=1,AV$155,0)","v":0},{"$f":"IF(社会!AW30=1,AW$155,0)","v":0},{"$f":"IF(社会!AX30=1,AX$155,0)","v":0},{"$f":"IF(社会!AY30=1,AY$155,0)","v":0},{"$f":"IF(社会!AZ30=1,AZ$155,0)","v":0},{"$f":"IF(社会!BA30=1,BA$155,0)","v":0},{"$f":"IF(社会!BB30=1,BB$155,0)","v":0},null,0,0,{"$error":"#DIV/0!"},{"$error":"#DIV/0!"},{"$error":"#DIV/0!"}]
[null,21,null,null,{"$f":"IF(社会!E31=1,E$155,0)","v":0},{"$f":"IF(社会!F31=1,F$155,0)","v":0},{"$f":"IF(社会!G31=1,G$155,0)","v":0},{"$f":"IF(社会!H31=1,H$155,0)","v":0},{"$f":"IF(社会!I31=1,I$155,0)","v":0},{"$f":"IF(社会!J31=1,J$155,0)","v":0},{"$f":"IF(社会!K31=1,K$155,0)","v":0},{"$f":"IF(社会!L31=1,L$155,0)","v":0},{"$f":"IF(社会!M31=1,M$155,0)","v":0},{"$f":"IF(社会!N31=1,N$155,0)","v":0},{"$f":"IF(社会!O31=1,O$155,0)","v":0},{"$f":"IF(社会!P31=1,P$155,0)","v":0},{"$f":"IF(社会!Q31=1,Q$155,0)","v":0},{"$f":"IF(社会!R31=1,R$155,0)","v":0},{"$f":"IF(社会!S31=1,S$155,0)","v":0},{"$f":"IF(社会!T31=1,T$155,0)","v":0},{"$f":"IF(社会!U31=1,U$155,0)","v":0},{"$f":"IF(社会!V31=1,V$155,0)","v":0},{"$f":"IF(社会!W31=1,W$155,0)","v":0},{"$f":"IF(社会!X31=1,X$155,0)","v":0},{"$f":"IF(社会!Y31=1,Y$155,0)","v":0},{"$f":"IF(社会!Z31=1,Z$155,0)","v":0},{"$f":"IF(社会!AA31=1,AA$155,0)","v":0},{"$f":"IF(社会!AB31=1,AB$155,0)","v":0},{"$f":"IF(社会!AC31=1,AC$155,0)","v":0},{"$f":"IF(社会!AD31=1,AD$155,0)","v":0},{"$f":"IF(社会!AE31=1,AE$155,0)","v":0},{"$f":"IF(社会!AF31=1,AF$155,0)","v":0},{"$f":"IF(社会!AG31=1,AG$155,0)","v":0},{"$f":"IF(社会!AH31=1,AH$155,0)","v":0},{"$f":"IF(社会!AI31=1,AI$155,0)","v":0},{"$f":"IF(社会!AJ31=1,AJ$155,0)","v":0},{"$f":"IF(社会!AK31=1,AK$155,0)","v":0},{"$f":"IF(社会!AL31=1,AL$155,0)","v":0},{"$f":"IF(社会!AM31=1,AM$155,0)","v":0},{"$f":"IF(社会!AN31=1,AN$155,0)","v":0},{"$f":"IF(社会!AO31=1,AO$155,0)","v":0},{"$f":"IF(社会!AP31=1,AP$155,0)","v":0},{"$f":"IF(社会!AQ31=1,AQ$155,0)","v":0},{"$f":"IF(社会!AR31=1,AR$155,0)","v":0},{"$f":"IF(社会!AS31=1,AS$155,0)","v":0},{"$f":"IF(社会!AT31=1,AT$155,0)","v":0},{"$f":"IF(社会!AU31=1,AU$155,0)","v":0},{"$f":"IF(社会!AV31=1,AV$155,0)","v":0},{"$f":"IF(社会!AW31=1,AW$155,0)","v":0},{"$f":"IF(社会!AX31=1,AX$155,0)","v":0},{"$f":"IF(社会!AY31=1,AY$155,0)","v":0},{"$f":"IF(社会!AZ31=1,AZ$155,0)","v":0},{"$f":"IF(社会!BA31=1,BA$155,0)","v":0},{"$f":"IF(社会!BB31=1,BB$155,0)","v":0},null,0,0,{"$error":"#DIV/0!"},{"$error":"#DIV/0!"},{"$error":"#DIV/0!"}]
[null,22,null,null,{"$f":"IF(社会!E32=1,E$155,0)","v":0},{"$f":"IF(社会!F32=1,F$155,0)","v":0},{"$f":"IF(社会!G32=1,G$155,0)","v":0},{"$f":"IF(社会!H32=1,H$155,0)","v":0},{"$f":"IF(社会!I32=1,I$155,0)","v":0},{"$f":"IF(社会!J32=1,J$155,0)","v":0},{"$f":"IF(社会!K32=1,K$155,0)","v":0},{"$f":"IF(社会!L32=1,L$155,0)","v":0},{"$f":"IF(社会!M32=1,M$155,0)","v":0},{"$f":"IF(社会!N32=1,N$155,0)","v":0},{"$f":"IF(社会!O32=1,O$155,0)","v":0},{"$f":"IF(社会!P32=1,P$155,0)","v":0},{"$f":"IF(社会!Q32=1,Q$155,0)","v":0},{"$f":"IF(社会!R32=1,R$155,0)","v":0},{"$f":"IF(社会!S32=1,S$155,0)","v":0},{"$f":"IF(社会!T32=1,T$155,0)","v":0},{"$f":"IF(社会!U32=1,U$155,0)","v":0},{"$f":"IF(社会!V32=1,V$155,0)","v":0},{"$f":"IF(社会!W32=1,W$155,0)","v":0},{"$f":"IF(社会!X32=1,X$155,0)","v":0},{"$f":"IF(社会!Y32=1,Y$155,0)","v":0},{"$f":"IF(社会!Z32=1,Z$155,0)","v":0},{"$f":"IF(社会!AA32=1,AA$155,0)","v":0},{"$f":"IF(社会!AB32=1,AB$155,0)","v":0},{"$f":"IF(社会!AC32=1,AC$155,0)","v":0},{"$f":"IF(社会!AD32=1,AD$155,0)","v":0},{"$f":"IF(社会!AE32=1,AE$155,0)","v":0},{"$f":"IF(社会!AF32=1,AF$155,0)","v":0},{"$f":"IF(社会!AG32=1,AG$155,0)","v":0},{"$f":"IF(社会!AH32=1,AH$155,0)","v":0},{"$f":"IF(社会!AI32=1,AI$155,0)","v":0},{"$f":"IF(社会!AJ32=1,AJ$155,0)","v":0},{"$f":"IF(社会!AK32=1,AK$155,0)","v":0},{"$f":"IF(社会!AL32=1,AL$155,0)","v":0},{"$f":"IF(社会!AM32=1,AM$155,0)","v":0},{"$f":"IF(社会!AN32=1,AN$155,0)","v":0},{"$f":"IF(社会!AO32=1,AO$155,0)","v":0},{"$f":"IF(社会!AP32=1,AP$155,0)","v":0},{"$f":"IF(社会!AQ32=1,AQ$155,0)","v":0},{"$f":"IF(社会!AR32=1,AR$155,0)","v":0},{"$f":"IF(社会!AS32=1,AS$155,0)","v":0},{"$f":"IF(社会!AT32=1,AT$155,0)","v":0},{"$f":"IF(社会!AU32=1,AU$155,0)","v":0},{"$f":"IF(社会!AV32=1,AV$155,0)","v":0},{"$f":"IF(社会!AW32=1,AW$155,0)","v":0},{"$f":"IF(社会!AX32=1,AX$155,0)","v":0},{"$f":"IF(社会!AY32=1,AY$155,0)","v":0},{"$f":"IF(社会!AZ32=1,AZ$155,0)","v":0},{"$f":"IF(社会!BA32=1,BA$155,0)","v":0},{"$f":"IF(社会!BB32=1,BB$155,0)","v":0},null,0,0,{"$error":"#DIV/0!"},{"$error":"#DIV/0!"},{"$error":"#DIV/0!"}]
[null,23,null,null,{"$f":"IF(社会!E33=1,E$155,0)","v":0},{"$f":"IF(社会!F33=1,F$155,0)","v":0},{"$f":"IF(社会!G33=1,G$155,0)","v":0},{"$f":"IF(社会!H33=1,H$155,0)","v":0},{"$f":"IF(社会!I33=1,I$155,0)","v":0},{"$f":"IF(社会!J33=1,J$155,0)","v":0},{"$f":"IF(社会!K33=1,K$155,0)","v":0},{"$f":"IF(社会!L33=1,L$155,0)","v":0},{"$f":"IF(社会!M33=1,M$155,0)","v":0},{"$f":"IF(社会!N33=1,N$155,0)","v":0},{"$f":"IF(社会!O33=1,O$155,0)","v":0},{"$f":"IF(社会!P33=1,P$155,0)","v":0},{"$f":"IF(社会!Q33=1,Q$155,0)","v":0},{"$f":"IF(社会!R33=1,R$155,0)","v":0},{"$f":"IF(社会!S33=1,S$155,0)","v":0},{"$f":"IF(社会!T33=1,T$155,0)","v":0},{"$f":"IF(社会!U33=1,U$155,0)","v":0},{"$f":"IF(社会!V33=1,V$155,0)","v":0},{"$f":"IF(社会!W33=1,W$155,0)","v":0},{"$f":"IF(社会!X33=1,X$155,0)","v":0},{"$f":"IF(社会!Y33=1,Y$155,0)","v":0},{"$f":"IF(社会!Z33=1,Z$155,0)","v":0},{"$f":"IF(社会!AA33=1,AA$155,0)","v":0},{"$f":"IF(社会!AB33=1,AB$155,0)","v":0},{"$f":"IF(社会!AC33=1,AC$155,0)","v":0},{"$f":"IF(社会!AD33=1,AD$155,0)","v":0},{"$f":"IF(社会!AE33=1,AE$155,0)","v":0},{"$f":"IF(社会!AF33=1,AF$155,0)","v":0},{"$f":"IF(社会!AG33=1,AG$155,0)","v":0},{"$f":"IF(社会!AH33=1,AH$155,0)","v":0},{"$f":"IF(社会!AI33=1,AI$155,0)","v":0},{"$f":"IF(社会!AJ33=1,AJ$155,0)","v":0},{"$f":"IF(社会!AK33=1,AK$155,0)","v":0},{"$f":"IF(社会!AL33=1,AL$155,0)","v":0},{"$f":"IF(社会!AM33=1,AM$155,0)","v":0},{"$f":"IF(社会!AN33=1,AN$155,0)","v":0},{"$f":"IF(社会!AO33=1,AO$155,0)","v":0},{"$f":"IF(社会!AP33=1,AP$155,0)","v":0},{"$f":"IF(社会!AQ33=1,AQ$155,0)","v":0},{"$f":"IF(社会!AR33=1,AR$155,0)","v":0},{"$f":"IF(社会!AS33=1,AS$155,0)","v":0},{"$f":"IF(社会!AT33=1,AT$155,0)","v":0},{"$f":"IF(社会!AU33=1,AU$155,0)","v":0},{"$f":"IF(社会!AV33=1,AV$155,0)","v":0},{"$f":"IF(社会!AW33=1,AW$155,0)","v":0},{"$f":"IF(社会!AX33=1,AX$155,0)","v":0},{"$f":"IF(社会!AY33=1,AY$155,0)","v":0},{"$f":"IF(社会!AZ33=1,AZ$155,0)","v":0},{"$f":"IF(社会!BA33=1,BA$155,0)","v":0},{"$f":"IF(社会!BB33=1,BB$155,0)","v":0},null,0,0,{"$error":"#DIV/0!"},{"$error":"#DIV/0!"},{"$error":"#DIV/0!"}]
[null,24,null,null,{"$f":"IF(社会!E34=1,E$155,0)","v":0},{"$f":"IF(社会!F34=1,F$155,0)","v":0},{"$f":"IF(社会!G34=1,G$155,0)","v":0},{"$f":"IF(社会!H34=1,H$155,0)","v":0},{"$f":"IF(社会!I34=1,I$155,0)","v":0},{"$f":"IF(社会!J34=1,J$155,0)","v":0},{"$f":"IF(社会!K34=1,K$155,0)","v":0},{"$f":"IF(社会!L34=1,L$155,0)","v":0},{"$f":"IF(社会!M34=1,M$155,0)","v":0},{"$f":"IF(社会!N34=1,N$155,0)","v":0},{"$f":"IF(社会!O34=1,O$155,0)","v":0},{"$f":"IF(社会!P34=1,P$155,0)","v":0},{"$f":"IF(社会!Q34=1,Q$155,0)","v":0},{"$f":"IF(社会!R34=1,R$155,0)","v":0},{"$f":"IF(社会!S34=1,S$155,0)","v":0},{"$f":"IF(社会!T34=1,T$155,0)","v":0},{"$f":"IF(社会!U34=1,U$155,0)","v":0},{"$f":"IF(社会!V34=1,V$155,0)","v":0},{"$f":"IF(社会!W34=1,W$155,0)","v":0},{"$f":"IF(社会!X34=1,X$155,0)","v":0},{"$f":"IF(社会!Y34=1,Y$155,0)","v":0},{"$f":"IF(社会!Z34=1,Z$155,0)","v":0},{"$f":"IF(社会!AA34=1,AA$155,0)","v":0},{"$f":"IF(社会!AB34=1,AB$155,0)","v":0},{"$f":"IF(社会!AC34=1,AC$155,0)","v":0},{"$f":"IF(社会!AD34=1,AD$155,0)","v":0},{"$f":"IF(社会!AE34=1,AE$155,0)","v":0},{"$f":"IF(社会!AF34=1,AF$155,0)","v":0},{"$f":"IF(社会!AG34=1,AG$155,0)","v":0},{"$f":"IF(社会!AH34=1,AH$155,0)","v":0},{"$f":"IF(社会!AI34=1,AI$155,0)","v":0},{"$f":"IF(社会!AJ34=1,AJ$155,0)","v":0},{"$f":"IF(社会!AK34=1,AK$155,0)","v":0},{"$f":"IF(社会!AL34=1,AL$155,0)","v":0},{"$f":"IF(社会!AM34=1,AM$155,0)","v":0},{"$f":"IF(社会!AN34=1,AN$155,0)","v":0},{"$f":"IF(社会!AO34=1,AO$155,0)","v":0},{"$f":"IF(社会!AP34=1,AP$155,0)","v":0},{"$f":"IF(社会!AQ34=1,AQ$155,0)","v":0},{"$f":"IF(社会!AR34=1,AR$155,0)","v":0},{"$f":"IF(社会!AS34=1,AS$155,0)","v":0},{"$f":"IF(社会!AT34=1,AT$155,0)","v":0},{"$f":"IF(社会!AU34=1,AU$155,0)","v":0},{"$f":"IF(社会!AV34=1,AV$155,0)","v":0},{"$f":"IF(社会!AW34=1,AW$155,0)","v":0},{"$f":"IF(社会!AX34=1,AX$155,0)","v":0},{"$f":"IF(社会!AY34=1,AY$155,0)","v":0},{"$f":"IF(社会!AZ34=1,AZ$155,0)","v":0},{"$f":"IF(社会!BA34=1,BA$155,0)","v":0},{"$f":"IF(社会!BB34=1,BB$155,0)","v":0},null,0,0,{"$error":"#DIV/0!"},{"$error":"#DIV/0!"},{"$error":"#DIV/0!"}]
[null,25,null,null,{"$f":"IF(社会!E35=1,E$155,0)","v":0},{"$f":"IF(社会!F35=1,F$155,0)","v":0},{"$f":"IF(社会!G35=1,G$155,0)","v":0},{"$f":"IF(社会!H35=1,H$155,0)","v":0},{"$f":"IF(社会!I35=1,I$155,0)","v":0},{"$f":"IF(社会!J35=1,J$155,0)","v":0},{"$f":"IF(社会!K35=1,K$155,0)","v":0},{"$f":"IF(社会!L35=1,L$155,0)","v":0},{"$f":"IF(社会!M35=1,M$155,0)","v":0},{"$f":"IF(社会!N35=1,N$155,0)","v":0},{"$f":"IF(社会!O35=1,O$155,0)","v":0},{"$f":"IF(社会!P35=1,P$155,0)","v":0},{"$f":"IF(社会!Q35=1,Q$155,0)","v":0},{"$f":"IF(社会!R35=1,R$155,0)","v":0},{"$f":"IF(社会!S35=1,S$155,0)","v":0},{"$f":"IF(社会!T35=1,T$155,0)","v":0},{"$f":"IF(社会!U35=1,U$155,0)","v":0},{"$f":"IF(社会!V35=1,V$155,0)","v":0},{"$f":"IF(社会!W35=1,W$155,0)","v":0},{"$f":"IF(社会!X35=1,X$155,0)","v":0},{"$f":"IF(社会!Y35=1,Y$155,0)","v":0},{"$f":"IF(社会!Z35=1,Z$155,0)","v":0},{"$f":"IF(社会!AA35=1,AA$155,0)","v":0},{"$f":"IF(社会!AB35=1,AB$155,0)","v":0},{"$f":"IF(社会!AC35=1,AC$155,0)","v":0},{"$f":"IF(社会!AD35=1,AD$155,0)","v":0},{"$f":"IF(社会!AE35=1,AE$155,0)","v":0},{"$f":"IF(社会!AF35=1,AF$155,0)","v":0},{"$f":"IF(社会!AG35=1,AG$155,0)","v":0},{"$f":"IF(社会!AH35=1,AH$155,0)","v":0},{"$f":"IF(社会!AI35=1,AI$155,0)","v":0},{"$f":"IF(社会!AJ35=1,AJ$155,0)","v":0},{"$f":"IF(社会!AK35=1,AK$155,0)","v":0},{"$f":"IF(社会!AL35=1,AL$155,0)","v":0},{"$f":"IF(社会!AM35=1,AM$155,0)","v":0},{"$f":"IF(社会!AN35=1,AN$155,0)","v":0},{"$f":"IF(社会!AO35=1,AO$155,0)","v":0},{"$f":"IF(社会!AP35=1,AP$155,0)","v":0},{"$f":"IF(社会!AQ35=1,AQ$155,0)","v":0},{"$f":"IF(社会!AR35=1,AR$155,0)","v":0},{"$f":"IF(社会!AS35=1,AS$155,0)","v":0},{"$f":"IF(社会!AT35=1,AT$155,0)","v":0},{"$f":"IF(社会!AU35=1,AU$155,0)","v":0},{"$f":"IF(社会!AV35=1,AV$155,0)","v":0},{"$f":"IF(社会!AW35=1,AW$155,0)","v":0},{"$f":"IF(社会!AX35=1,AX$155,0)","v":0},{"$f":"IF(社会!AY35=1,AY$155,0)","v":0},{"$f":"IF(社会!AZ35=1,AZ$155,0)","v":0},{"$f":"IF(社会!BA35=1,BA$155,0)","v":0},{"$f":"IF(社会!BB35=1,BB$155,0)","v":0},null,0,0,{"$error":"#DIV/0!"},{"$error":"#DIV/0!"},{"$error":"#DIV/0!"}]
[null,26,null,null,{"$f":"IF(社会!E36=1,E$155,0)","v":0},{"$f":"IF(社会!F36=1,F$155,0)","v":0},{"$f":"IF(社会!G36=1,G$155,0)","v":0},{"$f":"IF(社会!H36=1,H$155,0)","v":0},{"$f":"IF(社会!I36=1,I$155,0)","v":0},{"$f":"IF(社会!J36=1,J$155,0)","v":0},{"$f":"IF(社会!K36=1,K$155,0)","v":0},{"$f":"IF(社会!L36=1,L$155,0)","v":0},{"$f":"IF(社会!M36=1,M$155,0)","v":0},{"$f":"IF(社会!N36=1,N$155,0)","v":0},{"$f":"IF(社会!O36=1,O$155,0)","v":0},{"$f":"IF(社会!P36=1,P$155,0)","v":0},{"$f":"IF(社会!Q36=1,Q$155,0)","v":0},{"$f":"IF(社会!R36=1,R$155,0)","v":0},{"$f":"IF(社会!S36=1,S$155,0)","v":0},{"$f":"IF(社会!T36=1,T$155,0)","v":0},{"$f":"IF(社会!U36=1,U$155,0)","v":0},{"$f":"IF(社会!V36=1,V$155,0)","v":0},{"$f":"IF(社会!W36=1,W$155,0)","v":0},{"$f":"IF(社会!X36=1,X$155,0)","v":0},{"$f":"IF(社会!Y36=1,Y$155,0)","v":0},{"$f":"IF(社会!Z36=1,Z$155,0)","v":0},{"$f":"IF(社会!AA36=1,AA$155,0)","v":0},{"$f":"IF(社会!AB36=1,AB$155,0)","v":0},{"$f":"IF(社会!AC36=1,AC$155,0)","v":0},{"$f":"IF(社会!AD36=1,AD$155,0)","v":0},{"$f":"IF(社会!AE36=1,AE$155,0)","v":0},{"$f":"IF(社会!AF36=1,AF$155,0)","v":0},{"$f":"IF(社会!AG36=1,AG$155,0)","v":0},{"$f":"IF(社会!AH36=1,AH$155,0)","v":0},{"$f":"IF(社会!AI36=1,AI$155,0)","v":0},{"$f":"IF(社会!AJ36=1,AJ$155,0)","v":0},{"$f":"IF(社会!AK36=1,AK$155,0)","v":0},{"$f":"IF(社会!AL36=1,AL$155,0)","v":0},{"$f":"IF(社会!AM36=1,AM$155,0)","v":0},{"$f":"IF(社会!AN36=1,AN$155,0)","v":0},{"$f":"IF(社会!AO36=1,AO$155,0)","v":0},{"$f":"IF(社会!AP36=1,AP$155,0)","v":0},{"$f":"IF(社会!AQ36=1,AQ$155,0)","v":0},{"$f":"IF(社会!AR36=1,AR$155,0)","v":0},{"$f":"IF(社会!AS36=1,AS$155,0)","v":0},{"$f":"IF(社会!AT36=1,AT$155,0)","v":0},{"$f":"IF(社会!AU36=1,AU$155,0)","v":0},{"$f":"IF(社会!AV36=1,AV$155,0)","v":0},{"$f":"IF(社会!AW36=1,AW$155,0)","v":0},{"$f":"IF(社会!AX36=1,AX$155,0)","v":0},{"$f":"IF(社会!AY36=1,AY$155,0)","v":0},{"$f":"IF(社会!AZ36=1,AZ$155,0)","v":0},{"$f":"IF(社会!BA36=1,BA$155,0)","v":0},{"$f":"IF(社会!BB36=1,BB$155,0)","v":0},null,0,0,{"$error":"#DIV/0!"},{"$error":"#DIV/0!"},{"$error":"#DIV/0!"}]
[null,27,null,null,{"$f":"IF(社会!E37=1,E$155,0)","v":0},{"$f":"IF(社会!F37=1,F$155,0)","v":0},{"$f":"IF(社会!G37=1,G$155,0)","v":0},{"$f":"IF(社会!H37=1,H$155,0)","v":0},{"$f":"IF(社会!I37=1,I$155,0)","v":0},{"$f":"IF(社会!J37=1,J$155,0)","v":0},{"$f":"IF(社会!K37=1,K$155,0)","v":0},{"$f":"IF(社会!L37=1,L$155,0)","v":0},{"$f":"IF(社会!M37=1,M$155,0)","v":0},{"$f":"IF(社会!N37=1,N$155,0)","v":0},{"$f":"IF(社会!O37=1,O$155,0)","v":0},{"$f":"IF(社会!P37=1,P$155,0)","v":0},{"$f":"IF(社会!Q37=1,Q$155,0)","v":0},{"$f":"IF(社会!R37=1,R$155,0)","v":0},{"$f":"IF(社会!S37=1,S$155,0)","v":0},{"$f":"IF(社会!T37=1,T$155,0)","v":0},{"$f":"IF(社会!U37=1,U$155,0)","v":0},{"$f":"IF(社会!V37=1,V$155,0)","v":0},{"$f":"IF(社会!W37=1,W$155,0)","v":0},{"$f":"IF(社会!X37=1,X$155,0)","v":0},{"$f":"IF(社会!Y37=1,Y$155,0)","v":0},{"$f":"IF(社会!Z37=1,Z$155,0)","v":0},{"$f":"IF(社会!AA37=1,AA$155,0)","v":0},{"$f":"IF(社会!AB37=1,AB$155,0)","v":0},{"$f":"IF(社会!AC37=1,AC$155,0)","v":0},{"$f":"IF(社会!AD37=1,AD$155,0)","v":0},{"$f":"IF(社会!AE37=1,AE$155,0)","v":0},{"$f":"IF(社会!AF37=1,AF$155,0)","v":0},{"$f":"IF(社会!AG37=1,AG$155,0)","v":0},{"$f":"IF(社会!AH37=1,AH$155,0)","v":0},{"$f":"IF(社会!AI37=1,AI$155,0)","v":0},{"$f":"IF(社会!AJ37=1,AJ$155,0)","v":0},{"$f":"IF(社会!AK37=1,AK$155,0)","v":0},{"$f":"IF(社会!AL37=1,AL$155,0)","v":0},{"$f":"IF(社会!AM37=1,AM$155,0)","v":0},{"$f":"IF(社会!AN37=1,AN$155,0)","v":0},{"$f":"IF(社会!AO37=1,AO$155,0)","v":0},{"$f":"IF(社会!AP37=1,AP$155,0)","v":0},{"$f":"IF(社会!AQ37=1,AQ$155,0)","v":0},{"$f":"IF(社会!AR37=1,AR$155,0)","v":0},{"$f":"IF(社会!AS37=1,AS$155,0)","v":0},{"$f":"IF(社会!AT37=1,AT$155,0)","v":0},{"$f":"IF(社会!AU37=1,AU$155,0)","v":0},{"$f":"IF(社会!AV37=1,AV$155,0)","v":0},{"$f":"IF(社会!AW37=1,AW$155,0)","v":0},{"$f":"IF(社会!AX37=1,AX$155,0)","v":0},{"$f":"IF(社会!AY37=1,AY$155,0)","v":0},{"$f":"IF(社会!AZ37=1,AZ$155,0)","v":0},{"$f":"IF(社会!BA37=1,BA$155,0)","v":0},{"$f":"IF(社会!BB37=1,BB$155,0)","v":0},null,0,0,{"$error":"#DIV/0!"},{"$error":"#DIV/0!"},{"$error":"#DIV/0!"}]
[null,28,null,null,{"$f":"IF(社会!E38=1,E$155,0)","v":0},{"$f":"IF(社会!F38=1,F$155,0)","v":0},{"$f":"IF(社会!G38=1,G$155,0)","v":0},{"$f":"IF(社会!H38=1,H$155,0)","v":0},{"$f":"IF(社会!I38=1,I$155,0)","v":0},{"$f":"IF(社会!J38=1,J$155,0)","v":0},{"$f":"IF(社会!K38=1,K$155,0)","v":0},{"$f":"IF(社会!L38=1,L$155,0)","v":0},{"$f":"IF(社会!M38=1,M$155,0)","v":0},{"$f":"IF(社会!N38=1,N$155,0)","v":0},{"$f":"IF(社会!O38=1,O$155,0)","v":0},{"$f":"IF(社会!P38=1,P$155,0)","v":0},{"$f":"IF(社会!Q38=1,Q$155,0)","v":0},{"$f":"IF(社会!R38=1,R$155,0)","v":0},{"$f":"IF(社会!S38=1,S$155,0)","v":0},{"$f":"IF(社会!T38=1,T$155,0)","v":0},{"$f":"IF(社会!U38=1,U$155,0)","v":0},{"$f":"IF(社会!V38=1,V$155,0)","v":0},{"$f":"IF(社会!W38=1,W$155,0)","v":0},{"$f":"IF(社会!X38=1,X$155,0)","v":0},{"$f":"IF(社会!Y38=1,Y$155,0)","v":0},{"$f":"IF(社会!Z38=1,Z$155,0)","v":0},{"$f":"IF(社会!AA38=1,AA$155,0)","v":0},{"$f":"IF(社会!AB38=1,AB$155,0)","v":0},{"$f":"IF(社会!AC38=1,AC$155,0)","v":0},{"$f":"IF(社会!AD38=1,AD$155,0)","v":0},{"$f":"IF(社会!AE38=1,AE$155,0)","v":0},{"$f":"IF(社会!AF38=1,AF$155,0)","v":0},{"$f":"IF(社会!AG38=1,AG$155,0)","v":0},{"$f":"IF(社会!AH38=1,AH$155,0)","v":0},{"$f":"IF(社会!AI38=1,AI$155,0)","v":0},{"$f":"IF(社会!AJ38=1,AJ$155,0)","v":0},{"$f":"IF(社会!AK38=1,AK$155,0)","v":0},{"$f":"IF(社会!AL38=1,AL$155,0)","v":0},{"$f":"IF(社会!AM38=1,AM$155,0)","v":0},{"$f":"IF(社会!AN38=1,AN$155,0)","v":0},{"$f":"IF(社会!AO38=1,AO$155,0)","v":0},{"$f":"IF(社会!AP38=1,AP$155,0)","v":0},{"$f":"IF(社会!AQ38=1,AQ$155,0)","v":0},{"$f":"IF(社会!AR38=1,AR$155,0)","v":0},{"$f":"IF(社会!AS38=1,AS$155,0)","v":0},{"$f":"IF(社会!AT38=1,AT$155,0)","v":0},{"$f":"IF(社会!AU38=1,AU$155,0)","v":0},{"$f":"IF(社会!AV38=1,AV$155,0)","v":0},{"$f":"IF(社会!AW38=1,AW$155,0)","v":0},{"$f":"IF(社会!AX38=1,AX$155,0)","v":0},{"$f":"IF(社会!AY38=1,AY$155,0)","v":0},{"$f":"IF(社会!AZ38=1,AZ$155,0)","v":0},{"$f":"IF(社会!BA38=1,BA$155,0)","v":0},{"$f":"IF(社会!BB38=1,BB$155,0)","v":0},null,0,0,{"$error":"#DIV/0!"},{"$error":"#DIV/0!"},{"$error":"#DIV/0!"}]
[null,29,null,null,{"$f":"IF(社会!E39=1,E$155,0)","v":0},{"$f":"IF(社会!F39=1,F$155,0)","v":0},{"$f":"IF(社会!G39=1,G$155,0)","v":0},{"$f":"IF(社会!H39=1,H$155,0)","v":0},{"$f":"IF(社会!I39=1,I$155,0)","v":0},{"$f":"IF(社会!J39=1,J$155,0)","v":0},{"$f":"IF(社会!K39=1,K$155,0)","v":0},{"$f":"IF(社会!L39=1,L$155,0)","v":0},{"$f":"IF(社会!M39=1,M$155,0)","v":0},{"$f":"IF(社会!N39=1,N$155,0)","v":0},{"$f":"IF(社会!O39=1,O$155,0)","v":0},{"$f":"IF(社会!P39=1,P$155,0)","v":0},{"$f":"IF(社会!Q39=1,Q$155,0)","v":0},{"$f":"IF(社会!R39=1,R$155,0)","v":0},{"$f":"IF(社会!S39=1,S$155,0)","v":0},{"$f":"IF(社会!T39=1,T$155,0)","v":0},{"$f":"IF(社会!U39=1,U$155,0)","v":0},{"$f":"IF(社会!V39=1,V$155,0)","v":0},{"$f":"IF(社会!W39=1,W$155,0)","v":0},{"$f":"IF(社会!X39=1,X$155,0)","v":0},{"$f":"IF(社会!Y39=1,Y$155,0)","v":0},{"$f":"IF(社会!Z39=1,Z$155,0)","v":0},{"$f":"IF(社会!AA39=1,AA$155,0)","v":0},{"$f":"IF(社会!AB39=1,AB$155,0)","v":0},{"$f":"IF(社会!AC39=1,AC$155,0)","v":0},{"$f":"IF(社会!AD39=1,AD$155,0)","v":0},{"$f":"IF(社会!AE39=1,AE$155,0)","v":0},{"$f":"IF(社会!AF39=1,AF$155,0)","v":0},{"$f":"IF(社会!AG39=1,AG$155,0)","v":0},{"$f":"IF(社会!AH39=1,AH$155,0)","v":0},{"$f":"IF(社会!AI39=1,AI$155,0)","v":0},{"$f":"IF(社会!AJ39=1,AJ$155,0)","v":0},{"$f":"IF(社会!AK39=1,AK$155,0)","v":0},{"$f":"IF(社会!AL39=1,AL$155,0)","v":0},{"$f":"IF(社会!AM39=1,AM$155,0)","v":0},{"$f":"IF(社会!AN39=1,AN$155,0)","v":0},{"$f":"IF(社会!AO39=1,AO$155,0)","v":0},{"$f":"IF(社会!AP39=1,AP$155,0)","v":0},{"$f":"IF(社会!AQ39=1,AQ$155,0)","v":0},{"$f":"IF(社会!AR39=1,AR$155,0)","v":0},{"$f":"IF(社会!AS39=1,AS$155,0)","v":0},{"$f":"IF(社会!AT39=1,AT$155,0)","v":0},{"$f":"IF(社会!AU39=1,AU$155,0)","v":0},{"$f":"IF(社会!AV39=1,AV$155,0)","v":0},{"$f":"IF(社会!AW39=1,AW$155,0)","v":0},{"$f":"IF(社会!AX39=1,AX$155,0)","v":0},{"$f":"IF(社会!AY39=1,AY$155,0)","v":0},{"$f":"IF(社会!AZ39=1,AZ$155,0)","v":0},{"$f":"IF(社会!BA39=1,BA$155,0)","v":0},{"$f":"IF(社会!BB39=1,BB$155,0)","v":0},null,0,0,{"$error":"#DIV/0!"},{"$error":"#DIV/0!"},{"$error":"#DIV/0!"}]
[null,30,null,null,{"$f":"IF(社会!E40=1,E$155,0)","v":0},{"$f":"IF(社会!F40=1,F$155,0)","v":0},{"$f":"IF(社会!G40=1,G$155,0)","v":0},{"$f":"IF(社会!H40=1,H$155,0)","v":0},{"$f":"IF(社会!I40=1,I$155,0)","v":0},{"$f":"IF(社会!J40=1,J$155,0)","v":0},{"$f":"IF(社会!K40=1,K$155,0)","v":0},{"$f":"IF(社会!L40=1,L$155,0)","v":0},{"$f":"IF(社会!M40=1,M$155,0)","v":0},{"$f":"IF(社会!N40=1,N$155,0)","v":0},{"$f":"IF(社会!O40=1,O$155,0)","v":0},{"$f":"IF(社会!P40=1,P$155,0)","v":0},{"$f":"IF(社会!Q40=1,Q$155,0)","v":0},{"$f":"IF(社会!R40=1,R$155,0)","v":0},{"$f":"IF(社会!S40=1,S$155,0)","v":0},{"$f":"IF(社会!T40=1,T$155,0)","v":0},{"$f":"IF(社会!U40=1,U$155,0)","v":0},{"$f":"IF(社会!V40=1,V$155,0)","v":0},{"$f":"IF(社会!W40=1,W$155,0)","v":0},{"$f":"IF(社会!X40=1,X$155,0)","v":0},{"$f":"IF(社会!Y40=1,Y$155,0)","v":0},{"$f":"IF(社会!Z40=1,Z$155,0)","v":0},{"$f":"IF(社会!AA40=1,AA$155,0)","v":0},{"$f":"IF(社会!AB40=1,AB$155,0)","v":0},{"$f":"IF(社会!AC40=1,AC$155,0)","v":0},{"$f":"IF(社会!AD40=1,AD$155,0)","v":0},{"$f":"IF(社会!AE40=1,AE$155,0)","v":0},{"$f":"IF(社会!AF40=1,AF$155,0)","v":0},{"$f":"IF(社会!AG40=1,AG$155,0)","v":0},{"$f":"IF(社会!AH40=1,AH$155,0)","v":0},{"$f":"IF(社会!AI40=1,AI$155,0)","v":0},{"$f":"IF(社会!AJ40=1,AJ$155,0)","v":0},{"$f":"IF(社会!AK40=1,AK$155,0)","v":0},{"$f":"IF(社会!AL40=1,AL$155,0)","v":0},{"$f":"IF(社会!AM40=1,AM$155,0)","v":0},{"$f":"IF(社会!AN40=1,AN$155,0)","v":0},{"$f":"IF(社会!AO40=1,AO$155,0)","v":0},{"$f":"IF(社会!AP40=1,AP$155,0)","v":0},{"$f":"IF(社会!AQ40=1,AQ$155,0)","v":0},{"$f":"IF(社会!AR40=1,AR$155,0)","v":0},{"$f":"IF(社会!AS40=1,AS$155,0)","v":0},{"$f":"IF(社会!AT40=1,AT$155,0)","v":0},{"$f":"IF(社会!AU40=1,AU$155,0)","v":0},{"$f":"IF(社会!AV40=1,AV$155,0)","v":0},{"$f":"IF(社会!AW40=1,AW$155,0)","v":0},{"$f":"IF(社会!AX40=1,AX$155,0)","v":0},{"$f":"IF(社会!AY40=1,AY$155,0)","v":0},{"$f":"IF(社会!AZ40=1,AZ$155,0)","v":0},{"$f":"IF(社会!BA40=1,BA$155,0)","v":0},{"$f":"IF(社会!BB40=1,BB$155,0)","v":0},null,0,0,{"$error":"#DIV/0!"},{"$error":"#DIV/0!"},{"$error":"#DIV/0!"}]
[null,31,null,null,{"$f":"IF(社会!E41=1,E$155,0)","v":0},{"$f":"IF(社会!F41=1,F$155,0)","v":0},{"$f":"IF(社会!G41=1,G$155,0)","v":0},{"$f":"IF(社会!H41=1,H$155,0)","v":0},{"$f":"IF(社会!I41=1,I$155,0)","v":0},{"$f":"IF(社会!J41=1,J$155,0)","v":0},{"$f":"IF(社会!K41=1,K$155,0)","v":0},{"$f":"IF(社会!L41=1,L$155,0)","v":0},{"$f":"IF(社会!M41=1,M$155,0)","v":0},{"$f":"IF(社会!N41=1,N$155,0)","v":0},{"$f":"IF(社会!O41=1,O$155,0)","v":0},{"$f":"IF(社会!P41=1,P$155,0)","v":0},{"$f":"IF(社会!Q41=1,Q$155,0)","v":0},{"$f":"IF(社会!R41=1,R$155,0)","v":0},{"$f":"IF(社会!S41=1,S$155,0)","v":0},{"$f":"IF(社会!T41=1,T$155,0)","v":0},{"$f":"IF(社会!U41=1,U$155,0)","v":0},{"$f":"IF(社会!V41=1,V$155,0)","v":0},{"$f":"IF(社会!W41=1,W$155,0)","v":0},{"$f":"IF(社会!X41=1,X$155,0)","v":0},{"$f":"IF(社会!Y41=1,Y$155,0)","v":0},{"$f":"IF(社会!Z41=1,Z$155,0)","v":0},{"$f":"IF(社会!AA41=1,AA$155,0)","v":0},{"$f":"IF(社会!AB41=1,AB$155,0)","v":0},{"$f":"IF(社会!AC41=1,AC$155,0)","v":0},{"$f":"IF(社会!AD41=1,AD$155,0)","v":0},{"$f":"IF(社会!AE41=1,AE$155,0)","v":0},{"$f":"IF(社会!AF41=1,AF$155,0)","v":0},{"$f":"IF(社会!AG41=1,AG$155,0)","v":0},{"$f":"IF(社会!AH41=1,AH$155,0)","v":0},{"$f":"IF(社会!AI41=1,AI$155,0)","v":0},{"$f":"IF(社会!AJ41=1,AJ$155,0)","v":0},{"$f":"IF(社会!AK41=1,AK$155,0)","v":0},{"$f":"IF(社会!AL41=1,AL$155,0)","v":0},{"$f":"IF(社会!AM41=1,AM$155,0)","v":0},{"$f":"IF(社会!AN41=1,AN$155,0)","v":0},{"$f":"IF(社会!AO41=1,AO$155,0)","v":0},{"$f":"IF(社会!AP41=1,AP$155,0)","v":0},{"$f":"IF(社会!AQ41=1,AQ$155,0)","v":0},{"$f":"IF(社会!AR41=1,AR$155,0)","v":0},{"$f":"IF(社会!AS41=1,AS$155,0)","v":0},{"$f":"IF(社会!AT41=1,AT$155,0)","v":0},{"$f":"IF(社会!AU41=1,AU$155,0)","v":0},{"$f":"IF(社会!AV41=1,AV$155,0)","v":0},{"$f":"IF(社会!AW41=1,AW$155,0)","v":0},{"$f":"IF(社会!AX41=1,AX$155,0)","v":0},{"$f":"IF(社会!AY41=1,AY$155,0)","v":0},{"$f":"IF(社会!AZ41=1,AZ$155,0)","v":0},{"$f":"IF(社会!BA41=1,BA$155,0)","v":0},{"$f":"IF(社会!BB41=1,BB$155,0)","v":0},null,0,0,{"$error":"#DIV/0!"},{"$error":"#DIV/0!"},{"$error":"#DIV/0!"}]
[null,32,null,null,{"$f":"IF(社会!E42=1,E$155,0)","v":0},{"$f":"IF(社会!F42=1,F$155,0)","v":0},{"$f":"IF(社会!G42=1,G$155,0)","v":0},{"$f":"IF(社会!H42=1,H$155,0)","v":0},{"$f":"IF(社会!I42=1,I$155,0)","v":0},{"$f":"IF(社会!J42=1,J$155,0)","v":0},{"$f":"IF(社会!K42=1,K$155,0)","v":0},{"$f":"IF(社会!L42=1,L$155,0)","v":0},{"$f":"IF(社会!M42=1,M$155,0)","v":0},{"$f":"IF(社会!N42=1,N$155,0)","v":0},{"$f":"IF(社会!O42=1,O$155,0)","v":0},{"$f":"IF(社会!P42=1,P$155,0)","v":0},{"$f":"IF(社会!Q42=1,Q$155,0)","v":0},{"$f":"IF(社会!R42=1,R$155,0)","v":0},{"$f":"IF(社会!S42=1,S$155,0)","v":0},{"$f":"IF(社会!T42=1,T$155,0)","v":0},{"$f":"IF(社会!U42=1,U$155,0)","v":0},{"$f":"IF(社会!V42=1,V$155,0)","v":0},{"$f":"IF(社会!W42=1,W$155,0)","v":0},{"$f":"IF(社会!X42=1,X$155,0)","v":0},{"$f":"IF(社会!Y42=1,Y$155,0)","v":0},{"$f":"IF(社会!Z42=1,Z$155,0)","v":0},{"$f":"IF(社会!AA42=1,AA$155,0)","v":0},{"$f":"IF(社会!AB42=1,AB$155,0)","v":0},{"$f":"IF(社会!AC42=1,AC$155,0)","v":0},{"$f":"IF(社会!AD42=1,AD$155,0)","v":0},{"$f":"IF(社会!AE42=1,AE$155,0)","v":0},{"$f":"IF(社会!AF42=1,AF$155,0)","v":0},{"$f":"IF(社会!AG42=1,AG$155,0)","v":0},{"$f":"IF(社会!AH42=1,AH$155,0)","v":0},{"$f":"IF(社会!AI42=1,AI$155,0)","v":0},{"$f":"IF(社会!AJ42=1,AJ$155,0)","v":0},{"$f":"IF(社会!AK42=1,AK$155,0)","v":0},{"$f":"IF(社会!AL42=1,AL$155,0)","v":0},{"$f":"IF(社会!AM42=1,AM$155,0)","v":0},{"$f":"IF(社会!AN42=1,AN$155,0)","v":0},{"$f":"IF(社会!AO42=1,AO$155,0)","v":0},{"$f":"IF(社会!AP42=1,AP$155,0)","v":0},{"$f":"IF(社会!AQ42=1,AQ$155,0)","v":0},{"$f":"IF(社会!AR42=1,AR$155,0)","v":0},{"$f":"IF(社会!AS42=1,AS$155,0)","v":0},{"$f":"IF(社会!AT42=1,AT$155,0)","v":0},{"$f":"IF(社会!AU42=1,AU$155,0)","v":0},{"$f":"IF(社会!AV42=1,AV$155,0)","v":0},{"$f":"IF(社会!AW42=1,AW$155,0)","v":0},{"$f":"IF(社会!AX42=1,AX$155,0)","v":0},{"$f":"IF(社会!AY42=1,AY$155,0)","v":0},{"$f":"IF(社会!AZ42=1,AZ$155,0)","v":0},{"$f":"IF(社会!BA42=1,BA$155,0)","v":0},{"$f":"IF(社会!BB42=1,BB$155,0)","v":0},null,0,0,{"$error":"#DIV/0!"},{"$error":"#DIV/0!"},{"$error":"#DIV/0!"}]
[null,33,null,null,{"$f":"IF(社会!E43=1,E$155,0)","v":0},{"$f":"IF(社会!F43=1,F$155,0)","v":0},{"$f":"IF(社会!G43=1,G$155,0)","v":0},{"$f":"IF(社会!H43=1,H$155,0)","v":0},{"$f":"IF(社会!I43=1,I$155,0)","v":0},{"$f":"IF(社会!J43=1,J$155,0)","v":0},{"$f":"IF(社会!K43=1,K$155,0)","v":0},{"$f":"IF(社会!L43=1,L$155,0)","v":0},{"$f":"IF(社会!M43=1,M$155,0)","v":0},{"$f":"IF(社会!N43=1,N$155,0)","v":0},{"$f":"IF(社会!O43=1,O$155,0)","v":0},{"$f":"IF(社会!P43=1,P$155,0)","v":0},{"$f":"IF(社会!Q43=1,Q$155,0)","v":0},{"$f":"IF(社会!R43=1,R$155,0)","v":0},{"$f":"IF(社会!S43=1,S$155,0)","v":0},{"$f":"IF(社会!T43=1,T$155,0)","v":0},{"$f":"IF(社会!U43=1,U$155,0)","v":0},{"$f":"IF(社会!V43=1,V$155,0)","v":0},{"$f":"IF(社会!W43=1,W$155,0)","v":0},{"$f":"IF(社会!X43=1,X$155,0)","v":0},{"$f":"IF(社会!Y43=1,Y$155,0)","v":0},{"$f":"IF(社会!Z43=1,Z$155,0)","v":0},{"$f":"IF(社会!AA43=1,AA$155,0)","v":0},{"$f":"IF(社会!AB43=1,AB$155,0)","v":0},{"$f":"IF(社会!AC43=1,AC$155,0)","v":0},{"$f":"IF(社会!AD43=1,AD$155,0)","v":0},{"$f":"IF(社会!AE43=1,AE$155,0)","v":0},{"$f":"IF(社会!AF43=1,AF$155,0)","v":0},{"$f":"IF(社会!AG43=1,AG$155,0)","v":0},{"$f":"IF(社会!AH43=1,AH$155,0)","v":0},{"$f":"IF(社会!AI43=1,AI$155,0)","v":0},{"$f":"IF(社会!AJ43=1,AJ$155,0)","v":0},{"$f":"IF(社会!AK43=1,AK$155,0)","v":0},{"$f":"IF(社会!AL43=1,AL$155,0)","v":0},{"$f":"IF(社会!AM43=1,AM$155,0)","v":0},{"$f":"IF(社会!AN43=1,AN$155,0)","v":0},{"$f":"IF(社会!AO43=1,AO$155,0)","v":0},{"$f":"IF(社会!AP43=1,AP$155,0)","v":0},{"$f":"IF(社会!AQ43=1,AQ$155,0)","v":0},{"$f":"IF(社会!AR43=1,AR$155,0)","v":0},{"$f":"IF(社会!AS43=1,AS$155,0)","v":0},{"$f":"IF(社会!AT43=1,AT$155,0)","v":0},{"$f":"IF(社会!AU43=1,AU$155,0)","v":0},{"$f":"IF(社会!AV43=1,AV$155,0)","v":0},{"$f":"IF(社会!AW43=1,AW$155,0)","v":0},{"$f":"IF(社会!AX43=1,AX$155,0)","v":0},{"$f":"IF(社会!AY43=1,AY$155,0)","v":0},{"$f":"IF(社会!AZ43=1,AZ$155,0)","v":0},{"$f":"IF(社会!BA43=1,BA$155,0)","v":0},{"$f":"IF(社会!BB43=1,BB$155,0)","v":0},null,0,0,{"$error":"#DIV/0!"},{"$error":"#DIV/0!"},{"$error":"#DIV/0!"}]
[null,34,null,null,{"$f":"IF(社会!E44=1,E$155,0)","v":0},{"$f":"IF(社会!F44=1,F$155,0)","v":0},{"$f":"IF(社会!G44=1,G$155,0)","v":0},{"$f":"IF(社会!H44=1,H$155,0)","v":0},{"$f":"IF(社会!I44=1,I$155,0)","v":0},{"$f":"IF(社会!J44=1,J$155,0)","v":0},{"$f":"IF(社会!K44=1,K$155,0)","v":0},{"$f":"IF(社会!L44=1,L$155,0)","v":0},{"$f":"IF(社会!M44=1,M$155,0)","v":0},{"$f":"IF(社会!N44=1,N$155,0)","v":0},{"$f":"IF(社会!O44=1,O$155,0)","v":0},{"$f":"IF(社会!P44=1,P$155,0)","v":0},{"$f":"IF(社会!Q44=1,Q$155,0)","v":0},{"$f":"IF(社会!R44=1,R$155,0)","v":0},{"$f":"IF(社会!S44=1,S$155,0)","v":0},{"$f":"IF(社会!T44=1,T$155,0)","v":0},{"$f":"IF(社会!U44=1,U$155,0)","v":0},{"$f":"IF(社会!V44=1,V$155,0)","v":0},{"$f":"IF(社会!W44=1,W$155,0)","v":0},{"$f":"IF(社会!X44=1,X$155,0)","v":0},{"$f":"IF(社会!Y44=1,Y$155,0)","v":0},{"$f":"IF(社会!Z44=1,Z$155,0)","v":0},{"$f":"IF(社会!AA44=1,AA$155,0)","v":0},{"$f":"IF(社会!AB44=1,AB$155,0)","v":0},{"$f":"IF(社会!AC44=1,AC$155,0)","v":0},{"$f":"IF(社会!AD44=1,AD$155,0)","v":0},{"$f":"IF(社会!AE44=1,AE$155,0)","v":0},{"$f":"IF(社会!AF44=1,AF$155,0)","v":0},{"$f":"IF(社会!AG44=1,AG$155,0)","v":0},{"$f":"IF(社会!AH44=1,AH$155,0)","v":0},{"$f":"IF(社会!AI44=1,AI$155,0)","v":0},{"$f":"IF(社会!AJ44=1,AJ$155,0)","v":0},{"$f":"IF(社会!AK44=1,AK$155,0)","v":0},{"$f":"IF(社会!AL44=1,AL$155,0)","v":0},{"$f":"IF(社会!AM44=1,AM$155,0)","v":0},{"$f":"IF(社会!AN44=1,AN$155,0)","v":0},{"$f":"IF(社会!AO44=1,AO$155,0)","v":0},{"$f":"IF(社会!AP44=1,AP$155,0)","v":0},{"$f":"IF(社会!AQ44=1,AQ$155,0)","v":0},{"$f":"IF(社会!AR44=1,AR$155,0)","v":0},{"$f":"IF(社会!AS44=1,AS$155,0)","v":0},{"$f":"IF(社会!AT44=1,AT$155,0)","v":0},{"$f":"IF(社会!AU44=1,AU$155,0)","v":0},{"$f":"IF(社会!AV44=1,AV$155,0)","v":0},{"$f":"IF(社会!AW44=1,AW$155,0)","v":0},{"$f":"IF(社会!AX44=1,AX$155,0)","v":0},{"$f":"IF(社会!AY44=1,AY$155,0)","v":0},{"$f":"IF(社会!AZ44=1,AZ$155,0)","v":0},{"$f":"IF(社会!BA44=1,BA$155,0)","v":0},{"$f":"IF(社会!BB44=1,BB$155,0)","v":0},null,{"$f":"SUMIF($E$154:$BB$154,BD$154,$E189:$BB189)/BD$155","v":0},0,{"$error":"#DIV/0!"},{"$error":"#DIV/0!"},{"$error":"#DIV/0!"}]
[null,35,null,null,{"$f":"IF(社会!E45=1,E$155,0)","v":0},{"$f":"IF(社会!F45=1,F$155,0)","v":0},{"$f":"IF(社会!G45=1,G$155,0)","v":0},{"$f":"IF(社会!H45=1,H$155,0)","v":0},{"$f":"IF(社会!I45=1,I$155,0)","v":0},{"$f":"IF(社会!J45=1,J$155,0)","v":0},{"$f":"IF(社会!K45=1,K$155,0)","v":0},{"$f":"IF(社会!L45=1,L$155,0)","v":0},{"$f":"IF(社会!M45=1,M$155,0)","v":0},{"$f":"IF(社会!N45=1,N$155,0)","v":0},{"$f":"IF(社会!O45=1,O$155,0)","v":0},{"$f":"IF(社会!P45=1,P$155,0)","v":0},{"$f":"IF(社会!Q45=1,Q$155,0)","v":0},{"$f":"IF(社会!R45=1,R$155,0)","v":0},{"$f":"IF(社会!S45=1,S$155,0)","v":0},{"$f":"IF(社会!T45=1,T$155,0)","v":0},{"$f":"IF(社会!U45=1,U$155,0)","v":0},{"$f":"IF(社会!V45=1,V$155,0)","v":0},{"$f":"IF(社会!W45=1,W$155,0)","v":0},{"$f":"IF(社会!X45=1,X$155,0)","v":0},{"$f":"IF(社会!Y45=1,Y$155,0)","v":0},{"$f":"IF(社会!Z45=1,Z$155,0)","v":0},{"$f":"IF(社会!AA45=1,AA$155,0)","v":0},{"$f":"IF(社会!AB45=1,AB$155,0)","v":0},{"$f":"IF(社会!AC45=1,AC$155,0)","v":0},{"$f":"IF(社会!AD45=1,AD$155,0)","v":0},{"$f":"IF(社会!AE45=1,AE$155,0)","v":0},{"$f":"IF(社会!AF45=1,AF$155,0)","v":0},{"$f":"IF(社会!AG45=1,AG$155,0)","v":0},{"$f":"IF(社会!AH45=1,AH$155,0)","v":0},{"$f":"IF(社会!AI45=1,AI$155,0)","v":0},{"$f":"IF(社会!AJ45=1,AJ$155,0)","v":0},{"$f":"IF(社会!AK45=1,AK$155,0)","v":0},{"$f":"IF(社会!AL45=1,AL$155,0)","v":0},{"$f":"IF(社会!AM45=1,AM$155,0)","v":0},{"$f":"IF(社会!AN45=1,AN$155,0)","v":0},{"$f":"IF(社会!AO45=1,AO$155,0)","v":0},{"$f":"IF(社会!AP45=1,AP$155,0)","v":0},{"$f":"IF(社会!AQ45=1,AQ$155,0)","v":0},{"$f":"IF(社会!AR45=1,AR$155,0)","v":0},{"$f":"IF(社会!AS45=1,AS$155,0)","v":0},{"$f":"IF(社会!AT45=1,AT$155,0)","v":0},{"$f":"IF(社会!AU45=1,AU$155,0)","v":0},{"$f":"IF(社会!AV45=1,AV$155,0)","v":0},{"$f":"IF(社会!AW45=1,AW$155,0)","v":0},{"$f":"IF(社会!AX45=1,AX$155,0)","v":0},{"$f":"IF(社会!AY45=1,AY$155,0)","v":0},{"$f":"IF(社会!AZ45=1,AZ$155,0)","v":0},{"$f":"IF(社会!BA45=1,BA$155,0)","v":0},{"$f":"IF(社会!BB45=1,BB$155,0)","v":0},null,0,0,{"$error":"#DIV/0!"},{"$error":"#DIV/0!"},{"$error":"#DIV/0!"}]
[null,36,null,null,{"$f":"IF(社会!E46=1,E$155,0)","v":0},{"$f":"IF(社会!F46=1,F$155,0)","v":0},{"$f":"IF(社会!G46=1,G$155,0)","v":0},{"$f":"IF(社会!H46=1,H$155,0)","v":0},{"$f":"IF(社会!I46=1,I$155,0)","v":0},{"$f":"IF(社会!J46=1,J$155,0)","v":0},{"$f":"IF(社会!K46=1,K$155,0)","v":0},{"$f":"IF(社会!L46=1,L$155,0)","v":0},{"$f":"IF(社会!M46=1,M$155,0)","v":0},{"$f":"IF(社会!N46=1,N$155,0)","v":0},{"$f":"IF(社会!O46=1,O$155,0)","v":0},{"$f":"IF(社会!P46=1,P$155,0)","v":0},{"$f":"IF(社会!Q46=1,Q$155,0)","v":0},{"$f":"IF(社会!R46=1,R$155,0)","v":0},{"$f":"IF(社会!S46=1,S$155,0)","v":0},{"$f":"IF(社会!T46=1,T$155,0)","v":0},{"$f":"IF(社会!U46=1,U$155,0)","v":0},{"$f":"IF(社会!V46=1,V$155,0)","v":0},{"$f":"IF(社会!W46=1,W$155,0)","v":0},{"$f":"IF(社会!X46=1,X$155,0)","v":0},{"$f":"IF(社会!Y46=1,Y$155,0)","v":0},{"$f":"IF(社会!Z46=1,Z$155,0)","v":0},{"$f":"IF(社会!AA46=1,AA$155,0)","v":0},{"$f":"IF(社会!AB46=1,AB$155,0)","v":0},{"$f":"IF(社会!AC46=1,AC$155,0)","v":0},{"$f":"IF(社会!AD46=1,AD$155,0)","v":0},{"$f":"IF(社会!AE46=1,AE$155,0)","v":0},{"$f":"IF(社会!AF46=1,AF$155,0)","v":0},{"$f":"IF(社会!AG46=1,AG$155,0)","v":0},{"$f":"IF(社会!AH46=1,AH$155,0)","v":0},{"$f":"IF(社会!AI46=1,AI$155,0)","v":0},{"$f":"IF(社会!AJ46=1,AJ$155,0)","v":0},{"$f":"IF(社会!AK46=1,AK$155,0)","v":0},{"$f":"IF(社会!AL46=1,AL$155,0)","v":0},{"$f":"IF(社会!AM46=1,AM$155,0)","v":0},{"$f":"IF(社会!AN46=1,AN$155,0)","v":0},{"$f":"IF(社会!AO46=1,AO$155,0)","v":0},{"$f":"IF(社会!AP46=1,AP$155,0)","v":0},{"$f":"IF(社会!AQ46=1,AQ$155,0)","v":0},{"$f":"IF(社会!AR46=1,AR$155,0)","v":0},{"$f":"IF(社会!AS46=1,AS$155,0)","v":0},{"$f":"IF(社会!AT46=1,AT$155,0)","v":0},{"$f":"IF(社会!AU46=1,AU$155,0)","v":0},{"$f":"IF(社会!AV46=1,AV$155,0)","v":0},{"$f":"IF(社会!AW46=1,AW$155,0)","v":0},{"$f":"IF(社会!AX46=1,AX$155,0)","v":0},{"$f":"IF(社会!AY46=1,AY$155,0)","v":0},{"$f":"IF(社会!AZ46=1,AZ$155,0)","v":0},{"$f":"IF(社会!BA46=1,BA$155,0)","v":0},{"$f":"IF(社会!BB46=1,BB$155,0)","v":0},null,0,0,{"$error":"#DIV/0!"},{"$error":"#DIV/0!"},{"$error":"#DIV/0!"}]
[null,37,null,null,{"$f":"IF(社会!E47=1,E$155,0)","v":0},{"$f":"IF(社会!F47=1,F$155,0)","v":0},{"$f":"IF(社会!G47=1,G$155,0)","v":0},{"$f":"IF(社会!H47=1,H$155,0)","v":0},{"$f":"IF(社会!I47=1,I$155,0)","v":0},{"$f":"IF(社会!J47=1,J$155,0)","v":0},{"$f":"IF(社会!K47=1,K$155,0)","v":0},{"$f":"IF(社会!L47=1,L$155,0)","v":0},{"$f":"IF(社会!M47=1,M$155,0)","v":0},{"$f":"IF(社会!N47=1,N$155,0)","v":0},{"$f":"IF(社会!O47=1,O$155,0)","v":0},{"$f":"IF(社会!P47=1,P$155,0)","v":0},{"$f":"IF(社会!Q47=1,Q$155,0)","v":0},{"$f":"IF(社会!R47=1,R$155,0)","v":0},{"$f":"IF(社会!S47=1,S$155,0)","v":0},{"$f":"IF(社会!T47=1,T$155,0)","v":0},{"$f":"IF(社会!U47=1,U$155,0)","v":0},{"$f":"IF(社会!V47=1,V$155,0)","v":0},{"$f":"IF(社会!W47=1,W$155,0)","v":0},{"$f":"IF(社会!X47=1,X$155,0)","v":0},{"$f":"IF(社会!Y47=1,Y$155,0)","v":0},{"$f":"IF(社会!Z47=1,Z$155,0)","v":0},{"$f":"IF(社会!AA47=1,AA$155,0)","v":0},{"$f":"IF(社会!AB47=1,AB$155,0)","v":0},{"$f":"IF(社会!AC47=1,AC$155,0)","v":0},{"$f":"IF(社会!AD47=1,AD$155,0)","v":0},{"$f":"IF(社会!AE47=1,AE$155,0)","v":0},{"$f":"IF(社会!AF47=1,AF$155,0)","v":0},{"$f":"IF(社会!AG47=1,AG$155,0)","v":0},{"$f":"IF(社会!AH47=1,AH$155,0)","v":0},{"$f":"IF(社会!AI47=1,AI$155,0)","v":0},{"$f":"IF(社会!AJ47=1,AJ$155,0)","v":0},{"$f":"IF(社会!AK47=1,AK$155,0)","v":0},{"$f":"IF(社会!AL47=1,AL$155,0)","v":0},{"$f":"IF(社会!AM47=1,AM$155,0)","v":0},{"$f":"IF(社会!AN47=1,AN$155,0)","v":0},{"$f":"IF(社会!AO47=1,AO$155,0)","v":0},{"$f":"IF(社会!AP47=1,AP$155,0)","v":0},{"$f":"IF(社会!AQ47=1,AQ$155,0)","v":0},{"$f":"IF(社会!AR47=1,AR$155,0)","v":0},{"$f":"IF(社会!AS47=1,AS$155,0)","v":0},{"$f":"IF(社会!AT47=1,AT$155,0)","v":0},{"$f":"IF(社会!AU47=1,AU$155,0)","v":0},{"$f":"IF(社会!AV47=1,AV$155,0)","v":0},{"$f":"IF(社会!AW47=1,AW$155,0)","v":0},{"$f":"IF(社会!AX47=1,AX$155,0)","v":0},{"$f":"IF(社会!AY47=1,AY$155,0)","v":0},{"$f":"IF(社会!AZ47=1,AZ$155,0)","v":0},{"$f":"IF(社会!BA47=1,BA$155,0)","v":0},{"$f":"IF(社会!BB47=1,BB$155,0)","v":0},null,0,0,{"$error":"#DIV/0!"},{"$error":"#DIV/0!"},{"$error":"#DIV/0!"}]
[null,38,null,null,{"$f":"IF(社会!E48=1,E$155,0)","v":0},{"$f":"IF(社会!F48=1,F$155,0)","v":0},{"$f":"IF(社会!G48=1,G$155,0)","v":0},{"$f":"IF(社会!H48=1,H$155,0)","v":0},{"$f":"IF(社会!I48=1,I$155,0)","v":0},{"$f":"IF(社会!J48=1,J$155,0)","v":0},{"$f":"IF(社会!K48=1,K$155,0)","v":0},{"$f":"IF(社会!L48=1,L$155,0)","v":0},{"$f":"IF(社会!M48=1,M$155,0)","v":0},{"$f":"IF(社会!N48=1,N$155,0)","v":0},{"$f":"IF(社会!O48=1,O$155,0)","v":0},{"$f":"IF(社会!P48=1,P$155,0)","v":0},{"$f":"IF(社会!Q48=1,Q$155,0)","v":0},{"$f":"IF(社会!R48=1,R$155,0)","v":0},{"$f":"IF(社会!S48=1,S$155,0)","v":0},{"$f":"IF(社会!T48=1,T$155,0)","v":0},{"$f":"IF(社会!U48=1,U$155,0)","v":0},{"$f":"IF(社会!V48=1,V$155,0)","v":0},{"$f":"IF(社会!W48=1,W$155,0)","v":0},{"$f":"IF(社会!X48=1,X$155,0)","v":0},{"$f":"IF(社会!Y48=1,Y$155,0)","v":0},{"$f":"IF(社会!Z48=1,Z$155,0)","v":0},{"$f":"IF(社会!AA48=1,AA$155,0)","v":0},{"$f":"IF(社会!AB48=1,AB$155,0)","v":0},{"$f":"IF(社会!AC48=1,AC$155,0)","v":0},{"$f":"IF(社会!AD48=1,AD$155,0)","v":0},{"$f":"IF(社会!AE48=1,AE$155,0)","v":0},{"$f":"IF(社会!AF48=1,AF$155,0)","v":0},{"$f":"IF(社会!AG48=1,AG$155,0)","v":0},{"$f":"IF(社会!AH48=1,AH$155,0)","v":0},{"$f":"IF(社会!AI48=1,AI$155,0)","v":0},{"$f":"IF(社会!AJ48=1,AJ$155,0)","v":0},{"$f":"IF(社会!AK48=1,AK$155,0)","v":0},{"$f":"IF(社会!AL48=1,AL$155,0)","v":0},{"$f":"IF(社会!AM48=1,AM$155,0)","v":0},{"$f":"IF(社会!AN48=1,AN$155,0)","v":0},{"$f":"IF(社会!AO48=1,AO$155,0)","v":0},{"$f":"IF(社会!AP48=1,AP$155,0)","v":0},{"$f":"IF(社会!AQ48=1,AQ$155,0)","v":0},{"$f":"IF(社会!AR48=1,AR$155,0)","v":0},{"$f":"IF(社会!AS48=1,AS$155,0)","v":0},{"$f":"IF(社会!AT48=1,AT$155,0)","v":0},{"$f":"IF(社会!AU48=1,AU$155,0)","v":0},{"$f":"IF(社会!AV48=1,AV$155,0)","v":0},{"$f":"IF(社会!AW48=1,AW$155,0)","v":0},{"$f":"IF(社会!AX48=1,AX$155,0)","v":0},{"$f":"IF(社会!AY48=1,AY$155,0)","v":0},{"$f":"IF(社会!AZ48=1,AZ$155,0)","v":0},{"$f":"IF(社会!BA48=1,BA$155,0)","v":0},{"$f":"IF(社会!BB48=1,BB$155,0)","v":0},null,0,0,{"$error":"#DIV/0!"},{"$error":"#DIV/0!"},{"$error":"#DIV/0!"}]
[null,39,null,null,{"$f":"IF(社会!E49=1,E$155,0)","v":0},{"$f":"IF(社会!F49=1,F$155,0)","v":0},{"$f":"IF(社会!G49=1,G$155,0)","v":0},{"$f":"IF(社会!H49=1,H$155,0)","v":0},{"$f":"IF(社会!I49=1,I$155,0)","v":0},{"$f":"IF(社会!J49=1,J$155,0)","v":0},{"$f":"IF(社会!K49=1,K$155,0)","v":0},{"$f":"IF(社会!L49=1,L$155,0)","v":0},{"$f":"IF(社会!M49=1,M$155,0)","v":0},{"$f":"IF(社会!N49=1,N$155,0)","v":0},{"$f":"IF(社会!O49=1,O$155,0)","v":0},{"$f":"IF(社会!P49=1,P$155,0)","v":0},{"$f":"IF(社会!Q49=1,Q$155,0)","v":0},{"$f":"IF(社会!R49=1,R$155,0)","v":0},{"$f":"IF(社会!S49=1,S$155,0)","v":0},{"$f":"IF(社会!T49=1,T$155,0)","v":0},{"$f":"IF(社会!U49=1,U$155,0)","v":0},{"$f":"IF(社会!V49=1,V$155,0)","v":0},{"$f":"IF(社会!W49=1,W$155,0)","v":0},{"$f":"IF(社会!X49=1,X$155,0)","v":0},{"$f":"IF(社会!Y49=1,Y$155,0)","v":0},{"$f":"IF(社会!Z49=1,Z$155,0)","v":0},{"$f":"IF(社会!AA49=1,AA$155,0)","v":0},{"$f":"IF(社会!AB49=1,AB$155,0)","v":0},{"$f":"IF(社会!AC49=1,AC$155,0)","v":0},{"$f":"IF(社会!AD49=1,AD$155,0)","v":0},{"$f":"IF(社会!AE49=1,AE$155,0)","v":0},{"$f":"IF(社会!AF49=1,AF$155,0)","v":0},{"$f":"IF(社会!AG49=1,AG$155,0)","v":0},{"$f":"IF(社会!AH49=1,AH$155,0)","v":0},{"$f":"IF(社会!AI49=1,AI$155,0)","v":0},{"$f":"IF(社会!AJ49=1,AJ$155,0)","v":0},{"$f":"IF(社会!AK49=1,AK$155,0)","v":0},{"$f":"IF(社会!AL49=1,AL$155,0)","v":0},{"$f":"IF(社会!AM49=1,AM$155,0)","v":0},{"$f":"IF(社会!AN49=1,AN$155,0)","v":0},{"$f":"IF(社会!AO49=1,AO$155,0)","v":0},{"$f":"IF(社会!AP49=1,AP$155,0)","v":0},{"$f":"IF(社会!AQ49=1,AQ$155,0)","v":0},{"$f":"IF(社会!AR49=1,AR$155,0)","v":0},{"$f":"IF(社会!AS49=1,AS$155,0)","v":0},{"$f":"IF(社会!AT49=1,AT$155,0)","v":0},{"$f":"IF(社会!AU49=1,AU$155,0)","v":0},{"$f":"IF(社会!AV49=1,AV$155,0)","v":0},{"$f":"IF(社会!AW49=1,AW$155,0)","v":0},{"$f":"IF(社会!AX49=1,AX$155,0)","v":0},{"$f":"IF(社会!AY49=1,AY$155,0)","v":0},{"$f":"IF(社会!AZ49=1,AZ$155,0)","v":0},{"$f":"IF(社会!BA49=1,BA$155,0)","v":0},{"$f":"IF(社会!BB49=1,BB$155,0)","v":0},null,0,0,{"$error":"#DIV/0!"},{"$error":"#DIV/0!"},{"$error":"#DIV/0!"}]
[null,40,null,null,{"$f":"IF(社会!E50=1,E$155,0)","v":0},{"$f":"IF(社会!F50=1,F$155,0)","v":0},{"$f":"IF(社会!G50=1,G$155,0)","v":0},{"$f":"IF(社会!H50=1,H$155,0)","v":0},{"$f":"IF(社会!I50=1,I$155,0)","v":0},{"$f":"IF(社会!J50=1,J$155,0)","v":0},{"$f":"IF(社会!K50=1,K$155,0)","v":0},{"$f":"IF(社会!L50=1,L$155,0)","v":0},{"$f":"IF(社会!M50=1,M$155,0)","v":0},{"$f":"IF(社会!N50=1,N$155,0)","v":0},{"$f":"IF(社会!O50=1,O$155,0)","v":0},{"$f":"IF(社会!P50=1,P$155,0)","v":0},{"$f":"IF(社会!Q50=1,Q$155,0)","v":0},{"$f":"IF(社会!R50=1,R$155,0)","v":0},{"$f":"IF(社会!S50=1,S$155,0)","v":0},{"$f":"IF(社会!T50=1,T$155,0)","v":0},{"$f":"IF(社会!U50=1,U$155,0)","v":0},{"$f":"IF(社会!V50=1,V$155,0)","v":0},{"$f":"IF(社会!W50=1,W$155,0)","v":0},{"$f":"IF(社会!X50=1,X$155,0)","v":0},{"$f":"IF(社会!Y50=1,Y$155,0)","v":0},{"$f":"IF(社会!Z50=1,Z$155,0)","v":0},{"$f":"IF(社会!AA50=1,AA$155,0)","v":0},{"$f":"IF(社会!AB50=1,AB$155,0)","v":0},{"$f":"IF(社会!AC50=1,AC$155,0)","v":0},{"$f":"IF(社会!AD50=1,AD$155,0)","v":0},{"$f":"IF(社会!AE50=1,AE$155,0)","v":0},{"$f":"IF(社会!AF50=1,AF$155,0)","v":0},{"$f":"IF(社会!AG50=1,AG$155,0)","v":0},{"$f":"IF(社会!AH50=1,AH$155,0)","v":0},{"$f":"IF(社会!AI50=1,AI$155,0)","v":0},{"$f":"IF(社会!AJ50=1,AJ$155,0)","v":0},{"$f":"IF(社会!AK50=1,AK$155,0)","v":0},{"$f":"IF(社会!AL50=1,AL$155,0)","v":0},{"$f":"IF(社会!AM50=1,AM$155,0)","v":0},{"$f":"IF(社会!AN50=1,AN$155,0)","v":0},{"$f":"IF(社会!AO50=1,AO$155,0)","v":0},{"$f":"IF(社会!AP50=1,AP$155,0)","v":0},{"$f":"IF(社会!AQ50=1,AQ$155,0)","v":0},{"$f":"IF(社会!AR50=1,AR$155,0)","v":0},{"$f":"IF(社会!AS50=1,AS$155,0)","v":0},{"$f":"IF(社会!AT50=1,AT$155,0)","v":0},{"$f":"IF(社会!AU50=1,AU$155,0)","v":0},{"$f":"IF(社会!AV50=1,AV$155,0)","v":0},{"$f":"IF(社会!AW50=1,AW$155,0)","v":0},{"$f":"IF(社会!AX50=1,AX$155,0)","v":0},{"$f":"IF(社会!AY50=1,AY$155,0)","v":0},{"$f":"IF(社会!AZ50=1,AZ$155,0)","v":0},{"$f":"IF(社会!BA50=1,BA$155,0)","v":0},{"$f":"IF(社会!BB50=1,BB$155,0)","v":0},null,0,0,{"$error":"#DIV/0!"},{"$error":"#DIV/0!"},{"$error":"#DIV/0!"}]
[null,41,null,null,{"$f":"IF(社会!E51=1,E$155,0)","v":0},{"$f":"IF(社会!F51=1,F$155,0)","v":0},{"$f":"IF(社会!G51=1,G$155,0)","v":0},{"$f":"IF(社会!H51=1,H$155,0)","v":0},{"$f":"IF(社会!I51=1,I$155,0)","v":0},{"$f":"IF(社会!J51=1,J$155,0)","v":0},{"$f":"IF(社会!K51=1,K$155,0)","v":0},{"$f":"IF(社会!L51=1,L$155,0)","v":0},{"$f":"IF(社会!M51=1,M$155,0)","v":0},{"$f":"IF(社会!N51=1,N$155,0)","v":0},{"$f":"IF(社会!O51=1,O$155,0)","v":0},{"$f":"IF(社会!P51=1,P$155,0)","v":0},{"$f":"IF(社会!Q51=1,Q$155,0)","v":0},{"$f":"IF(社会!R51=1,R$155,0)","v":0},{"$f":"IF(社会!S51=1,S$155,0)","v":0},{"$f":"IF(社会!T51=1,T$155,0)","v":0},{"$f":"IF(社会!U51=1,U$155,0)","v":0},{"$f":"IF(社会!V51=1,V$155,0)","v":0},{"$f":"IF(社会!W51=1,W$155,0)","v":0},{"$f":"IF(社会!X51=1,X$155,0)","v":0},{"$f":"IF(社会!Y51=1,Y$155,0)","v":0},{"$f":"IF(社会!Z51=1,Z$155,0)","v":0},{"$f":"IF(社会!AA51=1,AA$155,0)","v":0},{"$f":"IF(社会!AB51=1,AB$155,0)","v":0},{"$f":"IF(社会!AC51=1,AC$155,0)","v":0},{"$f":"IF(社会!AD51=1,AD$155,0)","v":0},{"$f":"IF(社会!AE51=1,AE$155,0)","v":0},{"$f":"IF(社会!AF51=1,AF$155,0)","v":0},{"$f":"IF(社会!AG51=1,AG$155,0)","v":0},{"$f":"IF(社会!AH51=1,AH$155,0)","v":0},{"$f":"IF(社会!AI51=1,AI$155,0)","v":0},{"$f":"IF(社会!AJ51=1,AJ$155,0)","v":0},{"$f":"IF(社会!AK51=1,AK$155,0)","v":0},{"$f":"IF(社会!AL51=1,AL$155,0)","v":0},{"$f":"IF(社会!AM51=1,AM$155,0)","v":0},{"$f":"IF(社会!AN51=1,AN$155,0)","v":0},{"$f":"IF(社会!AO51=1,AO$155,0)","v":0},{"$f":"IF(社会!AP51=1,AP$155,0)","v":0},{"$f":"IF(社会!AQ51=1,AQ$155,0)","v":0},{"$f":"IF(社会!AR51=1,AR$155,0)","v":0},{"$f":"IF(社会!AS51=1,AS$155,0)","v":0},{"$f":"IF(社会!AT51=1,AT$155,0)","v":0},{"$f":"IF(社会!AU51=1,AU$155,0)","v":0},{"$f":"IF(社会!AV51=1,AV$155,0)","v":0},{"$f":"IF(社会!AW51=1,AW$155,0)","v":0},{"$f":"IF(社会!AX51=1,AX$155,0)","v":0},{"$f":"IF(社会!AY51=1,AY$155,0)","v":0},{"$f":"IF(社会!AZ51=1,AZ$155,0)","v":0},{"$f":"IF(社会!BA51=1,BA$155,0)","v":0},{"$f":"IF(社会!BB51=1,BB$155,0)","v":0},null,0,0,{"$error":"#DIV/0!"},{"$error":"#DIV/0!"},{"$error":"#DIV/0!"}]
[null,42,null,null,{"$f":"IF(社会!E52=1,E$155,0)","v":0},{"$f":"IF(社会!F52=1,F$155,0)","v":0},{"$f":"IF(社会!G52=1,G$155,0)","v":0},{"$f":"IF(社会!H52=1,H$155,0)","v":0},{"$f":"IF(社会!I52=1,I$155,0)","v":0},{"$f":"IF(社会!J52=1,J$155,0)","v":0},{"$f":"IF(社会!K52=1,K$155,0)","v":0},{"$f":"IF(社会!L52=1,L$155,0)","v":0},{"$f":"IF(社会!M52=1,M$155,0)","v":0},{"$f":"IF(社会!N52=1,N$155,0)","v":0},{"$f":"IF(社会!O52=1,O$155,0)","v":0},{"$f":"IF(社会!P52=1,P$155,0)","v":0},{"$f":"IF(社会!Q52=1,Q$155,0)","v":0},{"$f":"IF(社会!R52=1,R$155,0)","v":0},{"$f":"IF(社会!S52=1,S$155,0)","v":0},{"$f":"IF(社会!T52=1,T$155,0)","v":0},{"$f":"IF(社会!U52=1,U$155,0)","v":0},{"$f":"IF(社会!V52=1,V$155,0)","v":0},{"$f":"IF(社会!W52=1,W$155,0)","v":0},{"$f":"IF(社会!X52=1,X$155,0)","v":0},{"$f":"IF(社会!Y52=1,Y$155,0)","v":0},{"$f":"IF(社会!Z52=1,Z$155,0)","v":0},{"$f":"IF(社会!AA52=1,AA$155,0)","v":0},{"$f":"IF(社会!AB52=1,AB$155,0)","v":0},{"$f":"IF(社会!AC52=1,AC$155,0)","v":0},{"$f":"IF(社会!AD52=1,AD$155,0)","v":0},{"$f":"IF(社会!AE52=1,AE$155,0)","v":0},{"$f":"IF(社会!AF52=1,AF$155,0)","v":0},{"$f":"IF(社会!AG52=1,AG$155,0)","v":0},{"$f":"IF(社会!AH52=1,AH$155,0)","v":0},{"$f":"IF(社会!AI52=1,AI$155,0)","v":0},{"$f":"IF(社会!AJ52=1,AJ$155,0)","v":0},{"$f":"IF(社会!AK52=1,AK$155,0)","v":0},{"$f":"IF(社会!AL52=1,AL$155,0)","v":0},{"$f":"IF(社会!AM52=1,AM$155,0)","v":0},{"$f":"IF(社会!AN52=1,AN$155,0)","v":0},{"$f":"IF(社会!AO52=1,AO$155,0)","v":0},{"$f":"IF(社会!AP52=1,AP$155,0)","v":0},{"$f":"IF(社会!AQ52=1,AQ$155,0)","v":0},{"$f":"IF(社会!AR52=1,AR$155,0)","v":0},{"$f":"IF(社会!AS52=1,AS$155,0)","v":0},{"$f":"IF(社会!AT52=1,AT$155,0)","v":0},{"$f":"IF(社会!AU52=1,AU$155,0)","v":0},{"$f":"IF(社会!AV52=1,AV$155,0)","v":0},{"$f":"IF(社会!AW52=1,AW$155,0)","v":0},{"$f":"IF(社会!AX52=1,AX$155,0)","v":0},{"$f":"IF(社会!AY52=1,AY$155,0)","v":0},{"$f":"IF(社会!AZ52=1,AZ$155,0)","v":0},{"$f":"IF(社会!BA52=1,BA$155,0)","v":0},{"$f":"IF(社会!BB52=1,BB$155,0)","v":0},null,0,0,{"$error":"#DIV/0!"},{"$error":"#DIV/0!"},{"$error":"#DIV/0!"}]
[null,43,null,null,{"$f":"IF(社会!E53=1,E$155,0)","v":0},{"$f":"IF(社会!F53=1,F$155,0)","v":0},{"$f":"IF(社会!G53=1,G$155,0)","v":0},{"$f":"IF(社会!H53=1,H$155,0)","v":0},{"$f":"IF(社会!I53=1,I$155,0)","v":0},{"$f":"IF(社会!J53=1,J$155,0)","v":0},{"$f":"IF(社会!K53=1,K$155,0)","v":0},{"$f":"IF(社会!L53=1,L$155,0)","v":0},{"$f":"IF(社会!M53=1,M$155,0)","v":0},{"$f":"IF(社会!N53=1,N$155,0)","v":0},{"$f":"IF(社会!O53=1,O$155,0)","v":0},{"$f":"IF(社会!P53=1,P$155,0)","v":0},{"$f":"IF(社会!Q53=1,Q$155,0)","v":0},{"$f":"IF(社会!R53=1,R$155,0)","v":0},{"$f":"IF(社会!S53=1,S$155,0)","v":0},{"$f":"IF(社会!T53=1,T$155,0)","v":0},{"$f":"IF(社会!U53=1,U$155,0)","v":0},{"$f":"IF(社会!V53=1,V$155,0)","v":0},{"$f":"IF(社会!W53=1,W$155,0)","v":0},{"$f":"IF(社会!X53=1,X$155,0)","v":0},{"$f":"IF(社会!Y53=1,Y$155,0)","v":0},{"$f":"IF(社会!Z53=1,Z$155,0)","v":0},{"$f":"IF(社会!AA53=1,AA$155,0)","v":0},{"$f":"IF(社会!AB53=1,AB$155,0)","v":0},{"$f":"IF(社会!AC53=1,AC$155,0)","v":0},{"$f":"IF(社会!AD53=1,AD$155,0)","v":0},{"$f":"IF(社会!AE53=1,AE$155,0)","v":0},{"$f":"IF(社会!AF53=1,AF$155,0)","v":0},{"$f":"IF(社会!AG53=1,AG$155,0)","v":0},{"$f":"IF(社会!AH53=1,AH$155,0)","v":0},{"$f":"IF(社会!AI53=1,AI$155,0)","v":0},{"$f":"IF(社会!AJ53=1,AJ$155,0)","v":0},{"$f":"IF(社会!AK53=1,AK$155,0)","v":0},{"$f":"IF(社会!AL53=1,AL$155,0)","v":0},{"$f":"IF(社会!AM53=1,AM$155,0)","v":0},{"$f":"IF(社会!AN53=1,AN$155,0)","v":0},{"$f":"IF(社会!AO53=1,AO$155,0)","v":0},{"$f":"IF(社会!AP53=1,AP$155,0)","v":0},{"$f":"IF(社会!AQ53=1,AQ$155,0)","v":0},{"$f":"IF(社会!AR53=1,AR$155,0)","v":0},{"$f":"IF(社会!AS53=1,AS$155,0)","v":0},{"$f":"IF(社会!AT53=1,AT$155,0)","v":0},{"$f":"IF(社会!AU53=1,AU$155,0)","v":0},{"$f":"IF(社会!AV53=1,AV$155,0)","v":0},{"$f":"IF(社会!AW53=1,AW$155,0)","v":0},{"$f":"IF(社会!AX53=1,AX$155,0)","v":0},{"$f":"IF(社会!AY53=1,AY$155,0)","v":0},{"$f":"IF(社会!AZ53=1,AZ$155,0)","v":0},{"$f":"IF(社会!BA53=1,BA$155,0)","v":0},{"$f":"IF(社会!BB53=1,BB$155,0)","v":0},null,0,0,{"$error":"#DIV/0!"},{"$error":"#DIV/0!"},{"$error":"#DIV/0!"}]
[null,44,null,null,{"$f":"IF(社会!E54=1,E$155,0)","v":0},{"$f":"IF(社会!F54=1,F$155,0)","v":0},{"$f":"IF(社会!G54=1,G$155,0)","v":0},{"$f":"IF(社会!H54=1,H$155,0)","v":0},{"$f":"IF(社会!I54=1,I$155,0)","v":0},{"$f":"IF(社会!J54=1,J$155,0)","v":0},{"$f":"IF(社会!K54=1,K$155,0)","v":0},{"$f":"IF(社会!L54=1,L$155,0)","v":0},{"$f":"IF(社会!M54=1,M$155,0)","v":0},{"$f":"IF(社会!N54=1,N$155,0)","v":0},{"$f":"IF(社会!O54=1,O$155,0)","v":0},{"$f":"IF(社会!P54=1,P$155,0)","v":0},{"$f":"IF(社会!Q54=1,Q$155,0)","v":0},{"$f":"IF(社会!R54=1,R$155,0)","v":0},{"$f":"IF(社会!S54=1,S$155,0)","v":0},{"$f":"IF(社会!T54=1,T$155,0)","v":0},{"$f":"IF(社会!U54=1,U$155,0)","v":0},{"$f":"IF(社会!V54=1,V$155,0)","v":0},{"$f":"IF(社会!W54=1,W$155,0)","v":0},{"$f":"IF(社会!X54=1,X$155,0)","v":0},{"$f":"IF(社会!Y54=1,Y$155,0)","v":0},{"$f":"IF(社会!Z54=1,Z$155,0)","v":0},{"$f":"IF(社会!AA54=1,AA$155,0)","v":0},{"$f":"IF(社会!AB54=1,AB$155,0)","v":0},{"$f":"IF(社会!AC54=1,AC$155,0)","v":0},{"$f":"IF(社会!AD54=1,AD$155,0)","v":0},{"$f":"IF(社会!AE54=1,AE$155,0)","v":0},{"$f":"IF(社会!AF54=1,AF$155,0)","v":0},{"$f":"IF(社会!AG54=1,AG$155,0)","v":0},{"$f":"IF(社会!AH54=1,AH$155,0)","v":0},{"$f":"IF(社会!AI54=1,AI$155,0)","v":0},{"$f":"IF(社会!AJ54=1,AJ$155,0)","v":0},{"$f":"IF(社会!AK54=1,AK$155,0)","v":0},{"$f":"IF(社会!AL54=1,AL$155,0)","v":0},{"$f":"IF(社会!AM54=1,AM$155,0)","v":0},{"$f":"IF(社会!AN54=1,AN$155,0)","v":0},{"$f":"IF(社会!AO54=1,AO$155,0)","v":0},{"$f":"IF(社会!AP54=1,AP$155,0)","v":0},{"$f":"IF(社会!AQ54=1,AQ$155,0)","v":0},{"$f":"IF(社会!AR54=1,AR$155,0)","v":0},{"$f":"IF(社会!AS54=1,AS$155,0)","v":0},{"$f":"IF(社会!AT54=1,AT$155,0)","v":0},{"$f":"IF(社会!AU54=1,AU$155,0)","v":0},{"$f":"IF(社会!AV54=1,AV$155,0)","v":0},{"$f":"IF(社会!AW54=1,AW$155,0)","v":0},{"$f":"IF(社会!AX54=1,AX$155,0)","v":0},{"$f":"IF(社会!AY54=1,AY$155,0)","v":0},{"$f":"IF(社会!AZ54=1,AZ$155,0)","v":0},{"$f":"IF(社会!BA54=1,BA$155,0)","v":0},{"$f":"IF(社会!BB54=1,BB$155,0)","v":0},null,0,0,{"$error":"#DIV/0!"},{"$error":"#DIV/0!"},{"$error":"#DIV/0!"}]
[null,45,null,null,{"$f":"IF(社会!E55=1,E$155,0)","v":0},{"$f":"IF(社会!F55=1,F$155,0)","v":0},{"$f":"IF(社会!G55=1,G$155,0)","v":0},{"$f":"IF(社会!H55=1,H$155,0)","v":0},{"$f":"IF(社会!I55=1,I$155,0)","v":0},{"$f":"IF(社会!J55=1,J$155,0)","v":0},{"$f":"IF(社会!K55=1,K$155,0)","v":0},{"$f":"IF(社会!L55=1,L$155,0)","v":0},{"$f":"IF(社会!M55=1,M$155,0)","v":0},{"$f":"IF(社会!N55=1,N$155,0)","v":0},{"$f":"IF(社会!O55=1,O$155,0)","v":0},{"$f":"IF(社会!P55=1,P$155,0)","v":0},{"$f":"IF(社会!Q55=1,Q$155,0)","v":0},{"$f":"IF(社会!R55=1,R$155,0)","v":0},{"$f":"IF(社会!S55=1,S$155,0)","v":0},{"$f":"IF(社会!T55=1,T$155,0)","v":0},{"$f":"IF(社会!U55=1,U$155,0)","v":0},{"$f":"IF(社会!V55=1,V$155,0)","v":0},{"$f":"IF(社会!W55=1,W$155,0)","v":0},{"$f":"IF(社会!X55=1,X$155,0)","v":0},{"$f":"IF(社会!Y55=1,Y$155,0)","v":0},{"$f":"IF(社会!Z55=1,Z$155,0)","v":0},{"$f":"IF(社会!AA55=1,AA$155,0)","v":0},{"$f":"IF(社会!AB55=1,AB$155,0)","v":0},{"$f":"IF(社会!AC55=1,AC$155,0)","v":0},{"$f":"IF(社会!AD55=1,AD$155,0)","v":0},{"$f":"IF(社会!AE55=1,AE$155,0)","v":0},{"$f":"IF(社会!AF55=1,AF$155,0)","v":0},{"$f":"IF(社会!AG55=1,AG$155,0)","v":0},{"$f":"IF(社会!AH55=1,AH$155,0)","v":0},{"$f":"IF(社会!AI55=1,AI$155,0)","v":0},{"$f":"IF(社会!AJ55=1,AJ$155,0)","v":0},{"$f":"IF(社会!AK55=1,AK$155,0)","v":0},{"$f":"IF(社会!AL55=1,AL$155,0)","v":0},{"$f":"IF(社会!AM55=1,AM$155,0)","v":0},{"$f":"IF(社会!AN55=1,AN$155,0)","v":0},{"$f":"IF(社会!AO55=1,AO$155,0)","v":0},{"$f":"IF(社会!AP55=1,AP$155,0)","v":0},{"$f":"IF(社会!AQ55=1,AQ$155,0)","v":0},{"$f":"IF(社会!AR55=1,AR$155,0)","v":0},{"$f":"IF(社会!AS55=1,AS$155,0)","v":0},{"$f":"IF(社会!AT55=1,AT$155,0)","v":0},{"$f":"IF(社会!AU55=1,AU$155,0)","v":0},{"$f":"IF(社会!AV55=1,AV$155,0)","v":0},{"$f":"IF(社会!AW55=1,AW$155,0)","v":0},{"$f":"IF(社会!AX55=1,AX$155,0)","v":0},{"$f":"IF(社会!AY55=1,AY$155,0)","v":0},{"$f":"IF(社会!AZ55=1,AZ$155,0)","v":0},{"$f":"IF(社会!BA55=1,BA$155,0)","v":0},{"$f":"IF(社会!BB55=1,BB$155,0)","v":0},null,0,0,{"$error":"#DIV/0!"},{"$error":"#DIV/0!"},{"$error":"#DIV/0!"}]
[]
["算数","県",null,"通し番号",1,2,3,4,5,6,7,8,9,10,11,12,13,14,15,16,17,18,19,20,21,22,23,24,25,26,27,28,29,30,31,32,33,34,35,36,37,38,39,40,41,42,43,44,45,46,47,48,49,50]
[null,null,null,"観点",{"$f":"算数!E9","v":"知・技"},{"$f":"算数!F9","v":"知・技"},{"$f":"算数!G9","v":"知・技"},{"$f":"算数!H9","v":"知・技"},{"$f":"算数!I9","v":"知・技"},{"$f":"算数!J9","v":"知・技"},{"$f":"算数!K9","v":"知・技"},{"$f":"算数!L9","v":"知・技"},{"$f":"算数!M9","v":"知・技"},{"$f":"算数!N9","v":"思判表"},{"$f":"算数!O9","v":"知・技"},{"$f":"算数!P9","v":"思判表"},{"$f":"算数!Q9","v":"知・技"},{"$f":"算数!R9","v":"知・技"},{"$f":"算数!S9","v":"知・技"},{"$f":"算数!T9","v":"知・技"},{"$f":"算数!U9","v":"思判表"},{"$f":"算数!V9","v":"知・技"},{"$f":"算数!W9","v":"知・技"},{"$f":"算数!X9","v":"知・技"},{"$f":"算数!Y9","v":"思判表"},{"$f":"算数!Z9","v":"思判表"},{"$f":"算数!AA9","v":"知・技"},{"$f":"算数!AB9","v":"思判表"},{"$f":"算数!AC9","v":"思判表"},{"$f":"算数!AD9","v":0},{"$f":"算数!AE9","v":0},{"$f":"算数!AF9","v":0},{"$f":"算数!AG9","v":0},{"$f":"算数!AH9","v":0},{"$f":"算数!AI9","v":0},{"$f":"算数!AJ9","v":0},{"$f":"算数!AK9","v":0},{"$f":"算数!AL9","v":0},{"$f":"算数!AM9","v":0},{"$f":"算数!AN9","v":0},{"$f":"算数!AO9","v":0},{"$f":"算数!AP9","v":0},{"$f":"算数!AQ9","v":0},{"$f":"算数!AR9","v":0},{"$f":"算数!AS9","v":0},{"$f":"算数!AT9","v":0},{"$f":"算数!AU9","v":0},{"$f":"算数!AV9","v":0},{"$f":"算数!AW9","v":0},{"$f":"算数!AX9","v":0},{"$f":"算数!AY9","v":0},{"$f":"算数!AZ9","v":0},{"$f":"算数!BA9","v":0},{"$f":"算数!BB9","v":0},null,{"$f":"算数!BF35","v":"知・技"},{"$f":"算数!BF36","v":"思判表"},{"$f":"算数!BF37","v":"-"},{"$f":"算数!BF38","v":"-"},{"$f":"算数!BF39","v":"-"}]
[null,null,null,"配点",{"$f":"算数!E10","v":4},{"$f":"算数!F10","v":4},{"$f":"算数!G10","v":4},{"$f":"算数!H10","v":4},{"$f":"算数!I10","v":4},{"$f":"算数!J10","v":4},{"$f":"算数!K10","v":4},{"$f":"算数!L10","v":4},{"$f":"算数!M10","v":4},{"$f":"算数!N10","v":4},{"$f":"算数!O10","v":4},{"$f":"算数!P10","v":4},{"$f":"算数!Q10","v":4},{"$f":"算数!R10","v":4},{"$f":"算数!S10","v":4},{"$f":"算数!T10","v":4},{"$f":"算数!U10","v":4},{"$f":"算数!V10","v":4},{"$f":"算数!W10","v":4},{"$f":"算数!X10","v":4},{"$f":"算数!Y10","v":4},{"$f":"算数!Z10","v":4},{"$f":"算数!AA10","v":4},{"$f":"算数!AB10","v":4},{"$f":"算数!AC10","v":4},{"$f":"算数!AD10","v":0},{"$f":"算数!AE10","v":0},{"$f":"算数!AF10","v":0},{"$f":"算数!AG10","v":0},{"$f":"算数!AH10","v":0},{"$f":"算数!AI10","v":0},{"$f":"算数!AJ10","v":0},{"$f":"算数!AK10","v":0},{"$f":"算数!AL10","v":0},{"$f":"算数!AM10","v":0},{"$f":"算数!AN10","v":0},{"$f":"算数!AO10","v":0},{"$f":"算数!AP10","v":0},{"$f":"算数!AQ10","v":0},{"$f":"算数!AR10","v":0},{"$f":"算数!AS10","v":0},{"$f":"算数!AT10","v":0},{"$f":"算数!AU10","v":0},{"$f":"算数!AV10","v":0},{"$f":"算数!AW10","v":0},{"$f":"算数!AX10","v":0},{"$f":"算数!AY10","v":0},{"$f":"算数!AZ10","v":0},{"$f":"算数!BA10","v":0},{"$f":"算数!BB10","v":0},null,{"$f":"SUMIF($E$203:$BB$203,BD$203,$E204:$BB204)","v":72},{"$f":"SUMIF($E$203:$BB$203,BE$203,$E204:$BB204)","v":28},{"$f":"SUMIF($E$203:$BB$203,BF$203,$E204:$BB204)","v":0},{"$f":"SUMIF($E$203:$BB$203,BG$203,$E204:$BB204)","v":0},{"$f":"SUMIF($E$203:$BB$203,BH$203,$E204:$BB204)","v":0}]
[null,null,null,"得点率",{"$f":"算数得点!B58*E204","v":3.7480000000000002},{"$f":"算数得点!C58*F204","v":2.2280000000000002},{"$f":"算数得点!D58*G204","v":2.6040000000000001},{"$f":"算数得点!E58*H204","v":1.9079999999999999},{"$f":"算数得点!F58*I204","v":2.1880000000000002},{"$f":"算数得点!G58*J204","v":2.1920000000000002},{"$f":"算数得点!H58*K204","v":3.02},{"$f":"算数得点!I58*L204","v":2.6120000000000001},{"$f":"算数得点!J58*M204","v":2.012},{"$f":"算数得点!K58*N204","v":1.3720000000000001},{"$f":"算数得点!L58*O204","v":3.3359999999999999},{"$f":"算数得点!M58*P204","v":1.764},{"$f":"算数得点!N58*Q204","v":1.1439999999999999},{"$f":"算数得点!O58*R204","v":1.76},{"$f":"算数得点!P58*S204","v":1.78},{"$f":"算数得点!Q58*T204","v":3.56},{"$f":"算数得点!R58*U204","v":1.3080000000000001},{"$f":"算数得点!S58*V204","v":2.1520000000000001},{"$f":"算数得点!T58*W204","v":1.972},{"$f":"算数得点!U58*X204","v":1.284},{"$f":"算数得点!V58*Y204","v":0.81200000000000006},{"$f":"算数得点!W58*Z204","v":2.2639999999999998},{"$f":"算数得点!X58*AA204","v":3.1560000000000001},{"$f":"算数得点!Y58*AB204","v":2.2160000000000002},{"$f":"算数得点!Z58*AC204","v":2.3279999999999998},{"$f":"算数得点!AA58*AD204","v":0},{"$f":"算数得点!AB58*AE204","v":0},{"$f":"算数得点!AC58*AF204","v":0},{"$f":"算数得点!AD58*AG204","v":0},{"$f":"算数得点!AE58*AH204","v":0},{"$f":"算数得点!AF58*AI204","v":0},{"$f":"算数得点!AG58*AJ204","v":0},{"$f":"算数得点!AH58*AK204","v":0},{"$f":"算数得点!AI58*AL204","v":0},{"$f":"算数得点!AJ58*AM204","v":0},{"$f":"算数得点!AK58*AN204","v":0},{"$f":"算数得点!AL58*AO204","v":0},{"$f":"算数得点!AM58*AP204","v":0},{"$f":"算数得点!AN58*AQ204","v":0},{"$f":"算数得点!AO58*AR204","v":0},{"$f":"算数得点!AP58*AS204","v":0},{"$f":"算数得点!AQ58*AT204","v":0},{"$f":"算数得点!AR58*AU204","v":0},{"$f":"算数得点!AS58*AV204","v":0},{"$f":"算数得点!AT58*AW204","v":0},{"$f":"算数得点!AU58*AX204","v":0},{"$f":"算数得点!AV58*AY204","v":0},{"$f":"算数得点!AW58*AZ204","v":0},{"$f":"算数得点!AX58*BA204","v":0},{"$f":"算数得点!AY58*BB204","v":0},null,{"$f":"SUMIF($E$203:$BB$203,BD$203,$E205:$BB205)/BD$204","v":0.59244444444444444},{"$f":"SUMIF($E$203:$BB$203,BE$203,$E205:$BB205)/BE$204","v":0.43085714285714288},{"$f":"SUMIF($E$203:$BB$203,BF$203,$E205:$BB205)/BF$204","v":{"$error":"#DIV/0!"}},{"$f":"SUMIF($E$203:$BB$203,BG$203,$E205:$BB205)/BG$204","v":{"$error":"#DIV/0!"}},{"$f":"SUMIF($E$203:$BB$203,BH$203,$E205:$BB205)/BH$204","v":{"$error":"#DIV/0!"}}]
[]
["算数","自校",null,"通し番号",1,2,3,4,5,6,7,8,9,10,11,12,13,14,15,16,17,18,19,20,21,22,23,24,25,26,27,28,29,30,31,32,33,34,35,36,37,38,39,40,41,42,43,44,45,46,47,48,49,50,null,null,null,null,null,null,null,null,null,null,null,"観点数"]
[null,null,null,"観点",{"$f":"算数!E9","v":"知・技"},{"$f":"算数!F9","v":"知・技"},{"$f":"算数!G9","v":"知・技"},{"$f":"算数!H9","v":"知・技"},{"$f":"算数!I9","v":"知・技"},{"$f":"算数!J9","v":"知・技"},{"$f":"算数!K9","v":"知・技"},{"$f":"算数!L9","v":"知・技"},{"$f":"算数!M9","v":"知・技"},{"$f":"算数!N9","v":"思判表"},{"$f":"算数!O9","v":"知・技"},{"$f":"算数!P9","v":"思判表"},{"$f":"算数!Q9","v":"知・技"},{"$f":"算数!R9","v":"知・技"},{"$f":"算数!S9","v":"知・技"},{"$f":"算数!T9","v":"知・技"},{"$f":"算数!U9","v":"思判表"},{"$f":"算数!V9","v":"知・技"},{"$f":"算数!W9","v":"知・技"},{"$f":"算数!X9","v":"知・技"},{"$f":"算数!Y9","v":"思判表"},{"$f":"算数!Z9","v":"思判表"},{"$f":"算数!AA9","v":"知・技"},{"$f":"算数!AB9","v":"思判表"},{"$f":"算数!AC9","v":"思判表"},{"$f":"算数!AD9","v":0},{"$f":"算数!AE9","v":0},{"$f":"算数!AF9","v":0},{"$f":"算数!AG9","v":0},{"$f":"算数!AH9","v":0},{"$f":"算数!AI9","v":0},{"$f":"算数!AJ9","v":0},{"$f":"算数!AK9","v":0},{"$f":"算数!AL9","v":0},{"$f":"算数!AM9","v":0},{"$f":"算数!AN9","v":0},{"$f":"算数!AO9","v":0},{"$f":"算数!AP9","v":0},{"$f":"算数!AQ9","v":0},{"$f":"算数!AR9","v":0},{"$f":"算数!AS9","v":0},{"$f":"算数!AT9","v":0},{"$f":"算数!AU9","v":0},{"$f":"算数!AV9","v":0},{"$f":"算数!AW9","v":0},{"$f":"算数!AX9","v":0},{"$f":"算数!AY9","v":0},{"$f":"算数!AZ9","v":0},{"$f":"算数!BA9","v":0},{"$f":"算数!BB9","v":0},null,{"$f":"算数!BF35","v":"知・技"},{"$f":"算数!BF36","v":"思判表"},{"$f":"算数!BF37","v":"-"},{"$f":"算数!BF38","v":"-"},{"$f":"算数!BF39","v":"-"},null,null,"県","自校","個人",{"$f":"算数!BG41","v":2}]
[null,null,null,"配点",{"$f":"算数!E10","v":4},{"$f":"算数!F10","v":4},{"$f":"算数!G10","v":4},{"$f":"算数!H10","v":4},{"$f":"算数!I10","v":4},{"$f":"算数!J10","v":4},{"$f":"算数!K10","v":4},{"$f":"算数!L10","v":4},{"$f":"算数!M10","v":4},{"$f":"算数!N10","v":4},{"$f":"算数!O10","v":4},{"$f":"算数!P10","v":4},{"$f":"算数!Q10","v":4},{"$f":"算数!R10","v":4},{"$f":"算数!S10","v":4},{"$f":"算数!T10","v":4},{"$f":"算数!U10","v":4},{"$f":"算数!V10","v":4},{"$f":"算数!W10","v":4},{"$f":"算数!X10","v":4},{"$f":"算数!Y10","v":4},{"$f":"算数!Z10","v":4},{"$f":"算数!AA10","v":4},{"$f":"算数!AB10","v":4},{"$f":"算数!AC10","v":4},{"$f":"算数!AD10","v":0},{"$f":"算数!AE10","v":0},{"$f":"算数!AF10","v":0},{"$f":"算数!AG10","v":0},{"$f":"算数!AH10","v":0},{"$f":"算数!AI10","v":0},{"$f":"算数!AJ10","v":0},{"$f":"算数!AK10","v":0},{"$f":"算数!AL10","v":0},{"$f":"算数!AM10","v":0},{"$f":"算数!AN10","v":0},{"$f":"算数!AO10","v":0},{"$f":"算数!AP10","v":0},{"$f":"算数!AQ10","v":0},{"$f":"算数!AR10","v":0},{"$f":"算数!AS10","v":0},{"$f":"算数!AT10","v":0},{"$f":"算数!AU10","v":0},{"$f":"算数!AV10","v":0},{"$f":"算数!AW10","v":0},{"$f":"算数!AX10","v":0},{"$f":"算数!AY10","v":0},{"$f":"算数!AZ10","v":0},{"$f":"算数!BA10","v":0},{"$f":"算数!BB10","v":0},null,{"$f":"SUMIF($E$208:$BB$208,BD$208,$E209:$BB209)","v":72},{"$f":"SUMIF($E$208:$BB$208,BE$208,$E209:$BB209)","v":28},{"$f":"SUMIF($E$208:$BB$208,BF$208,$E209:$BB209)","v":0},{"$f":"SUMIF($E$208:$BB$208,BG$208,$E209:$BB209)","v":0},{"$f":"SUMIF($E$208:$BB$208,BH$208,$E209:$BB209)","v":0},null,{"$f":"算数!BG35","v":"知識・技能"},{"$f":"BD205","v":0.59244444444444444},{"$f":"BD210","v":{"$error":"#DIV/0!"}},{"$f":"VLOOKUP($B$3,$B$215:$BH$259,55)","v":0}]
[null,null,null,"得点率",{"$f":"算数!E64*E209","v":{"$error":"#DIV/0!"}},{"$f":"算数!F64*F209","v":{"$error":"#DIV/0!"}},{"$f":"算数!G64*G209","v":{"$error":"#DIV/0!"}},{"$f":"算数!H64*H209","v":{"$error":"#DIV/0!"}},{"$f":"算数!I64*I209","v":{"$error":"#DIV/0!"}},{"$f":"算数!J64*J209","v":{"$error":"#DIV/0!"}},{"$f":"算数!K64*K209","v":{"$error":"#DIV/0!"}},{"$f":"算数!L64*L209","v":{"$error":"#DIV/0!"}},{"$f":"算数!M64*M209","v":{"$error":"#DIV/0!"}},{"$f":"算数!N64*N209","v":{"$error":"#DIV/0!"}},{"$f":"算数!O64*O209","v":{"$error":"#DIV/0!"}},{"$f":"算数!P64*P209","v":{"$error":"#DIV/0!"}},{"$f":"算数!Q64*Q209","v":{"$error":"#DIV/0!"}},{"$f":"算数!R64*R209","v":{"$error":"#DIV/0!"}},{"$f":"算数!S64*S209","v":{"$error":"#DIV/0!"}},{"$f":"算数!T64*T209","v":{"$error":"#DIV/0!"}},{"$f":"算数!U64*U209","v":{"$error":"#DIV/0!"}},{"$f":"算数!V64*V209","v":{"$error":"#DIV/0!"}},{"$f":"算数!W64*W209","v":{"$error":"#DIV/0!"}},{"$f":"算数!X64*X209","v":{"$error":"#DIV/0!"}},{"$f":"算数!Y64*Y209","v":{"$error":"#DIV/0!"}},{"$f":"算数!Z64*Z209","v":{"$error":"#DIV/0!"}},{"$f":"算数!AA64*AA209","v":{"$error":"#DIV/0!"}},{"$f":"算数!AB64*AB209","v":{"$error":"#DIV/0!"}},{"$f":"算数!AC64*AC209","v":{"$error":"#DIV/0!"}},{"$f":"算数!AD64*AD209","v":{"$error":"#DIV/0!"}},{"$f":"算数!AE64*AE209","v":{"$error":"#DIV/0!"}},{"$f":"算数!AF64*AF209","v":{"$error":"#DIV/0!"}},{"$f":"算数!AG64*AG209","v":{"$error":"#DIV/0!"}},{"$f":"算数!AH64*AH209","v":{"$error":"#DIV/0!"}},{"$f":"算数!AI64*AI209","v":{"$error":"#DIV/0!"}},{"$f":"算数!AJ64*AJ209","v":{"$error":"#DIV/0!"}},{"$f":"算数!AK64*AK209","v":{"$error":"#DIV/0!"}},{"$f":"算数!AL64*AL209","v":{"$error":"#DIV/0!"}},{"$f":"算数!AM64*AM209","v":{"$error":"#DIV/0!"}},{"$f":"算数!AN64*AN209","v":{"$error":"#DIV/0!"}},{"$f":"算数!AO64*AO209","v":{"$error":"#DIV/0!"}},{"$f":"算数!AP64*AP209","v":{"$error":"#DIV/0!"}},{"$f":"算数!AQ64*AQ209","v":{"$error":"#DIV/0!"}},{"$f":"算数!AR64*AR209","v":{"$error":"#DIV/0!"}},{"$f":"算数!AS64*AS209","v":{"$error":"#DIV/0!"}},{"$f":"算数!AT64*AT209","v":{"$error":"#DIV/0!"}},{"$f":"算数!AU64*AU209","v":{"$error":"#DIV/0!"}},{"$f":"算数!AV64*AV209","v":{"$error":"#DIV/0!"}},{"$f":"算数!AW64*AW209","v":{"$error":"#DIV/0!"}},{"$f":"算数!AX64*AX209","v":{"$error":"#DIV/0!"}},{"$f":"算数!AY64*AY209","v":{"$error":"#DIV/0!"}},{"$f":"算数!AZ64*AZ209","v":{"$error":"#DIV/0!"}},{"$f":"算数!BA64*BA209","v":{"$error":"#DIV/0!"}},{"$f":"算数!BB64*BB209","v":{"$error":"#DIV/0!"}},null,{"$f":"SUMIF($E$208:$BB$208,BD$208,$E210:$BB210)/BD$209","v":{"$error":"#DIV/0!"}},{"$f":"SUMIF($E$208:$BB$208,BE$208,$E210:$BB210)/BE$209","v":{"$error":"#DIV/0!"}},{"$f":"SUMIF($E$208:$BB$208,BF$208,$E210:$BB210)/BF$209","v":{"$error":"#DIV/0!"}},{"$f":"SUMIF($E$208:$BB$208,BG$208,$E210:$BB210)/BG$209","v":{"$error":"#DIV/0!"}},{"$f":"SUMIF($E$208:$BB$208,BH$208,$E210:$BB210)/BH$209","v":{"$error":"#DIV/0!"}},null,{"$f":"算数!BG36","v":"思考・判断・表現"},{"$f":"BE205","v":0.43085714285714288},{"$f":"BE210","v":{"$error":"#DIV/0!"}},{"$f":"VLOOKUP($B$3,$B$215:$BH$259,56)","v":0}]
[null,null,null,null,null,null,null,null,null,null,null,null,null,null,null,null,null,null,null,null,null,null,null,null,null,null,null,null,null,null,null,null,null,null,null,null,null,null,null,null,null,null,null,null,null,null,null,null,null,null,null,null,null,null,null,null,null,null,null,null,null,{"$f":"算数!BG37","v":"-"},{"$f":"BF205","v":{"$error":"#DIV/0!"}},{"$f":"BF210","v":{"$error":"#DIV/0!"}},{"$f":"VLOOKUP($B$3,$B$215:$BH$259,57)","v":{"$error":"#DIV/0!"}}]
["算数","個人",null,"通し番号",1,2,3,4,5,6,7,8,9,10,11,12,13,14,15,16,17,18,19,20,21,22,23,24,25,26,27,28,29,30,31,32,33,34,35,36,37,38,39,40,41,42,43,44,45,46,47,48,49,50,null,null,null,null,null,null,null,{"$f":"算数!BG38","v":"-"},{"$f":"BG205","v":{"$error":"#DIV/0!"}},{"$f":"BG210","v":{"$error":"#DIV/0!"}},{"$f":"VLOOKUP($B$3,$B$215:$BH$259,58)","v":{"$error":"#DIV/0!"}}]
[null,null,null,"観点",{"$f":"算数!E9","v":"知・技"},{"$f":"算数!F9","v":"知・技"},{"$f":"算数!G9","v":"知・技"},{"$f":"算数!H9","v":"知・技"},{"$f":"算数!I9","v":"知・技"},{"$f":"算数!J9","v":"知・技"},{"$f":"算数!K9","v":"知・技"},{"$f":"算数!L9","v":"知・技"},{"$f":"算数!M9","v":"知・技"},{"$f":"算数!N9","v":"思判表"},{"$f":"算数!O9","v":"知・技"},{"$f":"算数!P9","v":"思判表"},{"$f":"算数!Q9","v":"知・技"},{"$f":"算数!R9","v":"知・技"},{"$f":"算数!S9","v":"知・技"},{"$f":"算数!T9","v":"知・技"},{"$f":"算数!U9","v":"思判表"},{"$f":"算数!V9","v":"知・技"},{"$f":"算数!W9","v":"知・技"},{"$f":"算数!X9","v":"知・技"},{"$f":"算数!Y9","v":"思判表"},{"$f":"算数!Z9","v":"思判表"},{"$f":"算数!AA9","v":"知・技"},{"$f":"算数!AB9","v":"思判表"},{"$f":"算数!AC9","v":"思判表"},{"$f":"算数!AD9","v":0},{"$f":"算数!AE9","v":0},{"$f":"算数!AF9","v":0},{"$f":"算数!AG9","v":0},{"$f":"算数!AH9","v":0},{"$f":"算数!AI9","v":0},{"$f":"算数!AJ9","v":0},{"$f":"算数!AK9","v":0},{"$f":"算数!AL9","v":0},{"$f":"算数!AM9","v":0},{"$f":"算数!AN9","v":0},{"$f":"算数!AO9","v":0},{"$f":"算数!AP9","v":0},{"$f":"算数!AQ9","v":0},{"$f":"算数!AR9","v":0},{"$f":"算数!AS9","v":0},{"$f":"算数!AT9","v":0},{"$f":"算数!AU9","v":0},{"$f":"算数!AV9","v":0},{"$f":"算数!AW9","v":0},{"$f":"算数!AX9","v":0},{"$f":"算数!AY9","v":0},{"$f":"算数!AZ9","v":0},{"$f":"算数!BA9","v":0},{"$f":"算数!BB9","v":0},null,{"$f":"算数!BF35","v":"知・技"},{"$f":"算数!BF36","v":"思判表"},{"$f":"算数!BF37","v":"-"},{"$f":"算数!BF38","v":"-"},{"$f":"算数!BF39","v":"-"},null,{"$f":"算数!BG39","v":"-"},{"$f":"BH205","v":{"$error":"#DIV/0!"}},{"$f":"BH210","v":{"$error":"#DIV/0!"}},{"$f":"VLOOKUP($B$3,$B$215:$BH$259,59)","v":{"$error":"#DIV/0!"}}]
[null,"Ｎｏ．","氏名","配点",{"$f":"算数!E10","v":4},{"$f":"算数!F10","v":4},{"$f":"算数!G10","v":4},{"$f":"算数!H10","v":4},{"$f":"算数!I10","v":4},{"$f":"算数!J10","v":4},{"$f":"算数!K10","v":4},{"$f":"算数!L10","v":4},{"$f":"算数!M10","v":4},{"$f":"算数!N10","v":4},{"$f":"算数!O10","v":4},{"$f":"算数!P10","v":4},{"$f":"算数!Q10","v":4},{"$f":"算数!R10","v":4},{"$f":"算数!S10","v":4},{"$f":"算数!T10","v":4},{"$f":"算数!U10","v":4},{"$f":"算数!V10","v":4},{"$f":"算数!W10","v":4},{"$f":"算数!X10","v":4},{"$f":"算数!Y10","v":4},{"$f":"算数!Z10","v":4},{"$f":"算数!AA10","v":4},{"$f":"算数!AB10","v":4},{"$f":"算数!AC10","v":4},{"$f":"算数!AD10","v":0},{"$f":"算数!AE10","v":0},{"$f":"算数!AF10","v":0},{"$f":"算数!AG10","v":0},{"$f":"算数!AH10","v":0},{"$f":"算数!AI10","v":0},{"$f":"算数!AJ10","v":0},{"$f":"算数!AK10","v":0},{"$f":"算数!AL10","v":0},{"$f":"算数!AM10","v":0},{"$f":"算数!AN10","v":0},{"$f":"算数!AO10","v":0},{"$f":"算数!AP10","v":0},{"$f":"算数!AQ10","v":0},{"$f":"算数!AR10","v":0},{"$f":"算数!AS10","v":0},{"$f":"算数!AT10","v":0},{"$f":"算数!AU10","v":0},{"$f":"算数!AV10","v":0},{"$f":"算数!AW10","v":0},{"$f":"算数!AX10","v":0},{"$f":"算数!AY10","v":0},{"$f":"算数!AZ10","v":0},{"$f":"算数!BA10","v":0},{"$f":"算数!BB10","v":0},null,{"$f":"SUMIF($E$213:$BB$213,BD$213,$E214:$BB214)","v":72},{"$f":"SUMIF($E$213:$BB$213,BE$213,$E214:$BB214)","v":28},{"$f":"SUMIF($E$213:$BB$213,BF$213,$E214:$BB214)","v":0},{"$f":"SUMIF($E$213:$BB$213,BG$213,$E214:$BB214)","v":0},{"$f":"SUMIF($E$213:$BB$213,BH$213,$E214:$BB214)","v":0}]
[null,1,null,null,{"$f":"IF(算数!E11=1,E$214,0)","v":0},{"$f":"IF(算数!F11=1,F$214,0)","v":0},{"$f":"IF(算数!G11=1,G$214,0)","v":0},{"$f":"IF(算数!H11=1,H$214,0)","v":0},{"$f":"IF(算数!I11=1,I$214,0)","v":0},{"$f":"IF(算数!J11=1,J$214,0)","v":0},{"$f":"IF(算数!K11=1,K$214,0)","v":0},{"$f":"IF(算数!L11=1,L$214,0)","v":0},{"$f":"IF(算数!M11=1,M$214,0)","v":0},{"$f":"IF(算数!N11=1,N$214,0)","v":0},{"$f":"IF(算数!O11=1,O$214,0)","v":0},{"$f":"IF(算数!P11=1,P$214,0)","v":0},{"$f":"IF(算数!Q11=1,Q$214,0)","v":0},{"$f":"IF(算数!R11=1,R$214,0)","v":0},{"$f":"IF(算数!S11=1,S$214,0)","v":0},{"$f":"IF(算数!T11=1,T$214,0)","v":0},{"$f":"IF(算数!U11=1,U$214,0)","v":0},{"$f":"IF(算数!V11=1,V$214,0)","v":0},{"$f":"IF(算数!W11=1,W$214,0)","v":0},{"$f":"IF(算数!X11=1,X$214,0)","v":0},{"$f":"IF(算数!Y11=1,Y$214,0)","v":0},{"$f":"IF(算数!Z11=1,Z$214,0)","v":0},{"$f":"IF(算数!AA11=1,AA$214,0)","v":0},{"$f":"IF(算数!AB11=1,AB$214,0)","v":0},{"$f":"IF(算数!AC11=1,AC$214,0)","v":0},{"$f":"IF(算数!AD11=1,AD$214,0)","v":0},{"$f":"IF(算数!AE11=1,AE$214,0)","v":0},{"$f":"IF(算数!AF11=1,AF$214,0)","v":0},{"$f":"IF(算数!AG11=1,AG$214,0)","v":0},{"$f":"IF(算数!AH11=1,AH$214,0)","v":0},{"$f":"IF(算数!AI11=1,AI$214,0)","v":0},{"$f":"IF(算数!AJ11=1,AJ$214,0)","v":0},{"$f":"IF(算数!AK11=1,AK$214,0)","v":0},{"$f":"IF(算数!AL11=1,AL$214,0)","v":0},{"$f":"IF(算数!AM11=1,AM$214,0)","v":0},{"$f":"IF(算数!AN11=1,AN$214,0)","v":0},{"$f":"IF(算数!AO11=1,AO$214,0)","v":0},{"$f":"IF(算数!AP11=1,AP$214,0)","v":0},{"$f":"IF(算数!AQ11=1,AQ$214,0)","v":0},{"$f":"IF(算数!AR11=1,AR$214,0)","v":0},{"$f":"IF(算数!AS11=1,AS$214,0)","v":0},{"$f":"IF(算数!AT11=1,AT$214,0)","v":0},{"$f":"IF(算数!AU11=1,AU$214,0)","v":0},{"$f":"IF(算数!AV11=1,AV$214,0)","v":0},{"$f":"IF(算数!AW11=1,AW$214,0)","v":0},{"$f":"IF(算数!AX11=1,AX$214,0)","v":0},{"$f":"IF(算数!AY11=1,AY$214,0)","v":0},{"$f":"IF(算数!AZ11=1,AZ$214,0)","v":0},{"$f":"IF(算数!BA11=1,BA$214,0)","v":0},{"$f":"IF(算数!BB11=1,BB$214,0)","v":0},null,{"$f":"SUMIF($E$213:$BB$213,BD$213,$E215:$BB215)/BD$214","v":0},{"$f":"SUMIF($E$213:$BB$213,BE$213,$E215:$BB215)/BE$214","v":0},{"$error":"#DIV/0!"},{"$error":"#DIV/0!"},{"$error":"#DIV/0!"}]
[null,2,null,null,{"$f":"IF(算数!E12=1,E$214,0)","v":0},{"$f":"IF(算数!F12=1,F$214,0)","v":0},{"$f":"IF(算数!G12=1,G$214,0)","v":0},{"$f":"IF(算数!H12=1,H$214,0)","v":0},{"$f":"IF(算数!I12=1,I$214,0)","v":0},{"$f":"IF(算数!J12=1,J$214,0)","v":0},{"$f":"IF(算数!K12=1,K$214,0)","v":0},{"$f":"IF(算数!L12=1,L$214,0)","v":0},{"$f":"IF(算数!M12=1,M$214,0)","v":0},{"$f":"IF(算数!N12=1,N$214,0)","v":0},{"$f":"IF(算数!O12=1,O$214,0)","v":0},{"$f":"IF(算数!P12=1,P$214,0)","v":0},{"$f":"IF(算数!Q12=1,Q$214,0)","v":0},{"$f":"IF(算数!R12=1,R$214,0)","v":0},{"$f":"IF(算数!S12=1,S$214,0)","v":0},{"$f":"IF(算数!T12=1,T$214,0)","v":0},{"$f":"IF(算数!U12=1,U$214,0)","v":0},{"$f":"IF(算数!V12=1,V$214,0)","v":0},{"$f":"IF(算数!W12=1,W$214,0)","v":0},{"$f":"IF(算数!X12=1,X$214,0)","v":0},{"$f":"IF(算数!Y12=1,Y$214,0)","v":0},{"$f":"IF(算数!Z12=1,Z$214,0)","v":0},{"$f":"IF(算数!AA12=1,AA$214,0)","v":0},{"$f":"IF(算数!AB12=1,AB$214,0)","v":0},{"$f":"IF(算数!AC12=1,AC$214,0)","v":0},{"$f":"IF(算数!AD12=1,AD$214,0)","v":0},{"$f":"IF(算数!AE12=1,AE$214,0)","v":0},{"$f":"IF(算数!AF12=1,AF$214,0)","v":0},{"$f":"IF(算数!AG12=1,AG$214,0)","v":0},{"$f":"IF(算数!AH12=1,AH$214,0)","v":0},{"$f":"IF(算数!AI12=1,AI$214,0)","v":0},{"$f":"IF(算数!AJ12=1,AJ$214,0)","v":0},{"$f":"IF(算数!AK12=1,AK$214,0)","v":0},{"$f":"IF(算数!AL12=1,AL$214,0)","v":0},{"$f":"IF(算数!AM12=1,AM$214,0)","v":0},{"$f":"IF(算数!AN12=1,AN$214,0)","v":0},{"$f":"IF(算数!AO12=1,AO$214,0)","v":0},{"$f":"IF(算数!AP12=1,AP$214,0)","v":0},{"$f":"IF(算数!AQ12=1,AQ$214,0)","v":0},{"$f":"IF(算数!AR12=1,AR$214,0)","v":0},{"$f":"IF(算数!AS12=1,AS$214,0)","v":0},{"$f":"IF(算数!AT12=1,AT$214,0)","v":0},{"$f":"IF(算数!AU12=1,AU$214,0)","v":0},{"$f":"IF(算数!AV12=1,AV$214,0)","v":0},{"$f":"IF(算数!AW12=1,AW$214,0)","v":0},{"$f":"IF(算数!AX12=1,AX$214,0)","v":0},{"$f":"IF(算数!AY12=1,AY$214,0)","v":0},{"$f":"IF(算数!AZ12=1,AZ$214,0)","v":0},{"$f":"IF(算数!BA12=1,BA$214,0)","v":0},{"$f":"IF(算数!BB12=1,BB$214,0)","v":0},null,0,0,{"$error":"#DIV/0!"},{"$error":"#DIV/0!"},{"$error":"#DIV/0!"}]
[null,3,null,null,{"$f":"IF(算数!E13=1,E$214,0)","v":0},{"$f":"IF(算数!F13=1,F$214,0)","v":0},{"$f":"IF(算数!G13=1,G$214,0)","v":0},{"$f":"IF(算数!H13=1,H$214,0)","v":0},{"$f":"IF(算数!I13=1,I$214,0)","v":0},{"$f":"IF(算数!J13=1,J$214,0)","v":0},{"$f":"IF(算数!K13=1,K$214,0)","v":0},{"$f":"IF(算数!L13=1,L$214,0)","v":0},{"$f":"IF(算数!M13=1,M$214,0)","v":0},{"$f":"IF(算数!N13=1,N$214,0)","v":0},{"$f":"IF(算数!O13=1,O$214,0)","v":0},{"$f":"IF(算数!P13=1,P$214,0)","v":0},{"$f":"IF(算数!Q13=1,Q$214,0)","v":0},{"$f":"IF(算数!R13=1,R$214,0)","v":0},{"$f":"IF(算数!S13=1,S$214,0)","v":0},{"$f":"IF(算数!T13=1,T$214,0)","v":0},{"$f":"IF(算数!U13=1,U$214,0)","v":0},{"$f":"IF(算数!V13=1,V$214,0)","v":0},{"$f":"IF(算数!W13=1,W$214,0)","v":0},{"$f":"IF(算数!X13=1,X$214,0)","v":0},{"$f":"IF(算数!Y13=1,Y$214,0)","v":0},{"$f":"IF(算数!Z13=1,Z$214,0)","v":0},{"$f":"IF(算数!AA13=1,AA$214,0)","v":0},{"$f":"IF(算数!AB13=1,AB$214,0)","v":0},{"$f":"IF(算数!AC13=1,AC$214,0)","v":0},{"$f":"IF(算数!AD13=1,AD$214,0)","v":0},{"$f":"IF(算数!AE13=1,AE$214,0)","v":0},{"$f":"IF(算数!AF13=1,AF$214,0)","v":0},{"$f":"IF(算数!AG13=1,AG$214,0)","v":0},{"$f":"IF(算数!AH13=1,AH$214,0)","v":0},{"$f":"IF(算数!AI13=1,AI$214,0)","v":0},{"$f":"IF(算数!AJ13=1,AJ$214,0)","v":0},{"$f":"IF(算数!AK13=1,AK$214,0)","v":0},{"$f":"IF(算数!AL13=1,AL$214,0)","v":0},{"$f":"IF(算数!AM13=1,AM$214,0)","v":0},{"$f":"IF(算数!AN13=1,AN$214,0)","v":0},{"$f":"IF(算数!AO13=1,AO$214,0)","v":0},{"$f":"IF(算数!AP13=1,AP$214,0)","v":0},{"$f":"IF(算数!AQ13=1,AQ$214,0)","v":0},{"$f":"IF(算数!AR13=1,AR$214,0)","v":0},{"$f":"IF(算数!AS13=1,AS$214,0)","v":0},{"$f":"IF(算数!AT13=1,AT$214,0)","v":0},{"$f":"IF(算数!AU13=1,AU$214,0)","v":0},{"$f":"IF(算数!AV13=1,AV$214,0)","v":0},{"$f":"IF(算数!AW13=1,AW$214,0)","v":0},{"$f":"IF(算数!AX13=1,AX$214,0)","v":0},{"$f":"IF(算数!AY13=1,AY$214,0)","v":0},{"$f":"IF(算数!AZ13=1,AZ$214,0)","v":0},{"$f":"IF(算数!BA13=1,BA$214,0)","v":0},{"$f":"IF(算数!BB13=1,BB$214,0)","v":0},null,0,0,{"$error":"#DIV/0!"},{"$error":"#DIV/0!"},{"$error":"#DIV/0!"}]
[null,4,null,null,{"$f":"IF(算数!E14=1,E$214,0)","v":0},{"$f":"IF(算数!F14=1,F$214,0)","v":0},{"$f":"IF(算数!G14=1,G$214,0)","v":0},{"$f":"IF(算数!H14=1,H$214,0)","v":0},{"$f":"IF(算数!I14=1,I$214,0)","v":0},{"$f":"IF(算数!J14=1,J$214,0)","v":0},{"$f":"IF(算数!K14=1,K$214,0)","v":0},{"$f":"IF(算数!L14=1,L$214,0)","v":0},{"$f":"IF(算数!M14=1,M$214,0)","v":0},{"$f":"IF(算数!N14=1,N$214,0)","v":0},{"$f":"IF(算数!O14=1,O$214,0)","v":0},{"$f":"IF(算数!P14=1,P$214,0)","v":0},{"$f":"IF(算数!Q14=1,Q$214,0)","v":0},{"$f":"IF(算数!R14=1,R$214,0)","v":0},{"$f":"IF(算数!S14=1,S$214,0)","v":0},{"$f":"IF(算数!T14=1,T$214,0)","v":0},{"$f":"IF(算数!U14=1,U$214,0)","v":0},{"$f":"IF(算数!V14=1,V$214,0)","v":0},{"$f":"IF(算数!W14=1,W$214,0)","v":0},{"$f":"IF(算数!X14=1,X$214,0)","v":0},{"$f":"IF(算数!Y14=1,Y$214,0)","v":0},{"$f":"IF(算数!Z14=1,Z$214,0)","v":0},{"$f":"IF(算数!AA14=1,AA$214,0)","v":0},{"$f":"IF(算数!AB14=1,AB$214,0)","v":0},{"$f":"IF(算数!AC14=1,AC$214,0)","v":0},{"$f":"IF(算数!AD14=1,AD$214,0)","v":0},{"$f":"IF(算数!AE14=1,AE$214,0)","v":0},{"$f":"IF(算数!AF14=1,AF$214,0)","v":0},{"$f":"IF(算数!AG14=1,AG$214,0)","v":0},{"$f":"IF(算数!AH14=1,AH$214,0)","v":0},{"$f":"IF(算数!AI14=1,AI$214,0)","v":0},{"$f":"IF(算数!AJ14=1,AJ$214,0)","v":0},{"$f":"IF(算数!AK14=1,AK$214,0)","v":0},{"$f":"IF(算数!AL14=1,AL$214,0)","v":0},{"$f":"IF(算数!AM14=1,AM$214,0)","v":0},{"$f":"IF(算数!AN14=1,AN$214,0)","v":0},{"$f":"IF(算数!AO14=1,AO$214,0)","v":0},{"$f":"IF(算数!AP14=1,AP$214,0)","v":0},{"$f":"IF(算数!AQ14=1,AQ$214,0)","v":0},{"$f":"IF(算数!AR14=1,AR$214,0)","v":0},{"$f":"IF(算数!AS14=1,AS$214,0)","v":0},{"$f":"IF(算数!AT14=1,AT$214,0)","v":0},{"$f":"IF(算数!AU14=1,AU$214,0)","v":0},{"$f":"IF(算数!AV14=1,AV$214,0)","v":0},{"$f":"IF(算数!AW14=1,AW$214,0)","v":0},{"$f":"IF(算数!AX14=1,AX$214,0)","v":0},{"$f":"IF(算数!AY14=1,AY$214,0)","v":0},{"$f":"IF(算数!AZ14=1,AZ$214,0)","v":0},{"$f":"IF(算数!BA14=1,BA$214,0)","v":0},{"$f":"IF(算数!BB14=1,BB$214,0)","v":0},null,0,0,{"$error":"#DIV/0!"},{"$error":"#DIV/0!"},{"$error":"#DIV/0!"}]
[null,5,null,null,{"$f":"IF(算数!E15=1,E$214,0)","v":0},{"$f":"IF(算数!F15=1,F$214,0)","v":0},{"$f":"IF(算数!G15=1,G$214,0)","v":0},{"$f":"IF(算数!H15=1,H$214,0)","v":0},{"$f":"IF(算数!I15=1,I$214,0)","v":0},{"$f":"IF(算数!J15=1,J$214,0)","v":0},{"$f":"IF(算数!K15=1,K$214,0)","v":0},{"$f":"IF(算数!L15=1,L$214,0)","v":0},{"$f":"IF(算数!M15=1,M$214,0)","v":0},{"$f":"IF(算数!N15=1,N$214,0)","v":0},{"$f":"IF(算数!O15=1,O$214,0)","v":0},{"$f":"IF(算数!P15=1,P$214,0)","v":0},{"$f":"IF(算数!Q15=1,Q$214,0)","v":0},{"$f":"IF(算数!R15=1,R$214,0)","v":0},{"$f":"IF(算数!S15=1,S$214,0)","v":0},{"$f":"IF(算数!T15=1,T$214,0)","v":0},{"$f":"IF(算数!U15=1,U$214,0)","v":0},{"$f":"IF(算数!V15=1,V$214,0)","v":0},{"$f":"IF(算数!W15=1,W$214,0)","v":0},{"$f":"IF(算数!X15=1,X$214,0)","v":0},{"$f":"IF(算数!Y15=1,Y$214,0)","v":0},{"$f":"IF(算数!Z15=1,Z$214,0)","v":0},{"$f":"IF(算数!AA15=1,AA$214,0)","v":0},{"$f":"IF(算数!AB15=1,AB$214,0)","v":0},{"$f":"IF(算数!AC15=1,AC$214,0)","v":0},{"$f":"IF(算数!AD15=1,AD$214,0)","v":0},{"$f":"IF(算数!AE15=1,AE$214,0)","v":0},{"$f":"IF(算数!AF15=1,AF$214,0)","v":0},{"$f":"IF(算数!AG15=1,AG$214,0)","v":0},{"$f":"IF(算数!AH15=1,AH$214,0)","v":0},{"$f":"IF(算数!AI15=1,AI$214,0)","v":0},{"$f":"IF(算数!AJ15=1,AJ$214,0)","v":0},{"$f":"IF(算数!AK15=1,AK$214,0)","v":0},{"$f":"IF(算数!AL15=1,AL$214,0)","v":0},{"$f":"IF(算数!AM15=1,AM$214,0)","v":0},{"$f":"IF(算数!AN15=1,AN$214,0)","v":0},{"$f":"IF(算数!AO15=1,AO$214,0)","v":0},{"$f":"IF(算数!AP15=1,AP$214,0)","v":0},{"$f":"IF(算数!AQ15=1,AQ$214,0)","v":0},{"$f":"IF(算数!AR15=1,AR$214,0)","v":0},{"$f":"IF(算数!AS15=1,AS$214,0)","v":0},{"$f":"IF(算数!AT15=1,AT$214,0)","v":0},{"$f":"IF(算数!AU15=1,AU$214,0)","v":0},{"$f":"IF(算数!AV15=1,AV$214,0)","v":0},{"$f":"IF(算数!AW15=1,AW$214,0)","v":0},{"$f":"IF(算数!AX15=1,AX$214,0)","v":0},{"$f":"IF(算数!AY15=1,AY$214,0)","v":0},{"$f":"IF(算数!AZ15=1,AZ$214,0)","v":0},{"$f":"IF(算数!BA15=1,BA$214,0)","v":0},{"$f":"IF(算数!BB15=1,BB$214,0)","v":0},null,0,0,{"$error":"#DIV/0!"},{"$error":"#DIV/0!"},{"$error":"#DIV/0!"}]
[null,6,null,null,{"$f":"IF(算数!E16=1,E$214,0)","v":0},{"$f":"IF(算数!F16=1,F$214,0)","v":0},{"$f":"IF(算数!G16=1,G$214,0)","v":0},{"$f":"IF(算数!H16=1,H$214,0)","v":0},{"$f":"IF(算数!I16=1,I$214,0)","v":0},{"$f":"IF(算数!J16=1,J$214,0)","v":0},{"$f":"IF(算数!K16=1,K$214,0)","v":0},{"$f":"IF(算数!L16=1,L$214,0)","v":0},{"$f":"IF(算数!M16=1,M$214,0)","v":0},{"$f":"IF(算数!N16=1,N$214,0)","v":0},{"$f":"IF(算数!O16=1,O$214,0)","v":0},{"$f":"IF(算数!P16=1,P$214,0)","v":0},{"$f":"IF(算数!Q16=1,Q$214,0)","v":0},{"$f":"IF(算数!R16=1,R$214,0)","v":0},{"$f":"IF(算数!S16=1,S$214,0)","v":0},{"$f":"IF(算数!T16=1,T$214,0)","v":0},{"$f":"IF(算数!U16=1,U$214,0)","v":0},{"$f":"IF(算数!V16=1,V$214,0)","v":0},{"$f":"IF(算数!W16=1,W$214,0)","v":0},{"$f":"IF(算数!X16=1,X$214,0)","v":0},{"$f":"IF(算数!Y16=1,Y$214,0)","v":0},{"$f":"IF(算数!Z16=1,Z$214,0)","v":0},{"$f":"IF(算数!AA16=1,AA$214,0)","v":0},{"$f":"IF(算数!AB16=1,AB$214,0)","v":0},{"$f":"IF(算数!AC16=1,AC$214,0)","v":0},{"$f":"IF(算数!AD16=1,AD$214,0)","v":0},{"$f":"IF(算数!AE16=1,AE$214,0)","v":0},{"$f":"IF(算数!AF16=1,AF$214,0)","v":0},{"$f":"IF(算数!AG16=1,AG$214,0)","v":0},{"$f":"IF(算数!AH16=1,AH$214,0)","v":0},{"$f":"IF(算数!AI16=1,AI$214,0)","v":0},{"$f":"IF(算数!AJ16=1,AJ$214,0)","v":0},{"$f":"IF(算数!AK16=1,AK$214,0)","v":0},{"$f":"IF(算数!AL16=1,AL$214,0)","v":0},{"$f":"IF(算数!AM16=1,AM$214,0)","v":0},{"$f":"IF(算数!AN16=1,AN$214,0)","v":0},{"$f":"IF(算数!AO16=1,AO$214,0)","v":0},{"$f":"IF(算数!AP16=1,AP$214,0)","v":0},{"$f":"IF(算数!AQ16=1,AQ$214,0)","v":0},{"$f":"IF(算数!AR16=1,AR$214,0)","v":0},{"$f":"IF(算数!AS16=1,AS$214,0)","v":0},{"$f":"IF(算数!AT16=1,AT$214,0)","v":0},{"$f":"IF(算数!AU16=1,AU$214,0)","v":0},{"$f":"IF(算数!AV16=1,AV$214,0)","v":0},{"$f":"IF(算数!AW16=1,AW$214,0)","v":0},{"$f":"IF(算数!AX16=1,AX$214,0)","v":0},{"$f":"IF(算数!AY16=1,AY$214,0)","v":0},{"$f":"IF(算数!AZ16=1,AZ$214,0)","v":0},{"$f":"IF(算数!BA16=1,BA$214,0)","v":0},{"$f":"IF(算数!BB16=1,BB$214,0)","v":0},null,0,0,{"$error":"#DIV/0!"},{"$error":"#DIV/0!"},{"$error":"#DIV/0!"}]
[null,7,null,null,{"$f":"IF(算数!E17=1,E$214,0)","v":0},{"$f":"IF(算数!F17=1,F$214,0)","v":0},{"$f":"IF(算数!G17=1,G$214,0)","v":0},{"$f":"IF(算数!H17=1,H$214,0)","v":0},{"$f":"IF(算数!I17=1,I$214,0)","v":0},{"$f":"IF(算数!J17=1,J$214,0)","v":0},{"$f":"IF(算数!K17=1,K$214,0)","v":0},{"$f":"IF(算数!L17=1,L$214,0)","v":0},{"$f":"IF(算数!M17=1,M$214,0)","v":0},{"$f":"IF(算数!N17=1,N$214,0)","v":0},{"$f":"IF(算数!O17=1,O$214,0)","v":0},{"$f":"IF(算数!P17=1,P$214,0)","v":0},{"$f":"IF(算数!Q17=1,Q$214,0)","v":0},{"$f":"IF(算数!R17=1,R$214,0)","v":0},{"$f":"IF(算数!S17=1,S$214,0)","v":0},{"$f":"IF(算数!T17=1,T$214,0)","v":0},{"$f":"IF(算数!U17=1,U$214,0)","v":0},{"$f":"IF(算数!V17=1,V$214,0)","v":0},{"$f":"IF(算数!W17=1,W$214,0)","v":0},{"$f":"IF(算数!X17=1,X$214,0)","v":0},{"$f":"IF(算数!Y17=1,Y$214,0)","v":0},{"$f":"IF(算数!Z17=1,Z$214,0)","v":0},{"$f":"IF(算数!AA17=1,AA$214,0)","v":0},{"$f":"IF(算数!AB17=1,AB$214,0)","v":0},{"$f":"IF(算数!AC17=1,AC$214,0)","v":0},{"$f":"IF(算数!AD17=1,AD$214,0)","v":0},{"$f":"IF(算数!AE17=1,AE$214,0)","v":0},{"$f":"IF(算数!AF17=1,AF$214,0)","v":0},{"$f":"IF(算数!AG17=1,AG$214,0)","v":0},{"$f":"IF(算数!AH17=1,AH$214,0)","v":0},{"$f":"IF(算数!AI17=1,AI$214,0)","v":0},{"$f":"IF(算数!AJ17=1,AJ$214,0)","v":0},{"$f":"IF(算数!AK17=1,AK$214,0)","v":0},{"$f":"IF(算数!AL17=1,AL$214,0)","v":0},{"$f":"IF(算数!AM17=1,AM$214,0)","v":0},{"$f":"IF(算数!AN17=1,AN$214,0)","v":0},{"$f":"IF(算数!AO17=1,AO$214,0)","v":0},{"$f":"IF(算数!AP17=1,AP$214,0)","v":0},{"$f":"IF(算数!AQ17=1,AQ$214,0)","v":0},{"$f":"IF(算数!AR17=1,AR$214,0)","v":0},{"$f":"IF(算数!AS17=1,AS$214,0)","v":0},{"$f":"IF(算数!AT17=1,AT$214,0)","v":0},{"$f":"IF(算数!AU17=1,AU$214,0)","v":0},{"$f":"IF(算数!AV17=1,AV$214,0)","v":0},{"$f":"IF(算数!AW17=1,AW$214,0)","v":0},{"$f":"IF(算数!AX17=1,AX$214,0)","v":0},{"$f":"IF(算数!AY17=1,AY$214,0)","v":0},{"$f":"IF(算数!AZ17=1,AZ$214,0)","v":0},{"$f":"IF(算数!BA17=1,BA$214,0)","v":0},{"$f":"IF(算数!BB17=1,BB$214,0)","v":0},null,0,0,{"$error":"#DIV/0!"},{"$error":"#DIV/0!"},{"$error":"#DIV/0!"}]
[null,8,null,null,{"$f":"IF(算数!E18=1,E$214,0)","v":0},{"$f":"IF(算数!F18=1,F$214,0)","v":0},{"$f":"IF(算数!G18=1,G$214,0)","v":0},{"$f":"IF(算数!H18=1,H$214,0)","v":0},{"$f":"IF(算数!I18=1,I$214,0)","v":0},{"$f":"IF(算数!J18=1,J$214,0)","v":0},{"$f":"IF(算数!K18=1,K$214,0)","v":0},{"$f":"IF(算数!L18=1,L$214,0)","v":0},{"$f":"IF(算数!M18=1,M$214,0)","v":0},{"$f":"IF(算数!N18=1,N$214,0)","v":0},{"$f":"IF(算数!O18=1,O$214,0)","v":0},{"$f":"IF(算数!P18=1,P$214,0)","v":0},{"$f":"IF(算数!Q18=1,Q$214,0)","v":0},{"$f":"IF(算数!R18=1,R$214,0)","v":0},{"$f":"IF(算数!S18=1,S$214,0)","v":0},{"$f":"IF(算数!T18=1,T$214,0)","v":0},{"$f":"IF(算数!U18=1,U$214,0)","v":0},{"$f":"IF(算数!V18=1,V$214,0)","v":0},{"$f":"IF(算数!W18=1,W$214,0)","v":0},{"$f":"IF(算数!X18=1,X$214,0)","v":0},{"$f":"IF(算数!Y18=1,Y$214,0)","v":0},{"$f":"IF(算数!Z18=1,Z$214,0)","v":0},{"$f":"IF(算数!AA18=1,AA$214,0)","v":0},{"$f":"IF(算数!AB18=1,AB$214,0)","v":0},{"$f":"IF(算数!AC18=1,AC$214,0)","v":0},{"$f":"IF(算数!AD18=1,AD$214,0)","v":0},{"$f":"IF(算数!AE18=1,AE$214,0)","v":0},{"$f":"IF(算数!AF18=1,AF$214,0)","v":0},{"$f":"IF(算数!AG18=1,AG$214,0)","v":0},{"$f":"IF(算数!AH18=1,AH$214,0)","v":0},{"$f":"IF(算数!AI18=1,AI$214,0)","v":0},{"$f":"IF(算数!AJ18=1,AJ$214,0)","v":0},{"$f":"IF(算数!AK18=1,AK$214,0)","v":0},{"$f":"IF(算数!AL18=1,AL$214,0)","v":0},{"$f":"IF(算数!AM18=1,AM$214,0)","v":0},{"$f":"IF(算数!AN18=1,AN$214,0)","v":0},{"$f":"IF(算数!AO18=1,AO$214,0)","v":0},{"$f":"IF(算数!AP18=1,AP$214,0)","v":0},{"$f":"IF(算数!AQ18=1,AQ$214,0)","v":0},{"$f":"IF(算数!AR18=1,AR$214,0)","v":0},{"$f":"IF(算数!AS18=1,AS$214,0)","v":0},{"$f":"IF(算数!AT18=1,AT$214,0)","v":0},{"$f":"IF(算数!AU18=1,AU$214,0)","v":0},{"$f":"IF(算数!AV18=1,AV$214,0)","v":0},{"$f":"IF(算数!AW18=1,AW$214,0)","v":0},{"$f":"IF(算数!AX18=1,AX$214,0)","v":0},{"$f":"IF(算数!AY18=1,AY$214,0)","v":0},{"$f":"IF(算数!AZ18=1,AZ$214,0)","v":0},{"$f":"IF(算数!BA18=1,BA$214,0)","v":0},{"$f":"IF(算数!BB18=1,BB$214,0)","v":0},null,0,0,{"$error":"#DIV/0!"},{"$error":"#DIV/0!"},{"$error":"#DIV/0!"}]
[null,9,null,null,{"$f":"IF(算数!E19=1,E$214,0)","v":0},{"$f":"IF(算数!F19=1,F$214,0)","v":0},{"$f":"IF(算数!G19=1,G$214,0)","v":0},{"$f":"IF(算数!H19=1,H$214,0)","v":0},{"$f":"IF(算数!I19=1,I$214,0)","v":0},{"$f":"IF(算数!J19=1,J$214,0)","v":0},{"$f":"IF(算数!K19=1,K$214,0)","v":0},{"$f":"IF(算数!L19=1,L$214,0)","v":0},{"$f":"IF(算数!M19=1,M$214,0)","v":0},{"$f":"IF(算数!N19=1,N$214,0)","v":0},{"$f":"IF(算数!O19=1,O$214,0)","v":0},{"$f":"IF(算数!P19=1,P$214,0)","v":0},{"$f":"IF(算数!Q19=1,Q$214,0)","v":0},{"$f":"IF(算数!R19=1,R$214,0)","v":0},{"$f":"IF(算数!S19=1,S$214,0)","v":0},{"$f":"IF(算数!T19=1,T$214,0)","v":0},{"$f":"IF(算数!U19=1,U$214,0)","v":0},{"$f":"IF(算数!V19=1,V$214,0)","v":0},{"$f":"IF(算数!W19=1,W$214,0)","v":0},{"$f":"IF(算数!X19=1,X$214,0)","v":0},{"$f":"IF(算数!Y19=1,Y$214,0)","v":0},{"$f":"IF(算数!Z19=1,Z$214,0)","v":0},{"$f":"IF(算数!AA19=1,AA$214,0)","v":0},{"$f":"IF(算数!AB19=1,AB$214,0)","v":0},{"$f":"IF(算数!AC19=1,AC$214,0)","v":0},{"$f":"IF(算数!AD19=1,AD$214,0)","v":0},{"$f":"IF(算数!AE19=1,AE$214,0)","v":0},{"$f":"IF(算数!AF19=1,AF$214,0)","v":0},{"$f":"IF(算数!AG19=1,AG$214,0)","v":0},{"$f":"IF(算数!AH19=1,AH$214,0)","v":0},{"$f":"IF(算数!AI19=1,AI$214,0)","v":0},{"$f":"IF(算数!AJ19=1,AJ$214,0)","v":0},{"$f":"IF(算数!AK19=1,AK$214,0)","v":0},{"$f":"IF(算数!AL19=1,AL$214,0)","v":0},{"$f":"IF(算数!AM19=1,AM$214,0)","v":0},{"$f":"IF(算数!AN19=1,AN$214,0)","v":0},{"$f":"IF(算数!AO19=1,AO$214,0)","v":0},{"$f":"IF(算数!AP19=1,AP$214,0)","v":0},{"$f":"IF(算数!AQ19=1,AQ$214,0)","v":0},{"$f":"IF(算数!AR19=1,AR$214,0)","v":0},{"$f":"IF(算数!AS19=1,AS$214,0)","v":0},{"$f":"IF(算数!AT19=1,AT$214,0)","v":0},{"$f":"IF(算数!AU19=1,AU$214,0)","v":0},{"$f":"IF(算数!AV19=1,AV$214,0)","v":0},{"$f":"IF(算数!AW19=1,AW$214,0)","v":0},{"$f":"IF(算数!AX19=1,AX$214,0)","v":0},{"$f":"IF(算数!AY19=1,AY$214,0)","v":0},{"$f":"IF(算数!AZ19=1,AZ$214,0)","v":0},{"$f":"IF(算数!BA19=1,BA$214,0)","v":0},{"$f":"IF(算数!BB19=1,BB$214,0)","v":0},null,0,0,{"$error":"#DIV/0!"},{"$error":"#DIV/0!"},{"$error":"#DIV/0!"}]
[null,10,null,null,{"$f":"IF(算数!E20=1,E$214,0)","v":0},{"$f":"IF(算数!F20=1,F$214,0)","v":0},{"$f":"IF(算数!G20=1,G$214,0)","v":0},{"$f":"IF(算数!H20=1,H$214,0)","v":0},{"$f":"IF(算数!I20=1,I$214,0)","v":0},{"$f":"IF(算数!J20=1,J$214,0)","v":0},{"$f":"IF(算数!K20=1,K$214,0)","v":0},{"$f":"IF(算数!L20=1,L$214,0)","v":0},{"$f":"IF(算数!M20=1,M$214,0)","v":0},{"$f":"IF(算数!N20=1,N$214,0)","v":0},{"$f":"IF(算数!O20=1,O$214,0)","v":0},{"$f":"IF(算数!P20=1,P$214,0)","v":0},{"$f":"IF(算数!Q20=1,Q$214,0)","v":0},{"$f":"IF(算数!R20=1,R$214,0)","v":0},{"$f":"IF(算数!S20=1,S$214,0)","v":0},{"$f":"IF(算数!T20=1,T$214,0)","v":0},{"$f":"IF(算数!U20=1,U$214,0)","v":0},{"$f":"IF(算数!V20=1,V$214,0)","v":0},{"$f":"IF(算数!W20=1,W$214,0)","v":0},{"$f":"IF(算数!X20=1,X$214,0)","v":0},{"$f":"IF(算数!Y20=1,Y$214,0)","v":0},{"$f":"IF(算数!Z20=1,Z$214,0)","v":0},{"$f":"IF(算数!AA20=1,AA$214,0)","v":0},{"$f":"IF(算数!AB20=1,AB$214,0)","v":0},{"$f":"IF(算数!AC20=1,AC$214,0)","v":0},{"$f":"IF(算数!AD20=1,AD$214,0)","v":0},{"$f":"IF(算数!AE20=1,AE$214,0)","v":0},{"$f":"IF(算数!AF20=1,AF$214,0)","v":0},{"$f":"IF(算数!AG20=1,AG$214,0)","v":0},{"$f":"IF(算数!AH20=1,AH$214,0)","v":0},{"$f":"IF(算数!AI20=1,AI$214,0)","v":0},{"$f":"IF(算数!AJ20=1,AJ$214,0)","v":0},{"$f":"IF(算数!AK20=1,AK$214,0)","v":0},{"$f":"IF(算数!AL20=1,AL$214,0)","v":0},{"$f":"IF(算数!AM20=1,AM$214,0)","v":0},{"$f":"IF(算数!AN20=1,AN$214,0)","v":0},{"$f":"IF(算数!AO20=1,AO$214,0)","v":0},{"$f":"IF(算数!AP20=1,AP$214,0)","v":0},{"$f":"IF(算数!AQ20=1,AQ$214,0)","v":0},{"$f":"IF(算数!AR20=1,AR$214,0)","v":0},{"$f":"IF(算数!AS20=1,AS$214,0)","v":0},{"$f":"IF(算数!AT20=1,AT$214,0)","v":0},{"$f":"IF(算数!AU20=1,AU$214,0)","v":0},{"$f":"IF(算数!AV20=1,AV$214,0)","v":0},{"$f":"IF(算数!AW20=1,AW$214,0)","v":0},{"$f":"IF(算数!AX20=1,AX$214,0)","v":0},{"$f":"IF(算数!AY20=1,AY$214,0)","v":0},{"$f":"IF(算数!AZ20=1,AZ$214,0)","v":0},{"$f":"IF(算数!BA20=1,BA$214,0)","v":0},{"$f":"IF(算数!BB20=1,BB$214,0)","v":0},null,0,0,{"$error":"#DIV/0!"},{"$error":"#DIV/0!"},{"$error":"#DIV/0!"}]
[null,11,null,null,{"$f":"IF(算数!E21=1,E$214,0)","v":0},{"$f":"IF(算数!F21=1,F$214,0)","v":0},{"$f":"IF(算数!G21=1,G$214,0)","v":0},{"$f":"IF(算数!H21=1,H$214,0)","v":0},{"$f":"IF(算数!I21=1,I$214,0)","v":0},{"$f":"IF(算数!J21=1,J$214,0)","v":0},{"$f":"IF(算数!K21=1,K$214,0)","v":0},{"$f":"IF(算数!L21=1,L$214,0)","v":0},{"$f":"IF(算数!M21=1,M$214,0)","v":0},{"$f":"IF(算数!N21=1,N$214,0)","v":0},{"$f":"IF(算数!O21=1,O$214,0)","v":0},{"$f":"IF(算数!P21=1,P$214,0)","v":0},{"$f":"IF(算数!Q21=1,Q$214,0)","v":0},{"$f":"IF(算数!R21=1,R$214,0)","v":0},{"$f":"IF(算数!S21=1,S$214,0)","v":0},{"$f":"IF(算数!T21=1,T$214,0)","v":0},{"$f":"IF(算数!U21=1,U$214,0)","v":0},{"$f":"IF(算数!V21=1,V$214,0)","v":0},{"$f":"IF(算数!W21=1,W$214,0)","v":0},{"$f":"IF(算数!X21=1,X$214,0)","v":0},{"$f":"IF(算数!Y21=1,Y$214,0)","v":0},{"$f":"IF(算数!Z21=1,Z$214,0)","v":0},{"$f":"IF(算数!AA21=1,AA$214,0)","v":0},{"$f":"IF(算数!AB21=1,AB$214,0)","v":0},{"$f":"IF(算数!AC21=1,AC$214,0)","v":0},{"$f":"IF(算数!AD21=1,AD$214,0)","v":0},{"$f":"IF(算数!AE21=1,AE$214,0)","v":0},{"$f":"IF(算数!AF21=1,AF$214,0)","v":0},{"$f":"IF(算数!AG21=1,AG$214,0)","v":0},{"$f":"IF(算数!AH21=1,AH$214,0)","v":0},{"$f":"IF(算数!AI21=1,AI$214,0)","v":0},{"$f":"IF(算数!AJ21=1,AJ$214,0)","v":0},{"$f":"IF(算数!AK21=1,AK$214,0)","v":0},{"$f":"IF(算数!AL21=1,AL$214,0)","v":0},{"$f":"IF(算数!AM21=1,AM$214,0)","v":0},{"$f":"IF(算数!AN21=1,AN$214,0)","v":0},{"$f":"IF(算数!AO21=1,AO$214,0)","v":0},{"$f":"IF(算数!AP21=1,AP$214,0)","v":0},{"$f":"IF(算数!AQ21=1,AQ$214,0)","v":0},{"$f":"IF(算数!AR21=1,AR$214,0)","v":0},{"$f":"IF(算数!AS21=1,AS$214,0)","v":0},{"$f":"IF(算数!AT21=1,AT$214,0)","v":0},{"$f":"IF(算数!AU21=1,AU$214,0)","v":0},{"$f":"IF(算数!AV21=1,AV$214,0)","v":0},{"$f":"IF(算数!AW21=1,AW$214,0)","v":0},{"$f":"IF(算数!AX21=1,AX$214,0)","v":0},{"$f":"IF(算数!AY21=1,AY$214,0)","v":0},{"$f":"IF(算数!AZ21=1,AZ$214,0)","v":0},{"$f":"IF(算数!BA21=1,BA$214,0)","v":0},{"$f":"IF(算数!BB21=1,BB$214,0)","v":0},null,0,0,{"$error":"#DIV/0!"},{"$error":"#DIV/0!"},{"$error":"#DIV/0!"}]
[null,12,null,null,{"$f":"IF(算数!E22=1,E$214,0)","v":0},{"$f":"IF(算数!F22=1,F$214,0)","v":0},{"$f":"IF(算数!G22=1,G$214,0)","v":0},{"$f":"IF(算数!H22=1,H$214,0)","v":0},{"$f":"IF(算数!I22=1,I$214,0)","v":0},{"$f":"IF(算数!J22=1,J$214,0)","v":0},{"$f":"IF(算数!K22=1,K$214,0)","v":0},{"$f":"IF(算数!L22=1,L$214,0)","v":0},{"$f":"IF(算数!M22=1,M$214,0)","v":0},{"$f":"IF(算数!N22=1,N$214,0)","v":0},{"$f":"IF(算数!O22=1,O$214,0)","v":0},{"$f":"IF(算数!P22=1,P$214,0)","v":0},{"$f":"IF(算数!Q22=1,Q$214,0)","v":0},{"$f":"IF(算数!R22=1,R$214,0)","v":0},{"$f":"IF(算数!S22=1,S$214,0)","v":0},{"$f":"IF(算数!T22=1,T$214,0)","v":0},{"$f":"IF(算数!U22=1,U$214,0)","v":0},{"$f":"IF(算数!V22=1,V$214,0)","v":0},{"$f":"IF(算数!W22=1,W$214,0)","v":0},{"$f":"IF(算数!X22=1,X$214,0)","v":0},{"$f":"IF(算数!Y22=1,Y$214,0)","v":0},{"$f":"IF(算数!Z22=1,Z$214,0)","v":0},{"$f":"IF(算数!AA22=1,AA$214,0)","v":0},{"$f":"IF(算数!AB22=1,AB$214,0)","v":0},{"$f":"IF(算数!AC22=1,AC$214,0)","v":0},{"$f":"IF(算数!AD22=1,AD$214,0)","v":0},{"$f":"IF(算数!AE22=1,AE$214,0)","v":0},{"$f":"IF(算数!AF22=1,AF$214,0)","v":0},{"$f":"IF(算数!AG22=1,AG$214,0)","v":0},{"$f":"IF(算数!AH22=1,AH$214,0)","v":0},{"$f":"IF(算数!AI22=1,AI$214,0)","v":0},{"$f":"IF(算数!AJ22=1,AJ$214,0)","v":0},{"$f":"IF(算数!AK22=1,AK$214,0)","v":0},{"$f":"IF(算数!AL22=1,AL$214,0)","v":0},{"$f":"IF(算数!AM22=1,AM$214,0)","v":0},{"$f":"IF(算数!AN22=1,AN$214,0)","v":0},{"$f":"IF(算数!AO22=1,AO$214,0)","v":0},{"$f":"IF(算数!AP22=1,AP$214,0)","v":0},{"$f":"IF(算数!AQ22=1,AQ$214,0)","v":0},{"$f":"IF(算数!AR22=1,AR$214,0)","v":0},{"$f":"IF(算数!AS22=1,AS$214,0)","v":0},{"$f":"IF(算数!AT22=1,AT$214,0)","v":0},{"$f":"IF(算数!AU22=1,AU$214,0)","v":0},{"$f":"IF(算数!AV22=1,AV$214,0)","v":0},{"$f":"IF(算数!AW22=1,AW$214,0)","v":0},{"$f":"IF(算数!AX22=1,AX$214,0)","v":0},{"$f":"IF(算数!AY22=1,AY$214,0)","v":0},{"$f":"IF(算数!AZ22=1,AZ$214,0)","v":0},{"$f":"IF(算数!BA22=1,BA$214,0)","v":0},{"$f":"IF(算数!BB22=1,BB$214,0)","v":0},null,0,0,{"$error":"#DIV/0!"},{"$error":"#DIV/0!"},{"$error":"#DIV/0!"}]
[null,13,null,null,{"$f":"IF(算数!E23=1,E$214,0)","v":0},{"$f":"IF(算数!F23=1,F$214,0)","v":0},{"$f":"IF(算数!G23=1,G$214,0)","v":0},{"$f":"IF(算数!H23=1,H$214,0)","v":0},{"$f":"IF(算数!I23=1,I$214,0)","v":0},{"$f":"IF(算数!J23=1,J$214,0)","v":0},{"$f":"IF(算数!K23=1,K$214,0)","v":0},{"$f":"IF(算数!L23=1,L$214,0)","v":0},{"$f":"IF(算数!M23=1,M$214,0)","v":0},{"$f":"IF(算数!N23=1,N$214,0)","v":0},{"$f":"IF(算数!O23=1,O$214,0)","v":0},{"$f":"IF(算数!P23=1,P$214,0)","v":0},{"$f":"IF(算数!Q23=1,Q$214,0)","v":0},{"$f":"IF(算数!R23=1,R$214,0)","v":0},{"$f":"IF(算数!S23=1,S$214,0)","v":0},{"$f":"IF(算数!T23=1,T$214,0)","v":0},{"$f":"IF(算数!U23=1,U$214,0)","v":0},{"$f":"IF(算数!V23=1,V$214,0)","v":0},{"$f":"IF(算数!W23=1,W$214,0)","v":0},{"$f":"IF(算数!X23=1,X$214,0)","v":0},{"$f":"IF(算数!Y23=1,Y$214,0)","v":0},{"$f":"IF(算数!Z23=1,Z$214,0)","v":0},{"$f":"IF(算数!AA23=1,AA$214,0)","v":0},{"$f":"IF(算数!AB23=1,AB$214,0)","v":0},{"$f":"IF(算数!AC23=1,AC$214,0)","v":0},{"$f":"IF(算数!AD23=1,AD$214,0)","v":0},{"$f":"IF(算数!AE23=1,AE$214,0)","v":0},{"$f":"IF(算数!AF23=1,AF$214,0)","v":0},{"$f":"IF(算数!AG23=1,AG$214,0)","v":0},{"$f":"IF(算数!AH23=1,AH$214,0)","v":0},{"$f":"IF(算数!AI23=1,AI$214,0)","v":0},{"$f":"IF(算数!AJ23=1,AJ$214,0)","v":0},{"$f":"IF(算数!AK23=1,AK$214,0)","v":0},{"$f":"IF(算数!AL23=1,AL$214,0)","v":0},{"$f":"IF(算数!AM23=1,AM$214,0)","v":0},{"$f":"IF(算数!AN23=1,AN$214,0)","v":0},{"$f":"IF(算数!AO23=1,AO$214,0)","v":0},{"$f":"IF(算数!AP23=1,AP$214,0)","v":0},{"$f":"IF(算数!AQ23=1,AQ$214,0)","v":0},{"$f":"IF(算数!AR23=1,AR$214,0)","v":0},{"$f":"IF(算数!AS23=1,AS$214,0)","v":0},{"$f":"IF(算数!AT23=1,AT$214,0)","v":0},{"$f":"IF(算数!AU23=1,AU$214,0)","v":0},{"$f":"IF(算数!AV23=1,AV$214,0)","v":0},{"$f":"IF(算数!AW23=1,AW$214,0)","v":0},{"$f":"IF(算数!AX23=1,AX$214,0)","v":0},{"$f":"IF(算数!AY23=1,AY$214,0)","v":0},{"$f":"IF(算数!AZ23=1,AZ$214,0)","v":0},{"$f":"IF(算数!BA23=1,BA$214,0)","v":0},{"$f":"IF(算数!BB23=1,BB$214,0)","v":0},null,0,0,{"$error":"#DIV/0!"},{"$error":"#DIV/0!"},{"$error":"#DIV/0!"}]
[null,14,null,null,{"$f":"IF(算数!E24=1,E$214,0)","v":0},{"$f":"IF(算数!F24=1,F$214,0)","v":0},{"$f":"IF(算数!G24=1,G$214,0)","v":0},{"$f":"IF(算数!H24=1,H$214,0)","v":0},{"$f":"IF(算数!I24=1,I$214,0)","v":0},{"$f":"IF(算数!J24=1,J$214,0)","v":0},{"$f":"IF(算数!K24=1,K$214,0)","v":0},{"$f":"IF(算数!L24=1,L$214,0)","v":0},{"$f":"IF(算数!M24=1,M$214,0)","v":0},{"$f":"IF(算数!N24=1,N$214,0)","v":0},{"$f":"IF(算数!O24=1,O$214,0)","v":0},{"$f":"IF(算数!P24=1,P$214,0)","v":0},{"$f":"IF(算数!Q24=1,Q$214,0)","v":0},{"$f":"IF(算数!R24=1,R$214,0)","v":0},{"$f":"IF(算数!S24=1,S$214,0)","v":0},{"$f":"IF(算数!T24=1,T$214,0)","v":0},{"$f":"IF(算数!U24=1,U$214,0)","v":0},{"$f":"IF(算数!V24=1,V$214,0)","v":0},{"$f":"IF(算数!W24=1,W$214,0)","v":0},{"$f":"IF(算数!X24=1,X$214,0)","v":0},{"$f":"IF(算数!Y24=1,Y$214,0)","v":0},{"$f":"IF(算数!Z24=1,Z$214,0)","v":0},{"$f":"IF(算数!AA24=1,AA$214,0)","v":0},{"$f":"IF(算数!AB24=1,AB$214,0)","v":0},{"$f":"IF(算数!AC24=1,AC$214,0)","v":0},{"$f":"IF(算数!AD24=1,AD$214,0)","v":0},{"$f":"IF(算数!AE24=1,AE$214,0)","v":0},{"$f":"IF(算数!AF24=1,AF$214,0)","v":0},{"$f":"IF(算数!AG24=1,AG$214,0)","v":0},{"$f":"IF(算数!AH24=1,AH$214,0)","v":0},{"$f":"IF(算数!AI24=1,AI$214,0)","v":0},{"$f":"IF(算数!AJ24=1,AJ$214,0)","v":0},{"$f":"IF(算数!AK24=1,AK$214,0)","v":0},{"$f":"IF(算数!AL24=1,AL$214,0)","v":0},{"$f":"IF(算数!AM24=1,AM$214,0)","v":0},{"$f":"IF(算数!AN24=1,AN$214,0)","v":0},{"$f":"IF(算数!AO24=1,AO$214,0)","v":0},{"$f":"IF(算数!AP24=1,AP$214,0)","v":0},{"$f":"IF(算数!AQ24=1,AQ$214,0)","v":0},{"$f":"IF(算数!AR24=1,AR$214,0)","v":0},{"$f":"IF(算数!AS24=1,AS$214,0)","v":0},{"$f":"IF(算数!AT24=1,AT$214,0)","v":0},{"$f":"IF(算数!AU24=1,AU$214,0)","v":0},{"$f":"IF(算数!AV24=1,AV$214,0)","v":0},{"$f":"IF(算数!AW24=1,AW$214,0)","v":0},{"$f":"IF(算数!AX24=1,AX$214,0)","v":0},{"$f":"IF(算数!AY24=1,AY$214,0)","v":0},{"$f":"IF(算数!AZ24=1,AZ$214,0)","v":0},{"$f":"IF(算数!BA24=1,BA$214,0)","v":0},{"$f":"IF(算数!BB24=1,BB$214,0)","v":0},null,0,0,{"$error":"#DIV/0!"},{"$error":"#DIV/0!"},{"$error":"#DIV/0!"}]
[null,15,null,null,{"$f":"IF(算数!E25=1,E$214,0)","v":0},{"$f":"IF(算数!F25=1,F$214,0)","v":0},{"$f":"IF(算数!G25=1,G$214,0)","v":0},{"$f":"IF(算数!H25=1,H$214,0)","v":0},{"$f":"IF(算数!I25=1,I$214,0)","v":0},{"$f":"IF(算数!J25=1,J$214,0)","v":0},{"$f":"IF(算数!K25=1,K$214,0)","v":0},{"$f":"IF(算数!L25=1,L$214,0)","v":0},{"$f":"IF(算数!M25=1,M$214,0)","v":0},{"$f":"IF(算数!N25=1,N$214,0)","v":0},{"$f":"IF(算数!O25=1,O$214,0)","v":0},{"$f":"IF(算数!P25=1,P$214,0)","v":0},{"$f":"IF(算数!Q25=1,Q$214,0)","v":0},{"$f":"IF(算数!R25=1,R$214,0)","v":0},{"$f":"IF(算数!S25=1,S$214,0)","v":0},{"$f":"IF(算数!T25=1,T$214,0)","v":0},{"$f":"IF(算数!U25=1,U$214,0)","v":0},{"$f":"IF(算数!V25=1,V$214,0)","v":0},{"$f":"IF(算数!W25=1,W$214,0)","v":0},{"$f":"IF(算数!X25=1,X$214,0)","v":0},{"$f":"IF(算数!Y25=1,Y$214,0)","v":0},{"$f":"IF(算数!Z25=1,Z$214,0)","v":0},{"$f":"IF(算数!AA25=1,AA$214,0)","v":0},{"$f":"IF(算数!AB25=1,AB$214,0)","v":0},{"$f":"IF(算数!AC25=1,AC$214,0)","v":0},{"$f":"IF(算数!AD25=1,AD$214,0)","v":0},{"$f":"IF(算数!AE25=1,AE$214,0)","v":0},{"$f":"IF(算数!AF25=1,AF$214,0)","v":0},{"$f":"IF(算数!AG25=1,AG$214,0)","v":0},{"$f":"IF(算数!AH25=1,AH$214,0)","v":0},{"$f":"IF(算数!AI25=1,AI$214,0)","v":0},{"$f":"IF(算数!AJ25=1,AJ$214,0)","v":0},{"$f":"IF(算数!AK25=1,AK$214,0)","v":0},{"$f":"IF(算数!AL25=1,AL$214,0)","v":0},{"$f":"IF(算数!AM25=1,AM$214,0)","v":0},{"$f":"IF(算数!AN25=1,AN$214,0)","v":0},{"$f":"IF(算数!AO25=1,AO$214,0)","v":0},{"$f":"IF(算数!AP25=1,AP$214,0)","v":0},{"$f":"IF(算数!AQ25=1,AQ$214,0)","v":0},{"$f":"IF(算数!AR25=1,AR$214,0)","v":0},{"$f":"IF(算数!AS25=1,AS$214,0)","v":0},{"$f":"IF(算数!AT25=1,AT$214,0)","v":0},{"$f":"IF(算数!AU25=1,AU$214,0)","v":0},{"$f":"IF(算数!AV25=1,AV$214,0)","v":0},{"$f":"IF(算数!AW25=1,AW$214,0)","v":0},{"$f":"IF(算数!AX25=1,AX$214,0)","v":0},{"$f":"IF(算数!AY25=1,AY$214,0)","v":0},{"$f":"IF(算数!AZ25=1,AZ$214,0)","v":0},{"$f":"IF(算数!BA25=1,BA$214,0)","v":0},{"$f":"IF(算数!BB25=1,BB$214,0)","v":0},null,0,0,{"$error":"#DIV/0!"},{"$error":"#DIV/0!"},{"$error":"#DIV/0!"}]
[null,16,null,null,{"$f":"IF(算数!E26=1,E$214,0)","v":0},{"$f":"IF(算数!F26=1,F$214,0)","v":0},{"$f":"IF(算数!G26=1,G$214,0)","v":0},{"$f":"IF(算数!H26=1,H$214,0)","v":0},{"$f":"IF(算数!I26=1,I$214,0)","v":0},{"$f":"IF(算数!J26=1,J$214,0)","v":0},{"$f":"IF(算数!K26=1,K$214,0)","v":0},{"$f":"IF(算数!L26=1,L$214,0)","v":0},{"$f":"IF(算数!M26=1,M$214,0)","v":0},{"$f":"IF(算数!N26=1,N$214,0)","v":0},{"$f":"IF(算数!O26=1,O$214,0)","v":0},{"$f":"IF(算数!P26=1,P$214,0)","v":0},{"$f":"IF(算数!Q26=1,Q$214,0)","v":0},{"$f":"IF(算数!R26=1,R$214,0)","v":0},{"$f":"IF(算数!S26=1,S$214,0)","v":0},{"$f":"IF(算数!T26=1,T$214,0)","v":0},{"$f":"IF(算数!U26=1,U$214,0)","v":0},{"$f":"IF(算数!V26=1,V$214,0)","v":0},{"$f":"IF(算数!W26=1,W$214,0)","v":0},{"$f":"IF(算数!X26=1,X$214,0)","v":0},{"$f":"IF(算数!Y26=1,Y$214,0)","v":0},{"$f":"IF(算数!Z26=1,Z$214,0)","v":0},{"$f":"IF(算数!AA26=1,AA$214,0)","v":0},{"$f":"IF(算数!AB26=1,AB$214,0)","v":0},{"$f":"IF(算数!AC26=1,AC$214,0)","v":0},{"$f":"IF(算数!AD26=1,AD$214,0)","v":0},{"$f":"IF(算数!AE26=1,AE$214,0)","v":0},{"$f":"IF(算数!AF26=1,AF$214,0)","v":0},{"$f":"IF(算数!AG26=1,AG$214,0)","v":0},{"$f":"IF(算数!AH26=1,AH$214,0)","v":0},{"$f":"IF(算数!AI26=1,AI$214,0)","v":0},{"$f":"IF(算数!AJ26=1,AJ$214,0)","v":0},{"$f":"IF(算数!AK26=1,AK$214,0)","v":0},{"$f":"IF(算数!AL26=1,AL$214,0)","v":0},{"$f":"IF(算数!AM26=1,AM$214,0)","v":0},{"$f":"IF(算数!AN26=1,AN$214,0)","v":0},{"$f":"IF(算数!AO26=1,AO$214,0)","v":0},{"$f":"IF(算数!AP26=1,AP$214,0)","v":0},{"$f":"IF(算数!AQ26=1,AQ$214,0)","v":0},{"$f":"IF(算数!AR26=1,AR$214,0)","v":0},{"$f":"IF(算数!AS26=1,AS$214,0)","v":0},{"$f":"IF(算数!AT26=1,AT$214,0)","v":0},{"$f":"IF(算数!AU26=1,AU$214,0)","v":0},{"$f":"IF(算数!AV26=1,AV$214,0)","v":0},{"$f":"IF(算数!AW26=1,AW$214,0)","v":0},{"$f":"IF(算数!AX26=1,AX$214,0)","v":0},{"$f":"IF(算数!AY26=1,AY$214,0)","v":0},{"$f":"IF(算数!AZ26=1,AZ$214,0)","v":0},{"$f":"IF(算数!BA26=1,BA$214,0)","v":0},{"$f":"IF(算数!BB26=1,BB$214,0)","v":0},null,0,0,{"$error":"#DIV/0!"},{"$error":"#DIV/0!"},{"$error":"#DIV/0!"}]
[null,17,null,null,{"$f":"IF(算数!E27=1,E$214,0)","v":0},{"$f":"IF(算数!F27=1,F$214,0)","v":0},{"$f":"IF(算数!G27=1,G$214,0)","v":0},{"$f":"IF(算数!H27=1,H$214,0)","v":0},{"$f":"IF(算数!I27=1,I$214,0)","v":0},{"$f":"IF(算数!J27=1,J$214,0)","v":0},{"$f":"IF(算数!K27=1,K$214,0)","v":0},{"$f":"IF(算数!L27=1,L$214,0)","v":0},{"$f":"IF(算数!M27=1,M$214,0)","v":0},{"$f":"IF(算数!N27=1,N$214,0)","v":0},{"$f":"IF(算数!O27=1,O$214,0)","v":0},{"$f":"IF(算数!P27=1,P$214,0)","v":0},{"$f":"IF(算数!Q27=1,Q$214,0)","v":0},{"$f":"IF(算数!R27=1,R$214,0)","v":0},{"$f":"IF(算数!S27=1,S$214,0)","v":0},{"$f":"IF(算数!T27=1,T$214,0)","v":0},{"$f":"IF(算数!U27=1,U$214,0)","v":0},{"$f":"IF(算数!V27=1,V$214,0)","v":0},{"$f":"IF(算数!W27=1,W$214,0)","v":0},{"$f":"IF(算数!X27=1,X$214,0)","v":0},{"$f":"IF(算数!Y27=1,Y$214,0)","v":0},{"$f":"IF(算数!Z27=1,Z$214,0)","v":0},{"$f":"IF(算数!AA27=1,AA$214,0)","v":0},{"$f":"IF(算数!AB27=1,AB$214,0)","v":0},{"$f":"IF(算数!AC27=1,AC$214,0)","v":0},{"$f":"IF(算数!AD27=1,AD$214,0)","v":0},{"$f":"IF(算数!AE27=1,AE$214,0)","v":0},{"$f":"IF(算数!AF27=1,AF$214,0)","v":0},{"$f":"IF(算数!AG27=1,AG$214,0)","v":0},{"$f":"IF(算数!AH27=1,AH$214,0)","v":0},{"$f":"IF(算数!AI27=1,AI$214,0)","v":0},{"$f":"IF(算数!AJ27=1,AJ$214,0)","v":0},{"$f":"IF(算数!AK27=1,AK$214,0)","v":0},{"$f":"IF(算数!AL27=1,AL$214,0)","v":0},{"$f":"IF(算数!AM27=1,AM$214,0)","v":0},{"$f":"IF(算数!AN27=1,AN$214,0)","v":0},{"$f":"IF(算数!AO27=1,AO$214,0)","v":0},{"$f":"IF(算数!AP27=1,AP$214,0)","v":0},{"$f":"IF(算数!AQ27=1,AQ$214,0)","v":0},{"$f":"IF(算数!AR27=1,AR$214,0)","v":0},{"$f":"IF(算数!AS27=1,AS$214,0)","v":0},{"$f":"IF(算数!AT27=1,AT$214,0)","v":0},{"$f":"IF(算数!AU27=1,AU$214,0)","v":0},{"$f":"IF(算数!AV27=1,AV$214,0)","v":0},{"$f":"IF(算数!AW27=1,AW$214,0)","v":0},{"$f":"IF(算数!AX27=1,AX$214,0)","v":0},{"$f":"IF(算数!AY27=1,AY$214,0)","v":0},{"$f":"IF(算数!AZ27=1,AZ$214,0)","v":0},{"$f":"IF(算数!BA27=1,BA$214,0)","v":0},{"$f":"IF(算数!BB27=1,BB$214,0)","v":0},null,0,0,{"$error":"#DIV/0!"},{"$error":"#DIV/0!"},{"$error":"#DIV/0!"}]
[null,18,null,null,{"$f":"IF(算数!E28=1,E$214,0)","v":0},{"$f":"IF(算数!F28=1,F$214,0)","v":0},{"$f":"IF(算数!G28=1,G$214,0)","v":0},{"$f":"IF(算数!H28=1,H$214,0)","v":0},{"$f":"IF(算数!I28=1,I$214,0)","v":0},{"$f":"IF(算数!J28=1,J$214,0)","v":0},{"$f":"IF(算数!K28=1,K$214,0)","v":0},{"$f":"IF(算数!L28=1,L$214,0)","v":0},{"$f":"IF(算数!M28=1,M$214,0)","v":0},{"$f":"IF(算数!N28=1,N$214,0)","v":0},{"$f":"IF(算数!O28=1,O$214,0)","v":0},{"$f":"IF(算数!P28=1,P$214,0)","v":0},{"$f":"IF(算数!Q28=1,Q$214,0)","v":0},{"$f":"IF(算数!R28=1,R$214,0)","v":0},{"$f":"IF(算数!S28=1,S$214,0)","v":0},{"$f":"IF(算数!T28=1,T$214,0)","v":0},{"$f":"IF(算数!U28=1,U$214,0)","v":0},{"$f":"IF(算数!V28=1,V$214,0)","v":0},{"$f":"IF(算数!W28=1,W$214,0)","v":0},{"$f":"IF(算数!X28=1,X$214,0)","v":0},{"$f":"IF(算数!Y28=1,Y$214,0)","v":0},{"$f":"IF(算数!Z28=1,Z$214,0)","v":0},{"$f":"IF(算数!AA28=1,AA$214,0)","v":0},{"$f":"IF(算数!AB28=1,AB$214,0)","v":0},{"$f":"IF(算数!AC28=1,AC$214,0)","v":0},{"$f":"IF(算数!AD28=1,AD$214,0)","v":0},{"$f":"IF(算数!AE28=1,AE$214,0)","v":0},{"$f":"IF(算数!AF28=1,AF$214,0)","v":0},{"$f":"IF(算数!AG28=1,AG$214,0)","v":0},{"$f":"IF(算数!AH28=1,AH$214,0)","v":0},{"$f":"IF(算数!AI28=1,AI$214,0)","v":0},{"$f":"IF(算数!AJ28=1,AJ$214,0)","v":0},{"$f":"IF(算数!AK28=1,AK$214,0)","v":0},{"$f":"IF(算数!AL28=1,AL$214,0)","v":0},{"$f":"IF(算数!AM28=1,AM$214,0)","v":0},{"$f":"IF(算数!AN28=1,AN$214,0)","v":0},{"$f":"IF(算数!AO28=1,AO$214,0)","v":0},{"$f":"IF(算数!AP28=1,AP$214,0)","v":0},{"$f":"IF(算数!AQ28=1,AQ$214,0)","v":0},{"$f":"IF(算数!AR28=1,AR$214,0)","v":0},{"$f":"IF(算数!AS28=1,AS$214,0)","v":0},{"$f":"IF(算数!AT28=1,AT$214,0)","v":0},{"$f":"IF(算数!AU28=1,AU$214,0)","v":0},{"$f":"IF(算数!AV28=1,AV$214,0)","v":0},{"$f":"IF(算数!AW28=1,AW$214,0)","v":0},{"$f":"IF(算数!AX28=1,AX$214,0)","v":0},{"$f":"IF(算数!AY28=1,AY$214,0)","v":0},{"$f":"IF(算数!AZ28=1,AZ$214,0)","v":0},{"$f":"IF(算数!BA28=1,BA$214,0)","v":0},{"$f":"IF(算数!BB28=1,BB$214,0)","v":0},null,{"$f":"SUMIF($E$213:$BB$213,BD$213,$E232:$BB232)/BD$214","v":0},0,{"$error":"#DIV/0!"},{"$error":"#DIV/0!"},{"$error":"#DIV/0!"}]
[null,19,null,null,{"$f":"IF(算数!E29=1,E$214,0)","v":0},{"$f":"IF(算数!F29=1,F$214,0)","v":0},{"$f":"IF(算数!G29=1,G$214,0)","v":0},{"$f":"IF(算数!H29=1,H$214,0)","v":0},{"$f":"IF(算数!I29=1,I$214,0)","v":0},{"$f":"IF(算数!J29=1,J$214,0)","v":0},{"$f":"IF(算数!K29=1,K$214,0)","v":0},{"$f":"IF(算数!L29=1,L$214,0)","v":0},{"$f":"IF(算数!M29=1,M$214,0)","v":0},{"$f":"IF(算数!N29=1,N$214,0)","v":0},{"$f":"IF(算数!O29=1,O$214,0)","v":0},{"$f":"IF(算数!P29=1,P$214,0)","v":0},{"$f":"IF(算数!Q29=1,Q$214,0)","v":0},{"$f":"IF(算数!R29=1,R$214,0)","v":0},{"$f":"IF(算数!S29=1,S$214,0)","v":0},{"$f":"IF(算数!T29=1,T$214,0)","v":0},{"$f":"IF(算数!U29=1,U$214,0)","v":0},{"$f":"IF(算数!V29=1,V$214,0)","v":0},{"$f":"IF(算数!W29=1,W$214,0)","v":0},{"$f":"IF(算数!X29=1,X$214,0)","v":0},{"$f":"IF(算数!Y29=1,Y$214,0)","v":0},{"$f":"IF(算数!Z29=1,Z$214,0)","v":0},{"$f":"IF(算数!AA29=1,AA$214,0)","v":0},{"$f":"IF(算数!AB29=1,AB$214,0)","v":0},{"$f":"IF(算数!AC29=1,AC$214,0)","v":0},{"$f":"IF(算数!AD29=1,AD$214,0)","v":0},{"$f":"IF(算数!AE29=1,AE$214,0)","v":0},{"$f":"IF(算数!AF29=1,AF$214,0)","v":0},{"$f":"IF(算数!AG29=1,AG$214,0)","v":0},{"$f":"IF(算数!AH29=1,AH$214,0)","v":0},{"$f":"IF(算数!AI29=1,AI$214,0)","v":0},{"$f":"IF(算数!AJ29=1,AJ$214,0)","v":0},{"$f":"IF(算数!AK29=1,AK$214,0)","v":0},{"$f":"IF(算数!AL29=1,AL$214,0)","v":0},{"$f":"IF(算数!AM29=1,AM$214,0)","v":0},{"$f":"IF(算数!AN29=1,AN$214,0)","v":0},{"$f":"IF(算数!AO29=1,AO$214,0)","v":0},{"$f":"IF(算数!AP29=1,AP$214,0)","v":0},{"$f":"IF(算数!AQ29=1,AQ$214,0)","v":0},{"$f":"IF(算数!AR29=1,AR$214,0)","v":0},{"$f":"IF(算数!AS29=1,AS$214,0)","v":0},{"$f":"IF(算数!AT29=1,AT$214,0)","v":0},{"$f":"IF(算数!AU29=1,AU$214,0)","v":0},{"$f":"IF(算数!AV29=1,AV$214,0)","v":0},{"$f":"IF(算数!AW29=1,AW$214,0)","v":0},{"$f":"IF(算数!AX29=1,AX$214,0)","v":0},{"$f":"IF(算数!AY29=1,AY$214,0)","v":0},{"$f":"IF(算数!AZ29=1,AZ$214,0)","v":0},{"$f":"IF(算数!BA29=1,BA$214,0)","v":0},{"$f":"IF(算数!BB29=1,BB$214,0)","v":0},null,0,0,{"$error":"#DIV/0!"},{"$error":"#DIV/0!"},{"$error":"#DIV/0!"}]
[null,20,null,null,{"$f":"IF(算数!E30=1,E$214,0)","v":0},{"$f":"IF(算数!F30=1,F$214,0)","v":0},{"$f":"IF(算数!G30=1,G$214,0)","v":0},{"$f":"IF(算数!H30=1,H$214,0)","v":0},{"$f":"IF(算数!I30=1,I$214,0)","v":0},{"$f":"IF(算数!J30=1,J$214,0)","v":0},{"$f":"IF(算数!K30=1,K$214,0)","v":0},{"$f":"IF(算数!L30=1,L$214,0)","v":0},{"$f":"IF(算数!M30=1,M$214,0)","v":0},{"$f":"IF(算数!N30=1,N$214,0)","v":0},{"$f":"IF(算数!O30=1,O$214,0)","v":0},{"$f":"IF(算数!P30=1,P$214,0)","v":0},{"$f":"IF(算数!Q30=1,Q$214,0)","v":0},{"$f":"IF(算数!R30=1,R$214,0)","v":0},{"$f":"IF(算数!S30=1,S$214,0)","v":0},{"$f":"IF(算数!T30=1,T$214,0)","v":0},{"$f":"IF(算数!U30=1,U$214,0)","v":0},{"$f":"IF(算数!V30=1,V$214,0)","v":0},{"$f":"IF(算数!W30=1,W$214,0)","v":0},{"$f":"IF(算数!X30=1,X$214,0)","v":0},{"$f":"IF(算数!Y30=1,Y$214,0)","v":0},{"$f":"IF(算数!Z30=1,Z$214,0)","v":0},{"$f":"IF(算数!AA30=1,AA$214,0)","v":0},{"$f":"IF(算数!AB30=1,AB$214,0)","v":0},{"$f":"IF(算数!AC30=1,AC$214,0)","v":0},{"$f":"IF(算数!AD30=1,AD$214,0)","v":0},{"$f":"IF(算数!AE30=1,AE$214,0)","v":0},{"$f":"IF(算数!AF30=1,AF$214,0)","v":0},{"$f":"IF(算数!AG30=1,AG$214,0)","v":0},{"$f":"IF(算数!AH30=1,AH$214,0)","v":0},{"$f":"IF(算数!AI30=1,AI$214,0)","v":0},{"$f":"IF(算数!AJ30=1,AJ$214,0)","v":0},{"$f":"IF(算数!AK30=1,AK$214,0)","v":0},{"$f":"IF(算数!AL30=1,AL$214,0)","v":0},{"$f":"IF(算数!AM30=1,AM$214,0)","v":0},{"$f":"IF(算数!AN30=1,AN$214,0)","v":0},{"$f":"IF(算数!AO30=1,AO$214,0)","v":0},{"$f":"IF(算数!AP30=1,AP$214,0)","v":0},{"$f":"IF(算数!AQ30=1,AQ$214,0)","v":0},{"$f":"IF(算数!AR30=1,AR$214,0)","v":0},{"$f":"IF(算数!AS30=1,AS$214,0)","v":0},{"$f":"IF(算数!AT30=1,AT$214,0)","v":0},{"$f":"IF(算数!AU30=1,AU$214,0)","v":0},{"$f":"IF(算数!AV30=1,AV$214,0)","v":0},{"$f":"IF(算数!AW30=1,AW$214,0)","v":0},{"$f":"IF(算数!AX30=1,AX$214,0)","v":0},{"$f":"IF(算数!AY30=1,AY$214,0)","v":0},{"$f":"IF(算数!AZ30=1,AZ$214,0)","v":0},{"$f":"IF(算数!BA30=1,BA$214,0)","v":0},{"$f":"IF(算数!BB30=1,BB$214,0)","v":0},null,0,0,{"$error":"#DIV/0!"},{"$error":"#DIV/0!"},{"$error":"#DIV/0!"}]
[null,21,null,null,{"$f":"IF(算数!E31=1,E$214,0)","v":0},{"$f":"IF(算数!F31=1,F$214,0)","v":0},{"$f":"IF(算数!G31=1,G$214,0)","v":0},{"$f":"IF(算数!H31=1,H$214,0)","v":0},{"$f":"IF(算数!I31=1,I$214,0)","v":0},{"$f":"IF(算数!J31=1,J$214,0)","v":0},{"$f":"IF(算数!K31=1,K$214,0)","v":0},{"$f":"IF(算数!L31=1,L$214,0)","v":0},{"$f":"IF(算数!M31=1,M$214,0)","v":0},{"$f":"IF(算数!N31=1,N$214,0)","v":0},{"$f":"IF(算数!O31=1,O$214,0)","v":0},{"$f":"IF(算数!P31=1,P$214,0)","v":0},{"$f":"IF(算数!Q31=1,Q$214,0)","v":0},{"$f":"IF(算数!R31=1,R$214,0)","v":0},{"$f":"IF(算数!S31=1,S$214,0)","v":0},{"$f":"IF(算数!T31=1,T$214,0)","v":0},{"$f":"IF(算数!U31=1,U$214,0)","v":0},{"$f":"IF(算数!V31=1,V$214,0)","v":0},{"$f":"IF(算数!W31=1,W$214,0)","v":0},{"$f":"IF(算数!X31=1,X$214,0)","v":0},{"$f":"IF(算数!Y31=1,Y$214,0)","v":0},{"$f":"IF(算数!Z31=1,Z$214,0)","v":0},{"$f":"IF(算数!AA31=1,AA$214,0)","v":0},{"$f":"IF(算数!AB31=1,AB$214,0)","v":0},{"$f":"IF(算数!AC31=1,AC$214,0)","v":0},{"$f":"IF(算数!AD31=1,AD$214,0)","v":0},{"$f":"IF(算数!AE31=1,AE$214,0)","v":0},{"$f":"IF(算数!AF31=1,AF$214,0)","v":0},{"$f":"IF(算数!AG31=1,AG$214,0)","v":0},{"$f":"IF(算数!AH31=1,AH$214,0)","v":0},{"$f":"IF(算数!AI31=1,AI$214,0)","v":0},{"$f":"IF(算数!AJ31=1,AJ$214,0)","v":0},{"$f":"IF(算数!AK31=1,AK$214,0)","v":0},{"$f":"IF(算数!AL31=1,AL$214,0)","v":0},{"$f":"IF(算数!AM31=1,AM$214,0)","v":0},{"$f":"IF(算数!AN31=1,AN$214,0)","v":0},{"$f":"IF(算数!AO31=1,AO$214,0)","v":0},{"$f":"IF(算数!AP31=1,AP$214,0)","v":0},{"$f":"IF(算数!AQ31=1,AQ$214,0)","v":0},{"$f":"IF(算数!AR31=1,AR$214,0)","v":0},{"$f":"IF(算数!AS31=1,AS$214,0)","v":0},{"$f":"IF(算数!AT31=1,AT$214,0)","v":0},{"$f":"IF(算数!AU31=1,AU$214,0)","v":0},{"$f":"IF(算数!AV31=1,AV$214,0)","v":0},{"$f":"IF(算数!AW31=1,AW$214,0)","v":0},{"$f":"IF(算数!AX31=1,AX$214,0)","v":0},{"$f":"IF(算数!AY31=1,AY$214,0)","v":0},{"$f":"IF(算数!AZ31=1,AZ$214,0)","v":0},{"$f":"IF(算数!BA31=1,BA$214,0)","v":0},{"$f":"IF(算数!BB31=1,BB$214,0)","v":0},null,0,0,{"$error":"#DIV/0!"},{"$error":"#DIV/0!"},{"$error":"#DIV/0!"}]
[null,22,null,null,{"$f":"IF(算数!E32=1,E$214,0)","v":0},{"$f":"IF(算数!F32=1,F$214,0)","v":0},{"$f":"IF(算数!G32=1,G$214,0)","v":0},{"$f":"IF(算数!H32=1,H$214,0)","v":0},{"$f":"IF(算数!I32=1,I$214,0)","v":0},{"$f":"IF(算数!J32=1,J$214,0)","v":0},{"$f":"IF(算数!K32=1,K$214,0)","v":0},{"$f":"IF(算数!L32=1,L$214,0)","v":0},{"$f":"IF(算数!M32=1,M$214,0)","v":0},{"$f":"IF(算数!N32=1,N$214,0)","v":0},{"$f":"IF(算数!O32=1,O$214,0)","v":0},{"$f":"IF(算数!P32=1,P$214,0)","v":0},{"$f":"IF(算数!Q32=1,Q$214,0)","v":0},{"$f":"IF(算数!R32=1,R$214,0)","v":0},{"$f":"IF(算数!S32=1,S$214,0)","v":0},{"$f":"IF(算数!T32=1,T$214,0)","v":0},{"$f":"IF(算数!U32=1,U$214,0)","v":0},{"$f":"IF(算数!V32=1,V$214,0)","v":0},{"$f":"IF(算数!W32=1,W$214,0)","v":0},{"$f":"IF(算数!X32=1,X$214,0)","v":0},{"$f":"IF(算数!Y32=1,Y$214,0)","v":0},{"$f":"IF(算数!Z32=1,Z$214,0)","v":0},{"$f":"IF(算数!AA32=1,AA$214,0)","v":0},{"$f":"IF(算数!AB32=1,AB$214,0)","v":0},{"$f":"IF(算数!AC32=1,AC$214,0)","v":0},{"$f":"IF(算数!AD32=1,AD$214,0)","v":0},{"$f":"IF(算数!AE32=1,AE$214,0)","v":0},{"$f":"IF(算数!AF32=1,AF$214,0)","v":0},{"$f":"IF(算数!AG32=1,AG$214,0)","v":0},{"$f":"IF(算数!AH32=1,AH$214,0)","v":0},{"$f":"IF(算数!AI32=1,AI$214,0)","v":0},{"$f":"IF(算数!AJ32=1,AJ$214,0)","v":0},{"$f":"IF(算数!AK32=1,AK$214,0)","v":0},{"$f":"IF(算数!AL32=1,AL$214,0)","v":0},{"$f":"IF(算数!AM32=1,AM$214,0)","v":0},{"$f":"IF(算数!AN32=1,AN$214,0)","v":0},{"$f":"IF(算数!AO32=1,AO$214,0)","v":0},{"$f":"IF(算数!AP32=1,AP$214,0)","v":0},{"$f":"IF(算数!AQ32=1,AQ$214,0)","v":0},{"$f":"IF(算数!AR32=1,AR$214,0)","v":0},{"$f":"IF(算数!AS32=1,AS$214,0)","v":0},{"$f":"IF(算数!AT32=1,AT$214,0)","v":0},{"$f":"IF(算数!AU32=1,AU$214,0)","v":0},{"$f":"IF(算数!AV32=1,AV$214,0)","v":0},{"$f":"IF(算数!AW32=1,AW$214,0)","v":0},{"$f":"IF(算数!AX32=1,AX$214,0)","v":0},{"$f":"IF(算数!AY32=1,AY$214,0)","v":0},{"$f":"IF(算数!AZ32=1,AZ$214,0)","v":0},{"$f":"IF(算数!BA32=1,BA$214,0)","v":0},{"$f":"IF(算数!BB32=1,BB$214,0)","v":0},null,0,0,{"$error":"#DIV/0!"},{"$error":"#DIV/0!"},{"$error":"#DIV/0!"}]
[null,23,null,null,{"$f":"IF(算数!E33=1,E$214,0)","v":0},{"$f":"IF(算数!F33=1,F$214,0)","v":0},{"$f":"IF(算数!G33=1,G$214,0)","v":0},{"$f":"IF(算数!H33=1,H$214,0)","v":0},{"$f":"IF(算数!I33=1,I$214,0)","v":0},{"$f":"IF(算数!J33=1,J$214,0)","v":0},{"$f":"IF(算数!K33=1,K$214,0)","v":0},{"$f":"IF(算数!L33=1,L$214,0)","v":0},{"$f":"IF(算数!M33=1,M$214,0)","v":0},{"$f":"IF(算数!N33=1,N$214,0)","v":0},{"$f":"IF(算数!O33=1,O$214,0)","v":0},{"$f":"IF(算数!P33=1,P$214,0)","v":0},{"$f":"IF(算数!Q33=1,Q$214,0)","v":0},{"$f":"IF(算数!R33=1,R$214,0)","v":0},{"$f":"IF(算数!S33=1,S$214,0)","v":0},{"$f":"IF(算数!T33=1,T$214,0)","v":0},{"$f":"IF(算数!U33=1,U$214,0)","v":0},{"$f":"IF(算数!V33=1,V$214,0)","v":0},{"$f":"IF(算数!W33=1,W$214,0)","v":0},{"$f":"IF(算数!X33=1,X$214,0)","v":0},{"$f":"IF(算数!Y33=1,Y$214,0)","v":0},{"$f":"IF(算数!Z33=1,Z$214,0)","v":0},{"$f":"IF(算数!AA33=1,AA$214,0)","v":0},{"$f":"IF(算数!AB33=1,AB$214,0)","v":0},{"$f":"IF(算数!AC33=1,AC$214,0)","v":0},{"$f":"IF(算数!AD33=1,AD$214,0)","v":0},{"$f":"IF(算数!AE33=1,AE$214,0)","v":0},{"$f":"IF(算数!AF33=1,AF$214,0)","v":0},{"$f":"IF(算数!AG33=1,AG$214,0)","v":0},{"$f":"IF(算数!AH33=1,AH$214,0)","v":0},{"$f":"IF(算数!AI33=1,AI$214,0)","v":0},{"$f":"IF(算数!AJ33=1,AJ$214,0)","v":0},{"$f":"IF(算数!AK33=1,AK$214,0)","v":0},{"$f":"IF(算数!AL33=1,AL$214,0)","v":0},{"$f":"IF(算数!AM33=1,AM$214,0)","v":0},{"$f":"IF(算数!AN33=1,AN$214,0)","v":0},{"$f":"IF(算数!AO33=1,AO$214,0)","v":0},{"$f":"IF(算数!AP33=1,AP$214,0)","v":0},{"$f":"IF(算数!AQ33=1,AQ$214,0)","v":0},{"$f":"IF(算数!AR33=1,AR$214,0)","v":0},{"$f":"IF(算数!AS33=1,AS$214,0)","v":0},{"$f":"IF(算数!AT33=1,AT$214,0)","v":0},{"$f":"IF(算数!AU33=1,AU$214,0)","v":0},{"$f":"IF(算数!AV33=1,AV$214,0)","v":0},{"$f":"IF(算数!AW33=1,AW$214,0)","v":0},{"$f":"IF(算数!AX33=1,AX$214,0)","v":0},{"$f":"IF(算数!AY33=1,AY$214,0)","v":0},{"$f":"IF(算数!AZ33=1,AZ$214,0)","v":0},{"$f":"IF(算数!BA33=1,BA$214,0)","v":0},{"$f":"IF(算数!BB33=1,BB$214,0)","v":0},null,0,0,{"$error":"#DIV/0!"},{"$error":"#DIV/0!"},{"$error":"#DIV/0!"}]
[null,24,null,null,{"$f":"IF(算数!E34=1,E$214,0)","v":0},{"$f":"IF(算数!F34=1,F$214,0)","v":0},{"$f":"IF(算数!G34=1,G$214,0)","v":0},{"$f":"IF(算数!H34=1,H$214,0)","v":0},{"$f":"IF(算数!I34=1,I$214,0)","v":0},{"$f":"IF(算数!J34=1,J$214,0)","v":0},{"$f":"IF(算数!K34=1,K$214,0)","v":0},{"$f":"IF(算数!L34=1,L$214,0)","v":0},{"$f":"IF(算数!M34=1,M$214,0)","v":0},{"$f":"IF(算数!N34=1,N$214,0)","v":0},{"$f":"IF(算数!O34=1,O$214,0)","v":0},{"$f":"IF(算数!P34=1,P$214,0)","v":0},{"$f":"IF(算数!Q34=1,Q$214,0)","v":0},{"$f":"IF(算数!R34=1,R$214,0)","v":0},{"$f":"IF(算数!S34=1,S$214,0)","v":0},{"$f":"IF(算数!T34=1,T$214,0)","v":0},{"$f":"IF(算数!U34=1,U$214,0)","v":0},{"$f":"IF(算数!V34=1,V$214,0)","v":0},{"$f":"IF(算数!W34=1,W$214,0)","v":0},{"$f":"IF(算数!X34=1,X$214,0)","v":0},{"$f":"IF(算数!Y34=1,Y$214,0)","v":0},{"$f":"IF(算数!Z34=1,Z$214,0)","v":0},{"$f":"IF(算数!AA34=1,AA$214,0)","v":0},{"$f":"IF(算数!AB34=1,AB$214,0)","v":0},{"$f":"IF(算数!AC34=1,AC$214,0)","v":0},{"$f":"IF(算数!AD34=1,AD$214,0)","v":0},{"$f":"IF(算数!AE34=1,AE$214,0)","v":0},{"$f":"IF(算数!AF34=1,AF$214,0)","v":0},{"$f":"IF(算数!AG34=1,AG$214,0)","v":0},{"$f":"IF(算数!AH34=1,AH$214,0)","v":0},{"$f":"IF(算数!AI34=1,AI$214,0)","v":0},{"$f":"IF(算数!AJ34=1,AJ$214,0)","v":0},{"$f":"IF(算数!AK34=1,AK$214,0)","v":0},{"$f":"IF(算数!AL34=1,AL$214,0)","v":0},{"$f":"IF(算数!AM34=1,AM$214,0)","v":0},{"$f":"IF(算数!AN34=1,AN$214,0)","v":0},{"$f":"IF(算数!AO34=1,AO$214,0)","v":0},{"$f":"IF(算数!AP34=1,AP$214,0)","v":0},{"$f":"IF(算数!AQ34=1,AQ$214,0)","v":0},{"$f":"IF(算数!AR34=1,AR$214,0)","v":0},{"$f":"IF(算数!AS34=1,AS$214,0)","v":0},{"$f":"IF(算数!AT34=1,AT$214,0)","v":0},{"$f":"IF(算数!AU34=1,AU$214,0)","v":0},{"$f":"IF(算数!AV34=1,AV$214,0)","v":0},{"$f":"IF(算数!AW34=1,AW$214,0)","v":0},{"$f":"IF(算数!AX34=1,AX$214,0)","v":0},{"$f":"IF(算数!AY34=1,AY$214,0)","v":0},{"$f":"IF(算数!AZ34=1,AZ$214,0)","v":0},{"$f":"IF(算数!BA34=1,BA$214,0)","v":0},{"$f":"IF(算数!BB34=1,BB$214,0)","v":0},null,0,0,{"$error":"#DIV/0!"},{"$error":"#DIV/0!"},{"$error":"#DIV/0!"}]
[null,25,null,null,{"$f":"IF(算数!E35=1,E$214,0)","v":0},{"$f":"IF(算数!F35=1,F$214,0)","v":0},{"$f":"IF(算数!G35=1,G$214,0)","v":0},{"$f":"IF(算数!H35=1,H$214,0)","v":0},{"$f":"IF(算数!I35=1,I$214,0)","v":0},{"$f":"IF(算数!J35=1,J$214,0)","v":0},{"$f":"IF(算数!K35=1,K$214,0)","v":0},{"$f":"IF(算数!L35=1,L$214,0)","v":0},{"$f":"IF(算数!M35=1,M$214,0)","v":0},{"$f":"IF(算数!N35=1,N$214,0)","v":0},{"$f":"IF(算数!O35=1,O$214,0)","v":0},{"$f":"IF(算数!P35=1,P$214,0)","v":0},{"$f":"IF(算数!Q35=1,Q$214,0)","v":0},{"$f":"IF(算数!R35=1,R$214,0)","v":0},{"$f":"IF(算数!S35=1,S$214,0)","v":0},{"$f":"IF(算数!T35=1,T$214,0)","v":0},{"$f":"IF(算数!U35=1,U$214,0)","v":0},{"$f":"IF(算数!V35=1,V$214,0)","v":0},{"$f":"IF(算数!W35=1,W$214,0)","v":0},{"$f":"IF(算数!X35=1,X$214,0)","v":0},{"$f":"IF(算数!Y35=1,Y$214,0)","v":0},{"$f":"IF(算数!Z35=1,Z$214,0)","v":0},{"$f":"IF(算数!AA35=1,AA$214,0)","v":0},{"$f":"IF(算数!AB35=1,AB$214,0)","v":0},{"$f":"IF(算数!AC35=1,AC$214,0)","v":0},{"$f":"IF(算数!AD35=1,AD$214,0)","v":0},{"$f":"IF(算数!AE35=1,AE$214,0)","v":0},{"$f":"IF(算数!AF35=1,AF$214,0)","v":0},{"$f":"IF(算数!AG35=1,AG$214,0)","v":0},{"$f":"IF(算数!AH35=1,AH$214,0)","v":0},{"$f":"IF(算数!AI35=1,AI$214,0)","v":0},{"$f":"IF(算数!AJ35=1,AJ$214,0)","v":0},{"$f":"IF(算数!AK35=1,AK$214,0)","v":0},{"$f":"IF(算数!AL35=1,AL$214,0)","v":0},{"$f":"IF(算数!AM35=1,AM$214,0)","v":0},{"$f":"IF(算数!AN35=1,AN$214,0)","v":0},{"$f":"IF(算数!AO35=1,AO$214,0)","v":0},{"$f":"IF(算数!AP35=1,AP$214,0)","v":0},{"$f":"IF(算数!AQ35=1,AQ$214,0)","v":0},{"$f":"IF(算数!AR35=1,AR$214,0)","v":0},{"$f":"IF(算数!AS35=1,AS$214,0)","v":0},{"$f":"IF(算数!AT35=1,AT$214,0)","v":0},{"$f":"IF(算数!AU35=1,AU$214,0)","v":0},{"$f":"IF(算数!AV35=1,AV$214,0)","v":0},{"$f":"IF(算数!AW35=1,AW$214,0)","v":0},{"$f":"IF(算数!AX35=1,AX$214,0)","v":0},{"$f":"IF(算数!AY35=1,AY$214,0)","v":0},{"$f":"IF(算数!AZ35=1,AZ$214,0)","v":0},{"$f":"IF(算数!BA35=1,BA$214,0)","v":0},{"$f":"IF(算数!BB35=1,BB$214,0)","v":0},null,0,0,{"$error":"#DIV/0!"},{"$error":"#DIV/0!"},{"$error":"#DIV/0!"}]
[null,26,null,null,{"$f":"IF(算数!E36=1,E$214,0)","v":0},{"$f":"IF(算数!F36=1,F$214,0)","v":0},{"$f":"IF(算数!G36=1,G$214,0)","v":0},{"$f":"IF(算数!H36=1,H$214,0)","v":0},{"$f":"IF(算数!I36=1,I$214,0)","v":0},{"$f":"IF(算数!J36=1,J$214,0)","v":0},{"$f":"IF(算数!K36=1,K$214,0)","v":0},{"$f":"IF(算数!L36=1,L$214,0)","v":0},{"$f":"IF(算数!M36=1,M$214,0)","v":0},{"$f":"IF(算数!N36=1,N$214,0)","v":0},{"$f":"IF(算数!O36=1,O$214,0)","v":0},{"$f":"IF(算数!P36=1,P$214,0)","v":0},{"$f":"IF(算数!Q36=1,Q$214,0)","v":0},{"$f":"IF(算数!R36=1,R$214,0)","v":0},{"$f":"IF(算数!S36=1,S$214,0)","v":0},{"$f":"IF(算数!T36=1,T$214,0)","v":0},{"$f":"IF(算数!U36=1,U$214,0)","v":0},{"$f":"IF(算数!V36=1,V$214,0)","v":0},{"$f":"IF(算数!W36=1,W$214,0)","v":0},{"$f":"IF(算数!X36=1,X$214,0)","v":0},{"$f":"IF(算数!Y36=1,Y$214,0)","v":0},{"$f":"IF(算数!Z36=1,Z$214,0)","v":0},{"$f":"IF(算数!AA36=1,AA$214,0)","v":0},{"$f":"IF(算数!AB36=1,AB$214,0)","v":0},{"$f":"IF(算数!AC36=1,AC$214,0)","v":0},{"$f":"IF(算数!AD36=1,AD$214,0)","v":0},{"$f":"IF(算数!AE36=1,AE$214,0)","v":0},{"$f":"IF(算数!AF36=1,AF$214,0)","v":0},{"$f":"IF(算数!AG36=1,AG$214,0)","v":0},{"$f":"IF(算数!AH36=1,AH$214,0)","v":0},{"$f":"IF(算数!AI36=1,AI$214,0)","v":0},{"$f":"IF(算数!AJ36=1,AJ$214,0)","v":0},{"$f":"IF(算数!AK36=1,AK$214,0)","v":0},{"$f":"IF(算数!AL36=1,AL$214,0)","v":0},{"$f":"IF(算数!AM36=1,AM$214,0)","v":0},{"$f":"IF(算数!AN36=1,AN$214,0)","v":0},{"$f":"IF(算数!AO36=1,AO$214,0)","v":0},{"$f":"IF(算数!AP36=1,AP$214,0)","v":0},{"$f":"IF(算数!AQ36=1,AQ$214,0)","v":0},{"$f":"IF(算数!AR36=1,AR$214,0)","v":0},{"$f":"IF(算数!AS36=1,AS$214,0)","v":0},{"$f":"IF(算数!AT36=1,AT$214,0)","v":0},{"$f":"IF(算数!AU36=1,AU$214,0)","v":0},{"$f":"IF(算数!AV36=1,AV$214,0)","v":0},{"$f":"IF(算数!AW36=1,AW$214,0)","v":0},{"$f":"IF(算数!AX36=1,AX$214,0)","v":0},{"$f":"IF(算数!AY36=1,AY$214,0)","v":0},{"$f":"IF(算数!AZ36=1,AZ$214,0)","v":0},{"$f":"IF(算数!BA36=1,BA$214,0)","v":0},{"$f":"IF(算数!BB36=1,BB$214,0)","v":0},null,0,0,{"$error":"#DIV/0!"},{"$error":"#DIV/0!"},{"$error":"#DIV/0!"}]
[null,27,null,null,{"$f":"IF(算数!E37=1,E$214,0)","v":0},{"$f":"IF(算数!F37=1,F$214,0)","v":0},{"$f":"IF(算数!G37=1,G$214,0)","v":0},{"$f":"IF(算数!H37=1,H$214,0)","v":0},{"$f":"IF(算数!I37=1,I$214,0)","v":0},{"$f":"IF(算数!J37=1,J$214,0)","v":0},{"$f":"IF(算数!K37=1,K$214,0)","v":0},{"$f":"IF(算数!L37=1,L$214,0)","v":0},{"$f":"IF(算数!M37=1,M$214,0)","v":0},{"$f":"IF(算数!N37=1,N$214,0)","v":0},{"$f":"IF(算数!O37=1,O$214,0)","v":0},{"$f":"IF(算数!P37=1,P$214,0)","v":0},{"$f":"IF(算数!Q37=1,Q$214,0)","v":0},{"$f":"IF(算数!R37=1,R$214,0)","v":0},{"$f":"IF(算数!S37=1,S$214,0)","v":0},{"$f":"IF(算数!T37=1,T$214,0)","v":0},{"$f":"IF(算数!U37=1,U$214,0)","v":0},{"$f":"IF(算数!V37=1,V$214,0)","v":0},{"$f":"IF(算数!W37=1,W$214,0)","v":0},{"$f":"IF(算数!X37=1,X$214,0)","v":0},{"$f":"IF(算数!Y37=1,Y$214,0)","v":0},{"$f":"IF(算数!Z37=1,Z$214,0)","v":0},{"$f":"IF(算数!AA37=1,AA$214,0)","v":0},{"$f":"IF(算数!AB37=1,AB$214,0)","v":0},{"$f":"IF(算数!AC37=1,AC$214,0)","v":0},{"$f":"IF(算数!AD37=1,AD$214,0)","v":0},{"$f":"IF(算数!AE37=1,AE$214,0)","v":0},{"$f":"IF(算数!AF37=1,AF$214,0)","v":0},{"$f":"IF(算数!AG37=1,AG$214,0)","v":0},{"$f":"IF(算数!AH37=1,AH$214,0)","v":0},{"$f":"IF(算数!AI37=1,AI$214,0)","v":0},{"$f":"IF(算数!AJ37=1,AJ$214,0)","v":0},{"$f":"IF(算数!AK37=1,AK$214,0)","v":0},{"$f":"IF(算数!AL37=1,AL$214,0)","v":0},{"$f":"IF(算数!AM37=1,AM$214,0)","v":0},{"$f":"IF(算数!AN37=1,AN$214,0)","v":0},{"$f":"IF(算数!AO37=1,AO$214,0)","v":0},{"$f":"IF(算数!AP37=1,AP$214,0)","v":0},{"$f":"IF(算数!AQ37=1,AQ$214,0)","v":0},{"$f":"IF(算数!AR37=1,AR$214,0)","v":0},{"$f":"IF(算数!AS37=1,AS$214,0)","v":0},{"$f":"IF(算数!AT37=1,AT$214,0)","v":0},{"$f":"IF(算数!AU37=1,AU$214,0)","v":0},{"$f":"IF(算数!AV37=1,AV$214,0)","v":0},{"$f":"IF(算数!AW37=1,AW$214,0)","v":0},{"$f":"IF(算数!AX37=1,AX$214,0)","v":0},{"$f":"IF(算数!AY37=1,AY$214,0)","v":0},{"$f":"IF(算数!AZ37=1,AZ$214,0)","v":0},{"$f":"IF(算数!BA37=1,BA$214,0)","v":0},{"$f":"IF(算数!BB37=1,BB$214,0)","v":0},null,0,0,{"$error":"#DIV/0!"},{"$error":"#DIV/0!"},{"$error":"#DIV/0!"}]
[null,28,null,null,{"$f":"IF(算数!E38=1,E$214,0)","v":0},{"$f":"IF(算数!F38=1,F$214,0)","v":0},{"$f":"IF(算数!G38=1,G$214,0)","v":0},{"$f":"IF(算数!H38=1,H$214,0)","v":0},{"$f":"IF(算数!I38=1,I$214,0)","v":0},{"$f":"IF(算数!J38=1,J$214,0)","v":0},{"$f":"IF(算数!K38=1,K$214,0)","v":0},{"$f":"IF(算数!L38=1,L$214,0)","v":0},{"$f":"IF(算数!M38=1,M$214,0)","v":0},{"$f":"IF(算数!N38=1,N$214,0)","v":0},{"$f":"IF(算数!O38=1,O$214,0)","v":0},{"$f":"IF(算数!P38=1,P$214,0)","v":0},{"$f":"IF(算数!Q38=1,Q$214,0)","v":0},{"$f":"IF(算数!R38=1,R$214,0)","v":0},{"$f":"IF(算数!S38=1,S$214,0)","v":0},{"$f":"IF(算数!T38=1,T$214,0)","v":0},{"$f":"IF(算数!U38=1,U$214,0)","v":0},{"$f":"IF(算数!V38=1,V$214,0)","v":0},{"$f":"IF(算数!W38=1,W$214,0)","v":0},{"$f":"IF(算数!X38=1,X$214,0)","v":0},{"$f":"IF(算数!Y38=1,Y$214,0)","v":0},{"$f":"IF(算数!Z38=1,Z$214,0)","v":0},{"$f":"IF(算数!AA38=1,AA$214,0)","v":0},{"$f":"IF(算数!AB38=1,AB$214,0)","v":0},{"$f":"IF(算数!AC38=1,AC$214,0)","v":0},{"$f":"IF(算数!AD38=1,AD$214,0)","v":0},{"$f":"IF(算数!AE38=1,AE$214,0)","v":0},{"$f":"IF(算数!AF38=1,AF$214,0)","v":0},{"$f":"IF(算数!AG38=1,AG$214,0)","v":0},{"$f":"IF(算数!AH38=1,AH$214,0)","v":0},{"$f":"IF(算数!AI38=1,AI$214,0)","v":0},{"$f":"IF(算数!AJ38=1,AJ$214,0)","v":0},{"$f":"IF(算数!AK38=1,AK$214,0)","v":0},{"$f":"IF(算数!AL38=1,AL$214,0)","v":0},{"$f":"IF(算数!AM38=1,AM$214,0)","v":0},{"$f":"IF(算数!AN38=1,AN$214,0)","v":0},{"$f":"IF(算数!AO38=1,AO$214,0)","v":0},{"$f":"IF(算数!AP38=1,AP$214,0)","v":0},{"$f":"IF(算数!AQ38=1,AQ$214,0)","v":0},{"$f":"IF(算数!AR38=1,AR$214,0)","v":0},{"$f":"IF(算数!AS38=1,AS$214,0)","v":0},{"$f":"IF(算数!AT38=1,AT$214,0)","v":0},{"$f":"IF(算数!AU38=1,AU$214,0)","v":0},{"$f":"IF(算数!AV38=1,AV$214,0)","v":0},{"$f":"IF(算数!AW38=1,AW$214,0)","v":0},{"$f":"IF(算数!AX38=1,AX$214,0)","v":0},{"$f":"IF(算数!AY38=1,AY$214,0)","v":0},{"$f":"IF(算数!AZ38=1,AZ$214,0)","v":0},{"$f":"IF(算数!BA38=1,BA$214,0)","v":0},{"$f":"IF(算数!BB38=1,BB$214,0)","v":0},null,0,0,{"$error":"#DIV/0!"},{"$error":"#DIV/0!"},{"$error":"#DIV/0!"}]
[null,29,null,null,{"$f":"IF(算数!E39=1,E$214,0)","v":0},{"$f":"IF(算数!F39=1,F$214,0)","v":0},{"$f":"IF(算数!G39=1,G$214,0)","v":0},{"$f":"IF(算数!H39=1,H$214,0)","v":0},{"$f":"IF(算数!I39=1,I$214,0)","v":0},{"$f":"IF(算数!J39=1,J$214,0)","v":0},{"$f":"IF(算数!K39=1,K$214,0)","v":0},{"$f":"IF(算数!L39=1,L$214,0)","v":0},{"$f":"IF(算数!M39=1,M$214,0)","v":0},{"$f":"IF(算数!N39=1,N$214,0)","v":0},{"$f":"IF(算数!O39=1,O$214,0)","v":0},{"$f":"IF(算数!P39=1,P$214,0)","v":0},{"$f":"IF(算数!Q39=1,Q$214,0)","v":0},{"$f":"IF(算数!R39=1,R$214,0)","v":0},{"$f":"IF(算数!S39=1,S$214,0)","v":0},{"$f":"IF(算数!T39=1,T$214,0)","v":0},{"$f":"IF(算数!U39=1,U$214,0)","v":0},{"$f":"IF(算数!V39=1,V$214,0)","v":0},{"$f":"IF(算数!W39=1,W$214,0)","v":0},{"$f":"IF(算数!X39=1,X$214,0)","v":0},{"$f":"IF(算数!Y39=1,Y$214,0)","v":0},{"$f":"IF(算数!Z39=1,Z$214,0)","v":0},{"$f":"IF(算数!AA39=1,AA$214,0)","v":0},{"$f":"IF(算数!AB39=1,AB$214,0)","v":0},{"$f":"IF(算数!AC39=1,AC$214,0)","v":0},{"$f":"IF(算数!AD39=1,AD$214,0)","v":0},{"$f":"IF(算数!AE39=1,AE$214,0)","v":0},{"$f":"IF(算数!AF39=1,AF$214,0)","v":0},{"$f":"IF(算数!AG39=1,AG$214,0)","v":0},{"$f":"IF(算数!AH39=1,AH$214,0)","v":0},{"$f":"IF(算数!AI39=1,AI$214,0)","v":0},{"$f":"IF(算数!AJ39=1,AJ$214,0)","v":0},{"$f":"IF(算数!AK39=1,AK$214,0)","v":0},{"$f":"IF(算数!AL39=1,AL$214,0)","v":0},{"$f":"IF(算数!AM39=1,AM$214,0)","v":0},{"$f":"IF(算数!AN39=1,AN$214,0)","v":0},{"$f":"IF(算数!AO39=1,AO$214,0)","v":0},{"$f":"IF(算数!AP39=1,AP$214,0)","v":0},{"$f":"IF(算数!AQ39=1,AQ$214,0)","v":0},{"$f":"IF(算数!AR39=1,AR$214,0)","v":0},{"$f":"IF(算数!AS39=1,AS$214,0)","v":0},{"$f":"IF(算数!AT39=1,AT$214,0)","v":0},{"$f":"IF(算数!AU39=1,AU$214,0)","v":0},{"$f":"IF(算数!AV39=1,AV$214,0)","v":0},{"$f":"IF(算数!AW39=1,AW$214,0)","v":0},{"$f":"IF(算数!AX39=1,AX$214,0)","v":0},{"$f":"IF(算数!AY39=1,AY$214,0)","v":0},{"$f":"IF(算数!AZ39=1,AZ$214,0)","v":0},{"$f":"IF(算数!BA39=1,BA$214,0)","v":0},{"$f":"IF(算数!BB39=1,BB$214,0)","v":0},null,0,0,{"$error":"#DIV/0!"},{"$error":"#DIV/0!"},{"$error":"#DIV/0!"}]
[null,30,null,null,{"$f":"IF(算数!E40=1,E$214,0)","v":0},{"$f":"IF(算数!F40=1,F$214,0)","v":0},{"$f":"IF(算数!G40=1,G$214,0)","v":0},{"$f":"IF(算数!H40=1,H$214,0)","v":0},{"$f":"IF(算数!I40=1,I$214,0)","v":0},{"$f":"IF(算数!J40=1,J$214,0)","v":0},{"$f":"IF(算数!K40=1,K$214,0)","v":0},{"$f":"IF(算数!L40=1,L$214,0)","v":0},{"$f":"IF(算数!M40=1,M$214,0)","v":0},{"$f":"IF(算数!N40=1,N$214,0)","v":0},{"$f":"IF(算数!O40=1,O$214,0)","v":0},{"$f":"IF(算数!P40=1,P$214,0)","v":0},{"$f":"IF(算数!Q40=1,Q$214,0)","v":0},{"$f":"IF(算数!R40=1,R$214,0)","v":0},{"$f":"IF(算数!S40=1,S$214,0)","v":0},{"$f":"IF(算数!T40=1,T$214,0)","v":0},{"$f":"IF(算数!U40=1,U$214,0)","v":0},{"$f":"IF(算数!V40=1,V$214,0)","v":0},{"$f":"IF(算数!W40=1,W$214,0)","v":0},{"$f":"IF(算数!X40=1,X$214,0)","v":0},{"$f":"IF(算数!Y40=1,Y$214,0)","v":0},{"$f":"IF(算数!Z40=1,Z$214,0)","v":0},{"$f":"IF(算数!AA40=1,AA$214,0)","v":0},{"$f":"IF(算数!AB40=1,AB$214,0)","v":0},{"$f":"IF(算数!AC40=1,AC$214,0)","v":0},{"$f":"IF(算数!AD40=1,AD$214,0)","v":0},{"$f":"IF(算数!AE40=1,AE$214,0)","v":0},{"$f":"IF(算数!AF40=1,AF$214,0)","v":0},{"$f":"IF(算数!AG40=1,AG$214,0)","v":0},{"$f":"IF(算数!AH40=1,AH$214,0)","v":0},{"$f":"IF(算数!AI40=1,AI$214,0)","v":0},{"$f":"IF(算数!AJ40=1,AJ$214,0)","v":0},{"$f":"IF(算数!AK40=1,AK$214,0)","v":0},{"$f":"IF(算数!AL40=1,AL$214,0)","v":0},{"$f":"IF(算数!AM40=1,AM$214,0)","v":0},{"$f":"IF(算数!AN40=1,AN$214,0)","v":0},{"$f":"IF(算数!AO40=1,AO$214,0)","v":0},{"$f":"IF(算数!AP40=1,AP$214,0)","v":0},{"$f":"IF(算数!AQ40=1,AQ$214,0)","v":0},{"$f":"IF(算数!AR40=1,AR$214,0)","v":0},{"$f":"IF(算数!AS40=1,AS$214,0)","v":0},{"$f":"IF(算数!AT40=1,AT$214,0)","v":0},{"$f":"IF(算数!AU40=1,AU$214,0)","v":0},{"$f":"IF(算数!AV40=1,AV$214,0)","v":0},{"$f":"IF(算数!AW40=1,AW$214,0)","v":0},{"$f":"IF(算数!AX40=1,AX$214,0)","v":0},{"$f":"IF(算数!AY40=1,AY$214,0)","v":0},{"$f":"IF(算数!AZ40=1,AZ$214,0)","v":0},{"$f":"IF(算数!BA40=1,BA$214,0)","v":0},{"$f":"IF(算数!BB40=1,BB$214,0)","v":0},null,0,0,{"$error":"#DIV/0!"},{"$error":"#DIV/0!"},{"$error":"#DIV/0!"}]
[null,31,null,null,{"$f":"IF(算数!E41=1,E$214,0)","v":0},{"$f":"IF(算数!F41=1,F$214,0)","v":0},{"$f":"IF(算数!G41=1,G$214,0)","v":0},{"$f":"IF(算数!H41=1,H$214,0)","v":0},{"$f":"IF(算数!I41=1,I$214,0)","v":0},{"$f":"IF(算数!J41=1,J$214,0)","v":0},{"$f":"IF(算数!K41=1,K$214,0)","v":0},{"$f":"IF(算数!L41=1,L$214,0)","v":0},{"$f":"IF(算数!M41=1,M$214,0)","v":0},{"$f":"IF(算数!N41=1,N$214,0)","v":0},{"$f":"IF(算数!O41=1,O$214,0)","v":0},{"$f":"IF(算数!P41=1,P$214,0)","v":0},{"$f":"IF(算数!Q41=1,Q$214,0)","v":0},{"$f":"IF(算数!R41=1,R$214,0)","v":0},{"$f":"IF(算数!S41=1,S$214,0)","v":0},{"$f":"IF(算数!T41=1,T$214,0)","v":0},{"$f":"IF(算数!U41=1,U$214,0)","v":0},{"$f":"IF(算数!V41=1,V$214,0)","v":0},{"$f":"IF(算数!W41=1,W$214,0)","v":0},{"$f":"IF(算数!X41=1,X$214,0)","v":0},{"$f":"IF(算数!Y41=1,Y$214,0)","v":0},{"$f":"IF(算数!Z41=1,Z$214,0)","v":0},{"$f":"IF(算数!AA41=1,AA$214,0)","v":0},{"$f":"IF(算数!AB41=1,AB$214,0)","v":0},{"$f":"IF(算数!AC41=1,AC$214,0)","v":0},{"$f":"IF(算数!AD41=1,AD$214,0)","v":0},{"$f":"IF(算数!AE41=1,AE$214,0)","v":0},{"$f":"IF(算数!AF41=1,AF$214,0)","v":0},{"$f":"IF(算数!AG41=1,AG$214,0)","v":0},{"$f":"IF(算数!AH41=1,AH$214,0)","v":0},{"$f":"IF(算数!AI41=1,AI$214,0)","v":0},{"$f":"IF(算数!AJ41=1,AJ$214,0)","v":0},{"$f":"IF(算数!AK41=1,AK$214,0)","v":0},{"$f":"IF(算数!AL41=1,AL$214,0)","v":0},{"$f":"IF(算数!AM41=1,AM$214,0)","v":0},{"$f":"IF(算数!AN41=1,AN$214,0)","v":0},{"$f":"IF(算数!AO41=1,AO$214,0)","v":0},{"$f":"IF(算数!AP41=1,AP$214,0)","v":0},{"$f":"IF(算数!AQ41=1,AQ$214,0)","v":0},{"$f":"IF(算数!AR41=1,AR$214,0)","v":0},{"$f":"IF(算数!AS41=1,AS$214,0)","v":0},{"$f":"IF(算数!AT41=1,AT$214,0)","v":0},{"$f":"IF(算数!AU41=1,AU$214,0)","v":0},{"$f":"IF(算数!AV41=1,AV$214,0)","v":0},{"$f":"IF(算数!AW41=1,AW$214,0)","v":0},{"$f":"IF(算数!AX41=1,AX$214,0)","v":0},{"$f":"IF(算数!AY41=1,AY$214,0)","v":0},{"$f":"IF(算数!AZ41=1,AZ$214,0)","v":0},{"$f":"IF(算数!BA41=1,BA$214,0)","v":0},{"$f":"IF(算数!BB41=1,BB$214,0)","v":0},null,0,0,{"$error":"#DIV/0!"},{"$error":"#DIV/0!"},{"$error":"#DIV/0!"}]
[null,32,null,null,{"$f":"IF(算数!E42=1,E$214,0)","v":0},{"$f":"IF(算数!F42=1,F$214,0)","v":0},{"$f":"IF(算数!G42=1,G$214,0)","v":0},{"$f":"IF(算数!H42=1,H$214,0)","v":0},{"$f":"IF(算数!I42=1,I$214,0)","v":0},{"$f":"IF(算数!J42=1,J$214,0)","v":0},{"$f":"IF(算数!K42=1,K$214,0)","v":0},{"$f":"IF(算数!L42=1,L$214,0)","v":0},{"$f":"IF(算数!M42=1,M$214,0)","v":0},{"$f":"IF(算数!N42=1,N$214,0)","v":0},{"$f":"IF(算数!O42=1,O$214,0)","v":0},{"$f":"IF(算数!P42=1,P$214,0)","v":0},{"$f":"IF(算数!Q42=1,Q$214,0)","v":0},{"$f":"IF(算数!R42=1,R$214,0)","v":0},{"$f":"IF(算数!S42=1,S$214,0)","v":0},{"$f":"IF(算数!T42=1,T$214,0)","v":0},{"$f":"IF(算数!U42=1,U$214,0)","v":0},{"$f":"IF(算数!V42=1,V$214,0)","v":0},{"$f":"IF(算数!W42=1,W$214,0)","v":0},{"$f":"IF(算数!X42=1,X$214,0)","v":0},{"$f":"IF(算数!Y42=1,Y$214,0)","v":0},{"$f":"IF(算数!Z42=1,Z$214,0)","v":0},{"$f":"IF(算数!AA42=1,AA$214,0)","v":0},{"$f":"IF(算数!AB42=1,AB$214,0)","v":0},{"$f":"IF(算数!AC42=1,AC$214,0)","v":0},{"$f":"IF(算数!AD42=1,AD$214,0)","v":0},{"$f":"IF(算数!AE42=1,AE$214,0)","v":0},{"$f":"IF(算数!AF42=1,AF$214,0)","v":0},{"$f":"IF(算数!AG42=1,AG$214,0)","v":0},{"$f":"IF(算数!AH42=1,AH$214,0)","v":0},{"$f":"IF(算数!AI42=1,AI$214,0)","v":0},{"$f":"IF(算数!AJ42=1,AJ$214,0)","v":0},{"$f":"IF(算数!AK42=1,AK$214,0)","v":0},{"$f":"IF(算数!AL42=1,AL$214,0)","v":0},{"$f":"IF(算数!AM42=1,AM$214,0)","v":0},{"$f":"IF(算数!AN42=1,AN$214,0)","v":0},{"$f":"IF(算数!AO42=1,AO$214,0)","v":0},{"$f":"IF(算数!AP42=1,AP$214,0)","v":0},{"$f":"IF(算数!AQ42=1,AQ$214,0)","v":0},{"$f":"IF(算数!AR42=1,AR$214,0)","v":0},{"$f":"IF(算数!AS42=1,AS$214,0)","v":0},{"$f":"IF(算数!AT42=1,AT$214,0)","v":0},{"$f":"IF(算数!AU42=1,AU$214,0)","v":0},{"$f":"IF(算数!AV42=1,AV$214,0)","v":0},{"$f":"IF(算数!AW42=1,AW$214,0)","v":0},{"$f":"IF(算数!AX42=1,AX$214,0)","v":0},{"$f":"IF(算数!AY42=1,AY$214,0)","v":0},{"$f":"IF(算数!AZ42=1,AZ$214,0)","v":0},{"$f":"IF(算数!BA42=1,BA$214,0)","v":0},{"$f":"IF(算数!BB42=1,BB$214,0)","v":0},null,0,0,{"$error":"#DIV/0!"},{"$error":"#DIV/0!"},{"$error":"#DIV/0!"}]
[null,33,null,null,{"$f":"IF(算数!E43=1,E$214,0)","v":0},{"$f":"IF(算数!F43=1,F$214,0)","v":0},{"$f":"IF(算数!G43=1,G$214,0)","v":0},{"$f":"IF(算数!H43=1,H$214,0)","v":0},{"$f":"IF(算数!I43=1,I$214,0)","v":0},{"$f":"IF(算数!J43=1,J$214,0)","v":0},{"$f":"IF(算数!K43=1,K$214,0)","v":0},{"$f":"IF(算数!L43=1,L$214,0)","v":0},{"$f":"IF(算数!M43=1,M$214,0)","v":0},{"$f":"IF(算数!N43=1,N$214,0)","v":0},{"$f":"IF(算数!O43=1,O$214,0)","v":0},{"$f":"IF(算数!P43=1,P$214,0)","v":0},{"$f":"IF(算数!Q43=1,Q$214,0)","v":0},{"$f":"IF(算数!R43=1,R$214,0)","v":0},{"$f":"IF(算数!S43=1,S$214,0)","v":0},{"$f":"IF(算数!T43=1,T$214,0)","v":0},{"$f":"IF(算数!U43=1,U$214,0)","v":0},{"$f":"IF(算数!V43=1,V$214,0)","v":0},{"$f":"IF(算数!W43=1,W$214,0)","v":0},{"$f":"IF(算数!X43=1,X$214,0)","v":0},{"$f":"IF(算数!Y43=1,Y$214,0)","v":0},{"$f":"IF(算数!Z43=1,Z$214,0)","v":0},{"$f":"IF(算数!AA43=1,AA$214,0)","v":0},{"$f":"IF(算数!AB43=1,AB$214,0)","v":0},{"$f":"IF(算数!AC43=1,AC$214,0)","v":0},{"$f":"IF(算数!AD43=1,AD$214,0)","v":0},{"$f":"IF(算数!AE43=1,AE$214,0)","v":0},{"$f":"IF(算数!AF43=1,AF$214,0)","v":0},{"$f":"IF(算数!AG43=1,AG$214,0)","v":0},{"$f":"IF(算数!AH43=1,AH$214,0)","v":0},{"$f":"IF(算数!AI43=1,AI$214,0)","v":0},{"$f":"IF(算数!AJ43=1,AJ$214,0)","v":0},{"$f":"IF(算数!AK43=1,AK$214,0)","v":0},{"$f":"IF(算数!AL43=1,AL$214,0)","v":0},{"$f":"IF(算数!AM43=1,AM$214,0)","v":0},{"$f":"IF(算数!AN43=1,AN$214,0)","v":0},{"$f":"IF(算数!AO43=1,AO$214,0)","v":0},{"$f":"IF(算数!AP43=1,AP$214,0)","v":0},{"$f":"IF(算数!AQ43=1,AQ$214,0)","v":0},{"$f":"IF(算数!AR43=1,AR$214,0)","v":0},{"$f":"IF(算数!AS43=1,AS$214,0)","v":0},{"$f":"IF(算数!AT43=1,AT$214,0)","v":0},{"$f":"IF(算数!AU43=1,AU$214,0)","v":0},{"$f":"IF(算数!AV43=1,AV$214,0)","v":0},{"$f":"IF(算数!AW43=1,AW$214,0)","v":0},{"$f":"IF(算数!AX43=1,AX$214,0)","v":0},{"$f":"IF(算数!AY43=1,AY$214,0)","v":0},{"$f":"IF(算数!AZ43=1,AZ$214,0)","v":0},{"$f":"IF(算数!BA43=1,BA$214,0)","v":0},{"$f":"IF(算数!BB43=1,BB$214,0)","v":0},null,0,0,{"$error":"#DIV/0!"},{"$error":"#DIV/0!"},{"$error":"#DIV/0!"}]
[null,34,null,null,{"$f":"IF(算数!E44=1,E$214,0)","v":0},{"$f":"IF(算数!F44=1,F$214,0)","v":0},{"$f":"IF(算数!G44=1,G$214,0)","v":0},{"$f":"IF(算数!H44=1,H$214,0)","v":0},{"$f":"IF(算数!I44=1,I$214,0)","v":0},{"$f":"IF(算数!J44=1,J$214,0)","v":0},{"$f":"IF(算数!K44=1,K$214,0)","v":0},{"$f":"IF(算数!L44=1,L$214,0)","v":0},{"$f":"IF(算数!M44=1,M$214,0)","v":0},{"$f":"IF(算数!N44=1,N$214,0)","v":0},{"$f":"IF(算数!O44=1,O$214,0)","v":0},{"$f":"IF(算数!P44=1,P$214,0)","v":0},{"$f":"IF(算数!Q44=1,Q$214,0)","v":0},{"$f":"IF(算数!R44=1,R$214,0)","v":0},{"$f":"IF(算数!S44=1,S$214,0)","v":0},{"$f":"IF(算数!T44=1,T$214,0)","v":0},{"$f":"IF(算数!U44=1,U$214,0)","v":0},{"$f":"IF(算数!V44=1,V$214,0)","v":0},{"$f":"IF(算数!W44=1,W$214,0)","v":0},{"$f":"IF(算数!X44=1,X$214,0)","v":0},{"$f":"IF(算数!Y44=1,Y$214,0)","v":0},{"$f":"IF(算数!Z44=1,Z$214,0)","v":0},{"$f":"IF(算数!AA44=1,AA$214,0)","v":0},{"$f":"IF(算数!AB44=1,AB$214,0)","v":0},{"$f":"IF(算数!AC44=1,AC$214,0)","v":0},{"$f":"IF(算数!AD44=1,AD$214,0)","v":0},{"$f":"IF(算数!AE44=1,AE$214,0)","v":0},{"$f":"IF(算数!AF44=1,AF$214,0)","v":0},{"$f":"IF(算数!AG44=1,AG$214,0)","v":0},{"$f":"IF(算数!AH44=1,AH$214,0)","v":0},{"$f":"IF(算数!AI44=1,AI$214,0)","v":0},{"$f":"IF(算数!AJ44=1,AJ$214,0)","v":0},{"$f":"IF(算数!AK44=1,AK$214,0)","v":0},{"$f":"IF(算数!AL44=1,AL$214,0)","v":0},{"$f":"IF(算数!AM44=1,AM$214,0)","v":0},{"$f":"IF(算数!AN44=1,AN$214,0)","v":0},{"$f":"IF(算数!AO44=1,AO$214,0)","v":0},{"$f":"IF(算数!AP44=1,AP$214,0)","v":0},{"$f":"IF(算数!AQ44=1,AQ$214,0)","v":0},{"$f":"IF(算数!AR44=1,AR$214,0)","v":0},{"$f":"IF(算数!AS44=1,AS$214,0)","v":0},{"$f":"IF(算数!AT44=1,AT$214,0)","v":0},{"$f":"IF(算数!AU44=1,AU$214,0)","v":0},{"$f":"IF(算数!AV44=1,AV$214,0)","v":0},{"$f":"IF(算数!AW44=1,AW$214,0)","v":0},{"$f":"IF(算数!AX44=1,AX$214,0)","v":0},{"$f":"IF(算数!AY44=1,AY$214,0)","v":0},{"$f":"IF(算数!AZ44=1,AZ$214,0)","v":0},{"$f":"IF(算数!BA44=1,BA$214,0)","v":0},{"$f":"IF(算数!BB44=1,BB$214,0)","v":0},null,{"$f":"SUMIF($E$213:$BB$213,BD$213,$E248:$BB248)/BD$214","v":0},0,{"$error":"#DIV/0!"},{"$error":"#DIV/0!"},{"$error":"#DIV/0!"}]
[null,35,null,null,{"$f":"IF(算数!E45=1,E$214,0)","v":0},{"$f":"IF(算数!F45=1,F$214,0)","v":0},{"$f":"IF(算数!G45=1,G$214,0)","v":0},{"$f":"IF(算数!H45=1,H$214,0)","v":0},{"$f":"IF(算数!I45=1,I$214,0)","v":0},{"$f":"IF(算数!J45=1,J$214,0)","v":0},{"$f":"IF(算数!K45=1,K$214,0)","v":0},{"$f":"IF(算数!L45=1,L$214,0)","v":0},{"$f":"IF(算数!M45=1,M$214,0)","v":0},{"$f":"IF(算数!N45=1,N$214,0)","v":0},{"$f":"IF(算数!O45=1,O$214,0)","v":0},{"$f":"IF(算数!P45=1,P$214,0)","v":0},{"$f":"IF(算数!Q45=1,Q$214,0)","v":0},{"$f":"IF(算数!R45=1,R$214,0)","v":0},{"$f":"IF(算数!S45=1,S$214,0)","v":0},{"$f":"IF(算数!T45=1,T$214,0)","v":0},{"$f":"IF(算数!U45=1,U$214,0)","v":0},{"$f":"IF(算数!V45=1,V$214,0)","v":0},{"$f":"IF(算数!W45=1,W$214,0)","v":0},{"$f":"IF(算数!X45=1,X$214,0)","v":0},{"$f":"IF(算数!Y45=1,Y$214,0)","v":0},{"$f":"IF(算数!Z45=1,Z$214,0)","v":0},{"$f":"IF(算数!AA45=1,AA$214,0)","v":0},{"$f":"IF(算数!AB45=1,AB$214,0)","v":0},{"$f":"IF(算数!AC45=1,AC$214,0)","v":0},{"$f":"IF(算数!AD45=1,AD$214,0)","v":0},{"$f":"IF(算数!AE45=1,AE$214,0)","v":0},{"$f":"IF(算数!AF45=1,AF$214,0)","v":0},{"$f":"IF(算数!AG45=1,AG$214,0)","v":0},{"$f":"IF(算数!AH45=1,AH$214,0)","v":0},{"$f":"IF(算数!AI45=1,AI$214,0)","v":0},{"$f":"IF(算数!AJ45=1,AJ$214,0)","v":0},{"$f":"IF(算数!AK45=1,AK$214,0)","v":0},{"$f":"IF(算数!AL45=1,AL$214,0)","v":0},{"$f":"IF(算数!AM45=1,AM$214,0)","v":0},{"$f":"IF(算数!AN45=1,AN$214,0)","v":0},{"$f":"IF(算数!AO45=1,AO$214,0)","v":0},{"$f":"IF(算数!AP45=1,AP$214,0)","v":0},{"$f":"IF(算数!AQ45=1,AQ$214,0)","v":0},{"$f":"IF(算数!AR45=1,AR$214,0)","v":0},{"$f":"IF(算数!AS45=1,AS$214,0)","v":0},{"$f":"IF(算数!AT45=1,AT$214,0)","v":0},{"$f":"IF(算数!AU45=1,AU$214,0)","v":0},{"$f":"IF(算数!AV45=1,AV$214,0)","v":0},{"$f":"IF(算数!AW45=1,AW$214,0)","v":0},{"$f":"IF(算数!AX45=1,AX$214,0)","v":0},{"$f":"IF(算数!AY45=1,AY$214,0)","v":0},{"$f":"IF(算数!AZ45=1,AZ$214,0)","v":0},{"$f":"IF(算数!BA45=1,BA$214,0)","v":0},{"$f":"IF(算数!BB45=1,BB$214,0)","v":0},null,0,0,{"$error":"#DIV/0!"},{"$error":"#DIV/0!"},{"$error":"#DIV/0!"}]
[null,36,null,null,{"$f":"IF(算数!E46=1,E$214,0)","v":0},{"$f":"IF(算数!F46=1,F$214,0)","v":0},{"$f":"IF(算数!G46=1,G$214,0)","v":0},{"$f":"IF(算数!H46=1,H$214,0)","v":0},{"$f":"IF(算数!I46=1,I$214,0)","v":0},{"$f":"IF(算数!J46=1,J$214,0)","v":0},{"$f":"IF(算数!K46=1,K$214,0)","v":0},{"$f":"IF(算数!L46=1,L$214,0)","v":0},{"$f":"IF(算数!M46=1,M$214,0)","v":0},{"$f":"IF(算数!N46=1,N$214,0)","v":0},{"$f":"IF(算数!O46=1,O$214,0)","v":0},{"$f":"IF(算数!P46=1,P$214,0)","v":0},{"$f":"IF(算数!Q46=1,Q$214,0)","v":0},{"$f":"IF(算数!R46=1,R$214,0)","v":0},{"$f":"IF(算数!S46=1,S$214,0)","v":0},{"$f":"IF(算数!T46=1,T$214,0)","v":0},{"$f":"IF(算数!U46=1,U$214,0)","v":0},{"$f":"IF(算数!V46=1,V$214,0)","v":0},{"$f":"IF(算数!W46=1,W$214,0)","v":0},{"$f":"IF(算数!X46=1,X$214,0)","v":0},{"$f":"IF(算数!Y46=1,Y$214,0)","v":0},{"$f":"IF(算数!Z46=1,Z$214,0)","v":0},{"$f":"IF(算数!AA46=1,AA$214,0)","v":0},{"$f":"IF(算数!AB46=1,AB$214,0)","v":0},{"$f":"IF(算数!AC46=1,AC$214,0)","v":0},{"$f":"IF(算数!AD46=1,AD$214,0)","v":0},{"$f":"IF(算数!AE46=1,AE$214,0)","v":0},{"$f":"IF(算数!AF46=1,AF$214,0)","v":0},{"$f":"IF(算数!AG46=1,AG$214,0)","v":0},{"$f":"IF(算数!AH46=1,AH$214,0)","v":0},{"$f":"IF(算数!AI46=1,AI$214,0)","v":0},{"$f":"IF(算数!AJ46=1,AJ$214,0)","v":0},{"$f":"IF(算数!AK46=1,AK$214,0)","v":0},{"$f":"IF(算数!AL46=1,AL$214,0)","v":0},{"$f":"IF(算数!AM46=1,AM$214,0)","v":0},{"$f":"IF(算数!AN46=1,AN$214,0)","v":0},{"$f":"IF(算数!AO46=1,AO$214,0)","v":0},{"$f":"IF(算数!AP46=1,AP$214,0)","v":0},{"$f":"IF(算数!AQ46=1,AQ$214,0)","v":0},{"$f":"IF(算数!AR46=1,AR$214,0)","v":0},{"$f":"IF(算数!AS46=1,AS$214,0)","v":0},{"$f":"IF(算数!AT46=1,AT$214,0)","v":0},{"$f":"IF(算数!AU46=1,AU$214,0)","v":0},{"$f":"IF(算数!AV46=1,AV$214,0)","v":0},{"$f":"IF(算数!AW46=1,AW$214,0)","v":0},{"$f":"IF(算数!AX46=1,AX$214,0)","v":0},{"$f":"IF(算数!AY46=1,AY$214,0)","v":0},{"$f":"IF(算数!AZ46=1,AZ$214,0)","v":0},{"$f":"IF(算数!BA46=1,BA$214,0)","v":0},{"$f":"IF(算数!BB46=1,BB$214,0)","v":0},null,0,0,{"$error":"#DIV/0!"},{"$error":"#DIV/0!"},{"$error":"#DIV/0!"}]
[null,37,null,null,{"$f":"IF(算数!E47=1,E$214,0)","v":0},{"$f":"IF(算数!F47=1,F$214,0)","v":0},{"$f":"IF(算数!G47=1,G$214,0)","v":0},{"$f":"IF(算数!H47=1,H$214,0)","v":0},{"$f":"IF(算数!I47=1,I$214,0)","v":0},{"$f":"IF(算数!J47=1,J$214,0)","v":0},{"$f":"IF(算数!K47=1,K$214,0)","v":0},{"$f":"IF(算数!L47=1,L$214,0)","v":0},{"$f":"IF(算数!M47=1,M$214,0)","v":0},{"$f":"IF(算数!N47=1,N$214,0)","v":0},{"$f":"IF(算数!O47=1,O$214,0)","v":0},{"$f":"IF(算数!P47=1,P$214,0)","v":0},{"$f":"IF(算数!Q47=1,Q$214,0)","v":0},{"$f":"IF(算数!R47=1,R$214,0)","v":0},{"$f":"IF(算数!S47=1,S$214,0)","v":0},{"$f":"IF(算数!T47=1,T$214,0)","v":0},{"$f":"IF(算数!U47=1,U$214,0)","v":0},{"$f":"IF(算数!V47=1,V$214,0)","v":0},{"$f":"IF(算数!W47=1,W$214,0)","v":0},{"$f":"IF(算数!X47=1,X$214,0)","v":0},{"$f":"IF(算数!Y47=1,Y$214,0)","v":0},{"$f":"IF(算数!Z47=1,Z$214,0)","v":0},{"$f":"IF(算数!AA47=1,AA$214,0)","v":0},{"$f":"IF(算数!AB47=1,AB$214,0)","v":0},{"$f":"IF(算数!AC47=1,AC$214,0)","v":0},{"$f":"IF(算数!AD47=1,AD$214,0)","v":0},{"$f":"IF(算数!AE47=1,AE$214,0)","v":0},{"$f":"IF(算数!AF47=1,AF$214,0)","v":0},{"$f":"IF(算数!AG47=1,AG$214,0)","v":0},{"$f":"IF(算数!AH47=1,AH$214,0)","v":0},{"$f":"IF(算数!AI47=1,AI$214,0)","v":0},{"$f":"IF(算数!AJ47=1,AJ$214,0)","v":0},{"$f":"IF(算数!AK47=1,AK$214,0)","v":0},{"$f":"IF(算数!AL47=1,AL$214,0)","v":0},{"$f":"IF(算数!AM47=1,AM$214,0)","v":0},{"$f":"IF(算数!AN47=1,AN$214,0)","v":0},{"$f":"IF(算数!AO47=1,AO$214,0)","v":0},{"$f":"IF(算数!AP47=1,AP$214,0)","v":0},{"$f":"IF(算数!AQ47=1,AQ$214,0)","v":0},{"$f":"IF(算数!AR47=1,AR$214,0)","v":0},{"$f":"IF(算数!AS47=1,AS$214,0)","v":0},{"$f":"IF(算数!AT47=1,AT$214,0)","v":0},{"$f":"IF(算数!AU47=1,AU$214,0)","v":0},{"$f":"IF(算数!AV47=1,AV$214,0)","v":0},{"$f":"IF(算数!AW47=1,AW$214,0)","v":0},{"$f":"IF(算数!AX47=1,AX$214,0)","v":0},{"$f":"IF(算数!AY47=1,AY$214,0)","v":0},{"$f":"IF(算数!AZ47=1,AZ$214,0)","v":0},{"$f":"IF(算数!BA47=1,BA$214,0)","v":0},{"$f":"IF(算数!BB47=1,BB$214,0)","v":0},null,0,0,{"$error":"#DIV/0!"},{"$error":"#DIV/0!"},{"$error":"#DIV/0!"}]
[null,38,null,null,{"$f":"IF(算数!E48=1,E$214,0)","v":0},{"$f":"IF(算数!F48=1,F$214,0)","v":0},{"$f":"IF(算数!G48=1,G$214,0)","v":0},{"$f":"IF(算数!H48=1,H$214,0)","v":0},{"$f":"IF(算数!I48=1,I$214,0)","v":0},{"$f":"IF(算数!J48=1,J$214,0)","v":0},{"$f":"IF(算数!K48=1,K$214,0)","v":0},{"$f":"IF(算数!L48=1,L$214,0)","v":0},{"$f":"IF(算数!M48=1,M$214,0)","v":0},{"$f":"IF(算数!N48=1,N$214,0)","v":0},{"$f":"IF(算数!O48=1,O$214,0)","v":0},{"$f":"IF(算数!P48=1,P$214,0)","v":0},{"$f":"IF(算数!Q48=1,Q$214,0)","v":0},{"$f":"IF(算数!R48=1,R$214,0)","v":0},{"$f":"IF(算数!S48=1,S$214,0)","v":0},{"$f":"IF(算数!T48=1,T$214,0)","v":0},{"$f":"IF(算数!U48=1,U$214,0)","v":0},{"$f":"IF(算数!V48=1,V$214,0)","v":0},{"$f":"IF(算数!W48=1,W$214,0)","v":0},{"$f":"IF(算数!X48=1,X$214,0)","v":0},{"$f":"IF(算数!Y48=1,Y$214,0)","v":0},{"$f":"IF(算数!Z48=1,Z$214,0)","v":0},{"$f":"IF(算数!AA48=1,AA$214,0)","v":0},{"$f":"IF(算数!AB48=1,AB$214,0)","v":0},{"$f":"IF(算数!AC48=1,AC$214,0)","v":0},{"$f":"IF(算数!AD48=1,AD$214,0)","v":0},{"$f":"IF(算数!AE48=1,AE$214,0)","v":0},{"$f":"IF(算数!AF48=1,AF$214,0)","v":0},{"$f":"IF(算数!AG48=1,AG$214,0)","v":0},{"$f":"IF(算数!AH48=1,AH$214,0)","v":0},{"$f":"IF(算数!AI48=1,AI$214,0)","v":0},{"$f":"IF(算数!AJ48=1,AJ$214,0)","v":0},{"$f":"IF(算数!AK48=1,AK$214,0)","v":0},{"$f":"IF(算数!AL48=1,AL$214,0)","v":0},{"$f":"IF(算数!AM48=1,AM$214,0)","v":0},{"$f":"IF(算数!AN48=1,AN$214,0)","v":0},{"$f":"IF(算数!AO48=1,AO$214,0)","v":0},{"$f":"IF(算数!AP48=1,AP$214,0)","v":0},{"$f":"IF(算数!AQ48=1,AQ$214,0)","v":0},{"$f":"IF(算数!AR48=1,AR$214,0)","v":0},{"$f":"IF(算数!AS48=1,AS$214,0)","v":0},{"$f":"IF(算数!AT48=1,AT$214,0)","v":0},{"$f":"IF(算数!AU48=1,AU$214,0)","v":0},{"$f":"IF(算数!AV48=1,AV$214,0)","v":0},{"$f":"IF(算数!AW48=1,AW$214,0)","v":0},{"$f":"IF(算数!AX48=1,AX$214,0)","v":0},{"$f":"IF(算数!AY48=1,AY$214,0)","v":0},{"$f":"IF(算数!AZ48=1,AZ$214,0)","v":0},{"$f":"IF(算数!BA48=1,BA$214,0)","v":0},{"$f":"IF(算数!BB48=1,BB$214,0)","v":0},null,0,0,{"$error":"#DIV/0!"},{"$error":"#DIV/0!"},{"$error":"#DIV/0!"}]
[null,39,null,null,{"$f":"IF(算数!E49=1,E$214,0)","v":0},{"$f":"IF(算数!F49=1,F$214,0)","v":0},{"$f":"IF(算数!G49=1,G$214,0)","v":0},{"$f":"IF(算数!H49=1,H$214,0)","v":0},{"$f":"IF(算数!I49=1,I$214,0)","v":0},{"$f":"IF(算数!J49=1,J$214,0)","v":0},{"$f":"IF(算数!K49=1,K$214,0)","v":0},{"$f":"IF(算数!L49=1,L$214,0)","v":0},{"$f":"IF(算数!M49=1,M$214,0)","v":0},{"$f":"IF(算数!N49=1,N$214,0)","v":0},{"$f":"IF(算数!O49=1,O$214,0)","v":0},{"$f":"IF(算数!P49=1,P$214,0)","v":0},{"$f":"IF(算数!Q49=1,Q$214,0)","v":0},{"$f":"IF(算数!R49=1,R$214,0)","v":0},{"$f":"IF(算数!S49=1,S$214,0)","v":0},{"$f":"IF(算数!T49=1,T$214,0)","v":0},{"$f":"IF(算数!U49=1,U$214,0)","v":0},{"$f":"IF(算数!V49=1,V$214,0)","v":0},{"$f":"IF(算数!W49=1,W$214,0)","v":0},{"$f":"IF(算数!X49=1,X$214,0)","v":0},{"$f":"IF(算数!Y49=1,Y$214,0)","v":0},{"$f":"IF(算数!Z49=1,Z$214,0)","v":0},{"$f":"IF(算数!AA49=1,AA$214,0)","v":0},{"$f":"IF(算数!AB49=1,AB$214,0)","v":0},{"$f":"IF(算数!AC49=1,AC$214,0)","v":0},{"$f":"IF(算数!AD49=1,AD$214,0)","v":0},{"$f":"IF(算数!AE49=1,AE$214,0)","v":0},{"$f":"IF(算数!AF49=1,AF$214,0)","v":0},{"$f":"IF(算数!AG49=1,AG$214,0)","v":0},{"$f":"IF(算数!AH49=1,AH$214,0)","v":0},{"$f":"IF(算数!AI49=1,AI$214,0)","v":0},{"$f":"IF(算数!AJ49=1,AJ$214,0)","v":0},{"$f":"IF(算数!AK49=1,AK$214,0)","v":0},{"$f":"IF(算数!AL49=1,AL$214,0)","v":0},{"$f":"IF(算数!AM49=1,AM$214,0)","v":0},{"$f":"IF(算数!AN49=1,AN$214,0)","v":0},{"$f":"IF(算数!AO49=1,AO$214,0)","v":0},{"$f":"IF(算数!AP49=1,AP$214,0)","v":0},{"$f":"IF(算数!AQ49=1,AQ$214,0)","v":0},{"$f":"IF(算数!AR49=1,AR$214,0)","v":0},{"$f":"IF(算数!AS49=1,AS$214,0)","v":0},{"$f":"IF(算数!AT49=1,AT$214,0)","v":0},{"$f":"IF(算数!AU49=1,AU$214,0)","v":0},{"$f":"IF(算数!AV49=1,AV$214,0)","v":0},{"$f":"IF(算数!AW49=1,AW$214,0)","v":0},{"$f":"IF(算数!AX49=1,AX$214,0)","v":0},{"$f":"IF(算数!AY49=1,AY$214,0)","v":0},{"$f":"IF(算数!AZ49=1,AZ$214,0)","v":0},{"$f":"IF(算数!BA49=1,BA$214,0)","v":0},{"$f":"IF(算数!BB49=1,BB$214,0)","v":0},null,0,0,{"$error":"#DIV/0!"},{"$error":"#DIV/0!"},{"$error":"#DIV/0!"}]
[null,40,null,null,{"$f":"IF(算数!E50=1,E$214,0)","v":0},{"$f":"IF(算数!F50=1,F$214,0)","v":0},{"$f":"IF(算数!G50=1,G$214,0)","v":0},{"$f":"IF(算数!H50=1,H$214,0)","v":0},{"$f":"IF(算数!I50=1,I$214,0)","v":0},{"$f":"IF(算数!J50=1,J$214,0)","v":0},{"$f":"IF(算数!K50=1,K$214,0)","v":0},{"$f":"IF(算数!L50=1,L$214,0)","v":0},{"$f":"IF(算数!M50=1,M$214,0)","v":0},{"$f":"IF(算数!N50=1,N$214,0)","v":0},{"$f":"IF(算数!O50=1,O$214,0)","v":0},{"$f":"IF(算数!P50=1,P$214,0)","v":0},{"$f":"IF(算数!Q50=1,Q$214,0)","v":0},{"$f":"IF(算数!R50=1,R$214,0)","v":0},{"$f":"IF(算数!S50=1,S$214,0)","v":0},{"$f":"IF(算数!T50=1,T$214,0)","v":0},{"$f":"IF(算数!U50=1,U$214,0)","v":0},{"$f":"IF(算数!V50=1,V$214,0)","v":0},{"$f":"IF(算数!W50=1,W$214,0)","v":0},{"$f":"IF(算数!X50=1,X$214,0)","v":0},{"$f":"IF(算数!Y50=1,Y$214,0)","v":0},{"$f":"IF(算数!Z50=1,Z$214,0)","v":0},{"$f":"IF(算数!AA50=1,AA$214,0)","v":0},{"$f":"IF(算数!AB50=1,AB$214,0)","v":0},{"$f":"IF(算数!AC50=1,AC$214,0)","v":0},{"$f":"IF(算数!AD50=1,AD$214,0)","v":0},{"$f":"IF(算数!AE50=1,AE$214,0)","v":0},{"$f":"IF(算数!AF50=1,AF$214,0)","v":0},{"$f":"IF(算数!AG50=1,AG$214,0)","v":0},{"$f":"IF(算数!AH50=1,AH$214,0)","v":0},{"$f":"IF(算数!AI50=1,AI$214,0)","v":0},{"$f":"IF(算数!AJ50=1,AJ$214,0)","v":0},{"$f":"IF(算数!AK50=1,AK$214,0)","v":0},{"$f":"IF(算数!AL50=1,AL$214,0)","v":0},{"$f":"IF(算数!AM50=1,AM$214,0)","v":0},{"$f":"IF(算数!AN50=1,AN$214,0)","v":0},{"$f":"IF(算数!AO50=1,AO$214,0)","v":0},{"$f":"IF(算数!AP50=1,AP$214,0)","v":0},{"$f":"IF(算数!AQ50=1,AQ$214,0)","v":0},{"$f":"IF(算数!AR50=1,AR$214,0)","v":0},{"$f":"IF(算数!AS50=1,AS$214,0)","v":0},{"$f":"IF(算数!AT50=1,AT$214,0)","v":0},{"$f":"IF(算数!AU50=1,AU$214,0)","v":0},{"$f":"IF(算数!AV50=1,AV$214,0)","v":0},{"$f":"IF(算数!AW50=1,AW$214,0)","v":0},{"$f":"IF(算数!AX50=1,AX$214,0)","v":0},{"$f":"IF(算数!AY50=1,AY$214,0)","v":0},{"$f":"IF(算数!AZ50=1,AZ$214,0)","v":0},{"$f":"IF(算数!BA50=1,BA$214,0)","v":0},{"$f":"IF(算数!BB50=1,BB$214,0)","v":0},null,0,0,{"$error":"#DIV/0!"},{"$error":"#DIV/0!"},{"$error":"#DIV/0!"}]
[null,41,null,null,{"$f":"IF(算数!E51=1,E$214,0)","v":0},{"$f":"IF(算数!F51=1,F$214,0)","v":0},{"$f":"IF(算数!G51=1,G$214,0)","v":0},{"$f":"IF(算数!H51=1,H$214,0)","v":0},{"$f":"IF(算数!I51=1,I$214,0)","v":0},{"$f":"IF(算数!J51=1,J$214,0)","v":0},{"$f":"IF(算数!K51=1,K$214,0)","v":0},{"$f":"IF(算数!L51=1,L$214,0)","v":0},{"$f":"IF(算数!M51=1,M$214,0)","v":0},{"$f":"IF(算数!N51=1,N$214,0)","v":0},{"$f":"IF(算数!O51=1,O$214,0)","v":0},{"$f":"IF(算数!P51=1,P$214,0)","v":0},{"$f":"IF(算数!Q51=1,Q$214,0)","v":0},{"$f":"IF(算数!R51=1,R$214,0)","v":0},{"$f":"IF(算数!S51=1,S$214,0)","v":0},{"$f":"IF(算数!T51=1,T$214,0)","v":0},{"$f":"IF(算数!U51=1,U$214,0)","v":0},{"$f":"IF(算数!V51=1,V$214,0)","v":0},{"$f":"IF(算数!W51=1,W$214,0)","v":0},{"$f":"IF(算数!X51=1,X$214,0)","v":0},{"$f":"IF(算数!Y51=1,Y$214,0)","v":0},{"$f":"IF(算数!Z51=1,Z$214,0)","v":0},{"$f":"IF(算数!AA51=1,AA$214,0)","v":0},{"$f":"IF(算数!AB51=1,AB$214,0)","v":0},{"$f":"IF(算数!AC51=1,AC$214,0)","v":0},{"$f":"IF(算数!AD51=1,AD$214,0)","v":0},{"$f":"IF(算数!AE51=1,AE$214,0)","v":0},{"$f":"IF(算数!AF51=1,AF$214,0)","v":0},{"$f":"IF(算数!AG51=1,AG$214,0)","v":0},{"$f":"IF(算数!AH51=1,AH$214,0)","v":0},{"$f":"IF(算数!AI51=1,AI$214,0)","v":0},{"$f":"IF(算数!AJ51=1,AJ$214,0)","v":0},{"$f":"IF(算数!AK51=1,AK$214,0)","v":0},{"$f":"IF(算数!AL51=1,AL$214,0)","v":0},{"$f":"IF(算数!AM51=1,AM$214,0)","v":0},{"$f":"IF(算数!AN51=1,AN$214,0)","v":0},{"$f":"IF(算数!AO51=1,AO$214,0)","v":0},{"$f":"IF(算数!AP51=1,AP$214,0)","v":0},{"$f":"IF(算数!AQ51=1,AQ$214,0)","v":0},{"$f":"IF(算数!AR51=1,AR$214,0)","v":0},{"$f":"IF(算数!AS51=1,AS$214,0)","v":0},{"$f":"IF(算数!AT51=1,AT$214,0)","v":0},{"$f":"IF(算数!AU51=1,AU$214,0)","v":0},{"$f":"IF(算数!AV51=1,AV$214,0)","v":0},{"$f":"IF(算数!AW51=1,AW$214,0)","v":0},{"$f":"IF(算数!AX51=1,AX$214,0)","v":0},{"$f":"IF(算数!AY51=1,AY$214,0)","v":0},{"$f":"IF(算数!AZ51=1,AZ$214,0)","v":0},{"$f":"IF(算数!BA51=1,BA$214,0)","v":0},{"$f":"IF(算数!BB51=1,BB$214,0)","v":0},null,0,0,{"$error":"#DIV/0!"},{"$error":"#DIV/0!"},{"$error":"#DIV/0!"}]
[null,42,null,null,{"$f":"IF(算数!E52=1,E$214,0)","v":0},{"$f":"IF(算数!F52=1,F$214,0)","v":0},{"$f":"IF(算数!G52=1,G$214,0)","v":0},{"$f":"IF(算数!H52=1,H$214,0)","v":0},{"$f":"IF(算数!I52=1,I$214,0)","v":0},{"$f":"IF(算数!J52=1,J$214,0)","v":0},{"$f":"IF(算数!K52=1,K$214,0)","v":0},{"$f":"IF(算数!L52=1,L$214,0)","v":0},{"$f":"IF(算数!M52=1,M$214,0)","v":0},{"$f":"IF(算数!N52=1,N$214,0)","v":0},{"$f":"IF(算数!O52=1,O$214,0)","v":0},{"$f":"IF(算数!P52=1,P$214,0)","v":0},{"$f":"IF(算数!Q52=1,Q$214,0)","v":0},{"$f":"IF(算数!R52=1,R$214,0)","v":0},{"$f":"IF(算数!S52=1,S$214,0)","v":0},{"$f":"IF(算数!T52=1,T$214,0)","v":0},{"$f":"IF(算数!U52=1,U$214,0)","v":0},{"$f":"IF(算数!V52=1,V$214,0)","v":0},{"$f":"IF(算数!W52=1,W$214,0)","v":0},{"$f":"IF(算数!X52=1,X$214,0)","v":0},{"$f":"IF(算数!Y52=1,Y$214,0)","v":0},{"$f":"IF(算数!Z52=1,Z$214,0)","v":0},{"$f":"IF(算数!AA52=1,AA$214,0)","v":0},{"$f":"IF(算数!AB52=1,AB$214,0)","v":0},{"$f":"IF(算数!AC52=1,AC$214,0)","v":0},{"$f":"IF(算数!AD52=1,AD$214,0)","v":0},{"$f":"IF(算数!AE52=1,AE$214,0)","v":0},{"$f":"IF(算数!AF52=1,AF$214,0)","v":0},{"$f":"IF(算数!AG52=1,AG$214,0)","v":0},{"$f":"IF(算数!AH52=1,AH$214,0)","v":0},{"$f":"IF(算数!AI52=1,AI$214,0)","v":0},{"$f":"IF(算数!AJ52=1,AJ$214,0)","v":0},{"$f":"IF(算数!AK52=1,AK$214,0)","v":0},{"$f":"IF(算数!AL52=1,AL$214,0)","v":0},{"$f":"IF(算数!AM52=1,AM$214,0)","v":0},{"$f":"IF(算数!AN52=1,AN$214,0)","v":0},{"$f":"IF(算数!AO52=1,AO$214,0)","v":0},{"$f":"IF(算数!AP52=1,AP$214,0)","v":0},{"$f":"IF(算数!AQ52=1,AQ$214,0)","v":0},{"$f":"IF(算数!AR52=1,AR$214,0)","v":0},{"$f":"IF(算数!AS52=1,AS$214,0)","v":0},{"$f":"IF(算数!AT52=1,AT$214,0)","v":0},{"$f":"IF(算数!AU52=1,AU$214,0)","v":0},{"$f":"IF(算数!AV52=1,AV$214,0)","v":0},{"$f":"IF(算数!AW52=1,AW$214,0)","v":0},{"$f":"IF(算数!AX52=1,AX$214,0)","v":0},{"$f":"IF(算数!AY52=1,AY$214,0)","v":0},{"$f":"IF(算数!AZ52=1,AZ$214,0)","v":0},{"$f":"IF(算数!BA52=1,BA$214,0)","v":0},{"$f":"IF(算数!BB52=1,BB$214,0)","v":0},null,0,0,{"$error":"#DIV/0!"},{"$error":"#DIV/0!"},{"$error":"#DIV/0!"}]
[null,43,null,null,{"$f":"IF(算数!E53=1,E$214,0)","v":0},{"$f":"IF(算数!F53=1,F$214,0)","v":0},{"$f":"IF(算数!G53=1,G$214,0)","v":0},{"$f":"IF(算数!H53=1,H$214,0)","v":0},{"$f":"IF(算数!I53=1,I$214,0)","v":0},{"$f":"IF(算数!J53=1,J$214,0)","v":0},{"$f":"IF(算数!K53=1,K$214,0)","v":0},{"$f":"IF(算数!L53=1,L$214,0)","v":0},{"$f":"IF(算数!M53=1,M$214,0)","v":0},{"$f":"IF(算数!N53=1,N$214,0)","v":0},{"$f":"IF(算数!O53=1,O$214,0)","v":0},{"$f":"IF(算数!P53=1,P$214,0)","v":0},{"$f":"IF(算数!Q53=1,Q$214,0)","v":0},{"$f":"IF(算数!R53=1,R$214,0)","v":0},{"$f":"IF(算数!S53=1,S$214,0)","v":0},{"$f":"IF(算数!T53=1,T$214,0)","v":0},{"$f":"IF(算数!U53=1,U$214,0)","v":0},{"$f":"IF(算数!V53=1,V$214,0)","v":0},{"$f":"IF(算数!W53=1,W$214,0)","v":0},{"$f":"IF(算数!X53=1,X$214,0)","v":0},{"$f":"IF(算数!Y53=1,Y$214,0)","v":0},{"$f":"IF(算数!Z53=1,Z$214,0)","v":0},{"$f":"IF(算数!AA53=1,AA$214,0)","v":0},{"$f":"IF(算数!AB53=1,AB$214,0)","v":0},{"$f":"IF(算数!AC53=1,AC$214,0)","v":0},{"$f":"IF(算数!AD53=1,AD$214,0)","v":0},{"$f":"IF(算数!AE53=1,AE$214,0)","v":0},{"$f":"IF(算数!AF53=1,AF$214,0)","v":0},{"$f":"IF(算数!AG53=1,AG$214,0)","v":0},{"$f":"IF(算数!AH53=1,AH$214,0)","v":0},{"$f":"IF(算数!AI53=1,AI$214,0)","v":0},{"$f":"IF(算数!AJ53=1,AJ$214,0)","v":0},{"$f":"IF(算数!AK53=1,AK$214,0)","v":0},{"$f":"IF(算数!AL53=1,AL$214,0)","v":0},{"$f":"IF(算数!AM53=1,AM$214,0)","v":0},{"$f":"IF(算数!AN53=1,AN$214,0)","v":0},{"$f":"IF(算数!AO53=1,AO$214,0)","v":0},{"$f":"IF(算数!AP53=1,AP$214,0)","v":0},{"$f":"IF(算数!AQ53=1,AQ$214,0)","v":0},{"$f":"IF(算数!AR53=1,AR$214,0)","v":0},{"$f":"IF(算数!AS53=1,AS$214,0)","v":0},{"$f":"IF(算数!AT53=1,AT$214,0)","v":0},{"$f":"IF(算数!AU53=1,AU$214,0)","v":0},{"$f":"IF(算数!AV53=1,AV$214,0)","v":0},{"$f":"IF(算数!AW53=1,AW$214,0)","v":0},{"$f":"IF(算数!AX53=1,AX$214,0)","v":0},{"$f":"IF(算数!AY53=1,AY$214,0)","v":0},{"$f":"IF(算数!AZ53=1,AZ$214,0)","v":0},{"$f":"IF(算数!BA53=1,BA$214,0)","v":0},{"$f":"IF(算数!BB53=1,BB$214,0)","v":0},null,0,0,{"$error":"#DIV/0!"},{"$error":"#DIV/0!"},{"$error":"#DIV/0!"}]
[null,44,null,null,{"$f":"IF(算数!E54=1,E$214,0)","v":0},{"$f":"IF(算数!F54=1,F$214,0)","v":0},{"$f":"IF(算数!G54=1,G$214,0)","v":0},{"$f":"IF(算数!H54=1,H$214,0)","v":0},{"$f":"IF(算数!I54=1,I$214,0)","v":0},{"$f":"IF(算数!J54=1,J$214,0)","v":0},{"$f":"IF(算数!K54=1,K$214,0)","v":0},{"$f":"IF(算数!L54=1,L$214,0)","v":0},{"$f":"IF(算数!M54=1,M$214,0)","v":0},{"$f":"IF(算数!N54=1,N$214,0)","v":0},{"$f":"IF(算数!O54=1,O$214,0)","v":0},{"$f":"IF(算数!P54=1,P$214,0)","v":0},{"$f":"IF(算数!Q54=1,Q$214,0)","v":0},{"$f":"IF(算数!R54=1,R$214,0)","v":0},{"$f":"IF(算数!S54=1,S$214,0)","v":0},{"$f":"IF(算数!T54=1,T$214,0)","v":0},{"$f":"IF(算数!U54=1,U$214,0)","v":0},{"$f":"IF(算数!V54=1,V$214,0)","v":0},{"$f":"IF(算数!W54=1,W$214,0)","v":0},{"$f":"IF(算数!X54=1,X$214,0)","v":0},{"$f":"IF(算数!Y54=1,Y$214,0)","v":0},{"$f":"IF(算数!Z54=1,Z$214,0)","v":0},{"$f":"IF(算数!AA54=1,AA$214,0)","v":0},{"$f":"IF(算数!AB54=1,AB$214,0)","v":0},{"$f":"IF(算数!AC54=1,AC$214,0)","v":0},{"$f":"IF(算数!AD54=1,AD$214,0)","v":0},{"$f":"IF(算数!AE54=1,AE$214,0)","v":0},{"$f":"IF(算数!AF54=1,AF$214,0)","v":0},{"$f":"IF(算数!AG54=1,AG$214,0)","v":0},{"$f":"IF(算数!AH54=1,AH$214,0)","v":0},{"$f":"IF(算数!AI54=1,AI$214,0)","v":0},{"$f":"IF(算数!AJ54=1,AJ$214,0)","v":0},{"$f":"IF(算数!AK54=1,AK$214,0)","v":0},{"$f":"IF(算数!AL54=1,AL$214,0)","v":0},{"$f":"IF(算数!AM54=1,AM$214,0)","v":0},{"$f":"IF(算数!AN54=1,AN$214,0)","v":0},{"$f":"IF(算数!AO54=1,AO$214,0)","v":0},{"$f":"IF(算数!AP54=1,AP$214,0)","v":0},{"$f":"IF(算数!AQ54=1,AQ$214,0)","v":0},{"$f":"IF(算数!AR54=1,AR$214,0)","v":0},{"$f":"IF(算数!AS54=1,AS$214,0)","v":0},{"$f":"IF(算数!AT54=1,AT$214,0)","v":0},{"$f":"IF(算数!AU54=1,AU$214,0)","v":0},{"$f":"IF(算数!AV54=1,AV$214,0)","v":0},{"$f":"IF(算数!AW54=1,AW$214,0)","v":0},{"$f":"IF(算数!AX54=1,AX$214,0)","v":0},{"$f":"IF(算数!AY54=1,AY$214,0)","v":0},{"$f":"IF(算数!AZ54=1,AZ$214,0)","v":0},{"$f":"IF(算数!BA54=1,BA$214,0)","v":0},{"$f":"IF(算数!BB54=1,BB$214,0)","v":0},null,0,0,{"$error":"#DIV/0!"},{"$error":"#DIV/0!"},{"$error":"#DIV/0!"}]
[null,45,null,null,{"$f":"IF(算数!E55=1,E$214,0)","v":0},{"$f":"IF(算数!F55=1,F$214,0)","v":0},{"$f":"IF(算数!G55=1,G$214,0)","v":0},{"$f":"IF(算数!H55=1,H$214,0)","v":0},{"$f":"IF(算数!I55=1,I$214,0)","v":0},{"$f":"IF(算数!J55=1,J$214,0)","v":0},{"$f":"IF(算数!K55=1,K$214,0)","v":0},{"$f":"IF(算数!L55=1,L$214,0)","v":0},{"$f":"IF(算数!M55=1,M$214,0)","v":0},{"$f":"IF(算数!N55=1,N$214,0)","v":0},{"$f":"IF(算数!O55=1,O$214,0)","v":0},{"$f":"IF(算数!P55=1,P$214,0)","v":0},{"$f":"IF(算数!Q55=1,Q$214,0)","v":0},{"$f":"IF(算数!R55=1,R$214,0)","v":0},{"$f":"IF(算数!S55=1,S$214,0)","v":0},{"$f":"IF(算数!T55=1,T$214,0)","v":0},{"$f":"IF(算数!U55=1,U$214,0)","v":0},{"$f":"IF(算数!V55=1,V$214,0)","v":0},{"$f":"IF(算数!W55=1,W$214,0)","v":0},{"$f":"IF(算数!X55=1,X$214,0)","v":0},{"$f":"IF(算数!Y55=1,Y$214,0)","v":0},{"$f":"IF(算数!Z55=1,Z$214,0)","v":0},{"$f":"IF(算数!AA55=1,AA$214,0)","v":0},{"$f":"IF(算数!AB55=1,AB$214,0)","v":0},{"$f":"IF(算数!AC55=1,AC$214,0)","v":0},{"$f":"IF(算数!AD55=1,AD$214,0)","v":0},{"$f":"IF(算数!AE55=1,AE$214,0)","v":0},{"$f":"IF(算数!AF55=1,AF$214,0)","v":0},{"$f":"IF(算数!AG55=1,AG$214,0)","v":0},{"$f":"IF(算数!AH55=1,AH$214,0)","v":0},{"$f":"IF(算数!AI55=1,AI$214,0)","v":0},{"$f":"IF(算数!AJ55=1,AJ$214,0)","v":0},{"$f":"IF(算数!AK55=1,AK$214,0)","v":0},{"$f":"IF(算数!AL55=1,AL$214,0)","v":0},{"$f":"IF(算数!AM55=1,AM$214,0)","v":0},{"$f":"IF(算数!AN55=1,AN$214,0)","v":0},{"$f":"IF(算数!AO55=1,AO$214,0)","v":0},{"$f":"IF(算数!AP55=1,AP$214,0)","v":0},{"$f":"IF(算数!AQ55=1,AQ$214,0)","v":0},{"$f":"IF(算数!AR55=1,AR$214,0)","v":0},{"$f":"IF(算数!AS55=1,AS$214,0)","v":0},{"$f":"IF(算数!AT55=1,AT$214,0)","v":0},{"$f":"IF(算数!AU55=1,AU$214,0)","v":0},{"$f":"IF(算数!AV55=1,AV$214,0)","v":0},{"$f":"IF(算数!AW55=1,AW$214,0)","v":0},{"$f":"IF(算数!AX55=1,AX$214,0)","v":0},{"$f":"IF(算数!AY55=1,AY$214,0)","v":0},{"$f":"IF(算数!AZ55=1,AZ$214,0)","v":0},{"$f":"IF(算数!BA55=1,BA$214,0)","v":0},{"$f":"IF(算数!BB55=1,BB$214,0)","v":0},null,0,0,{"$error":"#DIV/0!"},{"$error":"#DIV/0!"},{"$error":"#DIV/0!"}]
[]
["理科","県",null,"通し番号",1,2,3,4,5,6,7,8,9,10,11,12,13,14,15,16,17,18,19,20,21,22,23,24,25,26,27,28,29,30,31,32,33,34,35,36,37,38,39,40,41,42,43,44,45,46,47,48,49,50]
[null,null,null,"観点",{"$f":"理科!E9","v":"知・技"},{"$f":"理科!F9","v":"知・技"},{"$f":"理科!G9","v":"知・技"},{"$f":"理科!H9","v":"思・表"},{"$f":"理科!I9","v":"知・技"},{"$f":"理科!J9","v":"思・表"},{"$f":"理科!K9","v":"知・技"},{"$f":"理科!L9","v":"思・表"},{"$f":"理科!M9","v":"知・技"},{"$f":"理科!N9","v":"思・表"},{"$f":"理科!O9","v":"思・表"},{"$f":"理科!P9","v":"思・表"},{"$f":"理科!Q9","v":"思・表"},{"$f":"理科!R9","v":"思・表"},{"$f":"理科!S9","v":"思・表"},{"$f":"理科!T9","v":"知・技"},{"$f":"理科!U9","v":"知・技"},{"$f":"理科!V9","v":"思・表"},{"$f":"理科!W9","v":"知・技"},{"$f":"理科!X9","v":"知・技"},{"$f":"理科!Y9","v":"思・表"},{"$f":"理科!Z9","v":"知・技"},{"$f":"理科!AA9","v":"思・表"},{"$f":"理科!AB9","v":"知・技"},{"$f":"理科!AC9","v":"知・技"},{"$f":"理科!AD9","v":0},{"$f":"理科!AE9","v":0},{"$f":"理科!AF9","v":0},{"$f":"理科!AG9","v":0},{"$f":"理科!AH9","v":0},{"$f":"理科!AI9","v":0},{"$f":"理科!AJ9","v":0},{"$f":"理科!AK9","v":0},{"$f":"理科!AL9","v":0},{"$f":"理科!AM9","v":0},{"$f":"理科!AN9","v":0},{"$f":"理科!AO9","v":0},{"$f":"理科!AP9","v":0},{"$f":"理科!AQ9","v":0},{"$f":"理科!AR9","v":0},{"$f":"理科!AS9","v":0},{"$f":"理科!AT9","v":0},{"$f":"理科!AU9","v":0},{"$f":"理科!AV9","v":0},{"$f":"理科!AW9","v":0},{"$f":"理科!AX9","v":0},{"$f":"理科!AY9","v":0},{"$f":"理科!AZ9","v":0},{"$f":"理科!BA9","v":0},{"$f":"理科!BB9","v":0},null,{"$f":"理科!BF35","v":"思・表"},{"$f":"理科!BF36","v":"知・技"},{"$f":"理科!BF37","v":"-"},{"$f":"理科!BF38","v":"-"},{"$f":"理科!BF39","v":"-"}]
[null,null,null,"配点",{"$f":"理科!E10","v":4},{"$f":"理科!F10","v":4},{"$f":"理科!G10","v":4},{"$f":"理科!H10","v":4},{"$f":"理科!I10","v":4},{"$f":"理科!J10","v":4},{"$f":"理科!K10","v":4},{"$f":"理科!L10","v":4},{"$f":"理科!M10","v":4},{"$f":"理科!N10","v":4},{"$f":"理科!O10","v":4},{"$f":"理科!P10","v":4},{"$f":"理科!Q10","v":4},{"$f":"理科!R10","v":4},{"$f":"理科!S10","v":4},{"$f":"理科!T10","v":4},{"$f":"理科!U10","v":4},{"$f":"理科!V10","v":4},{"$f":"理科!W10","v":4},{"$f":"理科!X10","v":4},{"$f":"理科!Y10","v":4},{"$f":"理科!Z10","v":4},{"$f":"理科!AA10","v":4},{"$f":"理科!AB10","v":4},{"$f":"理科!AC10","v":4},{"$f":"理科!AD10","v":0},{"$f":"理科!AE10","v":0},{"$f":"理科!AF10","v":0},{"$f":"理科!AG10","v":0},{"$f":"理科!AH10","v":0},{"$f":"理科!AI10","v":0},{"$f":"理科!AJ10","v":0},{"$f":"理科!AK10","v":0},{"$f":"理科!AL10","v":0},{"$f":"理科!AM10","v":0},{"$f":"理科!AN10","v":0},{"$f":"理科!AO10","v":0},{"$f":"理科!AP10","v":0},{"$f":"理科!AQ10","v":0},{"$f":"理科!AR10","v":0},{"$f":"理科!AS10","v":0},{"$f":"理科!AT10","v":0},{"$f":"理科!AU10","v":0},{"$f":"理科!AV10","v":0},{"$f":"理科!AW10","v":0},{"$f":"理科!AX10","v":0},{"$f":"理科!AY10","v":0},{"$f":"理科!AZ10","v":0},{"$f":"理科!BA10","v":0},{"$f":"理科!BB10","v":0},null,{"$f":"SUMIF($E$262:$BB$262,BD$262,$E263:$BB263)","v":48},{"$f":"SUMIF($E$262:$BB$262,BE$262,$E263:$BB263)","v":52},{"$f":"SUMIF($E$262:$BB$262,BF$262,$E263:$BB263)","v":0},{"$f":"SUMIF($E$262:$BB$262,BG$262,$E263:$BB263)","v":0},{"$f":"SUMIF($E$262:$BB$262,BH$262,$E263:$BB263)","v":0}]
[null,null,null,"得点率",{"$f":"理科得点!B58*E263","v":1.32},{"$f":"理科得点!C58*F263","v":3.4319999999999999},{"$f":"理科得点!D58*G263","v":2.9159999999999999},{"$f":"理科得点!E58*H263","v":1.8320000000000001},{"$f":"理科得点!F58*I263","v":3.532},{"$f":"理科得点!G58*J263","v":3.2160000000000002},{"$f":"理科得点!H58*K263","v":3.3959999999999999},{"$f":"理科得点!I58*L263","v":3.6320000000000001},{"$f":"理科得点!J58*M263","v":3.7639999999999998},{"$f":"理科得点!K58*N263","v":3.3519999999999999},{"$f":"理科得点!L58*O263","v":1.6719999999999999},{"$f":"理科得点!M58*P263","v":1.456},{"$f":"理科得点!N58*Q263","v":3.1640000000000001},{"$f":"理科得点!O58*R263","v":2.472},{"$f":"理科得点!P58*S263","v":2.8359999999999999},{"$f":"理科得点!Q58*T263","v":1.0640000000000001},{"$f":"理科得点!R58*U263","v":3.32},{"$f":"理科得点!S58*V263","v":2.5},{"$f":"理科得点!T58*W263","v":3.4119999999999999},{"$f":"理科得点!U58*X263","v":3.1760000000000002},{"$f":"理科得点!V58*Y263","v":1.6919999999999999},{"$f":"理科得点!W58*Z263","v":3.528},{"$f":"理科得点!X58*AA263","v":2.96},{"$f":"理科得点!Y58*AB263","v":3.6320000000000001},{"$f":"理科得点!Z58*AC263","v":3.476},{"$f":"理科得点!AA58*AD263","v":0},{"$f":"理科得点!AB58*AE263","v":0},{"$f":"理科得点!AC58*AF263","v":0},{"$f":"理科得点!AD58*AG263","v":0},{"$f":"理科得点!AE58*AH263","v":0},{"$f":"理科得点!AF58*AI263","v":0},{"$f":"理科得点!AG58*AJ263","v":0},{"$f":"理科得点!AH58*AK263","v":0},{"$f":"理科得点!AI58*AL263","v":0},{"$f":"理科得点!AJ58*AM263","v":0},{"$f":"理科得点!AK58*AN263","v":0},{"$f":"理科得点!AL58*AO263","v":0},{"$f":"理科得点!AM58*AP263","v":0},{"$f":"理科得点!AN58*AQ263","v":0},{"$f":"理科得点!AO58*AR263","v":0},{"$f":"理科得点!AP58*AS263","v":0},{"$f":"理科得点!AQ58*AT263","v":0},{"$f":"理科得点!AR58*AU263","v":0},{"$f":"理科得点!AS58*AV263","v":0},{"$f":"理科得点!AT58*AW263","v":0},{"$f":"理科得点!AU58*AX263","v":0},{"$f":"理科得点!AV58*AY263","v":0},{"$f":"理科得点!AW58*AZ263","v":0},{"$f":"理科得点!AX58*BA263","v":0},{"$f":"理科得点!AY58*BB263","v":0},null,{"$f":"SUMIF($E$262:$BB$262,BD$262,$E264:$BB264)/BD$263","v":0.64133333333333342},{"$f":"SUMIF($E$262:$BB$262,BE$262,$E264:$BB264)/BE$263","v":0.76861538461538459},{"$f":"SUMIF($E$262:$BB$262,BF$262,$E264:$BB264)/BF$263","v":{"$error":"#DIV/0!"}},{"$f":"SUMIF($E$262:$BB$262,BG$262,$E264:$BB264)/BG$263","v":{"$error":"#DIV/0!"}},{"$f":"SUMIF($E$262:$BB$262,BH$262,$E264:$BB264)/BH$263","v":{"$error":"#DIV/0!"}}]
[]
["理科","自校",null,"通し番号",1,2,3,4,5,6,7,8,9,10,11,12,13,14,15,16,17,18,19,20,21,22,23,24,25,26,27,28,29,30,31,32,33,34,35,36,37,38,39,40,41,42,43,44,45,46,47,48,49,50,null,null,null,null,null,null,null,null,null,null,null,"観点数"]
[null,null,null,"観点",{"$f":"理科!E9","v":"知・技"},{"$f":"理科!F9","v":"知・技"},{"$f":"理科!G9","v":"知・技"},{"$f":"理科!H9","v":"思・表"},{"$f":"理科!I9","v":"知・技"},{"$f":"理科!J9","v":"思・表"},{"$f":"理科!K9","v":"知・技"},{"$f":"理科!L9","v":"思・表"},{"$f":"理科!M9","v":"知・技"},{"$f":"理科!N9","v":"思・表"},{"$f":"理科!O9","v":"思・表"},{"$f":"理科!P9","v":"思・表"},{"$f":"理科!Q9","v":"思・表"},{"$f":"理科!R9","v":"思・表"},{"$f":"理科!S9","v":"思・表"},{"$f":"理科!T9","v":"知・技"},{"$f":"理科!U9","v":"知・技"},{"$f":"理科!V9","v":"思・表"},{"$f":"理科!W9","v":"知・技"},{"$f":"理科!X9","v":"知・技"},{"$f":"理科!Y9","v":"思・表"},{"$f":"理科!Z9","v":"知・技"},{"$f":"理科!AA9","v":"思・表"},{"$f":"理科!AB9","v":"知・技"},{"$f":"理科!AC9","v":"知・技"},{"$f":"理科!AD9","v":0},{"$f":"理科!AE9","v":0},{"$f":"理科!AF9","v":0},{"$f":"理科!AG9","v":0},{"$f":"理科!AH9","v":0},{"$f":"理科!AI9","v":0},{"$f":"理科!AJ9","v":0},{"$f":"理科!AK9","v":0},{"$f":"理科!AL9","v":0},{"$f":"理科!AM9","v":0},{"$f":"理科!AN9","v":0},{"$f":"理科!AO9","v":0},{"$f":"理科!AP9","v":0},{"$f":"理科!AQ9","v":0},{"$f":"理科!AR9","v":0},{"$f":"理科!AS9","v":0},{"$f":"理科!AT9","v":0},{"$f":"理科!AU9","v":0},{"$f":"理科!AV9","v":0},{"$f":"理科!AW9","v":0},{"$f":"理科!AX9","v":0},{"$f":"理科!AY9","v":0},{"$f":"理科!AZ9","v":0},{"$f":"理科!BA9","v":0},{"$f":"理科!BB9","v":0},null,{"$f":"理科!BF35","v":"思・表"},{"$f":"理科!BF36","v":"知・技"},{"$f":"理科!BF37","v":"-"},{"$f":"理科!BF38","v":"-"},{"$f":"理科!BF39","v":"-"},null,null,"県","自校","個人",{"$f":"理科!BG41","v":2}]
[null,null,null,"配点",{"$f":"理科!E10","v":4},{"$f":"理科!F10","v":4},{"$f":"理科!G10","v":4},{"$f":"理科!H10","v":4},{"$f":"理科!I10","v":4},{"$f":"理科!J10","v":4},{"$f":"理科!K10","v":4},{"$f":"理科!L10","v":4},{"$f":"理科!M10","v":4},{"$f":"理科!N10","v":4},{"$f":"理科!O10","v":4},{"$f":"理科!P10","v":4},{"$f":"理科!Q10","v":4},{"$f":"理科!R10","v":4},{"$f":"理科!S10","v":4},{"$f":"理科!T10","v":4},{"$f":"理科!U10","v":4},{"$f":"理科!V10","v":4},{"$f":"理科!W10","v":4},{"$f":"理科!X10","v":4},{"$f":"理科!Y10","v":4},{"$f":"理科!Z10","v":4},{"$f":"理科!AA10","v":4},{"$f":"理科!AB10","v":4},{"$f":"理科!AC10","v":4},{"$f":"理科!AD10","v":0},{"$f":"理科!AE10","v":0},{"$f":"理科!AF10","v":0},{"$f":"理科!AG10","v":0},{"$f":"理科!AH10","v":0},{"$f":"理科!AI10","v":0},{"$f":"理科!AJ10","v":0},{"$f":"理科!AK10","v":0},{"$f":"理科!AL10","v":0},{"$f":"理科!AM10","v":0},{"$f":"理科!AN10","v":0},{"$f":"理科!AO10","v":0},{"$f":"理科!AP10","v":0},{"$f":"理科!AQ10","v":0},{"$f":"理科!AR10","v":0},{"$f":"理科!AS10","v":0},{"$f":"理科!AT10","v":0},{"$f":"理科!AU10","v":0},{"$f":"理科!AV10","v":0},{"$f":"理科!AW10","v":0},{"$f":"理科!AX10","v":0},{"$f":"理科!AY10","v":0},{"$f":"理科!AZ10","v":0},{"$f":"理科!BA10","v":0},{"$f":"理科!BB10","v":0},null,{"$f":"SUMIF($E$267:$BB$267,BD$267,$E268:$BB268)","v":48},{"$f":"SUMIF($E$267:$BB$267,BE$267,$E268:$BB268)","v":52},{"$f":"SUMIF($E$267:$BB$267,BF$267,$E268:$BB268)","v":0},{"$f":"SUMIF($E$267:$BB$267,BG$267,$E268:$BB268)","v":0},{"$f":"SUMIF($E$267:$BB$267,BH$267,$E268:$BB268)","v":0},null,{"$f":"理科!BG35","v":"科学的な思考・表現"},{"$f":"BD264","v":0.64133333333333342},{"$f":"BD269","v":{"$error":"#DIV/0!"}},{"$f":"VLOOKUP($B$3,$B$274:$BH$318,55)","v":0}]
[null,null,null,"得点率",{"$f":"理科!E64*E268","v":{"$error":"#DIV/0!"}},{"$f":"理科!F64*F268","v":{"$error":"#DIV/0!"}},{"$f":"理科!G64*G268","v":{"$error":"#DIV/0!"}},{"$f":"理科!H64*H268","v":{"$error":"#DIV/0!"}},{"$f":"理科!I64*I268","v":{"$error":"#DIV/0!"}},{"$f":"理科!J64*J268","v":{"$error":"#DIV/0!"}},{"$f":"理科!K64*K268","v":{"$error":"#DIV/0!"}},{"$f":"理科!L64*L268","v":{"$error":"#DIV/0!"}},{"$f":"理科!M64*M268","v":{"$error":"#DIV/0!"}},{"$f":"理科!N64*N268","v":{"$error":"#DIV/0!"}},{"$f":"理科!O64*O268","v":{"$error":"#DIV/0!"}},{"$f":"理科!P64*P268","v":{"$error":"#DIV/0!"}},{"$f":"理科!Q64*Q268","v":{"$error":"#DIV/0!"}},{"$f":"理科!R64*R268","v":{"$error":"#DIV/0!"}},{"$f":"理科!S64*S268","v":{"$error":"#DIV/0!"}},{"$f":"理科!T64*T268","v":{"$error":"#DIV/0!"}},{"$f":"理科!U64*U268","v":{"$error":"#DIV/0!"}},{"$f":"理科!V64*V268","v":{"$error":"#DIV/0!"}},{"$f":"理科!W64*W268","v":{"$error":"#DIV/0!"}},{"$f":"理科!X64*X268","v":{"$error":"#DIV/0!"}},{"$f":"理科!Y64*Y268","v":{"$error":"#DIV/0!"}},{"$f":"理科!Z64*Z268","v":{"$error":"#DIV/0!"}},{"$f":"理科!AA64*AA268","v":{"$error":"#DIV/0!"}},{"$f":"理科!AB64*AB268","v":{"$error":"#DIV/0!"}},{"$f":"理科!AC64*AC268","v":{"$error":"#DIV/0!"}},{"$f":"理科!AD64*AD268","v":{"$error":"#DIV/0!"}},{"$f":"理科!AE64*AE268","v":{"$error":"#DIV/0!"}},{"$f":"理科!AF64*AF268","v":{"$error":"#DIV/0!"}},{"$f":"理科!AG64*AG268","v":{"$error":"#DIV/0!"}},{"$f":"理科!AH64*AH268","v":{"$error":"#DIV/0!"}},{"$f":"理科!AI64*AI268","v":{"$error":"#DIV/0!"}},{"$f":"理科!AJ64*AJ268","v":{"$error":"#DIV/0!"}},{"$f":"理科!AK64*AK268","v":{"$error":"#DIV/0!"}},{"$f":"理科!AL64*AL268","v":{"$error":"#DIV/0!"}},{"$f":"理科!AM64*AM268","v":{"$error":"#DIV/0!"}},{"$f":"理科!AN64*AN268","v":{"$error":"#DIV/0!"}},{"$f":"理科!AO64*AO268","v":{"$error":"#DIV/0!"}},{"$f":"理科!AP64*AP268","v":{"$error":"#DIV/0!"}},{"$f":"理科!AQ64*AQ268","v":{"$error":"#DIV/0!"}},{"$f":"理科!AR64*AR268","v":{"$error":"#DIV/0!"}},{"$f":"理科!AS64*AS268","v":{"$error":"#DIV/0!"}},{"$f":"理科!AT64*AT268","v":{"$error":"#DIV/0!"}},{"$f":"理科!AU64*AU268","v":{"$error":"#DIV/0!"}},{"$f":"理科!AV64*AV268","v":{"$error":"#DIV/0!"}},{"$f":"理科!AW64*AW268","v":{"$error":"#DIV/0!"}},{"$f":"理科!AX64*AX268","v":{"$error":"#DIV/0!"}},{"$f":"理科!AY64*AY268","v":{"$error":"#DIV/0!"}},{"$f":"理科!AZ64*AZ268","v":{"$error":"#DIV/0!"}},{"$f":"理科!BA64*BA268","v":{"$error":"#DIV/0!"}},{"$f":"理科!BB64*BB268","v":{"$error":"#DIV/0!"}},null,{"$f":"SUMIF($E$267:$BB$267,BD$267,$E269:$BB269)/BD$268","v":{"$error":"#DIV/0!"}},{"$f":"SUMIF($E$267:$BB$267,BE$267,$E269:$BB269)/BE$268","v":{"$error":"#DIV/0!"}},{"$f":"SUMIF($E$267:$BB$267,BF$267,$E269:$BB269)/BF$268","v":{"$error":"#DIV/0!"}},{"$f":"SUMIF($E$267:$BB$267,BG$267,$E269:$BB269)/BG$268","v":{"$error":"#DIV/0!"}},{"$f":"SUMIF($E$267:$BB$267,BH$267,$E269:$BB269)/BH$268","v":{"$error":"#DIV/0!"}},null,{"$f":"理科!BG36","v":"自然事象の知識・理解\n観察・実験の技能"},{"$f":"BE264","v":0.76861538461538459},{"$f":"BE269","v":{"$error":"#DIV/0!"}},{"$f":"VLOOKUP($B$3,$B$274:$BH$318,56)","v":0}]
[null,null,null,null,null,null,null,null,null,null,null,null,null,null,null,null,null,null,null,null,null,null,null,null,null,null,null,null,null,null,null,null,null,null,null,null,null,null,null,null,null,null,null,null,null,null,null,null,null,null,null,null,null,null,null,null,null,null,null,null,null,{"$f":"理科!BG37","v":"－"},{"$f":"BF264","v":{"$error":"#DIV/0!"}},{"$f":"BF269","v":{"$error":"#DIV/0!"}},{"$f":"VLOOKUP($B$3,$B$274:$BH$318,57)","v":{"$error":"#DIV/0!"}}]
["理科","個人",null,"通し番号",1,2,3,4,5,6,7,8,9,10,11,12,13,14,15,16,17,18,19,20,21,22,23,24,25,26,27,28,29,30,31,32,33,34,35,36,37,38,39,40,41,42,43,44,45,46,47,48,49,50,null,null,null,null,null,null,null,{"$f":"理科!BG38","v":"－"},{"$f":"BG264","v":{"$error":"#DIV/0!"}},{"$f":"BG269","v":{"$error":"#DIV/0!"}},{"$f":"VLOOKUP($B$3,$B$274:$BH$318,58)","v":{"$error":"#DIV/0!"}}]
[null,null,null,"観点",{"$f":"理科!E9","v":"知・技"},{"$f":"理科!F9","v":"知・技"},{"$f":"理科!G9","v":"知・技"},{"$f":"理科!H9","v":"思・表"},{"$f":"理科!I9","v":"知・技"},{"$f":"理科!J9","v":"思・表"},{"$f":"理科!K9","v":"知・技"},{"$f":"理科!L9","v":"思・表"},{"$f":"理科!M9","v":"知・技"},{"$f":"理科!N9","v":"思・表"},{"$f":"理科!O9","v":"思・表"},{"$f":"理科!P9","v":"思・表"},{"$f":"理科!Q9","v":"思・表"},{"$f":"理科!R9","v":"思・表"},{"$f":"理科!S9","v":"思・表"},{"$f":"理科!T9","v":"知・技"},{"$f":"理科!U9","v":"知・技"},{"$f":"理科!V9","v":"思・表"},{"$f":"理科!W9","v":"知・技"},{"$f":"理科!X9","v":"知・技"},{"$f":"理科!Y9","v":"思・表"},{"$f":"理科!Z9","v":"知・技"},{"$f":"理科!AA9","v":"思・表"},{"$f":"理科!AB9","v":"知・技"},{"$f":"理科!AC9","v":"知・技"},{"$f":"理科!AD9","v":0},{"$f":"理科!AE9","v":0},{"$f":"理科!AF9","v":0},{"$f":"理科!AG9","v":0},{"$f":"理科!AH9","v":0},{"$f":"理科!AI9","v":0},{"$f":"理科!AJ9","v":0},{"$f":"理科!AK9","v":0},{"$f":"理科!AL9","v":0},{"$f":"理科!AM9","v":0},{"$f":"理科!AN9","v":0},{"$f":"理科!AO9","v":0},{"$f":"理科!AP9","v":0},{"$f":"理科!AQ9","v":0},{"$f":"理科!AR9","v":0},{"$f":"理科!AS9","v":0},{"$f":"理科!AT9","v":0},{"$f":"理科!AU9","v":0},{"$f":"理科!AV9","v":0},{"$f":"理科!AW9","v":0},{"$f":"理科!AX9","v":0},{"$f":"理科!AY9","v":0},{"$f":"理科!AZ9","v":0},{"$f":"理科!BA9","v":0},{"$f":"理科!BB9","v":0},null,{"$f":"理科!BF35","v":"思・表"},{"$f":"理科!BF36","v":"知・技"},{"$f":"理科!BF37","v":"-"},{"$f":"理科!BF38","v":"-"},{"$f":"理科!BF39","v":"-"},null,{"$f":"理科!BG39","v":"－"},{"$f":"BH264","v":{"$error":"#DIV/0!"}},{"$f":"BH269","v":{"$error":"#DIV/0!"}},{"$f":"VLOOKUP($B$3,$B$274:$BH$318,59)","v":{"$error":"#DIV/0!"}}]
[null,"Ｎｏ．","氏名","配点",{"$f":"理科!E10","v":4},{"$f":"理科!F10","v":4},{"$f":"理科!G10","v":4},{"$f":"理科!H10","v":4},{"$f":"理科!I10","v":4},{"$f":"理科!J10","v":4},{"$f":"理科!K10","v":4},{"$f":"理科!L10","v":4},{"$f":"理科!M10","v":4},{"$f":"理科!N10","v":4},{"$f":"理科!O10","v":4},{"$f":"理科!P10","v":4},{"$f":"理科!Q10","v":4},{"$f":"理科!R10","v":4},{"$f":"理科!S10","v":4},{"$f":"理科!T10","v":4},{"$f":"理科!U10","v":4},{"$f":"理科!V10","v":4},{"$f":"理科!W10","v":4},{"$f":"理科!X10","v":4},{"$f":"理科!Y10","v":4},{"$f":"理科!Z10","v":4},{"$f":"理科!AA10","v":4},{"$f":"理科!AB10","v":4},{"$f":"理科!AC10","v":4},{"$f":"理科!AD10","v":0},{"$f":"理科!AE10","v":0},{"$f":"理科!AF10","v":0},{"$f":"理科!AG10","v":0},{"$f":"理科!AH10","v":0},{"$f":"理科!AI10","v":0},{"$f":"理科!AJ10","v":0},{"$f":"理科!AK10","v":0},{"$f":"理科!AL10","v":0},{"$f":"理科!AM10","v":0},{"$f":"理科!AN10","v":0},{"$f":"理科!AO10","v":0},{"$f":"理科!AP10","v":0},{"$f":"理科!AQ10","v":0},{"$f":"理科!AR10","v":0},{"$f":"理科!AS10","v":0},{"$f":"理科!AT10","v":0},{"$f":"理科!AU10","v":0},{"$f":"理科!AV10","v":0},{"$f":"理科!AW10","v":0},{"$f":"理科!AX10","v":0},{"$f":"理科!AY10","v":0},{"$f":"理科!AZ10","v":0},{"$f":"理科!BA10","v":0},{"$f":"理科!BB10","v":0},null,{"$f":"SUMIF($E$272:$BB$272,BD$272,$E273:$BB273)","v":48},{"$f":"SUMIF($E$272:$BB$272,BE$272,$E273:$BB273)","v":52},{"$f":"SUMIF($E$272:$BB$272,BF$272,$E273:$BB273)","v":0},{"$f":"SUMIF($E$272:$BB$272,BG$272,$E273:$BB273)","v":0},{"$f":"SUMIF($E$272:$BB$272,BH$272,$E273:$BB273)","v":0}]
[null,1,null,null,{"$f":"IF(理科!E11=1,E$273,0)","v":0},{"$f":"IF(理科!F11=1,F$273,0)","v":0},{"$f":"IF(理科!G11=1,G$273,0)","v":0},{"$f":"IF(理科!H11=1,H$273,0)","v":0},{"$f":"IF(理科!I11=1,I$273,0)","v":0},{"$f":"IF(理科!J11=1,J$273,0)","v":0},{"$f":"IF(理科!K11=1,K$273,0)","v":0},{"$f":"IF(理科!L11=1,L$273,0)","v":0},{"$f":"IF(理科!M11=1,M$273,0)","v":0},{"$f":"IF(理科!N11=1,N$273,0)","v":0},{"$f":"IF(理科!O11=1,O$273,0)","v":0},{"$f":"IF(理科!P11=1,P$273,0)","v":0},{"$f":"IF(理科!Q11=1,Q$273,0)","v":0},{"$f":"IF(理科!R11=1,R$273,0)","v":0},{"$f":"IF(理科!S11=1,S$273,0)","v":0},{"$f":"IF(理科!T11=1,T$273,0)","v":0},{"$f":"IF(理科!U11=1,U$273,0)","v":0},{"$f":"IF(理科!V11=1,V$273,0)","v":0},{"$f":"IF(理科!W11=1,W$273,0)","v":0},{"$f":"IF(理科!X11=1,X$273,0)","v":0},{"$f":"IF(理科!Y11=1,Y$273,0)","v":0},{"$f":"IF(理科!Z11=1,Z$273,0)","v":0},{"$f":"IF(理科!AA11=1,AA$273,0)","v":0},{"$f":"IF(理科!AB11=1,AB$273,0)","v":0},{"$f":"IF(理科!AC11=1,AC$273,0)","v":0},{"$f":"IF(理科!AD11=1,AD$273,0)","v":0},{"$f":"IF(理科!AE11=1,AE$273,0)","v":0},{"$f":"IF(理科!AF11=1,AF$273,0)","v":0},{"$f":"IF(理科!AG11=1,AG$273,0)","v":0},{"$f":"IF(理科!AH11=1,AH$273,0)","v":0},{"$f":"IF(理科!AI11=1,AI$273,0)","v":0},{"$f":"IF(理科!AJ11=1,AJ$273,0)","v":0},{"$f":"IF(理科!AK11=1,AK$273,0)","v":0},{"$f":"IF(理科!AL11=1,AL$273,0)","v":0},{"$f":"IF(理科!AM11=1,AM$273,0)","v":0},{"$f":"IF(理科!AN11=1,AN$273,0)","v":0},{"$f":"IF(理科!AO11=1,AO$273,0)","v":0},{"$f":"IF(理科!AP11=1,AP$273,0)","v":0},{"$f":"IF(理科!AQ11=1,AQ$273,0)","v":0},{"$f":"IF(理科!AR11=1,AR$273,0)","v":0},{"$f":"IF(理科!AS11=1,AS$273,0)","v":0},{"$f":"IF(理科!AT11=1,AT$273,0)","v":0},{"$f":"IF(理科!AU11=1,AU$273,0)","v":0},{"$f":"IF(理科!AV11=1,AV$273,0)","v":0},{"$f":"IF(理科!AW11=1,AW$273,0)","v":0},{"$f":"IF(理科!AX11=1,AX$273,0)","v":0},{"$f":"IF(理科!AY11=1,AY$273,0)","v":0},{"$f":"IF(理科!AZ11=1,AZ$273,0)","v":0},{"$f":"IF(理科!BA11=1,BA$273,0)","v":0},{"$f":"IF(理科!BB11=1,BB$273,0)","v":0},null,{"$f":"SUMIF($E$272:$BB$272,BD$272,$E274:$BB274)/BD$273","v":0},{"$f":"SUMIF($E$272:$BB$272,BE$272,$E274:$BB274)/BE$273","v":0},{"$error":"#DIV/0!"},{"$error":"#DIV/0!"},{"$error":"#DIV/0!"}]
[null,2,null,null,{"$f":"IF(理科!E12=1,E$273,0)","v":0},{"$f":"IF(理科!F12=1,F$273,0)","v":0},{"$f":"IF(理科!G12=1,G$273,0)","v":0},{"$f":"IF(理科!H12=1,H$273,0)","v":0},{"$f":"IF(理科!I12=1,I$273,0)","v":0},{"$f":"IF(理科!J12=1,J$273,0)","v":0},{"$f":"IF(理科!K12=1,K$273,0)","v":0},{"$f":"IF(理科!L12=1,L$273,0)","v":0},{"$f":"IF(理科!M12=1,M$273,0)","v":0},{"$f":"IF(理科!N12=1,N$273,0)","v":0},{"$f":"IF(理科!O12=1,O$273,0)","v":0},{"$f":"IF(理科!P12=1,P$273,0)","v":0},{"$f":"IF(理科!Q12=1,Q$273,0)","v":0},{"$f":"IF(理科!R12=1,R$273,0)","v":0},{"$f":"IF(理科!S12=1,S$273,0)","v":0},{"$f":"IF(理科!T12=1,T$273,0)","v":0},{"$f":"IF(理科!U12=1,U$273,0)","v":0},{"$f":"IF(理科!V12=1,V$273,0)","v":0},{"$f":"IF(理科!W12=1,W$273,0)","v":0},{"$f":"IF(理科!X12=1,X$273,0)","v":0},{"$f":"IF(理科!Y12=1,Y$273,0)","v":0},{"$f":"IF(理科!Z12=1,Z$273,0)","v":0},{"$f":"IF(理科!AA12=1,AA$273,0)","v":0},{"$f":"IF(理科!AB12=1,AB$273,0)","v":0},{"$f":"IF(理科!AC12=1,AC$273,0)","v":0},{"$f":"IF(理科!AD12=1,AD$273,0)","v":0},{"$f":"IF(理科!AE12=1,AE$273,0)","v":0},{"$f":"IF(理科!AF12=1,AF$273,0)","v":0},{"$f":"IF(理科!AG12=1,AG$273,0)","v":0},{"$f":"IF(理科!AH12=1,AH$273,0)","v":0},{"$f":"IF(理科!AI12=1,AI$273,0)","v":0},{"$f":"IF(理科!AJ12=1,AJ$273,0)","v":0},{"$f":"IF(理科!AK12=1,AK$273,0)","v":0},{"$f":"IF(理科!AL12=1,AL$273,0)","v":0},{"$f":"IF(理科!AM12=1,AM$273,0)","v":0},{"$f":"IF(理科!AN12=1,AN$273,0)","v":0},{"$f":"IF(理科!AO12=1,AO$273,0)","v":0},{"$f":"IF(理科!AP12=1,AP$273,0)","v":0},{"$f":"IF(理科!AQ12=1,AQ$273,0)","v":0},{"$f":"IF(理科!AR12=1,AR$273,0)","v":0},{"$f":"IF(理科!AS12=1,AS$273,0)","v":0},{"$f":"IF(理科!AT12=1,AT$273,0)","v":0},{"$f":"IF(理科!AU12=1,AU$273,0)","v":0},{"$f":"IF(理科!AV12=1,AV$273,0)","v":0},{"$f":"IF(理科!AW12=1,AW$273,0)","v":0},{"$f":"IF(理科!AX12=1,AX$273,0)","v":0},{"$f":"IF(理科!AY12=1,AY$273,0)","v":0},{"$f":"IF(理科!AZ12=1,AZ$273,0)","v":0},{"$f":"IF(理科!BA12=1,BA$273,0)","v":0},{"$f":"IF(理科!BB12=1,BB$273,0)","v":0},null,0,0,{"$error":"#DIV/0!"},{"$error":"#DIV/0!"},{"$error":"#DIV/0!"}]
[null,3,null,null,{"$f":"IF(理科!E13=1,E$273,0)","v":0},{"$f":"IF(理科!F13=1,F$273,0)","v":0},{"$f":"IF(理科!G13=1,G$273,0)","v":0},{"$f":"IF(理科!H13=1,H$273,0)","v":0},{"$f":"IF(理科!I13=1,I$273,0)","v":0},{"$f":"IF(理科!J13=1,J$273,0)","v":0},{"$f":"IF(理科!K13=1,K$273,0)","v":0},{"$f":"IF(理科!L13=1,L$273,0)","v":0},{"$f":"IF(理科!M13=1,M$273,0)","v":0},{"$f":"IF(理科!N13=1,N$273,0)","v":0},{"$f":"IF(理科!O13=1,O$273,0)","v":0},{"$f":"IF(理科!P13=1,P$273,0)","v":0},{"$f":"IF(理科!Q13=1,Q$273,0)","v":0},{"$f":"IF(理科!R13=1,R$273,0)","v":0},{"$f":"IF(理科!S13=1,S$273,0)","v":0},{"$f":"IF(理科!T13=1,T$273,0)","v":0},{"$f":"IF(理科!U13=1,U$273,0)","v":0},{"$f":"IF(理科!V13=1,V$273,0)","v":0},{"$f":"IF(理科!W13=1,W$273,0)","v":0},{"$f":"IF(理科!X13=1,X$273,0)","v":0},{"$f":"IF(理科!Y13=1,Y$273,0)","v":0},{"$f":"IF(理科!Z13=1,Z$273,0)","v":0},{"$f":"IF(理科!AA13=1,AA$273,0)","v":0},{"$f":"IF(理科!AB13=1,AB$273,0)","v":0},{"$f":"IF(理科!AC13=1,AC$273,0)","v":0},{"$f":"IF(理科!AD13=1,AD$273,0)","v":0},{"$f":"IF(理科!AE13=1,AE$273,0)","v":0},{"$f":"IF(理科!AF13=1,AF$273,0)","v":0},{"$f":"IF(理科!AG13=1,AG$273,0)","v":0},{"$f":"IF(理科!AH13=1,AH$273,0)","v":0},{"$f":"IF(理科!AI13=1,AI$273,0)","v":0},{"$f":"IF(理科!AJ13=1,AJ$273,0)","v":0},{"$f":"IF(理科!AK13=1,AK$273,0)","v":0},{"$f":"IF(理科!AL13=1,AL$273,0)","v":0},{"$f":"IF(理科!AM13=1,AM$273,0)","v":0},{"$f":"IF(理科!AN13=1,AN$273,0)","v":0},{"$f":"IF(理科!AO13=1,AO$273,0)","v":0},{"$f":"IF(理科!AP13=1,AP$273,0)","v":0},{"$f":"IF(理科!AQ13=1,AQ$273,0)","v":0},{"$f":"IF(理科!AR13=1,AR$273,0)","v":0},{"$f":"IF(理科!AS13=1,AS$273,0)","v":0},{"$f":"IF(理科!AT13=1,AT$273,0)","v":0},{"$f":"IF(理科!AU13=1,AU$273,0)","v":0},{"$f":"IF(理科!AV13=1,AV$273,0)","v":0},{"$f":"IF(理科!AW13=1,AW$273,0)","v":0},{"$f":"IF(理科!AX13=1,AX$273,0)","v":0},{"$f":"IF(理科!AY13=1,AY$273,0)","v":0},{"$f":"IF(理科!AZ13=1,AZ$273,0)","v":0},{"$f":"IF(理科!BA13=1,BA$273,0)","v":0},{"$f":"IF(理科!BB13=1,BB$273,0)","v":0},null,0,0,{"$error":"#DIV/0!"},{"$error":"#DIV/0!"},{"$error":"#DIV/0!"}]
[null,4,null,null,{"$f":"IF(理科!E14=1,E$273,0)","v":0},{"$f":"IF(理科!F14=1,F$273,0)","v":0},{"$f":"IF(理科!G14=1,G$273,0)","v":0},{"$f":"IF(理科!H14=1,H$273,0)","v":0},{"$f":"IF(理科!I14=1,I$273,0)","v":0},{"$f":"IF(理科!J14=1,J$273,0)","v":0},{"$f":"IF(理科!K14=1,K$273,0)","v":0},{"$f":"IF(理科!L14=1,L$273,0)","v":0},{"$f":"IF(理科!M14=1,M$273,0)","v":0},{"$f":"IF(理科!N14=1,N$273,0)","v":0},{"$f":"IF(理科!O14=1,O$273,0)","v":0},{"$f":"IF(理科!P14=1,P$273,0)","v":0},{"$f":"IF(理科!Q14=1,Q$273,0)","v":0},{"$f":"IF(理科!R14=1,R$273,0)","v":0},{"$f":"IF(理科!S14=1,S$273,0)","v":0},{"$f":"IF(理科!T14=1,T$273,0)","v":0},{"$f":"IF(理科!U14=1,U$273,0)","v":0},{"$f":"IF(理科!V14=1,V$273,0)","v":0},{"$f":"IF(理科!W14=1,W$273,0)","v":0},{"$f":"IF(理科!X14=1,X$273,0)","v":0},{"$f":"IF(理科!Y14=1,Y$273,0)","v":0},{"$f":"IF(理科!Z14=1,Z$273,0)","v":0},{"$f":"IF(理科!AA14=1,AA$273,0)","v":0},{"$f":"IF(理科!AB14=1,AB$273,0)","v":0},{"$f":"IF(理科!AC14=1,AC$273,0)","v":0},{"$f":"IF(理科!AD14=1,AD$273,0)","v":0},{"$f":"IF(理科!AE14=1,AE$273,0)","v":0},{"$f":"IF(理科!AF14=1,AF$273,0)","v":0},{"$f":"IF(理科!AG14=1,AG$273,0)","v":0},{"$f":"IF(理科!AH14=1,AH$273,0)","v":0},{"$f":"IF(理科!AI14=1,AI$273,0)","v":0},{"$f":"IF(理科!AJ14=1,AJ$273,0)","v":0},{"$f":"IF(理科!AK14=1,AK$273,0)","v":0},{"$f":"IF(理科!AL14=1,AL$273,0)","v":0},{"$f":"IF(理科!AM14=1,AM$273,0)","v":0},{"$f":"IF(理科!AN14=1,AN$273,0)","v":0},{"$f":"IF(理科!AO14=1,AO$273,0)","v":0},{"$f":"IF(理科!AP14=1,AP$273,0)","v":0},{"$f":"IF(理科!AQ14=1,AQ$273,0)","v":0},{"$f":"IF(理科!AR14=1,AR$273,0)","v":0},{"$f":"IF(理科!AS14=1,AS$273,0)","v":0},{"$f":"IF(理科!AT14=1,AT$273,0)","v":0},{"$f":"IF(理科!AU14=1,AU$273,0)","v":0},{"$f":"IF(理科!AV14=1,AV$273,0)","v":0},{"$f":"IF(理科!AW14=1,AW$273,0)","v":0},{"$f":"IF(理科!AX14=1,AX$273,0)","v":0},{"$f":"IF(理科!AY14=1,AY$273,0)","v":0},{"$f":"IF(理科!AZ14=1,AZ$273,0)","v":0},{"$f":"IF(理科!BA14=1,BA$273,0)","v":0},{"$f":"IF(理科!BB14=1,BB$273,0)","v":0},null,0,0,{"$error":"#DIV/0!"},{"$error":"#DIV/0!"},{"$error":"#DIV/0!"}]
[null,5,null,null,{"$f":"IF(理科!E15=1,E$273,0)","v":0},{"$f":"IF(理科!F15=1,F$273,0)","v":0},{"$f":"IF(理科!G15=1,G$273,0)","v":0},{"$f":"IF(理科!H15=1,H$273,0)","v":0},{"$f":"IF(理科!I15=1,I$273,0)","v":0},{"$f":"IF(理科!J15=1,J$273,0)","v":0},{"$f":"IF(理科!K15=1,K$273,0)","v":0},{"$f":"IF(理科!L15=1,L$273,0)","v":0},{"$f":"IF(理科!M15=1,M$273,0)","v":0},{"$f":"IF(理科!N15=1,N$273,0)","v":0},{"$f":"IF(理科!O15=1,O$273,0)","v":0},{"$f":"IF(理科!P15=1,P$273,0)","v":0},{"$f":"IF(理科!Q15=1,Q$273,0)","v":0},{"$f":"IF(理科!R15=1,R$273,0)","v":0},{"$f":"IF(理科!S15=1,S$273,0)","v":0},{"$f":"IF(理科!T15=1,T$273,0)","v":0},{"$f":"IF(理科!U15=1,U$273,0)","v":0},{"$f":"IF(理科!V15=1,V$273,0)","v":0},{"$f":"IF(理科!W15=1,W$273,0)","v":0},{"$f":"IF(理科!X15=1,X$273,0)","v":0},{"$f":"IF(理科!Y15=1,Y$273,0)","v":0},{"$f":"IF(理科!Z15=1,Z$273,0)","v":0},{"$f":"IF(理科!AA15=1,AA$273,0)","v":0},{"$f":"IF(理科!AB15=1,AB$273,0)","v":0},{"$f":"IF(理科!AC15=1,AC$273,0)","v":0},{"$f":"IF(理科!AD15=1,AD$273,0)","v":0},{"$f":"IF(理科!AE15=1,AE$273,0)","v":0},{"$f":"IF(理科!AF15=1,AF$273,0)","v":0},{"$f":"IF(理科!AG15=1,AG$273,0)","v":0},{"$f":"IF(理科!AH15=1,AH$273,0)","v":0},{"$f":"IF(理科!AI15=1,AI$273,0)","v":0},{"$f":"IF(理科!AJ15=1,AJ$273,0)","v":0},{"$f":"IF(理科!AK15=1,AK$273,0)","v":0},{"$f":"IF(理科!AL15=1,AL$273,0)","v":0},{"$f":"IF(理科!AM15=1,AM$273,0)","v":0},{"$f":"IF(理科!AN15=1,AN$273,0)","v":0},{"$f":"IF(理科!AO15=1,AO$273,0)","v":0},{"$f":"IF(理科!AP15=1,AP$273,0)","v":0},{"$f":"IF(理科!AQ15=1,AQ$273,0)","v":0},{"$f":"IF(理科!AR15=1,AR$273,0)","v":0},{"$f":"IF(理科!AS15=1,AS$273,0)","v":0},{"$f":"IF(理科!AT15=1,AT$273,0)","v":0},{"$f":"IF(理科!AU15=1,AU$273,0)","v":0},{"$f":"IF(理科!AV15=1,AV$273,0)","v":0},{"$f":"IF(理科!AW15=1,AW$273,0)","v":0},{"$f":"IF(理科!AX15=1,AX$273,0)","v":0},{"$f":"IF(理科!AY15=1,AY$273,0)","v":0},{"$f":"IF(理科!AZ15=1,AZ$273,0)","v":0},{"$f":"IF(理科!BA15=1,BA$273,0)","v":0},{"$f":"IF(理科!BB15=1,BB$273,0)","v":0},null,0,0,{"$error":"#DIV/0!"},{"$error":"#DIV/0!"},{"$error":"#DIV/0!"}]
[null,6,null,null,{"$f":"IF(理科!E16=1,E$273,0)","v":0},{"$f":"IF(理科!F16=1,F$273,0)","v":0},{"$f":"IF(理科!G16=1,G$273,0)","v":0},{"$f":"IF(理科!H16=1,H$273,0)","v":0},{"$f":"IF(理科!I16=1,I$273,0)","v":0},{"$f":"IF(理科!J16=1,J$273,0)","v":0},{"$f":"IF(理科!K16=1,K$273,0)","v":0},{"$f":"IF(理科!L16=1,L$273,0)","v":0},{"$f":"IF(理科!M16=1,M$273,0)","v":0},{"$f":"IF(理科!N16=1,N$273,0)","v":0},{"$f":"IF(理科!O16=1,O$273,0)","v":0},{"$f":"IF(理科!P16=1,P$273,0)","v":0},{"$f":"IF(理科!Q16=1,Q$273,0)","v":0},{"$f":"IF(理科!R16=1,R$273,0)","v":0},{"$f":"IF(理科!S16=1,S$273,0)","v":0},{"$f":"IF(理科!T16=1,T$273,0)","v":0},{"$f":"IF(理科!U16=1,U$273,0)","v":0},{"$f":"IF(理科!V16=1,V$273,0)","v":0},{"$f":"IF(理科!W16=1,W$273,0)","v":0},{"$f":"IF(理科!X16=1,X$273,0)","v":0},{"$f":"IF(理科!Y16=1,Y$273,0)","v":0},{"$f":"IF(理科!Z16=1,Z$273,0)","v":0},{"$f":"IF(理科!AA16=1,AA$273,0)","v":0},{"$f":"IF(理科!AB16=1,AB$273,0)","v":0},{"$f":"IF(理科!AC16=1,AC$273,0)","v":0},{"$f":"IF(理科!AD16=1,AD$273,0)","v":0},{"$f":"IF(理科!AE16=1,AE$273,0)","v":0},{"$f":"IF(理科!AF16=1,AF$273,0)","v":0},{"$f":"IF(理科!AG16=1,AG$273,0)","v":0},{"$f":"IF(理科!AH16=1,AH$273,0)","v":0},{"$f":"IF(理科!AI16=1,AI$273,0)","v":0},{"$f":"IF(理科!AJ16=1,AJ$273,0)","v":0},{"$f":"IF(理科!AK16=1,AK$273,0)","v":0},{"$f":"IF(理科!AL16=1,AL$273,0)","v":0},{"$f":"IF(理科!AM16=1,AM$273,0)","v":0},{"$f":"IF(理科!AN16=1,AN$273,0)","v":0},{"$f":"IF(理科!AO16=1,AO$273,0)","v":0},{"$f":"IF(理科!AP16=1,AP$273,0)","v":0},{"$f":"IF(理科!AQ16=1,AQ$273,0)","v":0},{"$f":"IF(理科!AR16=1,AR$273,0)","v":0},{"$f":"IF(理科!AS16=1,AS$273,0)","v":0},{"$f":"IF(理科!AT16=1,AT$273,0)","v":0},{"$f":"IF(理科!AU16=1,AU$273,0)","v":0},{"$f":"IF(理科!AV16=1,AV$273,0)","v":0},{"$f":"IF(理科!AW16=1,AW$273,0)","v":0},{"$f":"IF(理科!AX16=1,AX$273,0)","v":0},{"$f":"IF(理科!AY16=1,AY$273,0)","v":0},{"$f":"IF(理科!AZ16=1,AZ$273,0)","v":0},{"$f":"IF(理科!BA16=1,BA$273,0)","v":0},{"$f":"IF(理科!BB16=1,BB$273,0)","v":0},null,0,0,{"$error":"#DIV/0!"},{"$error":"#DIV/0!"},{"$error":"#DIV/0!"}]
[null,7,null,null,{"$f":"IF(理科!E17=1,E$273,0)","v":0},{"$f":"IF(理科!F17=1,F$273,0)","v":0},{"$f":"IF(理科!G17=1,G$273,0)","v":0},{"$f":"IF(理科!H17=1,H$273,0)","v":0},{"$f":"IF(理科!I17=1,I$273,0)","v":0},{"$f":"IF(理科!J17=1,J$273,0)","v":0},{"$f":"IF(理科!K17=1,K$273,0)","v":0},{"$f":"IF(理科!L17=1,L$273,0)","v":0},{"$f":"IF(理科!M17=1,M$273,0)","v":0},{"$f":"IF(理科!N17=1,N$273,0)","v":0},{"$f":"IF(理科!O17=1,O$273,0)","v":0},{"$f":"IF(理科!P17=1,P$273,0)","v":0},{"$f":"IF(理科!Q17=1,Q$273,0)","v":0},{"$f":"IF(理科!R17=1,R$273,0)","v":0},{"$f":"IF(理科!S17=1,S$273,0)","v":0},{"$f":"IF(理科!T17=1,T$273,0)","v":0},{"$f":"IF(理科!U17=1,U$273,0)","v":0},{"$f":"IF(理科!V17=1,V$273,0)","v":0},{"$f":"IF(理科!W17=1,W$273,0)","v":0},{"$f":"IF(理科!X17=1,X$273,0)","v":0},{"$f":"IF(理科!Y17=1,Y$273,0)","v":0},{"$f":"IF(理科!Z17=1,Z$273,0)","v":0},{"$f":"IF(理科!AA17=1,AA$273,0)","v":0},{"$f":"IF(理科!AB17=1,AB$273,0)","v":0},{"$f":"IF(理科!AC17=1,AC$273,0)","v":0},{"$f":"IF(理科!AD17=1,AD$273,0)","v":0},{"$f":"IF(理科!AE17=1,AE$273,0)","v":0},{"$f":"IF(理科!AF17=1,AF$273,0)","v":0},{"$f":"IF(理科!AG17=1,AG$273,0)","v":0},{"$f":"IF(理科!AH17=1,AH$273,0)","v":0},{"$f":"IF(理科!AI17=1,AI$273,0)","v":0},{"$f":"IF(理科!AJ17=1,AJ$273,0)","v":0},{"$f":"IF(理科!AK17=1,AK$273,0)","v":0},{"$f":"IF(理科!AL17=1,AL$273,0)","v":0},{"$f":"IF(理科!AM17=1,AM$273,0)","v":0},{"$f":"IF(理科!AN17=1,AN$273,0)","v":0},{"$f":"IF(理科!AO17=1,AO$273,0)","v":0},{"$f":"IF(理科!AP17=1,AP$273,0)","v":0},{"$f":"IF(理科!AQ17=1,AQ$273,0)","v":0},{"$f":"IF(理科!AR17=1,AR$273,0)","v":0},{"$f":"IF(理科!AS17=1,AS$273,0)","v":0},{"$f":"IF(理科!AT17=1,AT$273,0)","v":0},{"$f":"IF(理科!AU17=1,AU$273,0)","v":0},{"$f":"IF(理科!AV17=1,AV$273,0)","v":0},{"$f":"IF(理科!AW17=1,AW$273,0)","v":0},{"$f":"IF(理科!AX17=1,AX$273,0)","v":0},{"$f":"IF(理科!AY17=1,AY$273,0)","v":0},{"$f":"IF(理科!AZ17=1,AZ$273,0)","v":0},{"$f":"IF(理科!BA17=1,BA$273,0)","v":0},{"$f":"IF(理科!BB17=1,BB$273,0)","v":0},null,0,0,{"$error":"#DIV/0!"},{"$error":"#DIV/0!"},{"$error":"#DIV/0!"}]
[null,8,null,null,{"$f":"IF(理科!E18=1,E$273,0)","v":0},{"$f":"IF(理科!F18=1,F$273,0)","v":0},{"$f":"IF(理科!G18=1,G$273,0)","v":0},{"$f":"IF(理科!H18=1,H$273,0)","v":0},{"$f":"IF(理科!I18=1,I$273,0)","v":0},{"$f":"IF(理科!J18=1,J$273,0)","v":0},{"$f":"IF(理科!K18=1,K$273,0)","v":0},{"$f":"IF(理科!L18=1,L$273,0)","v":0},{"$f":"IF(理科!M18=1,M$273,0)","v":0},{"$f":"IF(理科!N18=1,N$273,0)","v":0},{"$f":"IF(理科!O18=1,O$273,0)","v":0},{"$f":"IF(理科!P18=1,P$273,0)","v":0},{"$f":"IF(理科!Q18=1,Q$273,0)","v":0},{"$f":"IF(理科!R18=1,R$273,0)","v":0},{"$f":"IF(理科!S18=1,S$273,0)","v":0},{"$f":"IF(理科!T18=1,T$273,0)","v":0},{"$f":"IF(理科!U18=1,U$273,0)","v":0},{"$f":"IF(理科!V18=1,V$273,0)","v":0},{"$f":"IF(理科!W18=1,W$273,0)","v":0},{"$f":"IF(理科!X18=1,X$273,0)","v":0},{"$f":"IF(理科!Y18=1,Y$273,0)","v":0},{"$f":"IF(理科!Z18=1,Z$273,0)","v":0},{"$f":"IF(理科!AA18=1,AA$273,0)","v":0},{"$f":"IF(理科!AB18=1,AB$273,0)","v":0},{"$f":"IF(理科!AC18=1,AC$273,0)","v":0},{"$f":"IF(理科!AD18=1,AD$273,0)","v":0},{"$f":"IF(理科!AE18=1,AE$273,0)","v":0},{"$f":"IF(理科!AF18=1,AF$273,0)","v":0},{"$f":"IF(理科!AG18=1,AG$273,0)","v":0},{"$f":"IF(理科!AH18=1,AH$273,0)","v":0},{"$f":"IF(理科!AI18=1,AI$273,0)","v":0},{"$f":"IF(理科!AJ18=1,AJ$273,0)","v":0},{"$f":"IF(理科!AK18=1,AK$273,0)","v":0},{"$f":"IF(理科!AL18=1,AL$273,0)","v":0},{"$f":"IF(理科!AM18=1,AM$273,0)","v":0},{"$f":"IF(理科!AN18=1,AN$273,0)","v":0},{"$f":"IF(理科!AO18=1,AO$273,0)","v":0},{"$f":"IF(理科!AP18=1,AP$273,0)","v":0},{"$f":"IF(理科!AQ18=1,AQ$273,0)","v":0},{"$f":"IF(理科!AR18=1,AR$273,0)","v":0},{"$f":"IF(理科!AS18=1,AS$273,0)","v":0},{"$f":"IF(理科!AT18=1,AT$273,0)","v":0},{"$f":"IF(理科!AU18=1,AU$273,0)","v":0},{"$f":"IF(理科!AV18=1,AV$273,0)","v":0},{"$f":"IF(理科!AW18=1,AW$273,0)","v":0},{"$f":"IF(理科!AX18=1,AX$273,0)","v":0},{"$f":"IF(理科!AY18=1,AY$273,0)","v":0},{"$f":"IF(理科!AZ18=1,AZ$273,0)","v":0},{"$f":"IF(理科!BA18=1,BA$273,0)","v":0},{"$f":"IF(理科!BB18=1,BB$273,0)","v":0},null,0,0,{"$error":"#DIV/0!"},{"$error":"#DIV/0!"},{"$error":"#DIV/0!"}]
[null,9,null,null,{"$f":"IF(理科!E19=1,E$273,0)","v":0},{"$f":"IF(理科!F19=1,F$273,0)","v":0},{"$f":"IF(理科!G19=1,G$273,0)","v":0},{"$f":"IF(理科!H19=1,H$273,0)","v":0},{"$f":"IF(理科!I19=1,I$273,0)","v":0},{"$f":"IF(理科!J19=1,J$273,0)","v":0},{"$f":"IF(理科!K19=1,K$273,0)","v":0},{"$f":"IF(理科!L19=1,L$273,0)","v":0},{"$f":"IF(理科!M19=1,M$273,0)","v":0},{"$f":"IF(理科!N19=1,N$273,0)","v":0},{"$f":"IF(理科!O19=1,O$273,0)","v":0},{"$f":"IF(理科!P19=1,P$273,0)","v":0},{"$f":"IF(理科!Q19=1,Q$273,0)","v":0},{"$f":"IF(理科!R19=1,R$273,0)","v":0},{"$f":"IF(理科!S19=1,S$273,0)","v":0},{"$f":"IF(理科!T19=1,T$273,0)","v":0},{"$f":"IF(理科!U19=1,U$273,0)","v":0},{"$f":"IF(理科!V19=1,V$273,0)","v":0},{"$f":"IF(理科!W19=1,W$273,0)","v":0},{"$f":"IF(理科!X19=1,X$273,0)","v":0},{"$f":"IF(理科!Y19=1,Y$273,0)","v":0},{"$f":"IF(理科!Z19=1,Z$273,0)","v":0},{"$f":"IF(理科!AA19=1,AA$273,0)","v":0},{"$f":"IF(理科!AB19=1,AB$273,0)","v":0},{"$f":"IF(理科!AC19=1,AC$273,0)","v":0},{"$f":"IF(理科!AD19=1,AD$273,0)","v":0},{"$f":"IF(理科!AE19=1,AE$273,0)","v":0},{"$f":"IF(理科!AF19=1,AF$273,0)","v":0},{"$f":"IF(理科!AG19=1,AG$273,0)","v":0},{"$f":"IF(理科!AH19=1,AH$273,0)","v":0},{"$f":"IF(理科!AI19=1,AI$273,0)","v":0},{"$f":"IF(理科!AJ19=1,AJ$273,0)","v":0},{"$f":"IF(理科!AK19=1,AK$273,0)","v":0},{"$f":"IF(理科!AL19=1,AL$273,0)","v":0},{"$f":"IF(理科!AM19=1,AM$273,0)","v":0},{"$f":"IF(理科!AN19=1,AN$273,0)","v":0},{"$f":"IF(理科!AO19=1,AO$273,0)","v":0},{"$f":"IF(理科!AP19=1,AP$273,0)","v":0},{"$f":"IF(理科!AQ19=1,AQ$273,0)","v":0},{"$f":"IF(理科!AR19=1,AR$273,0)","v":0},{"$f":"IF(理科!AS19=1,AS$273,0)","v":0},{"$f":"IF(理科!AT19=1,AT$273,0)","v":0},{"$f":"IF(理科!AU19=1,AU$273,0)","v":0},{"$f":"IF(理科!AV19=1,AV$273,0)","v":0},{"$f":"IF(理科!AW19=1,AW$273,0)","v":0},{"$f":"IF(理科!AX19=1,AX$273,0)","v":0},{"$f":"IF(理科!AY19=1,AY$273,0)","v":0},{"$f":"IF(理科!AZ19=1,AZ$273,0)","v":0},{"$f":"IF(理科!BA19=1,BA$273,0)","v":0},{"$f":"IF(理科!BB19=1,BB$273,0)","v":0},null,0,0,{"$error":"#DIV/0!"},{"$error":"#DIV/0!"},{"$error":"#DIV/0!"}]
[null,10,null,null,{"$f":"IF(理科!E20=1,E$273,0)","v":0},{"$f":"IF(理科!F20=1,F$273,0)","v":0},{"$f":"IF(理科!G20=1,G$273,0)","v":0},{"$f":"IF(理科!H20=1,H$273,0)","v":0},{"$f":"IF(理科!I20=1,I$273,0)","v":0},{"$f":"IF(理科!J20=1,J$273,0)","v":0},{"$f":"IF(理科!K20=1,K$273,0)","v":0},{"$f":"IF(理科!L20=1,L$273,0)","v":0},{"$f":"IF(理科!M20=1,M$273,0)","v":0},{"$f":"IF(理科!N20=1,N$273,0)","v":0},{"$f":"IF(理科!O20=1,O$273,0)","v":0},{"$f":"IF(理科!P20=1,P$273,0)","v":0},{"$f":"IF(理科!Q20=1,Q$273,0)","v":0},{"$f":"IF(理科!R20=1,R$273,0)","v":0},{"$f":"IF(理科!S20=1,S$273,0)","v":0},{"$f":"IF(理科!T20=1,T$273,0)","v":0},{"$f":"IF(理科!U20=1,U$273,0)","v":0},{"$f":"IF(理科!V20=1,V$273,0)","v":0},{"$f":"IF(理科!W20=1,W$273,0)","v":0},{"$f":"IF(理科!X20=1,X$273,0)","v":0},{"$f":"IF(理科!Y20=1,Y$273,0)","v":0},{"$f":"IF(理科!Z20=1,Z$273,0)","v":0},{"$f":"IF(理科!AA20=1,AA$273,0)","v":0},{"$f":"IF(理科!AB20=1,AB$273,0)","v":0},{"$f":"IF(理科!AC20=1,AC$273,0)","v":0},{"$f":"IF(理科!AD20=1,AD$273,0)","v":0},{"$f":"IF(理科!AE20=1,AE$273,0)","v":0},{"$f":"IF(理科!AF20=1,AF$273,0)","v":0},{"$f":"IF(理科!AG20=1,AG$273,0)","v":0},{"$f":"IF(理科!AH20=1,AH$273,0)","v":0},{"$f":"IF(理科!AI20=1,AI$273,0)","v":0},{"$f":"IF(理科!AJ20=1,AJ$273,0)","v":0},{"$f":"IF(理科!AK20=1,AK$273,0)","v":0},{"$f":"IF(理科!AL20=1,AL$273,0)","v":0},{"$f":"IF(理科!AM20=1,AM$273,0)","v":0},{"$f":"IF(理科!AN20=1,AN$273,0)","v":0},{"$f":"IF(理科!AO20=1,AO$273,0)","v":0},{"$f":"IF(理科!AP20=1,AP$273,0)","v":0},{"$f":"IF(理科!AQ20=1,AQ$273,0)","v":0},{"$f":"IF(理科!AR20=1,AR$273,0)","v":0},{"$f":"IF(理科!AS20=1,AS$273,0)","v":0},{"$f":"IF(理科!AT20=1,AT$273,0)","v":0},{"$f":"IF(理科!AU20=1,AU$273,0)","v":0},{"$f":"IF(理科!AV20=1,AV$273,0)","v":0},{"$f":"IF(理科!AW20=1,AW$273,0)","v":0},{"$f":"IF(理科!AX20=1,AX$273,0)","v":0},{"$f":"IF(理科!AY20=1,AY$273,0)","v":0},{"$f":"IF(理科!AZ20=1,AZ$273,0)","v":0},{"$f":"IF(理科!BA20=1,BA$273,0)","v":0},{"$f":"IF(理科!BB20=1,BB$273,0)","v":0},null,0,0,{"$error":"#DIV/0!"},{"$error":"#DIV/0!"},{"$error":"#DIV/0!"}]
[null,11,null,null,{"$f":"IF(理科!E21=1,E$273,0)","v":0},{"$f":"IF(理科!F21=1,F$273,0)","v":0},{"$f":"IF(理科!G21=1,G$273,0)","v":0},{"$f":"IF(理科!H21=1,H$273,0)","v":0},{"$f":"IF(理科!I21=1,I$273,0)","v":0},{"$f":"IF(理科!J21=1,J$273,0)","v":0},{"$f":"IF(理科!K21=1,K$273,0)","v":0},{"$f":"IF(理科!L21=1,L$273,0)","v":0},{"$f":"IF(理科!M21=1,M$273,0)","v":0},{"$f":"IF(理科!N21=1,N$273,0)","v":0},{"$f":"IF(理科!O21=1,O$273,0)","v":0},{"$f":"IF(理科!P21=1,P$273,0)","v":0},{"$f":"IF(理科!Q21=1,Q$273,0)","v":0},{"$f":"IF(理科!R21=1,R$273,0)","v":0},{"$f":"IF(理科!S21=1,S$273,0)","v":0},{"$f":"IF(理科!T21=1,T$273,0)","v":0},{"$f":"IF(理科!U21=1,U$273,0)","v":0},{"$f":"IF(理科!V21=1,V$273,0)","v":0},{"$f":"IF(理科!W21=1,W$273,0)","v":0},{"$f":"IF(理科!X21=1,X$273,0)","v":0},{"$f":"IF(理科!Y21=1,Y$273,0)","v":0},{"$f":"IF(理科!Z21=1,Z$273,0)","v":0},{"$f":"IF(理科!AA21=1,AA$273,0)","v":0},{"$f":"IF(理科!AB21=1,AB$273,0)","v":0},{"$f":"IF(理科!AC21=1,AC$273,0)","v":0},{"$f":"IF(理科!AD21=1,AD$273,0)","v":0},{"$f":"IF(理科!AE21=1,AE$273,0)","v":0},{"$f":"IF(理科!AF21=1,AF$273,0)","v":0},{"$f":"IF(理科!AG21=1,AG$273,0)","v":0},{"$f":"IF(理科!AH21=1,AH$273,0)","v":0},{"$f":"IF(理科!AI21=1,AI$273,0)","v":0},{"$f":"IF(理科!AJ21=1,AJ$273,0)","v":0},{"$f":"IF(理科!AK21=1,AK$273,0)","v":0},{"$f":"IF(理科!AL21=1,AL$273,0)","v":0},{"$f":"IF(理科!AM21=1,AM$273,0)","v":0},{"$f":"IF(理科!AN21=1,AN$273,0)","v":0},{"$f":"IF(理科!AO21=1,AO$273,0)","v":0},{"$f":"IF(理科!AP21=1,AP$273,0)","v":0},{"$f":"IF(理科!AQ21=1,AQ$273,0)","v":0},{"$f":"IF(理科!AR21=1,AR$273,0)","v":0},{"$f":"IF(理科!AS21=1,AS$273,0)","v":0},{"$f":"IF(理科!AT21=1,AT$273,0)","v":0},{"$f":"IF(理科!AU21=1,AU$273,0)","v":0},{"$f":"IF(理科!AV21=1,AV$273,0)","v":0},{"$f":"IF(理科!AW21=1,AW$273,0)","v":0},{"$f":"IF(理科!AX21=1,AX$273,0)","v":0},{"$f":"IF(理科!AY21=1,AY$273,0)","v":0},{"$f":"IF(理科!AZ21=1,AZ$273,0)","v":0},{"$f":"IF(理科!BA21=1,BA$273,0)","v":0},{"$f":"IF(理科!BB21=1,BB$273,0)","v":0},null,0,0,{"$error":"#DIV/0!"},{"$error":"#DIV/0!"},{"$error":"#DIV/0!"}]
[null,12,null,null,{"$f":"IF(理科!E22=1,E$273,0)","v":0},{"$f":"IF(理科!F22=1,F$273,0)","v":0},{"$f":"IF(理科!G22=1,G$273,0)","v":0},{"$f":"IF(理科!H22=1,H$273,0)","v":0},{"$f":"IF(理科!I22=1,I$273,0)","v":0},{"$f":"IF(理科!J22=1,J$273,0)","v":0},{"$f":"IF(理科!K22=1,K$273,0)","v":0},{"$f":"IF(理科!L22=1,L$273,0)","v":0},{"$f":"IF(理科!M22=1,M$273,0)","v":0},{"$f":"IF(理科!N22=1,N$273,0)","v":0},{"$f":"IF(理科!O22=1,O$273,0)","v":0},{"$f":"IF(理科!P22=1,P$273,0)","v":0},{"$f":"IF(理科!Q22=1,Q$273,0)","v":0},{"$f":"IF(理科!R22=1,R$273,0)","v":0},{"$f":"IF(理科!S22=1,S$273,0)","v":0},{"$f":"IF(理科!T22=1,T$273,0)","v":0},{"$f":"IF(理科!U22=1,U$273,0)","v":0},{"$f":"IF(理科!V22=1,V$273,0)","v":0},{"$f":"IF(理科!W22=1,W$273,0)","v":0},{"$f":"IF(理科!X22=1,X$273,0)","v":0},{"$f":"IF(理科!Y22=1,Y$273,0)","v":0},{"$f":"IF(理科!Z22=1,Z$273,0)","v":0},{"$f":"IF(理科!AA22=1,AA$273,0)","v":0},{"$f":"IF(理科!AB22=1,AB$273,0)","v":0},{"$f":"IF(理科!AC22=1,AC$273,0)","v":0},{"$f":"IF(理科!AD22=1,AD$273,0)","v":0},{"$f":"IF(理科!AE22=1,AE$273,0)","v":0},{"$f":"IF(理科!AF22=1,AF$273,0)","v":0},{"$f":"IF(理科!AG22=1,AG$273,0)","v":0},{"$f":"IF(理科!AH22=1,AH$273,0)","v":0},{"$f":"IF(理科!AI22=1,AI$273,0)","v":0},{"$f":"IF(理科!AJ22=1,AJ$273,0)","v":0},{"$f":"IF(理科!AK22=1,AK$273,0)","v":0},{"$f":"IF(理科!AL22=1,AL$273,0)","v":0},{"$f":"IF(理科!AM22=1,AM$273,0)","v":0},{"$f":"IF(理科!AN22=1,AN$273,0)","v":0},{"$f":"IF(理科!AO22=1,AO$273,0)","v":0},{"$f":"IF(理科!AP22=1,AP$273,0)","v":0},{"$f":"IF(理科!AQ22=1,AQ$273,0)","v":0},{"$f":"IF(理科!AR22=1,AR$273,0)","v":0},{"$f":"IF(理科!AS22=1,AS$273,0)","v":0},{"$f":"IF(理科!AT22=1,AT$273,0)","v":0},{"$f":"IF(理科!AU22=1,AU$273,0)","v":0},{"$f":"IF(理科!AV22=1,AV$273,0)","v":0},{"$f":"IF(理科!AW22=1,AW$273,0)","v":0},{"$f":"IF(理科!AX22=1,AX$273,0)","v":0},{"$f":"IF(理科!AY22=1,AY$273,0)","v":0},{"$f":"IF(理科!AZ22=1,AZ$273,0)","v":0},{"$f":"IF(理科!BA22=1,BA$273,0)","v":0},{"$f":"IF(理科!BB22=1,BB$273,0)","v":0},null,0,0,{"$error":"#DIV/0!"},{"$error":"#DIV/0!"},{"$error":"#DIV/0!"}]
[null,13,null,null,{"$f":"IF(理科!E23=1,E$273,0)","v":0},{"$f":"IF(理科!F23=1,F$273,0)","v":0},{"$f":"IF(理科!G23=1,G$273,0)","v":0},{"$f":"IF(理科!H23=1,H$273,0)","v":0},{"$f":"IF(理科!I23=1,I$273,0)","v":0},{"$f":"IF(理科!J23=1,J$273,0)","v":0},{"$f":"IF(理科!K23=1,K$273,0)","v":0},{"$f":"IF(理科!L23=1,L$273,0)","v":0},{"$f":"IF(理科!M23=1,M$273,0)","v":0},{"$f":"IF(理科!N23=1,N$273,0)","v":0},{"$f":"IF(理科!O23=1,O$273,0)","v":0},{"$f":"IF(理科!P23=1,P$273,0)","v":0},{"$f":"IF(理科!Q23=1,Q$273,0)","v":0},{"$f":"IF(理科!R23=1,R$273,0)","v":0},{"$f":"IF(理科!S23=1,S$273,0)","v":0},{"$f":"IF(理科!T23=1,T$273,0)","v":0},{"$f":"IF(理科!U23=1,U$273,0)","v":0},{"$f":"IF(理科!V23=1,V$273,0)","v":0},{"$f":"IF(理科!W23=1,W$273,0)","v":0},{"$f":"IF(理科!X23=1,X$273,0)","v":0},{"$f":"IF(理科!Y23=1,Y$273,0)","v":0},{"$f":"IF(理科!Z23=1,Z$273,0)","v":0},{"$f":"IF(理科!AA23=1,AA$273,0)","v":0},{"$f":"IF(理科!AB23=1,AB$273,0)","v":0},{"$f":"IF(理科!AC23=1,AC$273,0)","v":0},{"$f":"IF(理科!AD23=1,AD$273,0)","v":0},{"$f":"IF(理科!AE23=1,AE$273,0)","v":0},{"$f":"IF(理科!AF23=1,AF$273,0)","v":0},{"$f":"IF(理科!AG23=1,AG$273,0)","v":0},{"$f":"IF(理科!AH23=1,AH$273,0)","v":0},{"$f":"IF(理科!AI23=1,AI$273,0)","v":0},{"$f":"IF(理科!AJ23=1,AJ$273,0)","v":0},{"$f":"IF(理科!AK23=1,AK$273,0)","v":0},{"$f":"IF(理科!AL23=1,AL$273,0)","v":0},{"$f":"IF(理科!AM23=1,AM$273,0)","v":0},{"$f":"IF(理科!AN23=1,AN$273,0)","v":0},{"$f":"IF(理科!AO23=1,AO$273,0)","v":0},{"$f":"IF(理科!AP23=1,AP$273,0)","v":0},{"$f":"IF(理科!AQ23=1,AQ$273,0)","v":0},{"$f":"IF(理科!AR23=1,AR$273,0)","v":0},{"$f":"IF(理科!AS23=1,AS$273,0)","v":0},{"$f":"IF(理科!AT23=1,AT$273,0)","v":0},{"$f":"IF(理科!AU23=1,AU$273,0)","v":0},{"$f":"IF(理科!AV23=1,AV$273,0)","v":0},{"$f":"IF(理科!AW23=1,AW$273,0)","v":0},{"$f":"IF(理科!AX23=1,AX$273,0)","v":0},{"$f":"IF(理科!AY23=1,AY$273,0)","v":0},{"$f":"IF(理科!AZ23=1,AZ$273,0)","v":0},{"$f":"IF(理科!BA23=1,BA$273,0)","v":0},{"$f":"IF(理科!BB23=1,BB$273,0)","v":0},null,0,0,{"$error":"#DIV/0!"},{"$error":"#DIV/0!"},{"$error":"#DIV/0!"}]
[null,14,null,null,{"$f":"IF(理科!E24=1,E$273,0)","v":0},{"$f":"IF(理科!F24=1,F$273,0)","v":0},{"$f":"IF(理科!G24=1,G$273,0)","v":0},{"$f":"IF(理科!H24=1,H$273,0)","v":0},{"$f":"IF(理科!I24=1,I$273,0)","v":0},{"$f":"IF(理科!J24=1,J$273,0)","v":0},{"$f":"IF(理科!K24=1,K$273,0)","v":0},{"$f":"IF(理科!L24=1,L$273,0)","v":0},{"$f":"IF(理科!M24=1,M$273,0)","v":0},{"$f":"IF(理科!N24=1,N$273,0)","v":0},{"$f":"IF(理科!O24=1,O$273,0)","v":0},{"$f":"IF(理科!P24=1,P$273,0)","v":0},{"$f":"IF(理科!Q24=1,Q$273,0)","v":0},{"$f":"IF(理科!R24=1,R$273,0)","v":0},{"$f":"IF(理科!S24=1,S$273,0)","v":0},{"$f":"IF(理科!T24=1,T$273,0)","v":0},{"$f":"IF(理科!U24=1,U$273,0)","v":0},{"$f":"IF(理科!V24=1,V$273,0)","v":0},{"$f":"IF(理科!W24=1,W$273,0)","v":0},{"$f":"IF(理科!X24=1,X$273,0)","v":0},{"$f":"IF(理科!Y24=1,Y$273,0)","v":0},{"$f":"IF(理科!Z24=1,Z$273,0)","v":0},{"$f":"IF(理科!AA24=1,AA$273,0)","v":0},{"$f":"IF(理科!AB24=1,AB$273,0)","v":0},{"$f":"IF(理科!AC24=1,AC$273,0)","v":0},{"$f":"IF(理科!AD24=1,AD$273,0)","v":0},{"$f":"IF(理科!AE24=1,AE$273,0)","v":0},{"$f":"IF(理科!AF24=1,AF$273,0)","v":0},{"$f":"IF(理科!AG24=1,AG$273,0)","v":0},{"$f":"IF(理科!AH24=1,AH$273,0)","v":0},{"$f":"IF(理科!AI24=1,AI$273,0)","v":0},{"$f":"IF(理科!AJ24=1,AJ$273,0)","v":0},{"$f":"IF(理科!AK24=1,AK$273,0)","v":0},{"$f":"IF(理科!AL24=1,AL$273,0)","v":0},{"$f":"IF(理科!AM24=1,AM$273,0)","v":0},{"$f":"IF(理科!AN24=1,AN$273,0)","v":0},{"$f":"IF(理科!AO24=1,AO$273,0)","v":0},{"$f":"IF(理科!AP24=1,AP$273,0)","v":0},{"$f":"IF(理科!AQ24=1,AQ$273,0)","v":0},{"$f":"IF(理科!AR24=1,AR$273,0)","v":0},{"$f":"IF(理科!AS24=1,AS$273,0)","v":0},{"$f":"IF(理科!AT24=1,AT$273,0)","v":0},{"$f":"IF(理科!AU24=1,AU$273,0)","v":0},{"$f":"IF(理科!AV24=1,AV$273,0)","v":0},{"$f":"IF(理科!AW24=1,AW$273,0)","v":0},{"$f":"IF(理科!AX24=1,AX$273,0)","v":0},{"$f":"IF(理科!AY24=1,AY$273,0)","v":0},{"$f":"IF(理科!AZ24=1,AZ$273,0)","v":0},{"$f":"IF(理科!BA24=1,BA$273,0)","v":0},{"$f":"IF(理科!BB24=1,BB$273,0)","v":0},null,0,0,{"$error":"#DIV/0!"},{"$error":"#DIV/0!"},{"$error":"#DIV/0!"}]
[null,15,null,null,{"$f":"IF(理科!E25=1,E$273,0)","v":0},{"$f":"IF(理科!F25=1,F$273,0)","v":0},{"$f":"IF(理科!G25=1,G$273,0)","v":0},{"$f":"IF(理科!H25=1,H$273,0)","v":0},{"$f":"IF(理科!I25=1,I$273,0)","v":0},{"$f":"IF(理科!J25=1,J$273,0)","v":0},{"$f":"IF(理科!K25=1,K$273,0)","v":0},{"$f":"IF(理科!L25=1,L$273,0)","v":0},{"$f":"IF(理科!M25=1,M$273,0)","v":0},{"$f":"IF(理科!N25=1,N$273,0)","v":0},{"$f":"IF(理科!O25=1,O$273,0)","v":0},{"$f":"IF(理科!P25=1,P$273,0)","v":0},{"$f":"IF(理科!Q25=1,Q$273,0)","v":0},{"$f":"IF(理科!R25=1,R$273,0)","v":0},{"$f":"IF(理科!S25=1,S$273,0)","v":0},{"$f":"IF(理科!T25=1,T$273,0)","v":0},{"$f":"IF(理科!U25=1,U$273,0)","v":0},{"$f":"IF(理科!V25=1,V$273,0)","v":0},{"$f":"IF(理科!W25=1,W$273,0)","v":0},{"$f":"IF(理科!X25=1,X$273,0)","v":0},{"$f":"IF(理科!Y25=1,Y$273,0)","v":0},{"$f":"IF(理科!Z25=1,Z$273,0)","v":0},{"$f":"IF(理科!AA25=1,AA$273,0)","v":0},{"$f":"IF(理科!AB25=1,AB$273,0)","v":0},{"$f":"IF(理科!AC25=1,AC$273,0)","v":0},{"$f":"IF(理科!AD25=1,AD$273,0)","v":0},{"$f":"IF(理科!AE25=1,AE$273,0)","v":0},{"$f":"IF(理科!AF25=1,AF$273,0)","v":0},{"$f":"IF(理科!AG25=1,AG$273,0)","v":0},{"$f":"IF(理科!AH25=1,AH$273,0)","v":0},{"$f":"IF(理科!AI25=1,AI$273,0)","v":0},{"$f":"IF(理科!AJ25=1,AJ$273,0)","v":0},{"$f":"IF(理科!AK25=1,AK$273,0)","v":0},{"$f":"IF(理科!AL25=1,AL$273,0)","v":0},{"$f":"IF(理科!AM25=1,AM$273,0)","v":0},{"$f":"IF(理科!AN25=1,AN$273,0)","v":0},{"$f":"IF(理科!AO25=1,AO$273,0)","v":0},{"$f":"IF(理科!AP25=1,AP$273,0)","v":0},{"$f":"IF(理科!AQ25=1,AQ$273,0)","v":0},{"$f":"IF(理科!AR25=1,AR$273,0)","v":0},{"$f":"IF(理科!AS25=1,AS$273,0)","v":0},{"$f":"IF(理科!AT25=1,AT$273,0)","v":0},{"$f":"IF(理科!AU25=1,AU$273,0)","v":0},{"$f":"IF(理科!AV25=1,AV$273,0)","v":0},{"$f":"IF(理科!AW25=1,AW$273,0)","v":0},{"$f":"IF(理科!AX25=1,AX$273,0)","v":0},{"$f":"IF(理科!AY25=1,AY$273,0)","v":0},{"$f":"IF(理科!AZ25=1,AZ$273,0)","v":0},{"$f":"IF(理科!BA25=1,BA$273,0)","v":0},{"$f":"IF(理科!BB25=1,BB$273,0)","v":0},null,0,0,{"$error":"#DIV/0!"},{"$error":"#DIV/0!"},{"$error":"#DIV/0!"}]
[null,16,null,null,{"$f":"IF(理科!E26=1,E$273,0)","v":0},{"$f":"IF(理科!F26=1,F$273,0)","v":0},{"$f":"IF(理科!G26=1,G$273,0)","v":0},{"$f":"IF(理科!H26=1,H$273,0)","v":0},{"$f":"IF(理科!I26=1,I$273,0)","v":0},{"$f":"IF(理科!J26=1,J$273,0)","v":0},{"$f":"IF(理科!K26=1,K$273,0)","v":0},{"$f":"IF(理科!L26=1,L$273,0)","v":0},{"$f":"IF(理科!M26=1,M$273,0)","v":0},{"$f":"IF(理科!N26=1,N$273,0)","v":0},{"$f":"IF(理科!O26=1,O$273,0)","v":0},{"$f":"IF(理科!P26=1,P$273,0)","v":0},{"$f":"IF(理科!Q26=1,Q$273,0)","v":0},{"$f":"IF(理科!R26=1,R$273,0)","v":0},{"$f":"IF(理科!S26=1,S$273,0)","v":0},{"$f":"IF(理科!T26=1,T$273,0)","v":0},{"$f":"IF(理科!U26=1,U$273,0)","v":0},{"$f":"IF(理科!V26=1,V$273,0)","v":0},{"$f":"IF(理科!W26=1,W$273,0)","v":0},{"$f":"IF(理科!X26=1,X$273,0)","v":0},{"$f":"IF(理科!Y26=1,Y$273,0)","v":0},{"$f":"IF(理科!Z26=1,Z$273,0)","v":0},{"$f":"IF(理科!AA26=1,AA$273,0)","v":0},{"$f":"IF(理科!AB26=1,AB$273,0)","v":0},{"$f":"IF(理科!AC26=1,AC$273,0)","v":0},{"$f":"IF(理科!AD26=1,AD$273,0)","v":0},{"$f":"IF(理科!AE26=1,AE$273,0)","v":0},{"$f":"IF(理科!AF26=1,AF$273,0)","v":0},{"$f":"IF(理科!AG26=1,AG$273,0)","v":0},{"$f":"IF(理科!AH26=1,AH$273,0)","v":0},{"$f":"IF(理科!AI26=1,AI$273,0)","v":0},{"$f":"IF(理科!AJ26=1,AJ$273,0)","v":0},{"$f":"IF(理科!AK26=1,AK$273,0)","v":0},{"$f":"IF(理科!AL26=1,AL$273,0)","v":0},{"$f":"IF(理科!AM26=1,AM$273,0)","v":0},{"$f":"IF(理科!AN26=1,AN$273,0)","v":0},{"$f":"IF(理科!AO26=1,AO$273,0)","v":0},{"$f":"IF(理科!AP26=1,AP$273,0)","v":0},{"$f":"IF(理科!AQ26=1,AQ$273,0)","v":0},{"$f":"IF(理科!AR26=1,AR$273,0)","v":0},{"$f":"IF(理科!AS26=1,AS$273,0)","v":0},{"$f":"IF(理科!AT26=1,AT$273,0)","v":0},{"$f":"IF(理科!AU26=1,AU$273,0)","v":0},{"$f":"IF(理科!AV26=1,AV$273,0)","v":0},{"$f":"IF(理科!AW26=1,AW$273,0)","v":0},{"$f":"IF(理科!AX26=1,AX$273,0)","v":0},{"$f":"IF(理科!AY26=1,AY$273,0)","v":0},{"$f":"IF(理科!AZ26=1,AZ$273,0)","v":0},{"$f":"IF(理科!BA26=1,BA$273,0)","v":0},{"$f":"IF(理科!BB26=1,BB$273,0)","v":0},null,0,0,{"$error":"#DIV/0!"},{"$error":"#DIV/0!"},{"$error":"#DIV/0!"}]
[null,17,null,null,{"$f":"IF(理科!E27=1,E$273,0)","v":0},{"$f":"IF(理科!F27=1,F$273,0)","v":0},{"$f":"IF(理科!G27=1,G$273,0)","v":0},{"$f":"IF(理科!H27=1,H$273,0)","v":0},{"$f":"IF(理科!I27=1,I$273,0)","v":0},{"$f":"IF(理科!J27=1,J$273,0)","v":0},{"$f":"IF(理科!K27=1,K$273,0)","v":0},{"$f":"IF(理科!L27=1,L$273,0)","v":0},{"$f":"IF(理科!M27=1,M$273,0)","v":0},{"$f":"IF(理科!N27=1,N$273,0)","v":0},{"$f":"IF(理科!O27=1,O$273,0)","v":0},{"$f":"IF(理科!P27=1,P$273,0)","v":0},{"$f":"IF(理科!Q27=1,Q$273,0)","v":0},{"$f":"IF(理科!R27=1,R$273,0)","v":0},{"$f":"IF(理科!S27=1,S$273,0)","v":0},{"$f":"IF(理科!T27=1,T$273,0)","v":0},{"$f":"IF(理科!U27=1,U$273,0)","v":0},{"$f":"IF(理科!V27=1,V$273,0)","v":0},{"$f":"IF(理科!W27=1,W$273,0)","v":0},{"$f":"IF(理科!X27=1,X$273,0)","v":0},{"$f":"IF(理科!Y27=1,Y$273,0)","v":0},{"$f":"IF(理科!Z27=1,Z$273,0)","v":0},{"$f":"IF(理科!AA27=1,AA$273,0)","v":0},{"$f":"IF(理科!AB27=1,AB$273,0)","v":0},{"$f":"IF(理科!AC27=1,AC$273,0)","v":0},{"$f":"IF(理科!AD27=1,AD$273,0)","v":0},{"$f":"IF(理科!AE27=1,AE$273,0)","v":0},{"$f":"IF(理科!AF27=1,AF$273,0)","v":0},{"$f":"IF(理科!AG27=1,AG$273,0)","v":0},{"$f":"IF(理科!AH27=1,AH$273,0)","v":0},{"$f":"IF(理科!AI27=1,AI$273,0)","v":0},{"$f":"IF(理科!AJ27=1,AJ$273,0)","v":0},{"$f":"IF(理科!AK27=1,AK$273,0)","v":0},{"$f":"IF(理科!AL27=1,AL$273,0)","v":0},{"$f":"IF(理科!AM27=1,AM$273,0)","v":0},{"$f":"IF(理科!AN27=1,AN$273,0)","v":0},{"$f":"IF(理科!AO27=1,AO$273,0)","v":0},{"$f":"IF(理科!AP27=1,AP$273,0)","v":0},{"$f":"IF(理科!AQ27=1,AQ$273,0)","v":0},{"$f":"IF(理科!AR27=1,AR$273,0)","v":0},{"$f":"IF(理科!AS27=1,AS$273,0)","v":0},{"$f":"IF(理科!AT27=1,AT$273,0)","v":0},{"$f":"IF(理科!AU27=1,AU$273,0)","v":0},{"$f":"IF(理科!AV27=1,AV$273,0)","v":0},{"$f":"IF(理科!AW27=1,AW$273,0)","v":0},{"$f":"IF(理科!AX27=1,AX$273,0)","v":0},{"$f":"IF(理科!AY27=1,AY$273,0)","v":0},{"$f":"IF(理科!AZ27=1,AZ$273,0)","v":0},{"$f":"IF(理科!BA27=1,BA$273,0)","v":0},{"$f":"IF(理科!BB27=1,BB$273,0)","v":0},null,0,0,{"$error":"#DIV/0!"},{"$error":"#DIV/0!"},{"$error":"#DIV/0!"}]
[null,18,null,null,{"$f":"IF(理科!E28=1,E$273,0)","v":0},{"$f":"IF(理科!F28=1,F$273,0)","v":0},{"$f":"IF(理科!G28=1,G$273,0)","v":0},{"$f":"IF(理科!H28=1,H$273,0)","v":0},{"$f":"IF(理科!I28=1,I$273,0)","v":0},{"$f":"IF(理科!J28=1,J$273,0)","v":0},{"$f":"IF(理科!K28=1,K$273,0)","v":0},{"$f":"IF(理科!L28=1,L$273,0)","v":0},{"$f":"IF(理科!M28=1,M$273,0)","v":0},{"$f":"IF(理科!N28=1,N$273,0)","v":0},{"$f":"IF(理科!O28=1,O$273,0)","v":0},{"$f":"IF(理科!P28=1,P$273,0)","v":0},{"$f":"IF(理科!Q28=1,Q$273,0)","v":0},{"$f":"IF(理科!R28=1,R$273,0)","v":0},{"$f":"IF(理科!S28=1,S$273,0)","v":0},{"$f":"IF(理科!T28=1,T$273,0)","v":0},{"$f":"IF(理科!U28=1,U$273,0)","v":0},{"$f":"IF(理科!V28=1,V$273,0)","v":0},{"$f":"IF(理科!W28=1,W$273,0)","v":0},{"$f":"IF(理科!X28=1,X$273,0)","v":0},{"$f":"IF(理科!Y28=1,Y$273,0)","v":0},{"$f":"IF(理科!Z28=1,Z$273,0)","v":0},{"$f":"IF(理科!AA28=1,AA$273,0)","v":0},{"$f":"IF(理科!AB28=1,AB$273,0)","v":0},{"$f":"IF(理科!AC28=1,AC$273,0)","v":0},{"$f":"IF(理科!AD28=1,AD$273,0)","v":0},{"$f":"IF(理科!AE28=1,AE$273,0)","v":0},{"$f":"IF(理科!AF28=1,AF$273,0)","v":0},{"$f":"IF(理科!AG28=1,AG$273,0)","v":0},{"$f":"IF(理科!AH28=1,AH$273,0)","v":0},{"$f":"IF(理科!AI28=1,AI$273,0)","v":0},{"$f":"IF(理科!AJ28=1,AJ$273,0)","v":0},{"$f":"IF(理科!AK28=1,AK$273,0)","v":0},{"$f":"IF(理科!AL28=1,AL$273,0)","v":0},{"$f":"IF(理科!AM28=1,AM$273,0)","v":0},{"$f":"IF(理科!AN28=1,AN$273,0)","v":0},{"$f":"IF(理科!AO28=1,AO$273,0)","v":0},{"$f":"IF(理科!AP28=1,AP$273,0)","v":0},{"$f":"IF(理科!AQ28=1,AQ$273,0)","v":0},{"$f":"IF(理科!AR28=1,AR$273,0)","v":0},{"$f":"IF(理科!AS28=1,AS$273,0)","v":0},{"$f":"IF(理科!AT28=1,AT$273,0)","v":0},{"$f":"IF(理科!AU28=1,AU$273,0)","v":0},{"$f":"IF(理科!AV28=1,AV$273,0)","v":0},{"$f":"IF(理科!AW28=1,AW$273,0)","v":0},{"$f":"IF(理科!AX28=1,AX$273,0)","v":0},{"$f":"IF(理科!AY28=1,AY$273,0)","v":0},{"$f":"IF(理科!AZ28=1,AZ$273,0)","v":0},{"$f":"IF(理科!BA28=1,BA$273,0)","v":0},{"$f":"IF(理科!BB28=1,BB$273,0)","v":0},null,{"$f":"SUMIF($E$272:$BB$272,BD$272,$E291:$BB291)/BD$273","v":0},0,{"$error":"#DIV/0!"},{"$error":"#DIV/0!"},{"$error":"#DIV/0!"}]
[null,19,null,null,{"$f":"IF(理科!E29=1,E$273,0)","v":0},{"$f":"IF(理科!F29=1,F$273,0)","v":0},{"$f":"IF(理科!G29=1,G$273,0)","v":0},{"$f":"IF(理科!H29=1,H$273,0)","v":0},{"$f":"IF(理科!I29=1,I$273,0)","v":0},{"$f":"IF(理科!J29=1,J$273,0)","v":0},{"$f":"IF(理科!K29=1,K$273,0)","v":0},{"$f":"IF(理科!L29=1,L$273,0)","v":0},{"$f":"IF(理科!M29=1,M$273,0)","v":0},{"$f":"IF(理科!N29=1,N$273,0)","v":0},{"$f":"IF(理科!O29=1,O$273,0)","v":0},{"$f":"IF(理科!P29=1,P$273,0)","v":0},{"$f":"IF(理科!Q29=1,Q$273,0)","v":0},{"$f":"IF(理科!R29=1,R$273,0)","v":0},{"$f":"IF(理科!S29=1,S$273,0)","v":0},{"$f":"IF(理科!T29=1,T$273,0)","v":0},{"$f":"IF(理科!U29=1,U$273,0)","v":0},{"$f":"IF(理科!V29=1,V$273,0)","v":0},{"$f":"IF(理科!W29=1,W$273,0)","v":0},{"$f":"IF(理科!X29=1,X$273,0)","v":0},{"$f":"IF(理科!Y29=1,Y$273,0)","v":0},{"$f":"IF(理科!Z29=1,Z$273,0)","v":0},{"$f":"IF(理科!AA29=1,AA$273,0)","v":0},{"$f":"IF(理科!AB29=1,AB$273,0)","v":0},{"$f":"IF(理科!AC29=1,AC$273,0)","v":0},{"$f":"IF(理科!AD29=1,AD$273,0)","v":0},{"$f":"IF(理科!AE29=1,AE$273,0)","v":0},{"$f":"IF(理科!AF29=1,AF$273,0)","v":0},{"$f":"IF(理科!AG29=1,AG$273,0)","v":0},{"$f":"IF(理科!AH29=1,AH$273,0)","v":0},{"$f":"IF(理科!AI29=1,AI$273,0)","v":0},{"$f":"IF(理科!AJ29=1,AJ$273,0)","v":0},{"$f":"IF(理科!AK29=1,AK$273,0)","v":0},{"$f":"IF(理科!AL29=1,AL$273,0)","v":0},{"$f":"IF(理科!AM29=1,AM$273,0)","v":0},{"$f":"IF(理科!AN29=1,AN$273,0)","v":0},{"$f":"IF(理科!AO29=1,AO$273,0)","v":0},{"$f":"IF(理科!AP29=1,AP$273,0)","v":0},{"$f":"IF(理科!AQ29=1,AQ$273,0)","v":0},{"$f":"IF(理科!AR29=1,AR$273,0)","v":0},{"$f":"IF(理科!AS29=1,AS$273,0)","v":0},{"$f":"IF(理科!AT29=1,AT$273,0)","v":0},{"$f":"IF(理科!AU29=1,AU$273,0)","v":0},{"$f":"IF(理科!AV29=1,AV$273,0)","v":0},{"$f":"IF(理科!AW29=1,AW$273,0)","v":0},{"$f":"IF(理科!AX29=1,AX$273,0)","v":0},{"$f":"IF(理科!AY29=1,AY$273,0)","v":0},{"$f":"IF(理科!AZ29=1,AZ$273,0)","v":0},{"$f":"IF(理科!BA29=1,BA$273,0)","v":0},{"$f":"IF(理科!BB29=1,BB$273,0)","v":0},null,0,0,{"$error":"#DIV/0!"},{"$error":"#DIV/0!"},{"$error":"#DIV/0!"}]
[null,20,null,null,{"$f":"IF(理科!E30=1,E$273,0)","v":0},{"$f":"IF(理科!F30=1,F$273,0)","v":0},{"$f":"IF(理科!G30=1,G$273,0)","v":0},{"$f":"IF(理科!H30=1,H$273,0)","v":0},{"$f":"IF(理科!I30=1,I$273,0)","v":0},{"$f":"IF(理科!J30=1,J$273,0)","v":0},{"$f":"IF(理科!K30=1,K$273,0)","v":0},{"$f":"IF(理科!L30=1,L$273,0)","v":0},{"$f":"IF(理科!M30=1,M$273,0)","v":0},{"$f":"IF(理科!N30=1,N$273,0)","v":0},{"$f":"IF(理科!O30=1,O$273,0)","v":0},{"$f":"IF(理科!P30=1,P$273,0)","v":0},{"$f":"IF(理科!Q30=1,Q$273,0)","v":0},{"$f":"IF(理科!R30=1,R$273,0)","v":0},{"$f":"IF(理科!S30=1,S$273,0)","v":0},{"$f":"IF(理科!T30=1,T$273,0)","v":0},{"$f":"IF(理科!U30=1,U$273,0)","v":0},{"$f":"IF(理科!V30=1,V$273,0)","v":0},{"$f":"IF(理科!W30=1,W$273,0)","v":0},{"$f":"IF(理科!X30=1,X$273,0)","v":0},{"$f":"IF(理科!Y30=1,Y$273,0)","v":0},{"$f":"IF(理科!Z30=1,Z$273,0)","v":0},{"$f":"IF(理科!AA30=1,AA$273,0)","v":0},{"$f":"IF(理科!AB30=1,AB$273,0)","v":0},{"$f":"IF(理科!AC30=1,AC$273,0)","v":0},{"$f":"IF(理科!AD30=1,AD$273,0)","v":0},{"$f":"IF(理科!AE30=1,AE$273,0)","v":0},{"$f":"IF(理科!AF30=1,AF$273,0)","v":0},{"$f":"IF(理科!AG30=1,AG$273,0)","v":0},{"$f":"IF(理科!AH30=1,AH$273,0)","v":0},{"$f":"IF(理科!AI30=1,AI$273,0)","v":0},{"$f":"IF(理科!AJ30=1,AJ$273,0)","v":0},{"$f":"IF(理科!AK30=1,AK$273,0)","v":0},{"$f":"IF(理科!AL30=1,AL$273,0)","v":0},{"$f":"IF(理科!AM30=1,AM$273,0)","v":0},{"$f":"IF(理科!AN30=1,AN$273,0)","v":0},{"$f":"IF(理科!AO30=1,AO$273,0)","v":0},{"$f":"IF(理科!AP30=1,AP$273,0)","v":0},{"$f":"IF(理科!AQ30=1,AQ$273,0)","v":0},{"$f":"IF(理科!AR30=1,AR$273,0)","v":0},{"$f":"IF(理科!AS30=1,AS$273,0)","v":0},{"$f":"IF(理科!AT30=1,AT$273,0)","v":0},{"$f":"IF(理科!AU30=1,AU$273,0)","v":0},{"$f":"IF(理科!AV30=1,AV$273,0)","v":0},{"$f":"IF(理科!AW30=1,AW$273,0)","v":0},{"$f":"IF(理科!AX30=1,AX$273,0)","v":0},{"$f":"IF(理科!AY30=1,AY$273,0)","v":0},{"$f":"IF(理科!AZ30=1,AZ$273,0)","v":0},{"$f":"IF(理科!BA30=1,BA$273,0)","v":0},{"$f":"IF(理科!BB30=1,BB$273,0)","v":0},null,0,0,{"$error":"#DIV/0!"},{"$error":"#DIV/0!"},{"$error":"#DIV/0!"}]
[null,21,null,null,{"$f":"IF(理科!E31=1,E$273,0)","v":0},{"$f":"IF(理科!F31=1,F$273,0)","v":0},{"$f":"IF(理科!G31=1,G$273,0)","v":0},{"$f":"IF(理科!H31=1,H$273,0)","v":0},{"$f":"IF(理科!I31=1,I$273,0)","v":0},{"$f":"IF(理科!J31=1,J$273,0)","v":0},{"$f":"IF(理科!K31=1,K$273,0)","v":0},{"$f":"IF(理科!L31=1,L$273,0)","v":0},{"$f":"IF(理科!M31=1,M$273,0)","v":0},{"$f":"IF(理科!N31=1,N$273,0)","v":0},{"$f":"IF(理科!O31=1,O$273,0)","v":0},{"$f":"IF(理科!P31=1,P$273,0)","v":0},{"$f":"IF(理科!Q31=1,Q$273,0)","v":0},{"$f":"IF(理科!R31=1,R$273,0)","v":0},{"$f":"IF(理科!S31=1,S$273,0)","v":0},{"$f":"IF(理科!T31=1,T$273,0)","v":0},{"$f":"IF(理科!U31=1,U$273,0)","v":0},{"$f":"IF(理科!V31=1,V$273,0)","v":0},{"$f":"IF(理科!W31=1,W$273,0)","v":0},{"$f":"IF(理科!X31=1,X$273,0)","v":0},{"$f":"IF(理科!Y31=1,Y$273,0)","v":0},{"$f":"IF(理科!Z31=1,Z$273,0)","v":0},{"$f":"IF(理科!AA31=1,AA$273,0)","v":0},{"$f":"IF(理科!AB31=1,AB$273,0)","v":0},{"$f":"IF(理科!AC31=1,AC$273,0)","v":0},{"$f":"IF(理科!AD31=1,AD$273,0)","v":0},{"$f":"IF(理科!AE31=1,AE$273,0)","v":0},{"$f":"IF(理科!AF31=1,AF$273,0)","v":0},{"$f":"IF(理科!AG31=1,AG$273,0)","v":0},{"$f":"IF(理科!AH31=1,AH$273,0)","v":0},{"$f":"IF(理科!AI31=1,AI$273,0)","v":0},{"$f":"IF(理科!AJ31=1,AJ$273,0)","v":0},{"$f":"IF(理科!AK31=1,AK$273,0)","v":0},{"$f":"IF(理科!AL31=1,AL$273,0)","v":0},{"$f":"IF(理科!AM31=1,AM$273,0)","v":0},{"$f":"IF(理科!AN31=1,AN$273,0)","v":0},{"$f":"IF(理科!AO31=1,AO$273,0)","v":0},{"$f":"IF(理科!AP31=1,AP$273,0)","v":0},{"$f":"IF(理科!AQ31=1,AQ$273,0)","v":0},{"$f":"IF(理科!AR31=1,AR$273,0)","v":0},{"$f":"IF(理科!AS31=1,AS$273,0)","v":0},{"$f":"IF(理科!AT31=1,AT$273,0)","v":0},{"$f":"IF(理科!AU31=1,AU$273,0)","v":0},{"$f":"IF(理科!AV31=1,AV$273,0)","v":0},{"$f":"IF(理科!AW31=1,AW$273,0)","v":0},{"$f":"IF(理科!AX31=1,AX$273,0)","v":0},{"$f":"IF(理科!AY31=1,AY$273,0)","v":0},{"$f":"IF(理科!AZ31=1,AZ$273,0)","v":0},{"$f":"IF(理科!BA31=1,BA$273,0)","v":0},{"$f":"IF(理科!BB31=1,BB$273,0)","v":0},null,0,0,{"$error":"#DIV/0!"},{"$error":"#DIV/0!"},{"$error":"#DIV/0!"}]
[null,22,null,null,{"$f":"IF(理科!E32=1,E$273,0)","v":0},{"$f":"IF(理科!F32=1,F$273,0)","v":0},{"$f":"IF(理科!G32=1,G$273,0)","v":0},{"$f":"IF(理科!H32=1,H$273,0)","v":0},{"$f":"IF(理科!I32=1,I$273,0)","v":0},{"$f":"IF(理科!J32=1,J$273,0)","v":0},{"$f":"IF(理科!K32=1,K$273,0)","v":0},{"$f":"IF(理科!L32=1,L$273,0)","v":0},{"$f":"IF(理科!M32=1,M$273,0)","v":0},{"$f":"IF(理科!N32=1,N$273,0)","v":0},{"$f":"IF(理科!O32=1,O$273,0)","v":0},{"$f":"IF(理科!P32=1,P$273,0)","v":0},{"$f":"IF(理科!Q32=1,Q$273,0)","v":0},{"$f":"IF(理科!R32=1,R$273,0)","v":0},{"$f":"IF(理科!S32=1,S$273,0)","v":0},{"$f":"IF(理科!T32=1,T$273,0)","v":0},{"$f":"IF(理科!U32=1,U$273,0)","v":0},{"$f":"IF(理科!V32=1,V$273,0)","v":0},{"$f":"IF(理科!W32=1,W$273,0)","v":0},{"$f":"IF(理科!X32=1,X$273,0)","v":0},{"$f":"IF(理科!Y32=1,Y$273,0)","v":0},{"$f":"IF(理科!Z32=1,Z$273,0)","v":0},{"$f":"IF(理科!AA32=1,AA$273,0)","v":0},{"$f":"IF(理科!AB32=1,AB$273,0)","v":0},{"$f":"IF(理科!AC32=1,AC$273,0)","v":0},{"$f":"IF(理科!AD32=1,AD$273,0)","v":0},{"$f":"IF(理科!AE32=1,AE$273,0)","v":0},{"$f":"IF(理科!AF32=1,AF$273,0)","v":0},{"$f":"IF(理科!AG32=1,AG$273,0)","v":0},{"$f":"IF(理科!AH32=1,AH$273,0)","v":0},{"$f":"IF(理科!AI32=1,AI$273,0)","v":0},{"$f":"IF(理科!AJ32=1,AJ$273,0)","v":0},{"$f":"IF(理科!AK32=1,AK$273,0)","v":0},{"$f":"IF(理科!AL32=1,AL$273,0)","v":0},{"$f":"IF(理科!AM32=1,AM$273,0)","v":0},{"$f":"IF(理科!AN32=1,AN$273,0)","v":0},{"$f":"IF(理科!AO32=1,AO$273,0)","v":0},{"$f":"IF(理科!AP32=1,AP$273,0)","v":0},{"$f":"IF(理科!AQ32=1,AQ$273,0)","v":0},{"$f":"IF(理科!AR32=1,AR$273,0)","v":0},{"$f":"IF(理科!AS32=1,AS$273,0)","v":0},{"$f":"IF(理科!AT32=1,AT$273,0)","v":0},{"$f":"IF(理科!AU32=1,AU$273,0)","v":0},{"$f":"IF(理科!AV32=1,AV$273,0)","v":0},{"$f":"IF(理科!AW32=1,AW$273,0)","v":0},{"$f":"IF(理科!AX32=1,AX$273,0)","v":0},{"$f":"IF(理科!AY32=1,AY$273,0)","v":0},{"$f":"IF(理科!AZ32=1,AZ$273,0)","v":0},{"$f":"IF(理科!BA32=1,BA$273,0)","v":0},{"$f":"IF(理科!BB32=1,BB$273,0)","v":0},null,0,0,{"$error":"#DIV/0!"},{"$error":"#DIV/0!"},{"$error":"#DIV/0!"}]
[null,23,null,null,{"$f":"IF(理科!E33=1,E$273,0)","v":0},{"$f":"IF(理科!F33=1,F$273,0)","v":0},{"$f":"IF(理科!G33=1,G$273,0)","v":0},{"$f":"IF(理科!H33=1,H$273,0)","v":0},{"$f":"IF(理科!I33=1,I$273,0)","v":0},{"$f":"IF(理科!J33=1,J$273,0)","v":0},{"$f":"IF(理科!K33=1,K$273,0)","v":0},{"$f":"IF(理科!L33=1,L$273,0)","v":0},{"$f":"IF(理科!M33=1,M$273,0)","v":0},{"$f":"IF(理科!N33=1,N$273,0)","v":0},{"$f":"IF(理科!O33=1,O$273,0)","v":0},{"$f":"IF(理科!P33=1,P$273,0)","v":0},{"$f":"IF(理科!Q33=1,Q$273,0)","v":0},{"$f":"IF(理科!R33=1,R$273,0)","v":0},{"$f":"IF(理科!S33=1,S$273,0)","v":0},{"$f":"IF(理科!T33=1,T$273,0)","v":0},{"$f":"IF(理科!U33=1,U$273,0)","v":0},{"$f":"IF(理科!V33=1,V$273,0)","v":0},{"$f":"IF(理科!W33=1,W$273,0)","v":0},{"$f":"IF(理科!X33=1,X$273,0)","v":0},{"$f":"IF(理科!Y33=1,Y$273,0)","v":0},{"$f":"IF(理科!Z33=1,Z$273,0)","v":0},{"$f":"IF(理科!AA33=1,AA$273,0)","v":0},{"$f":"IF(理科!AB33=1,AB$273,0)","v":0},{"$f":"IF(理科!AC33=1,AC$273,0)","v":0},{"$f":"IF(理科!AD33=1,AD$273,0)","v":0},{"$f":"IF(理科!AE33=1,AE$273,0)","v":0},{"$f":"IF(理科!AF33=1,AF$273,0)","v":0},{"$f":"IF(理科!AG33=1,AG$273,0)","v":0},{"$f":"IF(理科!AH33=1,AH$273,0)","v":0},{"$f":"IF(理科!AI33=1,AI$273,0)","v":0},{"$f":"IF(理科!AJ33=1,AJ$273,0)","v":0},{"$f":"IF(理科!AK33=1,AK$273,0)","v":0},{"$f":"IF(理科!AL33=1,AL$273,0)","v":0},{"$f":"IF(理科!AM33=1,AM$273,0)","v":0},{"$f":"IF(理科!AN33=1,AN$273,0)","v":0},{"$f":"IF(理科!AO33=1,AO$273,0)","v":0},{"$f":"IF(理科!AP33=1,AP$273,0)","v":0},{"$f":"IF(理科!AQ33=1,AQ$273,0)","v":0},{"$f":"IF(理科!AR33=1,AR$273,0)","v":0},{"$f":"IF(理科!AS33=1,AS$273,0)","v":0},{"$f":"IF(理科!AT33=1,AT$273,0)","v":0},{"$f":"IF(理科!AU33=1,AU$273,0)","v":0},{"$f":"IF(理科!AV33=1,AV$273,0)","v":0},{"$f":"IF(理科!AW33=1,AW$273,0)","v":0},{"$f":"IF(理科!AX33=1,AX$273,0)","v":0},{"$f":"IF(理科!AY33=1,AY$273,0)","v":0},{"$f":"IF(理科!AZ33=1,AZ$273,0)","v":0},{"$f":"IF(理科!BA33=1,BA$273,0)","v":0},{"$f":"IF(理科!BB33=1,BB$273,0)","v":0},null,0,0,{"$error":"#DIV/0!"},{"$error":"#DIV/0!"},{"$error":"#DIV/0!"}]
[null,24,null,null,{"$f":"IF(理科!E34=1,E$273,0)","v":0},{"$f":"IF(理科!F34=1,F$273,0)","v":0},{"$f":"IF(理科!G34=1,G$273,0)","v":0},{"$f":"IF(理科!H34=1,H$273,0)","v":0},{"$f":"IF(理科!I34=1,I$273,0)","v":0},{"$f":"IF(理科!J34=1,J$273,0)","v":0},{"$f":"IF(理科!K34=1,K$273,0)","v":0},{"$f":"IF(理科!L34=1,L$273,0)","v":0},{"$f":"IF(理科!M34=1,M$273,0)","v":0},{"$f":"IF(理科!N34=1,N$273,0)","v":0},{"$f":"IF(理科!O34=1,O$273,0)","v":0},{"$f":"IF(理科!P34=1,P$273,0)","v":0},{"$f":"IF(理科!Q34=1,Q$273,0)","v":0},{"$f":"IF(理科!R34=1,R$273,0)","v":0},{"$f":"IF(理科!S34=1,S$273,0)","v":0},{"$f":"IF(理科!T34=1,T$273,0)","v":0},{"$f":"IF(理科!U34=1,U$273,0)","v":0},{"$f":"IF(理科!V34=1,V$273,0)","v":0},{"$f":"IF(理科!W34=1,W$273,0)","v":0},{"$f":"IF(理科!X34=1,X$273,0)","v":0},{"$f":"IF(理科!Y34=1,Y$273,0)","v":0},{"$f":"IF(理科!Z34=1,Z$273,0)","v":0},{"$f":"IF(理科!AA34=1,AA$273,0)","v":0},{"$f":"IF(理科!AB34=1,AB$273,0)","v":0},{"$f":"IF(理科!AC34=1,AC$273,0)","v":0},{"$f":"IF(理科!AD34=1,AD$273,0)","v":0},{"$f":"IF(理科!AE34=1,AE$273,0)","v":0},{"$f":"IF(理科!AF34=1,AF$273,0)","v":0},{"$f":"IF(理科!AG34=1,AG$273,0)","v":0},{"$f":"IF(理科!AH34=1,AH$273,0)","v":0},{"$f":"IF(理科!AI34=1,AI$273,0)","v":0},{"$f":"IF(理科!AJ34=1,AJ$273,0)","v":0},{"$f":"IF(理科!AK34=1,AK$273,0)","v":0},{"$f":"IF(理科!AL34=1,AL$273,0)","v":0},{"$f":"IF(理科!AM34=1,AM$273,0)","v":0},{"$f":"IF(理科!AN34=1,AN$273,0)","v":0},{"$f":"IF(理科!AO34=1,AO$273,0)","v":0},{"$f":"IF(理科!AP34=1,AP$273,0)","v":0},{"$f":"IF(理科!AQ34=1,AQ$273,0)","v":0},{"$f":"IF(理科!AR34=1,AR$273,0)","v":0},{"$f":"IF(理科!AS34=1,AS$273,0)","v":0},{"$f":"IF(理科!AT34=1,AT$273,0)","v":0},{"$f":"IF(理科!AU34=1,AU$273,0)","v":0},{"$f":"IF(理科!AV34=1,AV$273,0)","v":0},{"$f":"IF(理科!AW34=1,AW$273,0)","v":0},{"$f":"IF(理科!AX34=1,AX$273,0)","v":0},{"$f":"IF(理科!AY34=1,AY$273,0)","v":0},{"$f":"IF(理科!AZ34=1,AZ$273,0)","v":0},{"$f":"IF(理科!BA34=1,BA$273,0)","v":0},{"$f":"IF(理科!BB34=1,BB$273,0)","v":0},null,0,0,{"$error":"#DIV/0!"},{"$error":"#DIV/0!"},{"$error":"#DIV/0!"}]
[null,25,null,null,{"$f":"IF(理科!E35=1,E$273,0)","v":0},{"$f":"IF(理科!F35=1,F$273,0)","v":0},{"$f":"IF(理科!G35=1,G$273,0)","v":0},{"$f":"IF(理科!H35=1,H$273,0)","v":0},{"$f":"IF(理科!I35=1,I$273,0)","v":0},{"$f":"IF(理科!J35=1,J$273,0)","v":0},{"$f":"IF(理科!K35=1,K$273,0)","v":0},{"$f":"IF(理科!L35=1,L$273,0)","v":0},{"$f":"IF(理科!M35=1,M$273,0)","v":0},{"$f":"IF(理科!N35=1,N$273,0)","v":0},{"$f":"IF(理科!O35=1,O$273,0)","v":0},{"$f":"IF(理科!P35=1,P$273,0)","v":0},{"$f":"IF(理科!Q35=1,Q$273,0)","v":0},{"$f":"IF(理科!R35=1,R$273,0)","v":0},{"$f":"IF(理科!S35=1,S$273,0)","v":0},{"$f":"IF(理科!T35=1,T$273,0)","v":0},{"$f":"IF(理科!U35=1,U$273,0)","v":0},{"$f":"IF(理科!V35=1,V$273,0)","v":0},{"$f":"IF(理科!W35=1,W$273,0)","v":0},{"$f":"IF(理科!X35=1,X$273,0)","v":0},{"$f":"IF(理科!Y35=1,Y$273,0)","v":0},{"$f":"IF(理科!Z35=1,Z$273,0)","v":0},{"$f":"IF(理科!AA35=1,AA$273,0)","v":0},{"$f":"IF(理科!AB35=1,AB$273,0)","v":0},{"$f":"IF(理科!AC35=1,AC$273,0)","v":0},{"$f":"IF(理科!AD35=1,AD$273,0)","v":0},{"$f":"IF(理科!AE35=1,AE$273,0)","v":0},{"$f":"IF(理科!AF35=1,AF$273,0)","v":0},{"$f":"IF(理科!AG35=1,AG$273,0)","v":0},{"$f":"IF(理科!AH35=1,AH$273,0)","v":0},{"$f":"IF(理科!AI35=1,AI$273,0)","v":0},{"$f":"IF(理科!AJ35=1,AJ$273,0)","v":0},{"$f":"IF(理科!AK35=1,AK$273,0)","v":0},{"$f":"IF(理科!AL35=1,AL$273,0)","v":0},{"$f":"IF(理科!AM35=1,AM$273,0)","v":0},{"$f":"IF(理科!AN35=1,AN$273,0)","v":0},{"$f":"IF(理科!AO35=1,AO$273,0)","v":0},{"$f":"IF(理科!AP35=1,AP$273,0)","v":0},{"$f":"IF(理科!AQ35=1,AQ$273,0)","v":0},{"$f":"IF(理科!AR35=1,AR$273,0)","v":0},{"$f":"IF(理科!AS35=1,AS$273,0)","v":0},{"$f":"IF(理科!AT35=1,AT$273,0)","v":0},{"$f":"IF(理科!AU35=1,AU$273,0)","v":0},{"$f":"IF(理科!AV35=1,AV$273,0)","v":0},{"$f":"IF(理科!AW35=1,AW$273,0)","v":0},{"$f":"IF(理科!AX35=1,AX$273,0)","v":0},{"$f":"IF(理科!AY35=1,AY$273,0)","v":0},{"$f":"IF(理科!AZ35=1,AZ$273,0)","v":0},{"$f":"IF(理科!BA35=1,BA$273,0)","v":0},{"$f":"IF(理科!BB35=1,BB$273,0)","v":0},null,0,0,{"$error":"#DIV/0!"},{"$error":"#DIV/0!"},{"$error":"#DIV/0!"}]
[null,26,null,null,{"$f":"IF(理科!E36=1,E$273,0)","v":0},{"$f":"IF(理科!F36=1,F$273,0)","v":0},{"$f":"IF(理科!G36=1,G$273,0)","v":0},{"$f":"IF(理科!H36=1,H$273,0)","v":0},{"$f":"IF(理科!I36=1,I$273,0)","v":0},{"$f":"IF(理科!J36=1,J$273,0)","v":0},{"$f":"IF(理科!K36=1,K$273,0)","v":0},{"$f":"IF(理科!L36=1,L$273,0)","v":0},{"$f":"IF(理科!M36=1,M$273,0)","v":0},{"$f":"IF(理科!N36=1,N$273,0)","v":0},{"$f":"IF(理科!O36=1,O$273,0)","v":0},{"$f":"IF(理科!P36=1,P$273,0)","v":0},{"$f":"IF(理科!Q36=1,Q$273,0)","v":0},{"$f":"IF(理科!R36=1,R$273,0)","v":0},{"$f":"IF(理科!S36=1,S$273,0)","v":0},{"$f":"IF(理科!T36=1,T$273,0)","v":0},{"$f":"IF(理科!U36=1,U$273,0)","v":0},{"$f":"IF(理科!V36=1,V$273,0)","v":0},{"$f":"IF(理科!W36=1,W$273,0)","v":0},{"$f":"IF(理科!X36=1,X$273,0)","v":0},{"$f":"IF(理科!Y36=1,Y$273,0)","v":0},{"$f":"IF(理科!Z36=1,Z$273,0)","v":0},{"$f":"IF(理科!AA36=1,AA$273,0)","v":0},{"$f":"IF(理科!AB36=1,AB$273,0)","v":0},{"$f":"IF(理科!AC36=1,AC$273,0)","v":0},{"$f":"IF(理科!AD36=1,AD$273,0)","v":0},{"$f":"IF(理科!AE36=1,AE$273,0)","v":0},{"$f":"IF(理科!AF36=1,AF$273,0)","v":0},{"$f":"IF(理科!AG36=1,AG$273,0)","v":0},{"$f":"IF(理科!AH36=1,AH$273,0)","v":0},{"$f":"IF(理科!AI36=1,AI$273,0)","v":0},{"$f":"IF(理科!AJ36=1,AJ$273,0)","v":0},{"$f":"IF(理科!AK36=1,AK$273,0)","v":0},{"$f":"IF(理科!AL36=1,AL$273,0)","v":0},{"$f":"IF(理科!AM36=1,AM$273,0)","v":0},{"$f":"IF(理科!AN36=1,AN$273,0)","v":0},{"$f":"IF(理科!AO36=1,AO$273,0)","v":0},{"$f":"IF(理科!AP36=1,AP$273,0)","v":0},{"$f":"IF(理科!AQ36=1,AQ$273,0)","v":0},{"$f":"IF(理科!AR36=1,AR$273,0)","v":0},{"$f":"IF(理科!AS36=1,AS$273,0)","v":0},{"$f":"IF(理科!AT36=1,AT$273,0)","v":0},{"$f":"IF(理科!AU36=1,AU$273,0)","v":0},{"$f":"IF(理科!AV36=1,AV$273,0)","v":0},{"$f":"IF(理科!AW36=1,AW$273,0)","v":0},{"$f":"IF(理科!AX36=1,AX$273,0)","v":0},{"$f":"IF(理科!AY36=1,AY$273,0)","v":0},{"$f":"IF(理科!AZ36=1,AZ$273,0)","v":0},{"$f":"IF(理科!BA36=1,BA$273,0)","v":0},{"$f":"IF(理科!BB36=1,BB$273,0)","v":0},null,0,0,{"$error":"#DIV/0!"},{"$error":"#DIV/0!"},{"$error":"#DIV/0!"}]
[null,27,null,null,{"$f":"IF(理科!E37=1,E$273,0)","v":0},{"$f":"IF(理科!F37=1,F$273,0)","v":0},{"$f":"IF(理科!G37=1,G$273,0)","v":0},{"$f":"IF(理科!H37=1,H$273,0)","v":0},{"$f":"IF(理科!I37=1,I$273,0)","v":0},{"$f":"IF(理科!J37=1,J$273,0)","v":0},{"$f":"IF(理科!K37=1,K$273,0)","v":0},{"$f":"IF(理科!L37=1,L$273,0)","v":0},{"$f":"IF(理科!M37=1,M$273,0)","v":0},{"$f":"IF(理科!N37=1,N$273,0)","v":0},{"$f":"IF(理科!O37=1,O$273,0)","v":0},{"$f":"IF(理科!P37=1,P$273,0)","v":0},{"$f":"IF(理科!Q37=1,Q$273,0)","v":0},{"$f":"IF(理科!R37=1,R$273,0)","v":0},{"$f":"IF(理科!S37=1,S$273,0)","v":0},{"$f":"IF(理科!T37=1,T$273,0)","v":0},{"$f":"IF(理科!U37=1,U$273,0)","v":0},{"$f":"IF(理科!V37=1,V$273,0)","v":0},{"$f":"IF(理科!W37=1,W$273,0)","v":0},{"$f":"IF(理科!X37=1,X$273,0)","v":0},{"$f":"IF(理科!Y37=1,Y$273,0)","v":0},{"$f":"IF(理科!Z37=1,Z$273,0)","v":0},{"$f":"IF(理科!AA37=1,AA$273,0)","v":0},{"$f":"IF(理科!AB37=1,AB$273,0)","v":0},{"$f":"IF(理科!AC37=1,AC$273,0)","v":0},{"$f":"IF(理科!AD37=1,AD$273,0)","v":0},{"$f":"IF(理科!AE37=1,AE$273,0)","v":0},{"$f":"IF(理科!AF37=1,AF$273,0)","v":0},{"$f":"IF(理科!AG37=1,AG$273,0)","v":0},{"$f":"IF(理科!AH37=1,AH$273,0)","v":0},{"$f":"IF(理科!AI37=1,AI$273,0)","v":0},{"$f":"IF(理科!AJ37=1,AJ$273,0)","v":0},{"$f":"IF(理科!AK37=1,AK$273,0)","v":0},{"$f":"IF(理科!AL37=1,AL$273,0)","v":0},{"$f":"IF(理科!AM37=1,AM$273,0)","v":0},{"$f":"IF(理科!AN37=1,AN$273,0)","v":0},{"$f":"IF(理科!AO37=1,AO$273,0)","v":0},{"$f":"IF(理科!AP37=1,AP$273,0)","v":0},{"$f":"IF(理科!AQ37=1,AQ$273,0)","v":0},{"$f":"IF(理科!AR37=1,AR$273,0)","v":0},{"$f":"IF(理科!AS37=1,AS$273,0)","v":0},{"$f":"IF(理科!AT37=1,AT$273,0)","v":0},{"$f":"IF(理科!AU37=1,AU$273,0)","v":0},{"$f":"IF(理科!AV37=1,AV$273,0)","v":0},{"$f":"IF(理科!AW37=1,AW$273,0)","v":0},{"$f":"IF(理科!AX37=1,AX$273,0)","v":0},{"$f":"IF(理科!AY37=1,AY$273,0)","v":0},{"$f":"IF(理科!AZ37=1,AZ$273,0)","v":0},{"$f":"IF(理科!BA37=1,BA$273,0)","v":0},{"$f":"IF(理科!BB37=1,BB$273,0)","v":0},null,0,0,{"$error":"#DIV/0!"},{"$error":"#DIV/0!"},{"$error":"#DIV/0!"}]
[null,28,null,null,{"$f":"IF(理科!E38=1,E$273,0)","v":0},{"$f":"IF(理科!F38=1,F$273,0)","v":0},{"$f":"IF(理科!G38=1,G$273,0)","v":0},{"$f":"IF(理科!H38=1,H$273,0)","v":0},{"$f":"IF(理科!I38=1,I$273,0)","v":0},{"$f":"IF(理科!J38=1,J$273,0)","v":0},{"$f":"IF(理科!K38=1,K$273,0)","v":0},{"$f":"IF(理科!L38=1,L$273,0)","v":0},{"$f":"IF(理科!M38=1,M$273,0)","v":0},{"$f":"IF(理科!N38=1,N$273,0)","v":0},{"$f":"IF(理科!O38=1,O$273,0)","v":0},{"$f":"IF(理科!P38=1,P$273,0)","v":0},{"$f":"IF(理科!Q38=1,Q$273,0)","v":0},{"$f":"IF(理科!R38=1,R$273,0)","v":0},{"$f":"IF(理科!S38=1,S$273,0)","v":0},{"$f":"IF(理科!T38=1,T$273,0)","v":0},{"$f":"IF(理科!U38=1,U$273,0)","v":0},{"$f":"IF(理科!V38=1,V$273,0)","v":0},{"$f":"IF(理科!W38=1,W$273,0)","v":0},{"$f":"IF(理科!X38=1,X$273,0)","v":0},{"$f":"IF(理科!Y38=1,Y$273,0)","v":0},{"$f":"IF(理科!Z38=1,Z$273,0)","v":0},{"$f":"IF(理科!AA38=1,AA$273,0)","v":0},{"$f":"IF(理科!AB38=1,AB$273,0)","v":0},{"$f":"IF(理科!AC38=1,AC$273,0)","v":0},{"$f":"IF(理科!AD38=1,AD$273,0)","v":0},{"$f":"IF(理科!AE38=1,AE$273,0)","v":0},{"$f":"IF(理科!AF38=1,AF$273,0)","v":0},{"$f":"IF(理科!AG38=1,AG$273,0)","v":0},{"$f":"IF(理科!AH38=1,AH$273,0)","v":0},{"$f":"IF(理科!AI38=1,AI$273,0)","v":0},{"$f":"IF(理科!AJ38=1,AJ$273,0)","v":0},{"$f":"IF(理科!AK38=1,AK$273,0)","v":0},{"$f":"IF(理科!AL38=1,AL$273,0)","v":0},{"$f":"IF(理科!AM38=1,AM$273,0)","v":0},{"$f":"IF(理科!AN38=1,AN$273,0)","v":0},{"$f":"IF(理科!AO38=1,AO$273,0)","v":0},{"$f":"IF(理科!AP38=1,AP$273,0)","v":0},{"$f":"IF(理科!AQ38=1,AQ$273,0)","v":0},{"$f":"IF(理科!AR38=1,AR$273,0)","v":0},{"$f":"IF(理科!AS38=1,AS$273,0)","v":0},{"$f":"IF(理科!AT38=1,AT$273,0)","v":0},{"$f":"IF(理科!AU38=1,AU$273,0)","v":0},{"$f":"IF(理科!AV38=1,AV$273,0)","v":0},{"$f":"IF(理科!AW38=1,AW$273,0)","v":0},{"$f":"IF(理科!AX38=1,AX$273,0)","v":0},{"$f":"IF(理科!AY38=1,AY$273,0)","v":0},{"$f":"IF(理科!AZ38=1,AZ$273,0)","v":0},{"$f":"IF(理科!BA38=1,BA$273,0)","v":0},{"$f":"IF(理科!BB38=1,BB$273,0)","v":0},null,0,0,{"$error":"#DIV/0!"},{"$error":"#DIV/0!"},{"$error":"#DIV/0!"}]
[null,29,null,null,{"$f":"IF(理科!E39=1,E$273,0)","v":0},{"$f":"IF(理科!F39=1,F$273,0)","v":0},{"$f":"IF(理科!G39=1,G$273,0)","v":0},{"$f":"IF(理科!H39=1,H$273,0)","v":0},{"$f":"IF(理科!I39=1,I$273,0)","v":0},{"$f":"IF(理科!J39=1,J$273,0)","v":0},{"$f":"IF(理科!K39=1,K$273,0)","v":0},{"$f":"IF(理科!L39=1,L$273,0)","v":0},{"$f":"IF(理科!M39=1,M$273,0)","v":0},{"$f":"IF(理科!N39=1,N$273,0)","v":0},{"$f":"IF(理科!O39=1,O$273,0)","v":0},{"$f":"IF(理科!P39=1,P$273,0)","v":0},{"$f":"IF(理科!Q39=1,Q$273,0)","v":0},{"$f":"IF(理科!R39=1,R$273,0)","v":0},{"$f":"IF(理科!S39=1,S$273,0)","v":0},{"$f":"IF(理科!T39=1,T$273,0)","v":0},{"$f":"IF(理科!U39=1,U$273,0)","v":0},{"$f":"IF(理科!V39=1,V$273,0)","v":0},{"$f":"IF(理科!W39=1,W$273,0)","v":0},{"$f":"IF(理科!X39=1,X$273,0)","v":0},{"$f":"IF(理科!Y39=1,Y$273,0)","v":0},{"$f":"IF(理科!Z39=1,Z$273,0)","v":0},{"$f":"IF(理科!AA39=1,AA$273,0)","v":0},{"$f":"IF(理科!AB39=1,AB$273,0)","v":0},{"$f":"IF(理科!AC39=1,AC$273,0)","v":0},{"$f":"IF(理科!AD39=1,AD$273,0)","v":0},{"$f":"IF(理科!AE39=1,AE$273,0)","v":0},{"$f":"IF(理科!AF39=1,AF$273,0)","v":0},{"$f":"IF(理科!AG39=1,AG$273,0)","v":0},{"$f":"IF(理科!AH39=1,AH$273,0)","v":0},{"$f":"IF(理科!AI39=1,AI$273,0)","v":0},{"$f":"IF(理科!AJ39=1,AJ$273,0)","v":0},{"$f":"IF(理科!AK39=1,AK$273,0)","v":0},{"$f":"IF(理科!AL39=1,AL$273,0)","v":0},{"$f":"IF(理科!AM39=1,AM$273,0)","v":0},{"$f":"IF(理科!AN39=1,AN$273,0)","v":0},{"$f":"IF(理科!AO39=1,AO$273,0)","v":0},{"$f":"IF(理科!AP39=1,AP$273,0)","v":0},{"$f":"IF(理科!AQ39=1,AQ$273,0)","v":0},{"$f":"IF(理科!AR39=1,AR$273,0)","v":0},{"$f":"IF(理科!AS39=1,AS$273,0)","v":0},{"$f":"IF(理科!AT39=1,AT$273,0)","v":0},{"$f":"IF(理科!AU39=1,AU$273,0)","v":0},{"$f":"IF(理科!AV39=1,AV$273,0)","v":0},{"$f":"IF(理科!AW39=1,AW$273,0)","v":0},{"$f":"IF(理科!AX39=1,AX$273,0)","v":0},{"$f":"IF(理科!AY39=1,AY$273,0)","v":0},{"$f":"IF(理科!AZ39=1,AZ$273,0)","v":0},{"$f":"IF(理科!BA39=1,BA$273,0)","v":0},{"$f":"IF(理科!BB39=1,BB$273,0)","v":0},null,0,0,{"$error":"#DIV/0!"},{"$error":"#DIV/0!"},{"$error":"#DIV/0!"}]
[null,30,null,null,{"$f":"IF(理科!E40=1,E$273,0)","v":0},{"$f":"IF(理科!F40=1,F$273,0)","v":0},{"$f":"IF(理科!G40=1,G$273,0)","v":0},{"$f":"IF(理科!H40=1,H$273,0)","v":0},{"$f":"IF(理科!I40=1,I$273,0)","v":0},{"$f":"IF(理科!J40=1,J$273,0)","v":0},{"$f":"IF(理科!K40=1,K$273,0)","v":0},{"$f":"IF(理科!L40=1,L$273,0)","v":0},{"$f":"IF(理科!M40=1,M$273,0)","v":0},{"$f":"IF(理科!N40=1,N$273,0)","v":0},{"$f":"IF(理科!O40=1,O$273,0)","v":0},{"$f":"IF(理科!P40=1,P$273,0)","v":0},{"$f":"IF(理科!Q40=1,Q$273,0)","v":0},{"$f":"IF(理科!R40=1,R$273,0)","v":0},{"$f":"IF(理科!S40=1,S$273,0)","v":0},{"$f":"IF(理科!T40=1,T$273,0)","v":0},{"$f":"IF(理科!U40=1,U$273,0)","v":0},{"$f":"IF(理科!V40=1,V$273,0)","v":0},{"$f":"IF(理科!W40=1,W$273,0)","v":0},{"$f":"IF(理科!X40=1,X$273,0)","v":0},{"$f":"IF(理科!Y40=1,Y$273,0)","v":0},{"$f":"IF(理科!Z40=1,Z$273,0)","v":0},{"$f":"IF(理科!AA40=1,AA$273,0)","v":0},{"$f":"IF(理科!AB40=1,AB$273,0)","v":0},{"$f":"IF(理科!AC40=1,AC$273,0)","v":0},{"$f":"IF(理科!AD40=1,AD$273,0)","v":0},{"$f":"IF(理科!AE40=1,AE$273,0)","v":0},{"$f":"IF(理科!AF40=1,AF$273,0)","v":0},{"$f":"IF(理科!AG40=1,AG$273,0)","v":0},{"$f":"IF(理科!AH40=1,AH$273,0)","v":0},{"$f":"IF(理科!AI40=1,AI$273,0)","v":0},{"$f":"IF(理科!AJ40=1,AJ$273,0)","v":0},{"$f":"IF(理科!AK40=1,AK$273,0)","v":0},{"$f":"IF(理科!AL40=1,AL$273,0)","v":0},{"$f":"IF(理科!AM40=1,AM$273,0)","v":0},{"$f":"IF(理科!AN40=1,AN$273,0)","v":0},{"$f":"IF(理科!AO40=1,AO$273,0)","v":0},{"$f":"IF(理科!AP40=1,AP$273,0)","v":0},{"$f":"IF(理科!AQ40=1,AQ$273,0)","v":0},{"$f":"IF(理科!AR40=1,AR$273,0)","v":0},{"$f":"IF(理科!AS40=1,AS$273,0)","v":0},{"$f":"IF(理科!AT40=1,AT$273,0)","v":0},{"$f":"IF(理科!AU40=1,AU$273,0)","v":0},{"$f":"IF(理科!AV40=1,AV$273,0)","v":0},{"$f":"IF(理科!AW40=1,AW$273,0)","v":0},{"$f":"IF(理科!AX40=1,AX$273,0)","v":0},{"$f":"IF(理科!AY40=1,AY$273,0)","v":0},{"$f":"IF(理科!AZ40=1,AZ$273,0)","v":0},{"$f":"IF(理科!BA40=1,BA$273,0)","v":0},{"$f":"IF(理科!BB40=1,BB$273,0)","v":0},null,0,0,{"$error":"#DIV/0!"},{"$error":"#DIV/0!"},{"$error":"#DIV/0!"}]
[null,31,null,null,{"$f":"IF(理科!E41=1,E$273,0)","v":0},{"$f":"IF(理科!F41=1,F$273,0)","v":0},{"$f":"IF(理科!G41=1,G$273,0)","v":0},{"$f":"IF(理科!H41=1,H$273,0)","v":0},{"$f":"IF(理科!I41=1,I$273,0)","v":0},{"$f":"IF(理科!J41=1,J$273,0)","v":0},{"$f":"IF(理科!K41=1,K$273,0)","v":0},{"$f":"IF(理科!L41=1,L$273,0)","v":0},{"$f":"IF(理科!M41=1,M$273,0)","v":0},{"$f":"IF(理科!N41=1,N$273,0)","v":0},{"$f":"IF(理科!O41=1,O$273,0)","v":0},{"$f":"IF(理科!P41=1,P$273,0)","v":0},{"$f":"IF(理科!Q41=1,Q$273,0)","v":0},{"$f":"IF(理科!R41=1,R$273,0)","v":0},{"$f":"IF(理科!S41=1,S$273,0)","v":0},{"$f":"IF(理科!T41=1,T$273,0)","v":0},{"$f":"IF(理科!U41=1,U$273,0)","v":0},{"$f":"IF(理科!V41=1,V$273,0)","v":0},{"$f":"IF(理科!W41=1,W$273,0)","v":0},{"$f":"IF(理科!X41=1,X$273,0)","v":0},{"$f":"IF(理科!Y41=1,Y$273,0)","v":0},{"$f":"IF(理科!Z41=1,Z$273,0)","v":0},{"$f":"IF(理科!AA41=1,AA$273,0)","v":0},{"$f":"IF(理科!AB41=1,AB$273,0)","v":0},{"$f":"IF(理科!AC41=1,AC$273,0)","v":0},{"$f":"IF(理科!AD41=1,AD$273,0)","v":0},{"$f":"IF(理科!AE41=1,AE$273,0)","v":0},{"$f":"IF(理科!AF41=1,AF$273,0)","v":0},{"$f":"IF(理科!AG41=1,AG$273,0)","v":0},{"$f":"IF(理科!AH41=1,AH$273,0)","v":0},{"$f":"IF(理科!AI41=1,AI$273,0)","v":0},{"$f":"IF(理科!AJ41=1,AJ$273,0)","v":0},{"$f":"IF(理科!AK41=1,AK$273,0)","v":0},{"$f":"IF(理科!AL41=1,AL$273,0)","v":0},{"$f":"IF(理科!AM41=1,AM$273,0)","v":0},{"$f":"IF(理科!AN41=1,AN$273,0)","v":0},{"$f":"IF(理科!AO41=1,AO$273,0)","v":0},{"$f":"IF(理科!AP41=1,AP$273,0)","v":0},{"$f":"IF(理科!AQ41=1,AQ$273,0)","v":0},{"$f":"IF(理科!AR41=1,AR$273,0)","v":0},{"$f":"IF(理科!AS41=1,AS$273,0)","v":0},{"$f":"IF(理科!AT41=1,AT$273,0)","v":0},{"$f":"IF(理科!AU41=1,AU$273,0)","v":0},{"$f":"IF(理科!AV41=1,AV$273,0)","v":0},{"$f":"IF(理科!AW41=1,AW$273,0)","v":0},{"$f":"IF(理科!AX41=1,AX$273,0)","v":0},{"$f":"IF(理科!AY41=1,AY$273,0)","v":0},{"$f":"IF(理科!AZ41=1,AZ$273,0)","v":0},{"$f":"IF(理科!BA41=1,BA$273,0)","v":0},{"$f":"IF(理科!BB41=1,BB$273,0)","v":0},null,0,0,{"$error":"#DIV/0!"},{"$error":"#DIV/0!"},{"$error":"#DIV/0!"}]
[null,32,null,null,{"$f":"IF(理科!E42=1,E$273,0)","v":0},{"$f":"IF(理科!F42=1,F$273,0)","v":0},{"$f":"IF(理科!G42=1,G$273,0)","v":0},{"$f":"IF(理科!H42=1,H$273,0)","v":0},{"$f":"IF(理科!I42=1,I$273,0)","v":0},{"$f":"IF(理科!J42=1,J$273,0)","v":0},{"$f":"IF(理科!K42=1,K$273,0)","v":0},{"$f":"IF(理科!L42=1,L$273,0)","v":0},{"$f":"IF(理科!M42=1,M$273,0)","v":0},{"$f":"IF(理科!N42=1,N$273,0)","v":0},{"$f":"IF(理科!O42=1,O$273,0)","v":0},{"$f":"IF(理科!P42=1,P$273,0)","v":0},{"$f":"IF(理科!Q42=1,Q$273,0)","v":0},{"$f":"IF(理科!R42=1,R$273,0)","v":0},{"$f":"IF(理科!S42=1,S$273,0)","v":0},{"$f":"IF(理科!T42=1,T$273,0)","v":0},{"$f":"IF(理科!U42=1,U$273,0)","v":0},{"$f":"IF(理科!V42=1,V$273,0)","v":0},{"$f":"IF(理科!W42=1,W$273,0)","v":0},{"$f":"IF(理科!X42=1,X$273,0)","v":0},{"$f":"IF(理科!Y42=1,Y$273,0)","v":0},{"$f":"IF(理科!Z42=1,Z$273,0)","v":0},{"$f":"IF(理科!AA42=1,AA$273,0)","v":0},{"$f":"IF(理科!AB42=1,AB$273,0)","v":0},{"$f":"IF(理科!AC42=1,AC$273,0)","v":0},{"$f":"IF(理科!AD42=1,AD$273,0)","v":0},{"$f":"IF(理科!AE42=1,AE$273,0)","v":0},{"$f":"IF(理科!AF42=1,AF$273,0)","v":0},{"$f":"IF(理科!AG42=1,AG$273,0)","v":0},{"$f":"IF(理科!AH42=1,AH$273,0)","v":0},{"$f":"IF(理科!AI42=1,AI$273,0)","v":0},{"$f":"IF(理科!AJ42=1,AJ$273,0)","v":0},{"$f":"IF(理科!AK42=1,AK$273,0)","v":0},{"$f":"IF(理科!AL42=1,AL$273,0)","v":0},{"$f":"IF(理科!AM42=1,AM$273,0)","v":0},{"$f":"IF(理科!AN42=1,AN$273,0)","v":0},{"$f":"IF(理科!AO42=1,AO$273,0)","v":0},{"$f":"IF(理科!AP42=1,AP$273,0)","v":0},{"$f":"IF(理科!AQ42=1,AQ$273,0)","v":0},{"$f":"IF(理科!AR42=1,AR$273,0)","v":0},{"$f":"IF(理科!AS42=1,AS$273,0)","v":0},{"$f":"IF(理科!AT42=1,AT$273,0)","v":0},{"$f":"IF(理科!AU42=1,AU$273,0)","v":0},{"$f":"IF(理科!AV42=1,AV$273,0)","v":0},{"$f":"IF(理科!AW42=1,AW$273,0)","v":0},{"$f":"IF(理科!AX42=1,AX$273,0)","v":0},{"$f":"IF(理科!AY42=1,AY$273,0)","v":0},{"$f":"IF(理科!AZ42=1,AZ$273,0)","v":0},{"$f":"IF(理科!BA42=1,BA$273,0)","v":0},{"$f":"IF(理科!BB42=1,BB$273,0)","v":0},null,0,0,{"$error":"#DIV/0!"},{"$error":"#DIV/0!"},{"$error":"#DIV/0!"}]
[null,33,null,null,{"$f":"IF(理科!E43=1,E$273,0)","v":0},{"$f":"IF(理科!F43=1,F$273,0)","v":0},{"$f":"IF(理科!G43=1,G$273,0)","v":0},{"$f":"IF(理科!H43=1,H$273,0)","v":0},{"$f":"IF(理科!I43=1,I$273,0)","v":0},{"$f":"IF(理科!J43=1,J$273,0)","v":0},{"$f":"IF(理科!K43=1,K$273,0)","v":0},{"$f":"IF(理科!L43=1,L$273,0)","v":0},{"$f":"IF(理科!M43=1,M$273,0)","v":0},{"$f":"IF(理科!N43=1,N$273,0)","v":0},{"$f":"IF(理科!O43=1,O$273,0)","v":0},{"$f":"IF(理科!P43=1,P$273,0)","v":0},{"$f":"IF(理科!Q43=1,Q$273,0)","v":0},{"$f":"IF(理科!R43=1,R$273,0)","v":0},{"$f":"IF(理科!S43=1,S$273,0)","v":0},{"$f":"IF(理科!T43=1,T$273,0)","v":0},{"$f":"IF(理科!U43=1,U$273,0)","v":0},{"$f":"IF(理科!V43=1,V$273,0)","v":0},{"$f":"IF(理科!W43=1,W$273,0)","v":0},{"$f":"IF(理科!X43=1,X$273,0)","v":0},{"$f":"IF(理科!Y43=1,Y$273,0)","v":0},{"$f":"IF(理科!Z43=1,Z$273,0)","v":0},{"$f":"IF(理科!AA43=1,AA$273,0)","v":0},{"$f":"IF(理科!AB43=1,AB$273,0)","v":0},{"$f":"IF(理科!AC43=1,AC$273,0)","v":0},{"$f":"IF(理科!AD43=1,AD$273,0)","v":0},{"$f":"IF(理科!AE43=1,AE$273,0)","v":0},{"$f":"IF(理科!AF43=1,AF$273,0)","v":0},{"$f":"IF(理科!AG43=1,AG$273,0)","v":0},{"$f":"IF(理科!AH43=1,AH$273,0)","v":0},{"$f":"IF(理科!AI43=1,AI$273,0)","v":0},{"$f":"IF(理科!AJ43=1,AJ$273,0)","v":0},{"$f":"IF(理科!AK43=1,AK$273,0)","v":0},{"$f":"IF(理科!AL43=1,AL$273,0)","v":0},{"$f":"IF(理科!AM43=1,AM$273,0)","v":0},{"$f":"IF(理科!AN43=1,AN$273,0)","v":0},{"$f":"IF(理科!AO43=1,AO$273,0)","v":0},{"$f":"IF(理科!AP43=1,AP$273,0)","v":0},{"$f":"IF(理科!AQ43=1,AQ$273,0)","v":0},{"$f":"IF(理科!AR43=1,AR$273,0)","v":0},{"$f":"IF(理科!AS43=1,AS$273,0)","v":0},{"$f":"IF(理科!AT43=1,AT$273,0)","v":0},{"$f":"IF(理科!AU43=1,AU$273,0)","v":0},{"$f":"IF(理科!AV43=1,AV$273,0)","v":0},{"$f":"IF(理科!AW43=1,AW$273,0)","v":0},{"$f":"IF(理科!AX43=1,AX$273,0)","v":0},{"$f":"IF(理科!AY43=1,AY$273,0)","v":0},{"$f":"IF(理科!AZ43=1,AZ$273,0)","v":0},{"$f":"IF(理科!BA43=1,BA$273,0)","v":0},{"$f":"IF(理科!BB43=1,BB$273,0)","v":0},null,0,0,{"$error":"#DIV/0!"},{"$error":"#DIV/0!"},{"$error":"#DIV/0!"}]
[null,34,null,null,{"$f":"IF(理科!E44=1,E$273,0)","v":0},{"$f":"IF(理科!F44=1,F$273,0)","v":0},{"$f":"IF(理科!G44=1,G$273,0)","v":0},{"$f":"IF(理科!H44=1,H$273,0)","v":0},{"$f":"IF(理科!I44=1,I$273,0)","v":0},{"$f":"IF(理科!J44=1,J$273,0)","v":0},{"$f":"IF(理科!K44=1,K$273,0)","v":0},{"$f":"IF(理科!L44=1,L$273,0)","v":0},{"$f":"IF(理科!M44=1,M$273,0)","v":0},{"$f":"IF(理科!N44=1,N$273,0)","v":0},{"$f":"IF(理科!O44=1,O$273,0)","v":0},{"$f":"IF(理科!P44=1,P$273,0)","v":0},{"$f":"IF(理科!Q44=1,Q$273,0)","v":0},{"$f":"IF(理科!R44=1,R$273,0)","v":0},{"$f":"IF(理科!S44=1,S$273,0)","v":0},{"$f":"IF(理科!T44=1,T$273,0)","v":0},{"$f":"IF(理科!U44=1,U$273,0)","v":0},{"$f":"IF(理科!V44=1,V$273,0)","v":0},{"$f":"IF(理科!W44=1,W$273,0)","v":0},{"$f":"IF(理科!X44=1,X$273,0)","v":0},{"$f":"IF(理科!Y44=1,Y$273,0)","v":0},{"$f":"IF(理科!Z44=1,Z$273,0)","v":0},{"$f":"IF(理科!AA44=1,AA$273,0)","v":0},{"$f":"IF(理科!AB44=1,AB$273,0)","v":0},{"$f":"IF(理科!AC44=1,AC$273,0)","v":0},{"$f":"IF(理科!AD44=1,AD$273,0)","v":0},{"$f":"IF(理科!AE44=1,AE$273,0)","v":0},{"$f":"IF(理科!AF44=1,AF$273,0)","v":0},{"$f":"IF(理科!AG44=1,AG$273,0)","v":0},{"$f":"IF(理科!AH44=1,AH$273,0)","v":0},{"$f":"IF(理科!AI44=1,AI$273,0)","v":0},{"$f":"IF(理科!AJ44=1,AJ$273,0)","v":0},{"$f":"IF(理科!AK44=1,AK$273,0)","v":0},{"$f":"IF(理科!AL44=1,AL$273,0)","v":0},{"$f":"IF(理科!AM44=1,AM$273,0)","v":0},{"$f":"IF(理科!AN44=1,AN$273,0)","v":0},{"$f":"IF(理科!AO44=1,AO$273,0)","v":0},{"$f":"IF(理科!AP44=1,AP$273,0)","v":0},{"$f":"IF(理科!AQ44=1,AQ$273,0)","v":0},{"$f":"IF(理科!AR44=1,AR$273,0)","v":0},{"$f":"IF(理科!AS44=1,AS$273,0)","v":0},{"$f":"IF(理科!AT44=1,AT$273,0)","v":0},{"$f":"IF(理科!AU44=1,AU$273,0)","v":0},{"$f":"IF(理科!AV44=1,AV$273,0)","v":0},{"$f":"IF(理科!AW44=1,AW$273,0)","v":0},{"$f":"IF(理科!AX44=1,AX$273,0)","v":0},{"$f":"IF(理科!AY44=1,AY$273,0)","v":0},{"$f":"IF(理科!AZ44=1,AZ$273,0)","v":0},{"$f":"IF(理科!BA44=1,BA$273,0)","v":0},{"$f":"IF(理科!BB44=1,BB$273,0)","v":0},null,{"$f":"SUMIF($E$272:$BB$272,BD$272,$E307:$BB307)/BD$273","v":0},0,{"$error":"#DIV/0!"},{"$error":"#DIV/0!"},{"$error":"#DIV/0!"}]
[null,35,null,null,{"$f":"IF(理科!E45=1,E$273,0)","v":0},{"$f":"IF(理科!F45=1,F$273,0)","v":0},{"$f":"IF(理科!G45=1,G$273,0)","v":0},{"$f":"IF(理科!H45=1,H$273,0)","v":0},{"$f":"IF(理科!I45=1,I$273,0)","v":0},{"$f":"IF(理科!J45=1,J$273,0)","v":0},{"$f":"IF(理科!K45=1,K$273,0)","v":0},{"$f":"IF(理科!L45=1,L$273,0)","v":0},{"$f":"IF(理科!M45=1,M$273,0)","v":0},{"$f":"IF(理科!N45=1,N$273,0)","v":0},{"$f":"IF(理科!O45=1,O$273,0)","v":0},{"$f":"IF(理科!P45=1,P$273,0)","v":0},{"$f":"IF(理科!Q45=1,Q$273,0)","v":0},{"$f":"IF(理科!R45=1,R$273,0)","v":0},{"$f":"IF(理科!S45=1,S$273,0)","v":0},{"$f":"IF(理科!T45=1,T$273,0)","v":0},{"$f":"IF(理科!U45=1,U$273,0)","v":0},{"$f":"IF(理科!V45=1,V$273,0)","v":0},{"$f":"IF(理科!W45=1,W$273,0)","v":0},{"$f":"IF(理科!X45=1,X$273,0)","v":0},{"$f":"IF(理科!Y45=1,Y$273,0)","v":0},{"$f":"IF(理科!Z45=1,Z$273,0)","v":0},{"$f":"IF(理科!AA45=1,AA$273,0)","v":0},{"$f":"IF(理科!AB45=1,AB$273,0)","v":0},{"$f":"IF(理科!AC45=1,AC$273,0)","v":0},{"$f":"IF(理科!AD45=1,AD$273,0)","v":0},{"$f":"IF(理科!AE45=1,AE$273,0)","v":0},{"$f":"IF(理科!AF45=1,AF$273,0)","v":0},{"$f":"IF(理科!AG45=1,AG$273,0)","v":0},{"$f":"IF(理科!AH45=1,AH$273,0)","v":0},{"$f":"IF(理科!AI45=1,AI$273,0)","v":0},{"$f":"IF(理科!AJ45=1,AJ$273,0)","v":0},{"$f":"IF(理科!AK45=1,AK$273,0)","v":0},{"$f":"IF(理科!AL45=1,AL$273,0)","v":0},{"$f":"IF(理科!AM45=1,AM$273,0)","v":0},{"$f":"IF(理科!AN45=1,AN$273,0)","v":0},{"$f":"IF(理科!AO45=1,AO$273,0)","v":0},{"$f":"IF(理科!AP45=1,AP$273,0)","v":0},{"$f":"IF(理科!AQ45=1,AQ$273,0)","v":0},{"$f":"IF(理科!AR45=1,AR$273,0)","v":0},{"$f":"IF(理科!AS45=1,AS$273,0)","v":0},{"$f":"IF(理科!AT45=1,AT$273,0)","v":0},{"$f":"IF(理科!AU45=1,AU$273,0)","v":0},{"$f":"IF(理科!AV45=1,AV$273,0)","v":0},{"$f":"IF(理科!AW45=1,AW$273,0)","v":0},{"$f":"IF(理科!AX45=1,AX$273,0)","v":0},{"$f":"IF(理科!AY45=1,AY$273,0)","v":0},{"$f":"IF(理科!AZ45=1,AZ$273,0)","v":0},{"$f":"IF(理科!BA45=1,BA$273,0)","v":0},{"$f":"IF(理科!BB45=1,BB$273,0)","v":0},null,0,0,{"$error":"#DIV/0!"},{"$error":"#DIV/0!"},{"$error":"#DIV/0!"}]
[null,36,null,null,{"$f":"IF(理科!E46=1,E$273,0)","v":0},{"$f":"IF(理科!F46=1,F$273,0)","v":0},{"$f":"IF(理科!G46=1,G$273,0)","v":0},{"$f":"IF(理科!H46=1,H$273,0)","v":0},{"$f":"IF(理科!I46=1,I$273,0)","v":0},{"$f":"IF(理科!J46=1,J$273,0)","v":0},{"$f":"IF(理科!K46=1,K$273,0)","v":0},{"$f":"IF(理科!L46=1,L$273,0)","v":0},{"$f":"IF(理科!M46=1,M$273,0)","v":0},{"$f":"IF(理科!N46=1,N$273,0)","v":0},{"$f":"IF(理科!O46=1,O$273,0)","v":0},{"$f":"IF(理科!P46=1,P$273,0)","v":0},{"$f":"IF(理科!Q46=1,Q$273,0)","v":0},{"$f":"IF(理科!R46=1,R$273,0)","v":0},{"$f":"IF(理科!S46=1,S$273,0)","v":0},{"$f":"IF(理科!T46=1,T$273,0)","v":0},{"$f":"IF(理科!U46=1,U$273,0)","v":0},{"$f":"IF(理科!V46=1,V$273,0)","v":0},{"$f":"IF(理科!W46=1,W$273,0)","v":0},{"$f":"IF(理科!X46=1,X$273,0)","v":0},{"$f":"IF(理科!Y46=1,Y$273,0)","v":0},{"$f":"IF(理科!Z46=1,Z$273,0)","v":0},{"$f":"IF(理科!AA46=1,AA$273,0)","v":0},{"$f":"IF(理科!AB46=1,AB$273,0)","v":0},{"$f":"IF(理科!AC46=1,AC$273,0)","v":0},{"$f":"IF(理科!AD46=1,AD$273,0)","v":0},{"$f":"IF(理科!AE46=1,AE$273,0)","v":0},{"$f":"IF(理科!AF46=1,AF$273,0)","v":0},{"$f":"IF(理科!AG46=1,AG$273,0)","v":0},{"$f":"IF(理科!AH46=1,AH$273,0)","v":0},{"$f":"IF(理科!AI46=1,AI$273,0)","v":0},{"$f":"IF(理科!AJ46=1,AJ$273,0)","v":0},{"$f":"IF(理科!AK46=1,AK$273,0)","v":0},{"$f":"IF(理科!AL46=1,AL$273,0)","v":0},{"$f":"IF(理科!AM46=1,AM$273,0)","v":0},{"$f":"IF(理科!AN46=1,AN$273,0)","v":0},{"$f":"IF(理科!AO46=1,AO$273,0)","v":0},{"$f":"IF(理科!AP46=1,AP$273,0)","v":0},{"$f":"IF(理科!AQ46=1,AQ$273,0)","v":0},{"$f":"IF(理科!AR46=1,AR$273,0)","v":0},{"$f":"IF(理科!AS46=1,AS$273,0)","v":0},{"$f":"IF(理科!AT46=1,AT$273,0)","v":0},{"$f":"IF(理科!AU46=1,AU$273,0)","v":0},{"$f":"IF(理科!AV46=1,AV$273,0)","v":0},{"$f":"IF(理科!AW46=1,AW$273,0)","v":0},{"$f":"IF(理科!AX46=1,AX$273,0)","v":0},{"$f":"IF(理科!AY46=1,AY$273,0)","v":0},{"$f":"IF(理科!AZ46=1,AZ$273,0)","v":0},{"$f":"IF(理科!BA46=1,BA$273,0)","v":0},{"$f":"IF(理科!BB46=1,BB$273,0)","v":0},null,0,0,{"$error":"#DIV/0!"},{"$error":"#DIV/0!"},{"$error":"#DIV/0!"}]
[null,37,null,null,{"$f":"IF(理科!E47=1,E$273,0)","v":0},{"$f":"IF(理科!F47=1,F$273,0)","v":0},{"$f":"IF(理科!G47=1,G$273,0)","v":0},{"$f":"IF(理科!H47=1,H$273,0)","v":0},{"$f":"IF(理科!I47=1,I$273,0)","v":0},{"$f":"IF(理科!J47=1,J$273,0)","v":0},{"$f":"IF(理科!K47=1,K$273,0)","v":0},{"$f":"IF(理科!L47=1,L$273,0)","v":0},{"$f":"IF(理科!M47=1,M$273,0)","v":0},{"$f":"IF(理科!N47=1,N$273,0)","v":0},{"$f":"IF(理科!O47=1,O$273,0)","v":0},{"$f":"IF(理科!P47=1,P$273,0)","v":0},{"$f":"IF(理科!Q47=1,Q$273,0)","v":0},{"$f":"IF(理科!R47=1,R$273,0)","v":0},{"$f":"IF(理科!S47=1,S$273,0)","v":0},{"$f":"IF(理科!T47=1,T$273,0)","v":0},{"$f":"IF(理科!U47=1,U$273,0)","v":0},{"$f":"IF(理科!V47=1,V$273,0)","v":0},{"$f":"IF(理科!W47=1,W$273,0)","v":0},{"$f":"IF(理科!X47=1,X$273,0)","v":0},{"$f":"IF(理科!Y47=1,Y$273,0)","v":0},{"$f":"IF(理科!Z47=1,Z$273,0)","v":0},{"$f":"IF(理科!AA47=1,AA$273,0)","v":0},{"$f":"IF(理科!AB47=1,AB$273,0)","v":0},{"$f":"IF(理科!AC47=1,AC$273,0)","v":0},{"$f":"IF(理科!AD47=1,AD$273,0)","v":0},{"$f":"IF(理科!AE47=1,AE$273,0)","v":0},{"$f":"IF(理科!AF47=1,AF$273,0)","v":0},{"$f":"IF(理科!AG47=1,AG$273,0)","v":0},{"$f":"IF(理科!AH47=1,AH$273,0)","v":0},{"$f":"IF(理科!AI47=1,AI$273,0)","v":0},{"$f":"IF(理科!AJ47=1,AJ$273,0)","v":0},{"$f":"IF(理科!AK47=1,AK$273,0)","v":0},{"$f":"IF(理科!AL47=1,AL$273,0)","v":0},{"$f":"IF(理科!AM47=1,AM$273,0)","v":0},{"$f":"IF(理科!AN47=1,AN$273,0)","v":0},{"$f":"IF(理科!AO47=1,AO$273,0)","v":0},{"$f":"IF(理科!AP47=1,AP$273,0)","v":0},{"$f":"IF(理科!AQ47=1,AQ$273,0)","v":0},{"$f":"IF(理科!AR47=1,AR$273,0)","v":0},{"$f":"IF(理科!AS47=1,AS$273,0)","v":0},{"$f":"IF(理科!AT47=1,AT$273,0)","v":0},{"$f":"IF(理科!AU47=1,AU$273,0)","v":0},{"$f":"IF(理科!AV47=1,AV$273,0)","v":0},{"$f":"IF(理科!AW47=1,AW$273,0)","v":0},{"$f":"IF(理科!AX47=1,AX$273,0)","v":0},{"$f":"IF(理科!AY47=1,AY$273,0)","v":0},{"$f":"IF(理科!AZ47=1,AZ$273,0)","v":0},{"$f":"IF(理科!BA47=1,BA$273,0)","v":0},{"$f":"IF(理科!BB47=1,BB$273,0)","v":0},null,0,0,{"$error":"#DIV/0!"},{"$error":"#DIV/0!"},{"$error":"#DIV/0!"}]
[null,38,null,null,{"$f":"IF(理科!E48=1,E$273,0)","v":0},{"$f":"IF(理科!F48=1,F$273,0)","v":0},{"$f":"IF(理科!G48=1,G$273,0)","v":0},{"$f":"IF(理科!H48=1,H$273,0)","v":0},{"$f":"IF(理科!I48=1,I$273,0)","v":0},{"$f":"IF(理科!J48=1,J$273,0)","v":0},{"$f":"IF(理科!K48=1,K$273,0)","v":0},{"$f":"IF(理科!L48=1,L$273,0)","v":0},{"$f":"IF(理科!M48=1,M$273,0)","v":0},{"$f":"IF(理科!N48=1,N$273,0)","v":0},{"$f":"IF(理科!O48=1,O$273,0)","v":0},{"$f":"IF(理科!P48=1,P$273,0)","v":0},{"$f":"IF(理科!Q48=1,Q$273,0)","v":0},{"$f":"IF(理科!R48=1,R$273,0)","v":0},{"$f":"IF(理科!S48=1,S$273,0)","v":0},{"$f":"IF(理科!T48=1,T$273,0)","v":0},{"$f":"IF(理科!U48=1,U$273,0)","v":0},{"$f":"IF(理科!V48=1,V$273,0)","v":0},{"$f":"IF(理科!W48=1,W$273,0)","v":0},{"$f":"IF(理科!X48=1,X$273,0)","v":0},{"$f":"IF(理科!Y48=1,Y$273,0)","v":0},{"$f":"IF(理科!Z48=1,Z$273,0)","v":0},{"$f":"IF(理科!AA48=1,AA$273,0)","v":0},{"$f":"IF(理科!AB48=1,AB$273,0)","v":0},{"$f":"IF(理科!AC48=1,AC$273,0)","v":0},{"$f":"IF(理科!AD48=1,AD$273,0)","v":0},{"$f":"IF(理科!AE48=1,AE$273,0)","v":0},{"$f":"IF(理科!AF48=1,AF$273,0)","v":0},{"$f":"IF(理科!AG48=1,AG$273,0)","v":0},{"$f":"IF(理科!AH48=1,AH$273,0)","v":0},{"$f":"IF(理科!AI48=1,AI$273,0)","v":0},{"$f":"IF(理科!AJ48=1,AJ$273,0)","v":0},{"$f":"IF(理科!AK48=1,AK$273,0)","v":0},{"$f":"IF(理科!AL48=1,AL$273,0)","v":0},{"$f":"IF(理科!AM48=1,AM$273,0)","v":0},{"$f":"IF(理科!AN48=1,AN$273,0)","v":0},{"$f":"IF(理科!AO48=1,AO$273,0)","v":0},{"$f":"IF(理科!AP48=1,AP$273,0)","v":0},{"$f":"IF(理科!AQ48=1,AQ$273,0)","v":0},{"$f":"IF(理科!AR48=1,AR$273,0)","v":0},{"$f":"IF(理科!AS48=1,AS$273,0)","v":0},{"$f":"IF(理科!AT48=1,AT$273,0)","v":0},{"$f":"IF(理科!AU48=1,AU$273,0)","v":0},{"$f":"IF(理科!AV48=1,AV$273,0)","v":0},{"$f":"IF(理科!AW48=1,AW$273,0)","v":0},{"$f":"IF(理科!AX48=1,AX$273,0)","v":0},{"$f":"IF(理科!AY48=1,AY$273,0)","v":0},{"$f":"IF(理科!AZ48=1,AZ$273,0)","v":0},{"$f":"IF(理科!BA48=1,BA$273,0)","v":0},{"$f":"IF(理科!BB48=1,BB$273,0)","v":0},null,0,0,{"$error":"#DIV/0!"},{"$error":"#DIV/0!"},{"$error":"#DIV/0!"}]
[null,39,null,null,{"$f":"IF(理科!E49=1,E$273,0)","v":0},{"$f":"IF(理科!F49=1,F$273,0)","v":0},{"$f":"IF(理科!G49=1,G$273,0)","v":0},{"$f":"IF(理科!H49=1,H$273,0)","v":0},{"$f":"IF(理科!I49=1,I$273,0)","v":0},{"$f":"IF(理科!J49=1,J$273,0)","v":0},{"$f":"IF(理科!K49=1,K$273,0)","v":0},{"$f":"IF(理科!L49=1,L$273,0)","v":0},{"$f":"IF(理科!M49=1,M$273,0)","v":0},{"$f":"IF(理科!N49=1,N$273,0)","v":0},{"$f":"IF(理科!O49=1,O$273,0)","v":0},{"$f":"IF(理科!P49=1,P$273,0)","v":0},{"$f":"IF(理科!Q49=1,Q$273,0)","v":0},{"$f":"IF(理科!R49=1,R$273,0)","v":0},{"$f":"IF(理科!S49=1,S$273,0)","v":0},{"$f":"IF(理科!T49=1,T$273,0)","v":0},{"$f":"IF(理科!U49=1,U$273,0)","v":0},{"$f":"IF(理科!V49=1,V$273,0)","v":0},{"$f":"IF(理科!W49=1,W$273,0)","v":0},{"$f":"IF(理科!X49=1,X$273,0)","v":0},{"$f":"IF(理科!Y49=1,Y$273,0)","v":0},{"$f":"IF(理科!Z49=1,Z$273,0)","v":0},{"$f":"IF(理科!AA49=1,AA$273,0)","v":0},{"$f":"IF(理科!AB49=1,AB$273,0)","v":0},{"$f":"IF(理科!AC49=1,AC$273,0)","v":0},{"$f":"IF(理科!AD49=1,AD$273,0)","v":0},{"$f":"IF(理科!AE49=1,AE$273,0)","v":0},{"$f":"IF(理科!AF49=1,AF$273,0)","v":0},{"$f":"IF(理科!AG49=1,AG$273,0)","v":0},{"$f":"IF(理科!AH49=1,AH$273,0)","v":0},{"$f":"IF(理科!AI49=1,AI$273,0)","v":0},{"$f":"IF(理科!AJ49=1,AJ$273,0)","v":0},{"$f":"IF(理科!AK49=1,AK$273,0)","v":0},{"$f":"IF(理科!AL49=1,AL$273,0)","v":0},{"$f":"IF(理科!AM49=1,AM$273,0)","v":0},{"$f":"IF(理科!AN49=1,AN$273,0)","v":0},{"$f":"IF(理科!AO49=1,AO$273,0)","v":0},{"$f":"IF(理科!AP49=1,AP$273,0)","v":0},{"$f":"IF(理科!AQ49=1,AQ$273,0)","v":0},{"$f":"IF(理科!AR49=1,AR$273,0)","v":0},{"$f":"IF(理科!AS49=1,AS$273,0)","v":0},{"$f":"IF(理科!AT49=1,AT$273,0)","v":0},{"$f":"IF(理科!AU49=1,AU$273,0)","v":0},{"$f":"IF(理科!AV49=1,AV$273,0)","v":0},{"$f":"IF(理科!AW49=1,AW$273,0)","v":0},{"$f":"IF(理科!AX49=1,AX$273,0)","v":0},{"$f":"IF(理科!AY49=1,AY$273,0)","v":0},{"$f":"IF(理科!AZ49=1,AZ$273,0)","v":0},{"$f":"IF(理科!BA49=1,BA$273,0)","v":0},{"$f":"IF(理科!BB49=1,BB$273,0)","v":0},null,0,0,{"$error":"#DIV/0!"},{"$error":"#DIV/0!"},{"$error":"#DIV/0!"}]
[null,40,null,null,{"$f":"IF(理科!E50=1,E$273,0)","v":0},{"$f":"IF(理科!F50=1,F$273,0)","v":0},{"$f":"IF(理科!G50=1,G$273,0)","v":0},{"$f":"IF(理科!H50=1,H$273,0)","v":0},{"$f":"IF(理科!I50=1,I$273,0)","v":0},{"$f":"IF(理科!J50=1,J$273,0)","v":0},{"$f":"IF(理科!K50=1,K$273,0)","v":0},{"$f":"IF(理科!L50=1,L$273,0)","v":0},{"$f":"IF(理科!M50=1,M$273,0)","v":0},{"$f":"IF(理科!N50=1,N$273,0)","v":0},{"$f":"IF(理科!O50=1,O$273,0)","v":0},{"$f":"IF(理科!P50=1,P$273,0)","v":0},{"$f":"IF(理科!Q50=1,Q$273,0)","v":0},{"$f":"IF(理科!R50=1,R$273,0)","v":0},{"$f":"IF(理科!S50=1,S$273,0)","v":0},{"$f":"IF(理科!T50=1,T$273,0)","v":0},{"$f":"IF(理科!U50=1,U$273,0)","v":0},{"$f":"IF(理科!V50=1,V$273,0)","v":0},{"$f":"IF(理科!W50=1,W$273,0)","v":0},{"$f":"IF(理科!X50=1,X$273,0)","v":0},{"$f":"IF(理科!Y50=1,Y$273,0)","v":0},{"$f":"IF(理科!Z50=1,Z$273,0)","v":0},{"$f":"IF(理科!AA50=1,AA$273,0)","v":0},{"$f":"IF(理科!AB50=1,AB$273,0)","v":0},{"$f":"IF(理科!AC50=1,AC$273,0)","v":0},{"$f":"IF(理科!AD50=1,AD$273,0)","v":0},{"$f":"IF(理科!AE50=1,AE$273,0)","v":0},{"$f":"IF(理科!AF50=1,AF$273,0)","v":0},{"$f":"IF(理科!AG50=1,AG$273,0)","v":0},{"$f":"IF(理科!AH50=1,AH$273,0)","v":0},{"$f":"IF(理科!AI50=1,AI$273,0)","v":0},{"$f":"IF(理科!AJ50=1,AJ$273,0)","v":0},{"$f":"IF(理科!AK50=1,AK$273,0)","v":0},{"$f":"IF(理科!AL50=1,AL$273,0)","v":0},{"$f":"IF(理科!AM50=1,AM$273,0)","v":0},{"$f":"IF(理科!AN50=1,AN$273,0)","v":0},{"$f":"IF(理科!AO50=1,AO$273,0)","v":0},{"$f":"IF(理科!AP50=1,AP$273,0)","v":0},{"$f":"IF(理科!AQ50=1,AQ$273,0)","v":0},{"$f":"IF(理科!AR50=1,AR$273,0)","v":0},{"$f":"IF(理科!AS50=1,AS$273,0)","v":0},{"$f":"IF(理科!AT50=1,AT$273,0)","v":0},{"$f":"IF(理科!AU50=1,AU$273,0)","v":0},{"$f":"IF(理科!AV50=1,AV$273,0)","v":0},{"$f":"IF(理科!AW50=1,AW$273,0)","v":0},{"$f":"IF(理科!AX50=1,AX$273,0)","v":0},{"$f":"IF(理科!AY50=1,AY$273,0)","v":0},{"$f":"IF(理科!AZ50=1,AZ$273,0)","v":0},{"$f":"IF(理科!BA50=1,BA$273,0)","v":0},{"$f":"IF(理科!BB50=1,BB$273,0)","v":0},null,0,0,{"$error":"#DIV/0!"},{"$error":"#DIV/0!"},{"$error":"#DIV/0!"}]
[null,41,null,null,{"$f":"IF(理科!E51=1,E$273,0)","v":0},{"$f":"IF(理科!F51=1,F$273,0)","v":0},{"$f":"IF(理科!G51=1,G$273,0)","v":0},{"$f":"IF(理科!H51=1,H$273,0)","v":0},{"$f":"IF(理科!I51=1,I$273,0)","v":0},{"$f":"IF(理科!J51=1,J$273,0)","v":0},{"$f":"IF(理科!K51=1,K$273,0)","v":0},{"$f":"IF(理科!L51=1,L$273,0)","v":0},{"$f":"IF(理科!M51=1,M$273,0)","v":0},{"$f":"IF(理科!N51=1,N$273,0)","v":0},{"$f":"IF(理科!O51=1,O$273,0)","v":0},{"$f":"IF(理科!P51=1,P$273,0)","v":0},{"$f":"IF(理科!Q51=1,Q$273,0)","v":0},{"$f":"IF(理科!R51=1,R$273,0)","v":0},{"$f":"IF(理科!S51=1,S$273,0)","v":0},{"$f":"IF(理科!T51=1,T$273,0)","v":0},{"$f":"IF(理科!U51=1,U$273,0)","v":0},{"$f":"IF(理科!V51=1,V$273,0)","v":0},{"$f":"IF(理科!W51=1,W$273,0)","v":0},{"$f":"IF(理科!X51=1,X$273,0)","v":0},{"$f":"IF(理科!Y51=1,Y$273,0)","v":0},{"$f":"IF(理科!Z51=1,Z$273,0)","v":0},{"$f":"IF(理科!AA51=1,AA$273,0)","v":0},{"$f":"IF(理科!AB51=1,AB$273,0)","v":0},{"$f":"IF(理科!AC51=1,AC$273,0)","v":0},{"$f":"IF(理科!AD51=1,AD$273,0)","v":0},{"$f":"IF(理科!AE51=1,AE$273,0)","v":0},{"$f":"IF(理科!AF51=1,AF$273,0)","v":0},{"$f":"IF(理科!AG51=1,AG$273,0)","v":0},{"$f":"IF(理科!AH51=1,AH$273,0)","v":0},{"$f":"IF(理科!AI51=1,AI$273,0)","v":0},{"$f":"IF(理科!AJ51=1,AJ$273,0)","v":0},{"$f":"IF(理科!AK51=1,AK$273,0)","v":0},{"$f":"IF(理科!AL51=1,AL$273,0)","v":0},{"$f":"IF(理科!AM51=1,AM$273,0)","v":0},{"$f":"IF(理科!AN51=1,AN$273,0)","v":0},{"$f":"IF(理科!AO51=1,AO$273,0)","v":0},{"$f":"IF(理科!AP51=1,AP$273,0)","v":0},{"$f":"IF(理科!AQ51=1,AQ$273,0)","v":0},{"$f":"IF(理科!AR51=1,AR$273,0)","v":0},{"$f":"IF(理科!AS51=1,AS$273,0)","v":0},{"$f":"IF(理科!AT51=1,AT$273,0)","v":0},{"$f":"IF(理科!AU51=1,AU$273,0)","v":0},{"$f":"IF(理科!AV51=1,AV$273,0)","v":0},{"$f":"IF(理科!AW51=1,AW$273,0)","v":0},{"$f":"IF(理科!AX51=1,AX$273,0)","v":0},{"$f":"IF(理科!AY51=1,AY$273,0)","v":0},{"$f":"IF(理科!AZ51=1,AZ$273,0)","v":0},{"$f":"IF(理科!BA51=1,BA$273,0)","v":0},{"$f":"IF(理科!BB51=1,BB$273,0)","v":0},null,0,0,{"$error":"#DIV/0!"},{"$error":"#DIV/0!"},{"$error":"#DIV/0!"}]
[null,42,null,null,{"$f":"IF(理科!E52=1,E$273,0)","v":0},{"$f":"IF(理科!F52=1,F$273,0)","v":0},{"$f":"IF(理科!G52=1,G$273,0)","v":0},{"$f":"IF(理科!H52=1,H$273,0)","v":0},{"$f":"IF(理科!I52=1,I$273,0)","v":0},{"$f":"IF(理科!J52=1,J$273,0)","v":0},{"$f":"IF(理科!K52=1,K$273,0)","v":0},{"$f":"IF(理科!L52=1,L$273,0)","v":0},{"$f":"IF(理科!M52=1,M$273,0)","v":0},{"$f":"IF(理科!N52=1,N$273,0)","v":0},{"$f":"IF(理科!O52=1,O$273,0)","v":0},{"$f":"IF(理科!P52=1,P$273,0)","v":0},{"$f":"IF(理科!Q52=1,Q$273,0)","v":0},{"$f":"IF(理科!R52=1,R$273,0)","v":0},{"$f":"IF(理科!S52=1,S$273,0)","v":0},{"$f":"IF(理科!T52=1,T$273,0)","v":0},{"$f":"IF(理科!U52=1,U$273,0)","v":0},{"$f":"IF(理科!V52=1,V$273,0)","v":0},{"$f":"IF(理科!W52=1,W$273,0)","v":0},{"$f":"IF(理科!X52=1,X$273,0)","v":0},{"$f":"IF(理科!Y52=1,Y$273,0)","v":0},{"$f":"IF(理科!Z52=1,Z$273,0)","v":0},{"$f":"IF(理科!AA52=1,AA$273,0)","v":0},{"$f":"IF(理科!AB52=1,AB$273,0)","v":0},{"$f":"IF(理科!AC52=1,AC$273,0)","v":0},{"$f":"IF(理科!AD52=1,AD$273,0)","v":0},{"$f":"IF(理科!AE52=1,AE$273,0)","v":0},{"$f":"IF(理科!AF52=1,AF$273,0)","v":0},{"$f":"IF(理科!AG52=1,AG$273,0)","v":0},{"$f":"IF(理科!AH52=1,AH$273,0)","v":0},{"$f":"IF(理科!AI52=1,AI$273,0)","v":0},{"$f":"IF(理科!AJ52=1,AJ$273,0)","v":0},{"$f":"IF(理科!AK52=1,AK$273,0)","v":0},{"$f":"IF(理科!AL52=1,AL$273,0)","v":0},{"$f":"IF(理科!AM52=1,AM$273,0)","v":0},{"$f":"IF(理科!AN52=1,AN$273,0)","v":0},{"$f":"IF(理科!AO52=1,AO$273,0)","v":0},{"$f":"IF(理科!AP52=1,AP$273,0)","v":0},{"$f":"IF(理科!AQ52=1,AQ$273,0)","v":0},{"$f":"IF(理科!AR52=1,AR$273,0)","v":0},{"$f":"IF(理科!AS52=1,AS$273,0)","v":0},{"$f":"IF(理科!AT52=1,AT$273,0)","v":0},{"$f":"IF(理科!AU52=1,AU$273,0)","v":0},{"$f":"IF(理科!AV52=1,AV$273,0)","v":0},{"$f":"IF(理科!AW52=1,AW$273,0)","v":0},{"$f":"IF(理科!AX52=1,AX$273,0)","v":0},{"$f":"IF(理科!AY52=1,AY$273,0)","v":0},{"$f":"IF(理科!AZ52=1,AZ$273,0)","v":0},{"$f":"IF(理科!BA52=1,BA$273,0)","v":0},{"$f":"IF(理科!BB52=1,BB$273,0)","v":0},null,0,0,{"$error":"#DIV/0!"},{"$error":"#DIV/0!"},{"$error":"#DIV/0!"}]
[null,43,null,null,{"$f":"IF(理科!E53=1,E$273,0)","v":0},{"$f":"IF(理科!F53=1,F$273,0)","v":0},{"$f":"IF(理科!G53=1,G$273,0)","v":0},{"$f":"IF(理科!H53=1,H$273,0)","v":0},{"$f":"IF(理科!I53=1,I$273,0)","v":0},{"$f":"IF(理科!J53=1,J$273,0)","v":0},{"$f":"IF(理科!K53=1,K$273,0)","v":0},{"$f":"IF(理科!L53=1,L$273,0)","v":0},{"$f":"IF(理科!M53=1,M$273,0)","v":0},{"$f":"IF(理科!N53=1,N$273,0)","v":0},{"$f":"IF(理科!O53=1,O$273,0)","v":0},{"$f":"IF(理科!P53=1,P$273,0)","v":0},{"$f":"IF(理科!Q53=1,Q$273,0)","v":0},{"$f":"IF(理科!R53=1,R$273,0)","v":0},{"$f":"IF(理科!S53=1,S$273,0)","v":0},{"$f":"IF(理科!T53=1,T$273,0)","v":0},{"$f":"IF(理科!U53=1,U$273,0)","v":0},{"$f":"IF(理科!V53=1,V$273,0)","v":0},{"$f":"IF(理科!W53=1,W$273,0)","v":0},{"$f":"IF(理科!X53=1,X$273,0)","v":0},{"$f":"IF(理科!Y53=1,Y$273,0)","v":0},{"$f":"IF(理科!Z53=1,Z$273,0)","v":0},{"$f":"IF(理科!AA53=1,AA$273,0)","v":0},{"$f":"IF(理科!AB53=1,AB$273,0)","v":0},{"$f":"IF(理科!AC53=1,AC$273,0)","v":0},{"$f":"IF(理科!AD53=1,AD$273,0)","v":0},{"$f":"IF(理科!AE53=1,AE$273,0)","v":0},{"$f":"IF(理科!AF53=1,AF$273,0)","v":0},{"$f":"IF(理科!AG53=1,AG$273,0)","v":0},{"$f":"IF(理科!AH53=1,AH$273,0)","v":0},{"$f":"IF(理科!AI53=1,AI$273,0)","v":0},{"$f":"IF(理科!AJ53=1,AJ$273,0)","v":0},{"$f":"IF(理科!AK53=1,AK$273,0)","v":0},{"$f":"IF(理科!AL53=1,AL$273,0)","v":0},{"$f":"IF(理科!AM53=1,AM$273,0)","v":0},{"$f":"IF(理科!AN53=1,AN$273,0)","v":0},{"$f":"IF(理科!AO53=1,AO$273,0)","v":0},{"$f":"IF(理科!AP53=1,AP$273,0)","v":0},{"$f":"IF(理科!AQ53=1,AQ$273,0)","v":0},{"$f":"IF(理科!AR53=1,AR$273,0)","v":0},{"$f":"IF(理科!AS53=1,AS$273,0)","v":0},{"$f":"IF(理科!AT53=1,AT$273,0)","v":0},{"$f":"IF(理科!AU53=1,AU$273,0)","v":0},{"$f":"IF(理科!AV53=1,AV$273,0)","v":0},{"$f":"IF(理科!AW53=1,AW$273,0)","v":0},{"$f":"IF(理科!AX53=1,AX$273,0)","v":0},{"$f":"IF(理科!AY53=1,AY$273,0)","v":0},{"$f":"IF(理科!AZ53=1,AZ$273,0)","v":0},{"$f":"IF(理科!BA53=1,BA$273,0)","v":0},{"$f":"IF(理科!BB53=1,BB$273,0)","v":0},null,0,0,{"$error":"#DIV/0!"},{"$error":"#DIV/0!"},{"$error":"#DIV/0!"}]
[null,44,null,null,{"$f":"IF(理科!E54=1,E$273,0)","v":0},{"$f":"IF(理科!F54=1,F$273,0)","v":0},{"$f":"IF(理科!G54=1,G$273,0)","v":0},{"$f":"IF(理科!H54=1,H$273,0)","v":0},{"$f":"IF(理科!I54=1,I$273,0)","v":0},{"$f":"IF(理科!J54=1,J$273,0)","v":0},{"$f":"IF(理科!K54=1,K$273,0)","v":0},{"$f":"IF(理科!L54=1,L$273,0)","v":0},{"$f":"IF(理科!M54=1,M$273,0)","v":0},{"$f":"IF(理科!N54=1,N$273,0)","v":0},{"$f":"IF(理科!O54=1,O$273,0)","v":0},{"$f":"IF(理科!P54=1,P$273,0)","v":0},{"$f":"IF(理科!Q54=1,Q$273,0)","v":0},{"$f":"IF(理科!R54=1,R$273,0)","v":0},{"$f":"IF(理科!S54=1,S$273,0)","v":0},{"$f":"IF(理科!T54=1,T$273,0)","v":0},{"$f":"IF(理科!U54=1,U$273,0)","v":0},{"$f":"IF(理科!V54=1,V$273,0)","v":0},{"$f":"IF(理科!W54=1,W$273,0)","v":0},{"$f":"IF(理科!X54=1,X$273,0)","v":0},{"$f":"IF(理科!Y54=1,Y$273,0)","v":0},{"$f":"IF(理科!Z54=1,Z$273,0)","v":0},{"$f":"IF(理科!AA54=1,AA$273,0)","v":0},{"$f":"IF(理科!AB54=1,AB$273,0)","v":0},{"$f":"IF(理科!AC54=1,AC$273,0)","v":0},{"$f":"IF(理科!AD54=1,AD$273,0)","v":0},{"$f":"IF(理科!AE54=1,AE$273,0)","v":0},{"$f":"IF(理科!AF54=1,AF$273,0)","v":0},{"$f":"IF(理科!AG54=1,AG$273,0)","v":0},{"$f":"IF(理科!AH54=1,AH$273,0)","v":0},{"$f":"IF(理科!AI54=1,AI$273,0)","v":0},{"$f":"IF(理科!AJ54=1,AJ$273,0)","v":0},{"$f":"IF(理科!AK54=1,AK$273,0)","v":0},{"$f":"IF(理科!AL54=1,AL$273,0)","v":0},{"$f":"IF(理科!AM54=1,AM$273,0)","v":0},{"$f":"IF(理科!AN54=1,AN$273,0)","v":0},{"$f":"IF(理科!AO54=1,AO$273,0)","v":0},{"$f":"IF(理科!AP54=1,AP$273,0)","v":0},{"$f":"IF(理科!AQ54=1,AQ$273,0)","v":0},{"$f":"IF(理科!AR54=1,AR$273,0)","v":0},{"$f":"IF(理科!AS54=1,AS$273,0)","v":0},{"$f":"IF(理科!AT54=1,AT$273,0)","v":0},{"$f":"IF(理科!AU54=1,AU$273,0)","v":0},{"$f":"IF(理科!AV54=1,AV$273,0)","v":0},{"$f":"IF(理科!AW54=1,AW$273,0)","v":0},{"$f":"IF(理科!AX54=1,AX$273,0)","v":0},{"$f":"IF(理科!AY54=1,AY$273,0)","v":0},{"$f":"IF(理科!AZ54=1,AZ$273,0)","v":0},{"$f":"IF(理科!BA54=1,BA$273,0)","v":0},{"$f":"IF(理科!BB54=1,BB$273,0)","v":0},null,0,0,{"$error":"#DIV/0!"},{"$error":"#DIV/0!"},{"$error":"#DIV/0!"}]
[null,45,null,null,{"$f":"IF(理科!E55=1,E$273,0)","v":0},{"$f":"IF(理科!F55=1,F$273,0)","v":0},{"$f":"IF(理科!G55=1,G$273,0)","v":0},{"$f":"IF(理科!H55=1,H$273,0)","v":0},{"$f":"IF(理科!I55=1,I$273,0)","v":0},{"$f":"IF(理科!J55=1,J$273,0)","v":0},{"$f":"IF(理科!K55=1,K$273,0)","v":0},{"$f":"IF(理科!L55=1,L$273,0)","v":0},{"$f":"IF(理科!M55=1,M$273,0)","v":0},{"$f":"IF(理科!N55=1,N$273,0)","v":0},{"$f":"IF(理科!O55=1,O$273,0)","v":0},{"$f":"IF(理科!P55=1,P$273,0)","v":0},{"$f":"IF(理科!Q55=1,Q$273,0)","v":0},{"$f":"IF(理科!R55=1,R$273,0)","v":0},{"$f":"IF(理科!S55=1,S$273,0)","v":0},{"$f":"IF(理科!T55=1,T$273,0)","v":0},{"$f":"IF(理科!U55=1,U$273,0)","v":0},{"$f":"IF(理科!V55=1,V$273,0)","v":0},{"$f":"IF(理科!W55=1,W$273,0)","v":0},{"$f":"IF(理科!X55=1,X$273,0)","v":0},{"$f":"IF(理科!Y55=1,Y$273,0)","v":0},{"$f":"IF(理科!Z55=1,Z$273,0)","v":0},{"$f":"IF(理科!AA55=1,AA$273,0)","v":0},{"$f":"IF(理科!AB55=1,AB$273,0)","v":0},{"$f":"IF(理科!AC55=1,AC$273,0)","v":0},{"$f":"IF(理科!AD55=1,AD$273,0)","v":0},{"$f":"IF(理科!AE55=1,AE$273,0)","v":0},{"$f":"IF(理科!AF55=1,AF$273,0)","v":0},{"$f":"IF(理科!AG55=1,AG$273,0)","v":0},{"$f":"IF(理科!AH55=1,AH$273,0)","v":0},{"$f":"IF(理科!AI55=1,AI$273,0)","v":0},{"$f":"IF(理科!AJ55=1,AJ$273,0)","v":0},{"$f":"IF(理科!AK55=1,AK$273,0)","v":0},{"$f":"IF(理科!AL55=1,AL$273,0)","v":0},{"$f":"IF(理科!AM55=1,AM$273,0)","v":0},{"$f":"IF(理科!AN55=1,AN$273,0)","v":0},{"$f":"IF(理科!AO55=1,AO$273,0)","v":0},{"$f":"IF(理科!AP55=1,AP$273,0)","v":0},{"$f":"IF(理科!AQ55=1,AQ$273,0)","v":0},{"$f":"IF(理科!AR55=1,AR$273,0)","v":0},{"$f":"IF(理科!AS55=1,AS$273,0)","v":0},{"$f":"IF(理科!AT55=1,AT$273,0)","v":0},{"$f":"IF(理科!AU55=1,AU$273,0)","v":0},{"$f":"IF(理科!AV55=1,AV$273,0)","v":0},{"$f":"IF(理科!AW55=1,AW$273,0)","v":0},{"$f":"IF(理科!AX55=1,AX$273,0)","v":0},{"$f":"IF(理科!AY55=1,AY$273,0)","v":0},{"$f":"IF(理科!AZ55=1,AZ$273,0)","v":0},{"$f":"IF(理科!BA55=1,BA$273,0)","v":0},{"$f":"IF(理科!BB55=1,BB$273,0)","v":0},null,0,0,{"$error":"#DIV/0!"},{"$error":"#DIV/0!"},{"$error":"#DIV/0!"}]

{"sheet":"Sheet1","index":37,"n_rows":0,"n_cols":0,"rows_kept":0,"cut":false,"hidden":false,"merged":[]}